{"text_format":"1","workbook":"xlsx","n_sheets":2,"sheets":["ESCALA","DADOS"],"not_rendered":{"charts":0,"images":0,"macros":1,"external_links":0,"defined_names":2,"comments":0,"pivot_tables":0},"unopened":[],"bounds":{"document_bytes":16777216,"sheet_cells":100000,"rows_first":2000,"rows_last":500,"rows_between":2000,"halvings":0,"cell_chars":16384,"cell_head_chars":4096},"cells_cut":0,"cells_raw":0,"read":"whole","date_system":"1900"}

{"sheet":"ESCALA","index":0,"n_rows":14,"n_cols":20,"rows_kept":14,"cut":false,"hidden":false,"merged":[[10,8,10,9],[0,2,0,10],[6,3,6,4],[6,5,6,6]]}
[null,null,"ESCALA DE FÉRIAS 2023",null,null,null,null,null,null,null,null,null,"CONDIÇÃO","FÓRMULA","RESULTADO"]
[null,null,null,"CÓDIGO FUNCIONAL:",null,"NOME:",null,null,null,null,null,null,"PREENCH. OK?",{"$f":"COUNTA(D3,D11,F11,I11)","v":0},{"$f":"IF(N2=4,0,1)","v":1},"Preencha todos os campos antes de registrar as férias!","INÍCIO FÉRIAS",{"$f":"IF(D11=\"ABONO\",\"-\",I11)","v":"00:00:00"}]
[null,null,null,null,null,{"$f":"IF(ISERROR(VLOOKUP(D3,DADOS!A2:L29999,3,FALSE)),\"\",VLOOKUP(D3,DADOS!A2:L29999,3,FALSE))","v":""},null,null,null,null,null,null,"IN DESCANSO",{"$f":"D7","v":""},{"$f":"IF(D11=\"ABONO\",0,IF(I11<N3,1,0))","v":0},"As férias não podem começar antes da data de vencimento!","PAGTO PECÚNIA",{"$f":"IF(D11=\"FERIAS\",\"-\",I11)","v":"00:00:00"}]
[null,null,null,"VÍNCULO",null,"FUNÇÃO:",null,null,null,null,null,null,"FIM DESCANSO",{"$f":"F7","v":""},{"$f":"IF(D11=\"ABONO\",0,IF((I11+F11-1)>N4,1,0))","v":0},"As férias não podem começar além da data limite para a utilização do saldo!","CF-PA",{"$f":"CONCATENATE(D3,\"-\",D7)","v":"-"}]
[null,null,null,{"$f":"IF(ISERROR(VLOOKUP(D3,DADOS!A2:L29999,5,FALSE)),\"\",VLOOKUP(D3,DADOS!A2:L29999,5,FALSE))","v":""},null,{"$f":"IF(ISERROR(VLOOKUP(D3,DADOS!A2:L29999,4,FALSE)),\"\",VLOOKUP(D3,DADOS!A2:L29999,4,FALSE))","v":""},null,null,null,null,null,null,"IN. PECÚNI",{"$f":"VLOOKUP(D3,DADOS!A2:L30000,9,FALSE)","v":{"$error":"#N/A"}},{"$f":"IF(D11=\"FERIAS\",0,IF(EOMONTH(I11,0)<N5,1,0))","v":{"$error":"#N/A"}},"A pecúnia não pode ser paga antes do vencimento das férias!","Ordem p/ exclusão",{"$f":"COUNTIF($D5:U$15,U5)","v":5}]
[null,null,null,"FIM DO PERÍODO AQUISITIVO:",null,"DATA LIMITE PARA UTILIZAR O SALDO",null,null,null,null,null,null,"FIM PECÚNIA",{"$f":"VLOOKUP(D3,DADOS!A2:L30000,10,FALSE)","v":{"$error":"#N/A"}},{"$f":"IF(D11=\"FERIAS\",0,IF(EOMONTH(I11,0)>N6,1,0))","v":{"$error":"#N/A"}},"A pecúnia não pode ser paga neste mês!","Condição p/ exclusão",10,{"$f":"IF(AND(R6>14,R6<COUNTA(A14:A15)+14),0,1)","v":1},"Selecione um registro antes clicar em Excluir Férias"]
[null,null,null,{"$f":"IF(ISERROR(VLOOKUP(D3,DADOS!A2:L29999,6,FALSE)),\"\",VLOOKUP(D3,DADOS!A2:L29999,6,FALSE))","v":""},null,{"$f":"IF(ISERROR(VLOOKUP(D3,DADOS!A2:L29999,8,FALSE)),\"\",VLOOKUP(D3,DADOS!A2:L29999,8,FALSE))","v":""},null,null,null,null,null,null,"QTD<=SALDO?","-",{"$f":"IF(F11<=D9,0,1)","v":0},"A quantidade de dias deve ser igual ou menor que o saldo!","Período para exclusão",{"$f":"SUM(L14:L15)","v":0},{"$f":"IF(R7=1,0,1)","v":1},"Para cancelar, comece pelo último agendamento para este Código Funcional"]
[null,null,null,"SALDO",null,{"$f":"IF(AND(D3<>\"\",F3=\"\"),\"NÃO ENCONTRADO\",\"\")","v":""},null,null,null,null,null,null,"FDS/FERIADO?",{"$f":"IF(ISERROR(VLOOKUP(I11,DADOS!R1:S366,2,FALSE)),\"-\",VLOOKUP(I11,DADOS!R1:S366,2,FALSE))","v":"-"},{"$f":"IF(D11=\"ABONO\",0,IF(N8=\"-\",0,1))","v":0},"As férias não podem começar numa sexta, sábado, domingo, nem em feríados, vésperas e antevésperas de feriados!"]
[null,null,null,{"$f":"IF(ISERROR(VLOOKUP(D3,DADOS!A2:L29999,12,FALSE)),\"\",VLOOKUP(D3,DADOS!A2:L29999,12,FALSE))","v":""},null,null,null,null,null,null,null,null,"PECÚNIA CLT",10,{"$f":"IF(D5=\"ESTATUTARIO\",0,IF(D11=\"FERIAS\",0,IF(F11<=N9,0,1)))","v":0},"A pecúnia para celetista é de, no máximo, 10 dias!"]
[null,null,null,"TIPO DE MOVIMENTO",null,"QUANTIDADE DE DIAS",null,null,{"$f":"IF(D11=\"ABONO\",\"DATA DE PAGAMENTO (MM/AA)\",\"DATA DE INÍCIO (DD/MM/AA)\")","v":"DATA DE INÍCIO (DD/MM/AA)"},null,null,null,"PECÚNIA EST",15,{"$f":"IF(D5=\"CELETISTA\",0,IF(D11=\"FERIAS\",0,IF(F11<=N10,0,1)))","v":0},"A pecúnia para estatutário é de 5 a 15 dias!"]
[null,null,null,null,null,null,null,null,null,null,null,null,"EXCLUIR LINHA?",null,null,"Selecione um registro antes de clicar em Excluir!"]
[null,null,null,null,null,null,null,null,null,null,null,null,"EXCLUIR OK?",null,null,"Selecione um registro antes de clicar em Excluir!"]
[null,null,null,null,null,null,null,null,null,null,null,null,"ORDEM","COPIAR NA COLUNA",{"$f":"COUNTA($D13:P$14)-1","v":10}]
["ORD EXC","CF-PA","N.º","CF","NOME","VÍNCULO","FIM DO P.A.","MOVIMENTO","DIAS","INÍCIO","PAGTO."]

{"sheet":"DADOS","index":1,"n_rows":30000,"n_cols":19,"rows_kept":4500,"cut":true,"hidden":true,"merged":[],"bounds":{"rows_first":2000,"rows_last":500,"rows_between":2000,"halvings":0}}
["CF BUSCA","CF","NOME","FUNCAO","VINCULO","FIM PA","SALDO INICIAL","LIMITE DESCANSO","IN. PECUNIA","FIM PECUNIA","CF-PA","SALDO FINAL",null,"MOVIMENTO",null,"LEGENDA",null,"CALENDÁRIO","SEMANA"]
[{"$f":"IF(L2=0,\"\",B2)","v":1877},1877,"MARIA DO SOCORRO MEZALIRA","PROFESSOR (A) DE EDUCAÇÃO BASICA","CELETISTA","2022-06-24",30,{"$f":"IF(F2<=44985,F2+365,F2+366)","v":"2023-06-24"},{"$f":"IF(E2=\"ESTATUTARIO\",EOMONTH(F2,0),EOMONTH(F2,-1))","v":"2022-05-31"},{"$f":"EOMONTH(F2,11)","v":"2023-05-31"},{"$f":"CONCATENATE(B2,\"-\",F2)","v":"1877-44736"},{"$f":"G2-SUMIF(ESCALA!$B$14:$B$15,DADOS!K2,ESCALA!$I$14:$I$15)","v":30},null,"FERIAS",null,0,"OK!","2023-01-01","as férias não podem começar num domingo"]
[{"$f":"IF(L3=0,\"\",B3)","v":1877},1877,"MARIA DO SOCORRO MEZALIRA","PROFESSOR (A) DE EDUCAÇÃO BASICA","CELETISTA","2023-06-24",30,{"$f":"IF(F3<=44985,F3+365,F3+366)","v":"2024-06-24"},{"$f":"IF(E3=\"ESTATUTARIO\",EOMONTH(F3,0),EOMONTH(F3,-1))","v":"2023-05-31"},{"$f":"EOMONTH(F3,11)","v":"2024-05-31"},{"$f":"CONCATENATE(B3,\"-\",F3)","v":"1877-45101"},{"$f":"G3-SUMIF(ESCALA!$B$14:$B$15,DADOS!K3,ESCALA!$I$14:$I$15)","v":30},null,"ABONO",null,1,"NO!","2023-01-02","-"]
[2677,2677,"TERESA BERTOCCI","COZINHEIRO (A)","CELETISTA","2022-09-30",30,"2023-09-30",{"$f":"IF(E4=\"ESTATUTARIO\",EOMONTH(F4,0),EOMONTH(F4,-1))","v":"2022-08-31"},{"$f":"EOMONTH(F4,11)","v":"2023-08-31"},"2677-44834",{"$f":"G4-SUMIF(ESCALA!$B$14:$B$15,DADOS!K4,ESCALA!$I$14:$I$15)","v":30},null,null,null,null,null,"2023-01-03","-"]
[2677,2677,"TERESA BERTOCCI","COZINHEIRO (A)","CELETISTA","2023-09-30",30,"2024-09-30","2023-08-31","2024-08-31","2677-45199",{"$f":"G5-SUMIF(ESCALA!$B$14:$B$15,DADOS!K5,ESCALA!$I$14:$I$15)","v":30},null,null,null,null,null,"2023-01-04","-"]
[2783,2783,"ELIETE MARCELLO MARQUES","DIRETOR (A) DE ESCOLA","CELETISTA","2022-03-11",30,"2023-03-11","2022-02-28","2023-02-28","2783-44631",{"$f":"G6-SUMIF(ESCALA!$B$14:$B$15,DADOS!K6,ESCALA!$I$14:$I$15)","v":30},null,null,null,null,null,"2023-01-05","-"]
[2783,2783,"ELIETE MARCELLO MARQUES","DIRETOR (A) DE ESCOLA","CELETISTA","2023-03-11",30,"2024-03-11","2023-02-28","2024-02-29","2783-44996",{"$f":"G7-SUMIF(ESCALA!$B$14:$B$15,DADOS!K7,ESCALA!$I$14:$I$15)","v":30},null,null,null,null,null,"2023-01-06","as férias não podem começar numa sexta-feira"]
[2810,2810,"MARIA ELISA TAROCCO MONFARDINI","PROFESSOR (A) DE EDUCACAO BASICA","CELETISTA","2022-03-25",30,"2023-03-25","2022-02-28","2023-02-28","2810-44645",{"$f":"G8-SUMIF(ESCALA!$B$14:$B$15,DADOS!K8,ESCALA!$I$14:$I$15)","v":30},null,null,null,null,null,"2023-01-07","as férias não podem começar num sábado"]
[2810,2810,"MARIA ELISA TAROCCO MONFARDINI","PROFESSOR (A) DE EDUCACAO BASICA","CELETISTA","2023-03-25",30,"2024-03-25","2023-02-28","2024-02-29","2810-45010",{"$f":"G9-SUMIF(ESCALA!$B$14:$B$15,DADOS!K9,ESCALA!$I$14:$I$15)","v":30},null,null,null,null,null,"2023-01-08","as férias não podem começar num domingo"]
[3208,3208,"ANTONIA APARECIDA ACOSTA FERNANDES ALVES","DIRETOR (A) DE ESCOLA","CELETISTA","2022-12-01",30,"2023-12-01","2022-11-30","2023-11-30","3208-44896",{"$f":"G10-SUMIF(ESCALA!$B$14:$B$15,DADOS!K10,ESCALA!$I$14:$I$15)","v":30},null,null,null,null,null,"2023-01-09","-"]
[3208,3208,"ANTONIA APARECIDA ACOSTA FERNANDES ALVES","DIRETOR (A) DE ESCOLA","CELETISTA","2023-12-01",30,"2024-12-01","2023-11-30","2024-11-30","3208-45261",{"$f":"G11-SUMIF(ESCALA!$B$14:$B$15,DADOS!K11,ESCALA!$I$14:$I$15)","v":30},null,null,null,null,null,"2023-01-10","-"]
[3317,3317,"ZULEICA DE MORAES ALVES","COORDENADOR (A) DE PROGRAMAS EDUCACIONAIS","CELETISTA","2022-05-15",5,"2023-05-15","2022-04-30","2023-04-30","3317-44696",{"$f":"G12-SUMIF(ESCALA!$B$14:$B$15,DADOS!K12,ESCALA!$I$14:$I$15)","v":5},null,null,null,null,null,"2023-01-11","-"]
[3317,3317,"ZULEICA DE MORAES ALVES","COORDENADOR (A) DE PROGRAMAS EDUCACIONAIS","CELETISTA","2023-05-15",30,"2024-05-15","2023-04-30","2024-04-30","3317-45061",{"$f":"G13-SUMIF(ESCALA!$B$14:$B$15,DADOS!K13,ESCALA!$I$14:$I$15)","v":30},null,null,null,null,null,"2023-01-12","-"]
[3434,3434,"MARLI APARECIDA NONATO","COZINHEIRO (A)","CELETISTA","2023-10-22",30,"2024-10-22","2023-09-30","2024-09-30","3434-45221",{"$f":"G14-SUMIF(ESCALA!$B$14:$B$15,DADOS!K14,ESCALA!$I$14:$I$15)","v":30},null,null,null,null,null,"2023-01-13","as férias não podem começar numa sexta-feira"]
[3633,3633,"SUZANA MONEDA REINE","DIRETOR (A) DE ESCOLA","CELETISTA","2022-11-06",30,"2023-11-06","2022-10-31","2023-10-31","3633-44871",{"$f":"G15-SUMIF(ESCALA!$B$14:$B$15,DADOS!K15,ESCALA!$I$14:$I$15)","v":30},null,null,null,null,null,"2023-01-14","as férias não podem começar num sábado"]
[3633,3633,"SUZANA MONEDA REINE","DIRETOR (A) DE ESCOLA","CELETISTA","2023-11-06",30,"2024-11-06","2023-10-31","2024-10-31","3633-45236",{"$f":"G16-SUMIF(ESCALA!$B$14:$B$15,DADOS!K16,ESCALA!$I$14:$I$15)","v":30},null,null,null,null,null,"2023-01-15","as férias não podem começar num domingo"]
[4060,4060,"WILMA ROMAO","ASSISTENTE DE GESTÃO PÚBLICA","CELETISTA","2023-09-21",30,"2024-09-21","2023-08-31","2024-08-31","4060-45190",{"$f":"G17-SUMIF(ESCALA!$B$14:$B$15,DADOS!K17,ESCALA!$I$14:$I$15)","v":30},null,null,null,null,null,"2023-01-16","-"]
[4107,4107,"MARIANGELA MORTATTI","COORDENADOR (A) DE PROGRAMAS EDUCACIONAIS","CELETISTA","2023-01-01",30,"2024-01-01","2022-12-31","2023-12-31","4107-44927",{"$f":"G18-SUMIF(ESCALA!$B$14:$B$15,DADOS!K18,ESCALA!$I$14:$I$15)","v":30},null,null,null,null,null,"2023-01-17","-"]
[4279,4279,"WALDENICE BENEDITA APARECIDA CONTRI DE JESUS","PROFESSOR (A) DE EDUCACAO BASICA","CELETISTA","2022-07-31",30,"2023-07-31","2022-06-30","2023-06-30","4279-44773",{"$f":"G19-SUMIF(ESCALA!$B$14:$B$15,DADOS!K19,ESCALA!$I$14:$I$15)","v":30},null,null,null,null,null,"2023-01-18","-"]
[4279,4279,"WALDENICE BENEDITA APARECIDA CONTRI DE JESUS","PROFESSOR (A) DE EDUCACAO BASICA","CELETISTA","2023-07-31",30,"2024-07-31","2023-06-30","2024-06-30","4279-45138",{"$f":"G20-SUMIF(ESCALA!$B$14:$B$15,DADOS!K20,ESCALA!$I$14:$I$15)","v":30},null,null,null,null,null,"2023-01-19","-"]
[4412,4412,"CARLOS ALBERTO DOS SANTOS","GUARDA III","CELETISTA","2023-01-15",30,"2024-01-15","2022-12-31","2023-12-31","4412-44941",{"$f":"G21-SUMIF(ESCALA!$B$14:$B$15,DADOS!K21,ESCALA!$I$14:$I$15)","v":30},null,null,null,null,null,"2023-01-20","as férias não podem começar numa sexta-feira"]
[4531,4531,"IRENE RODRIGUES DE SOUZA","PROFESSOR (A) DE EDUCAÇÃO BASICA","CELETISTA","2022-05-13",30,"2023-05-13","2022-04-30","2023-04-30","4531-44694",{"$f":"G22-SUMIF(ESCALA!$B$14:$B$15,DADOS!K22,ESCALA!$I$14:$I$15)","v":30},null,null,null,null,null,"2023-01-21","as férias não podem começar num sábado"]
[4531,4531,"IRENE RODRIGUES DE SOUZA","PROFESSOR (A) DE EDUCAÇÃO BASICA","CELETISTA","2023-05-13",30,"2024-05-13","2023-04-30","2024-04-30","4531-45059",{"$f":"G23-SUMIF(ESCALA!$B$14:$B$15,DADOS!K23,ESCALA!$I$14:$I$15)","v":30},null,null,null,null,null,"2023-01-22","as férias não podem começar num domingo"]
[4584,4584,"MARINA DE JESUS SANTOS","COZINHEIRO (A)","CELETISTA","2022-07-08",30,"2023-07-08","2022-06-30","2023-06-30","4584-44750",{"$f":"G24-SUMIF(ESCALA!$B$14:$B$15,DADOS!K24,ESCALA!$I$14:$I$15)","v":30},null,null,null,null,null,"2023-01-23","-"]
[4584,4584,"MARINA DE JESUS SANTOS","COZINHEIRO (A)","CELETISTA","2023-07-08",30,"2024-07-08","2023-06-30","2024-06-30","4584-45115",{"$f":"G25-SUMIF(ESCALA!$B$14:$B$15,DADOS!K25,ESCALA!$I$14:$I$15)","v":30},null,null,null,null,null,"2023-01-24","-"]
[4657,4657,"RITA MARIA PARDIM","PROFESSOR (A) DE EDUCAÇÃO BASICA","CELETISTA","2022-10-09",30,"2023-10-09","2022-09-30","2023-09-30","4657-44843",{"$f":"G26-SUMIF(ESCALA!$B$14:$B$15,DADOS!K26,ESCALA!$I$14:$I$15)","v":30},null,null,null,null,null,"2023-01-25","-"]
[4657,4657,"RITA MARIA PARDIM","PROFESSOR (A) DE EDUCAÇÃO BASICA","CELETISTA","2023-10-09",30,"2024-10-09","2023-09-30","2024-09-30","4657-45208",{"$f":"G27-SUMIF(ESCALA!$B$14:$B$15,DADOS!K27,ESCALA!$I$14:$I$15)","v":30},null,null,null,null,null,"2023-01-26","-"]
[4659,4659,"ROSENI MORBIOLE BERTO","PROFESSOR (A) DE EDUCAÇÃO BASICA","CELETISTA","2022-11-26",30,"2023-11-26","2022-10-31","2023-10-31","4659-44891",{"$f":"G28-SUMIF(ESCALA!$B$14:$B$15,DADOS!K28,ESCALA!$I$14:$I$15)","v":30},null,null,null,null,null,"2023-01-27","as férias não podem começar numa sexta-feira"]
[4659,4659,"ROSENI MORBIOLE BERTO","PROFESSOR (A) DE EDUCAÇÃO BASICA","CELETISTA","2023-11-26",30,"2024-11-26","2023-10-31","2024-10-31","4659-45256",{"$f":"G29-SUMIF(ESCALA!$B$14:$B$15,DADOS!K29,ESCALA!$I$14:$I$15)","v":30},null,null,null,null,null,"2023-01-28","as férias não podem começar num sábado"]
[4665,4665,"SANDRA ALBUQUERQUE MEDEIROS","PROFESSOR (A) DE EDUCAÇÃO BASICA","CELETISTA","2022-10-15",30,"2023-10-15","2022-09-30","2023-09-30","4665-44849",{"$f":"G30-SUMIF(ESCALA!$B$14:$B$15,DADOS!K30,ESCALA!$I$14:$I$15)","v":30},null,null,null,null,null,"2023-01-29","as férias não podem começar num domingo"]
[4665,4665,"SANDRA ALBUQUERQUE MEDEIROS","PROFESSOR (A) DE EDUCAÇÃO BASICA","CELETISTA","2023-10-15",30,"2024-10-15","2023-09-30","2024-09-30","4665-45214",{"$f":"G31-SUMIF(ESCALA!$B$14:$B$15,DADOS!K31,ESCALA!$I$14:$I$15)","v":30},null,null,null,null,null,"2023-01-30","-"]
[4675,4675,"GLAUCIA FACHADA MARTINS DE BARROS","PROFESSOR (A) DE EDUCAÇÃO BASICA","CELETISTA","2022-06-30",18,"2023-06-30","2022-05-31","2023-05-31","4675-44742",{"$f":"G32-SUMIF(ESCALA!$B$14:$B$15,DADOS!K32,ESCALA!$I$14:$I$15)","v":18},null,null,null,null,null,"2023-01-31","-"]
[4675,4675,"GLAUCIA FACHADA MARTINS DE BARROS","PROFESSOR (A) DE EDUCAÇÃO BASICA","CELETISTA","2023-06-30",30,"2024-06-30","2023-05-31","2024-05-31","4675-45107",{"$f":"G33-SUMIF(ESCALA!$B$14:$B$15,DADOS!K33,ESCALA!$I$14:$I$15)","v":30},null,null,null,null,null,"2023-02-01","-"]
[4743,4743,"ROBERTO APARECIDO CARDOSO","GUARDA III","CELETISTA","2022-02-08",30,"2023-02-08","2022-01-31","2023-01-31","4743-44600",{"$f":"G34-SUMIF(ESCALA!$B$14:$B$15,DADOS!K34,ESCALA!$I$14:$I$15)","v":30},null,null,null,null,null,"2023-02-02","-"]
[4743,4743,"ROBERTO APARECIDO CARDOSO","GUARDA III","CELETISTA","2023-02-08",30,"2024-02-08","2023-01-31","2024-01-31","4743-44965",{"$f":"G35-SUMIF(ESCALA!$B$14:$B$15,DADOS!K35,ESCALA!$I$14:$I$15)","v":30},null,null,null,null,null,"2023-02-03","as férias não podem começar numa sexta-feira"]
[4836,4836,"ZENAIDE EVANGELISTA CLEMENTE COBUCCI","DIRETOR (A) DE ESCOLA","CELETISTA","2022-05-27",30,"2023-05-27","2022-04-30","2023-04-30","4836-44708",{"$f":"G36-SUMIF(ESCALA!$B$14:$B$15,DADOS!K36,ESCALA!$I$14:$I$15)","v":30},null,null,null,null,null,"2023-02-04","as férias não podem começar num sábado"]
[4836,4836,"ZENAIDE EVANGELISTA CLEMENTE COBUCCI","DIRETOR (A) DE ESCOLA","CELETISTA","2023-05-27",30,"2024-05-27","2023-04-30","2024-04-30","4836-45073",{"$f":"G37-SUMIF(ESCALA!$B$14:$B$15,DADOS!K37,ESCALA!$I$14:$I$15)","v":30},null,null,null,null,null,"2023-02-05","as férias não podem começar num domingo"]
[4837,4837,"MAURILIA SOUZA DE ALMEIDA","COORDENADOR (A) DE PROGRAMAS EDUCACIONAIS","CELETISTA","2023-01-01",30,"2024-01-01","2022-12-31","2023-12-31","4837-44927",{"$f":"G38-SUMIF(ESCALA!$B$14:$B$15,DADOS!K38,ESCALA!$I$14:$I$15)","v":30},null,null,null,null,null,"2023-02-06","-"]
[4956,4956,"WANDERLY DO CARMO CONTRI CAMARA","PROFESSOR (A) DE EDUCACAO BASICA","CELETISTA","2022-10-15",30,"2023-10-15","2022-09-30","2023-09-30","4956-44849",{"$f":"G39-SUMIF(ESCALA!$B$14:$B$15,DADOS!K39,ESCALA!$I$14:$I$15)","v":30},null,null,null,null,null,"2023-02-07","-"]
[4956,4956,"WANDERLY DO CARMO CONTRI CAMARA","PROFESSOR (A) DE EDUCACAO BASICA","CELETISTA","2023-10-15",30,"2024-10-15","2023-09-30","2024-09-30","4956-45214",{"$f":"G40-SUMIF(ESCALA!$B$14:$B$15,DADOS!K40,ESCALA!$I$14:$I$15)","v":30},null,null,null,null,null,"2023-02-08","-"]
[4960,4960,"VALQUIRIA BARROSO LERIA","PROFESSOR (A) DE EDUCACAO BASICA","CELETISTA","2023-01-01",30,"2024-01-01","2022-12-31","2023-12-31","4960-44927",{"$f":"G41-SUMIF(ESCALA!$B$14:$B$15,DADOS!K41,ESCALA!$I$14:$I$15)","v":30},null,null,null,null,null,"2023-02-09","-"]
[4963,4963,"ARLENE MARCIA FERREIRA LEITE","PROFESSOR (A) DE EDUCAÇÃO BASICA","CELETISTA","2023-01-01",30,"2024-01-01","2022-12-31","2023-12-31","4963-44927",{"$f":"G42-SUMIF(ESCALA!$B$14:$B$15,DADOS!K42,ESCALA!$I$14:$I$15)","v":30},null,null,null,null,null,"2023-02-10","as férias não podem começar numa sexta-feira"]
[4970,4970,"NEUSA JORGE DELIGI","DIRETOR (A) DE ESCOLA","CELETISTA","2022-10-21",30,"2023-10-21","2022-09-30","2023-09-30","4970-44855",{"$f":"G43-SUMIF(ESCALA!$B$14:$B$15,DADOS!K43,ESCALA!$I$14:$I$15)","v":30},null,null,null,null,null,"2023-02-11","as férias não podem começar num sábado"]
[4970,4970,"NEUSA JORGE DELIGI","DIRETOR (A) DE ESCOLA","CELETISTA","2023-10-21",30,"2024-10-21","2023-09-30","2024-09-30","4970-45220",{"$f":"G44-SUMIF(ESCALA!$B$14:$B$15,DADOS!K44,ESCALA!$I$14:$I$15)","v":30},null,null,null,null,null,"2023-02-12","as férias não podem começar num domingo"]
[4981,4981,"IVONE DA SILVA PRADO HOSOI","VICE-DIRETOR (A) DE ESCOLA","CELETISTA","2022-10-25",30,"2023-10-25","2022-09-30","2023-09-30","4981-44859",{"$f":"G45-SUMIF(ESCALA!$B$14:$B$15,DADOS!K45,ESCALA!$I$14:$I$15)","v":30},null,null,null,null,null,"2023-02-13","-"]
[4981,4981,"IVONE DA SILVA PRADO HOSOI","VICE-DIRETOR (A) DE ESCOLA","CELETISTA","2023-10-25",30,"2024-10-25","2023-09-30","2024-09-30","4981-45224",{"$f":"G46-SUMIF(ESCALA!$B$14:$B$15,DADOS!K46,ESCALA!$I$14:$I$15)","v":30},null,null,null,null,null,"2023-02-14","-"]
[5117,5117,"VANETE BENEDITA DA SILVA","PROFESSOR (A) DE EDUCAÇÃO BASICA","CELETISTA","2022-10-27",30,"2023-10-27","2022-09-30","2023-09-30","5117-44861",{"$f":"G47-SUMIF(ESCALA!$B$14:$B$15,DADOS!K47,ESCALA!$I$14:$I$15)","v":30},null,null,null,null,null,"2023-02-15","-"]
[5117,5117,"VANETE BENEDITA DA SILVA","PROFESSOR (A) DE EDUCAÇÃO BASICA","CELETISTA","2023-10-27",30,"2024-10-27","2023-09-30","2024-09-30","5117-45226",{"$f":"G48-SUMIF(ESCALA!$B$14:$B$15,DADOS!K48,ESCALA!$I$14:$I$15)","v":30},null,null,null,null,null,"2023-02-16","-"]
[5136,5136,"CLAUDIA FERNANDA MINIERI MORAES NEVES","DIRETOR (A) DE ESCOLA","CELETISTA","2022-03-15",20,"2023-03-15","2022-02-28","2023-02-28","5136-44635",{"$f":"G49-SUMIF(ESCALA!$B$14:$B$15,DADOS!K49,ESCALA!$I$14:$I$15)","v":20},null,null,null,null,null,"2023-02-17","as férias não podem começar numa sexta-feira"]
[5136,5136,"CLAUDIA FERNANDA MINIERI MORAES NEVES","DIRETOR (A) DE ESCOLA","CELETISTA","2023-03-15",30,"2024-03-15","2023-02-28","2024-02-29","5136-45000",{"$f":"G50-SUMIF(ESCALA!$B$14:$B$15,DADOS!K50,ESCALA!$I$14:$I$15)","v":30},null,null,null,null,null,"2023-02-18","as férias não podem começar num sábado"]
[5139,5139,"LEILA ABBUD HANNA ROQUE","COORDENADOR (A) DE PROGRAMAS EDUCACIONAIS","CELETISTA","2022-03-15",15,"2023-03-15","2022-02-28","2023-02-28","5139-44635",{"$f":"G51-SUMIF(ESCALA!$B$14:$B$15,DADOS!K51,ESCALA!$I$14:$I$15)","v":15},null,null,null,null,null,"2023-02-19","as férias não podem começar num domingo"]
[5139,5139,"LEILA ABBUD HANNA ROQUE","COORDENADOR (A) DE PROGRAMAS EDUCACIONAIS","CELETISTA","2023-03-15",30,"2024-03-15","2023-02-28","2024-02-29","5139-45000",{"$f":"G52-SUMIF(ESCALA!$B$14:$B$15,DADOS!K52,ESCALA!$I$14:$I$15)","v":30},null,null,null,null,null,"2023-02-20","as férias não podem começar numa véspera de feriado"]
[5140,5140,"WANIA MARIA MANFREDI DA SILVA","PROFESSOR (A) DE EDUCAÇÃO BASICA","CELETISTA","2022-03-16",30,"2023-03-16","2022-02-28","2023-02-28","5140-44636",{"$f":"G53-SUMIF(ESCALA!$B$14:$B$15,DADOS!K53,ESCALA!$I$14:$I$15)","v":30},null,null,null,null,null,"2023-02-21","as férias não podem começar num feriado"]
[5140,5140,"WANIA MARIA MANFREDI DA SILVA","PROFESSOR (A) DE EDUCAÇÃO BASICA","CELETISTA","2023-03-16",30,"2024-03-16","2023-02-28","2024-02-29","5140-45001",{"$f":"G54-SUMIF(ESCALA!$B$14:$B$15,DADOS!K54,ESCALA!$I$14:$I$15)","v":30},null,null,null,null,null,"2023-02-22","-"]
[5142,5142,"SARAH VALESI CELIO DE SOUZA","PROFESSOR (A) DE EDUCAÇÃO BASICA","CELETISTA","2022-03-16",30,"2023-03-16","2022-02-28","2023-02-28","5142-44636",{"$f":"G55-SUMIF(ESCALA!$B$14:$B$15,DADOS!K55,ESCALA!$I$14:$I$15)","v":30},null,null,null,null,null,"2023-02-23","-"]
[5142,5142,"SARAH VALESI CELIO DE SOUZA","PROFESSOR (A) DE EDUCAÇÃO BASICA","CELETISTA","2023-03-16",30,"2024-03-16","2023-02-28","2024-02-29","5142-45001",{"$f":"G56-SUMIF(ESCALA!$B$14:$B$15,DADOS!K56,ESCALA!$I$14:$I$15)","v":30},null,null,null,null,null,"2023-02-24","as férias não podem começar numa sexta-feira"]
[5185,5185,"MARILENE DA CRUZ","PROFESSOR (A) DE EDUCACAO BASICA","CELETISTA","2022-04-05",30,"2023-04-05","2022-03-31","2023-03-31","5185-44656",{"$f":"G57-SUMIF(ESCALA!$B$14:$B$15,DADOS!K57,ESCALA!$I$14:$I$15)","v":30},null,null,null,null,null,"2023-02-25","as férias não podem começar num sábado"]
[5185,5185,"MARILENE DA CRUZ","PROFESSOR (A) DE EDUCACAO BASICA","CELETISTA","2023-04-05",30,"2024-04-05","2023-03-31","2024-03-31","5185-45021",{"$f":"G58-SUMIF(ESCALA!$B$14:$B$15,DADOS!K58,ESCALA!$I$14:$I$15)","v":30},null,null,null,null,null,"2023-02-26","as férias não podem começar num domingo"]
[5246,5246,"RITA APARECIDA LUZ DE AGUIAR GRIGOLETTO","PEDAGOGO (A)","CELETISTA","2022-09-12",18,"2023-09-12","2022-08-31","2023-08-31","5246-44816",{"$f":"G59-SUMIF(ESCALA!$B$14:$B$15,DADOS!K59,ESCALA!$I$14:$I$15)","v":18},null,null,null,null,null,"2023-02-27","-"]
[5246,5246,"RITA APARECIDA LUZ DE AGUIAR GRIGOLETTO","PEDAGOGO (A)","CELETISTA","2023-09-12",30,"2024-09-12","2023-08-31","2024-08-31","5246-45181",{"$f":"G60-SUMIF(ESCALA!$B$14:$B$15,DADOS!K60,ESCALA!$I$14:$I$15)","v":30},null,null,null,null,null,"2023-02-28","-"]
[5344,5344,"MARIA BERNADETE DE FATIMA JUSTINO DA SILVA","DIRETOR (A) DE ESCOLA","CELETISTA","2022-06-02",5,"2023-06-02","2022-05-31","2023-05-31","5344-44714",{"$f":"G61-SUMIF(ESCALA!$B$14:$B$15,DADOS!K61,ESCALA!$I$14:$I$15)","v":5},null,null,null,null,null,"2023-03-01","-"]
[5344,5344,"MARIA BERNADETE DE FATIMA JUSTINO DA SILVA","DIRETOR (A) DE ESCOLA","CELETISTA","2023-06-02",30,"2024-06-02","2023-05-31","2024-05-31","5344-45079",{"$f":"G62-SUMIF(ESCALA!$B$14:$B$15,DADOS!K62,ESCALA!$I$14:$I$15)","v":30},null,null,null,null,null,"2023-03-02","-"]
[5449,5449,"ROSELI APARECIDA RICCI","PROFESSOR (A) DE EDUCACAO BASICA","CELETISTA","2022-05-11",30,"2023-05-11","2022-04-30","2023-04-30","5449-44692",{"$f":"G63-SUMIF(ESCALA!$B$14:$B$15,DADOS!K63,ESCALA!$I$14:$I$15)","v":30},null,null,null,null,null,"2023-03-03","as férias não podem começar numa sexta-feira"]
[5449,5449,"ROSELI APARECIDA RICCI","PROFESSOR (A) DE EDUCACAO BASICA","CELETISTA","2023-05-11",30,"2024-05-11","2023-04-30","2024-04-30","5449-45057",{"$f":"G64-SUMIF(ESCALA!$B$14:$B$15,DADOS!K64,ESCALA!$I$14:$I$15)","v":30},null,null,null,null,null,"2023-03-04","as férias não podem começar num sábado"]
[5498,5498,"SONIA BENEDITA CASTRO DE CARVALHO GIMENEZ","PROFESSOR (A) COORDENADOR (A)  PEDAGOGICO (A)","CELETISTA","2022-08-05",30,"2023-08-05","2022-07-31","2023-07-31","5498-44778",{"$f":"G65-SUMIF(ESCALA!$B$14:$B$15,DADOS!K65,ESCALA!$I$14:$I$15)","v":30},null,null,null,null,null,"2023-03-05","as férias não podem começar num domingo"]
[5498,5498,"SONIA BENEDITA CASTRO DE CARVALHO GIMENEZ","PROFESSOR (A) COORDENADOR (A)  PEDAGOGICO (A)","CELETISTA","2023-08-05",30,"2024-08-05","2023-07-31","2024-07-31","5498-45143",{"$f":"G66-SUMIF(ESCALA!$B$14:$B$15,DADOS!K66,ESCALA!$I$14:$I$15)","v":30},null,null,null,null,null,"2023-03-06","-"]
[{"$f":"IF(L67=0,\"\",B67)","v":5541},5541,"WALKIRIA DE FATIMA ASSIS","PROFESSOR (A) DE EDUCAÇÃO BASICA","CELETISTA","2022-12-19",30,{"$f":"IF(F67<=44985,F67+365,F67+366)","v":"2023-12-19"},"2022-11-30","2023-11-30",{"$f":"CONCATENATE(B67,\"-\",F67)","v":"5541-44914"},{"$f":"G67-SUMIF(ESCALA!$B$14:$B$15,DADOS!K67,ESCALA!$I$14:$I$15)","v":30},null,null,null,null,null,"2023-03-07","-"]
[5541,5541,"WALKIRIA DE FATIMA ASSIS","PROFESSOR (A) DE EDUCAÇÃO BASICA","CELETISTA","2023-12-19",30,"2024-12-19",{"$f":"IF(E68=\"ESTATUTARIO\",EOMONTH(F68,0),EOMONTH(F68,-1))","v":"2023-11-30"},{"$f":"EOMONTH(F68,11)","v":"2024-11-30"},"5541-45279",{"$f":"G68-SUMIF(ESCALA!$B$14:$B$15,DADOS!K68,ESCALA!$I$14:$I$15)","v":30},null,null,null,null,null,"2023-03-08","-"]
[5549,5549,"MARIA IVONE MARTINS CARVALHO","COORDENADOR (A) DE PROGRAMAS EDUCACIONAIS","CELETISTA","2022-05-18",15,"2023-05-18","2022-04-30","2023-04-30","5549-44699",{"$f":"G69-SUMIF(ESCALA!$B$14:$B$15,DADOS!K69,ESCALA!$I$14:$I$15)","v":15},null,null,null,null,null,"2023-03-09","-"]
[5549,5549,"MARIA IVONE MARTINS CARVALHO","COORDENADOR (A) DE PROGRAMAS EDUCACIONAIS","CELETISTA","2023-05-18",30,"2024-05-18","2023-04-30","2024-04-30","5549-45064",{"$f":"G70-SUMIF(ESCALA!$B$14:$B$15,DADOS!K70,ESCALA!$I$14:$I$15)","v":30},null,null,null,null,null,"2023-03-10","as férias não podem começar numa sexta-feira"]
[5550,5550,"MARIA DE FATIMA XIMENES","DIRETOR (A) DE ESCOLA","CELETISTA","2022-05-18",30,"2023-05-18","2022-04-30","2023-04-30","5550-44699",{"$f":"G71-SUMIF(ESCALA!$B$14:$B$15,DADOS!K71,ESCALA!$I$14:$I$15)","v":30},null,null,null,null,null,"2023-03-11","as férias não podem começar num sábado"]
[5550,5550,"MARIA DE FATIMA XIMENES","DIRETOR (A) DE ESCOLA","CELETISTA","2023-05-18",30,"2024-05-18","2023-04-30","2024-04-30","5550-45064",{"$f":"G72-SUMIF(ESCALA!$B$14:$B$15,DADOS!K72,ESCALA!$I$14:$I$15)","v":30},null,null,null,null,null,"2023-03-12","as férias não podem começar num domingo"]
[5557,5557,"NAIR FUMIE TATSUMOTO FAVARINI","PROFESSOR (A) DE EDUCAÇÃO BASICA","CELETISTA","2022-09-02",30,"2023-09-02","2022-08-31","2023-08-31","5557-44806",{"$f":"G73-SUMIF(ESCALA!$B$14:$B$15,DADOS!K73,ESCALA!$I$14:$I$15)","v":30},null,null,null,null,null,"2023-03-13","-"]
[5557,5557,"NAIR FUMIE TATSUMOTO FAVARINI","PROFESSOR (A) DE EDUCAÇÃO BASICA","CELETISTA","2023-09-02",30,"2024-09-02","2023-08-31","2024-08-31","5557-45171",{"$f":"G74-SUMIF(ESCALA!$B$14:$B$15,DADOS!K74,ESCALA!$I$14:$I$15)","v":30},null,null,null,null,null,"2023-03-14","-"]
[5569,5569,"VERA LUCIA MARTINS","PROFESSOR (A) DE EDUCAÇÃO BÁSICA","CELETISTA","2022-05-20",30,"2023-05-20","2022-04-30","2023-04-30","5569-44701",{"$f":"G75-SUMIF(ESCALA!$B$14:$B$15,DADOS!K75,ESCALA!$I$14:$I$15)","v":30},null,null,null,null,null,"2023-03-15","-"]
[5569,5569,"VERA LUCIA MARTINS","PROFESSOR (A) DE EDUCAÇÃO BÁSICA","CELETISTA","2023-05-20",30,"2024-05-20","2023-04-30","2024-04-30","5569-45066",{"$f":"G76-SUMIF(ESCALA!$B$14:$B$15,DADOS!K76,ESCALA!$I$14:$I$15)","v":30},null,null,null,null,null,"2023-03-16","-"]
[5580,5580,"CLAUDETE SIQUEIRA MARTINS LEITE","PROFESSOR (A) DE EDUCACAO BASICA","CELETISTA","2022-05-20",30,"2023-05-20","2022-04-30","2023-04-30","5580-44701",{"$f":"G77-SUMIF(ESCALA!$B$14:$B$15,DADOS!K77,ESCALA!$I$14:$I$15)","v":30},null,null,null,null,null,"2023-03-17","as férias não podem começar numa sexta-feira"]
[5580,5580,"CLAUDETE SIQUEIRA MARTINS LEITE","PROFESSOR (A) DE EDUCACAO BASICA","CELETISTA","2023-05-20",30,"2024-05-20","2023-04-30","2024-04-30","5580-45066",{"$f":"G78-SUMIF(ESCALA!$B$14:$B$15,DADOS!K78,ESCALA!$I$14:$I$15)","v":30},null,null,null,null,null,"2023-03-18","as férias não podem começar num sábado"]
[5621,5621,"CELIA REGINA RODRIGUES","PROFESSOR (A) DE EDUCAÇÃO BÁSICA","CELETISTA","2022-05-23",30,"2023-05-23","2022-04-30","2023-04-30","5621-44704",{"$f":"G79-SUMIF(ESCALA!$B$14:$B$15,DADOS!K79,ESCALA!$I$14:$I$15)","v":30},null,null,null,null,null,"2023-03-19","as férias não podem começar num domingo"]
[5621,5621,"CELIA REGINA RODRIGUES","PROFESSOR (A) DE EDUCAÇÃO BÁSICA","CELETISTA","2023-05-23",30,"2024-05-23","2023-04-30","2024-04-30","5621-45069",{"$f":"G80-SUMIF(ESCALA!$B$14:$B$15,DADOS!K80,ESCALA!$I$14:$I$15)","v":30},null,null,null,null,null,"2023-03-20","-"]
[5624,5624,"DAINE REGINA REGIANI","PROFESSOR (A) DE EDUCAÇÃO BASICA","CELETISTA","2022-05-13",30,"2023-05-13","2022-04-30","2023-04-30","5624-44694",{"$f":"G81-SUMIF(ESCALA!$B$14:$B$15,DADOS!K81,ESCALA!$I$14:$I$15)","v":30},null,null,null,null,null,"2023-03-21","-"]
[5624,5624,"DAINE REGINA REGIANI","PROFESSOR (A) DE EDUCAÇÃO BASICA","CELETISTA","2023-05-13",30,"2024-05-13","2023-04-30","2024-04-30","5624-45059",{"$f":"G82-SUMIF(ESCALA!$B$14:$B$15,DADOS!K82,ESCALA!$I$14:$I$15)","v":30},null,null,null,null,null,"2023-03-22","-"]
[5656,5656,"SOLANGE RUFINO MARTINS GOMES","PEDAGOGO (A)","CELETISTA","2022-05-27",30,"2023-05-27","2022-04-30","2023-04-30","5656-44708",{"$f":"G83-SUMIF(ESCALA!$B$14:$B$15,DADOS!K83,ESCALA!$I$14:$I$15)","v":30},null,null,null,null,null,"2023-03-23","-"]
[5656,5656,"SOLANGE RUFINO MARTINS GOMES","PEDAGOGO (A)","CELETISTA","2023-05-27",30,"2024-05-27","2023-04-30","2024-04-30","5656-45073",{"$f":"G84-SUMIF(ESCALA!$B$14:$B$15,DADOS!K84,ESCALA!$I$14:$I$15)","v":30},null,null,null,null,null,"2023-03-24","as férias não podem começar numa sexta-feira"]
[5660,5660,"SILCEIA CRISTINA PEREIRA","PROFESSOR (A) DE EDUCACAO BASICA","CELETISTA","2022-05-27",30,"2023-05-27","2022-04-30","2023-04-30","5660-44708",{"$f":"G85-SUMIF(ESCALA!$B$14:$B$15,DADOS!K85,ESCALA!$I$14:$I$15)","v":30},null,null,null,null,null,"2023-03-25","as férias não podem começar num sábado"]
[5660,5660,"SILCEIA CRISTINA PEREIRA","PROFESSOR (A) DE EDUCACAO BASICA","CELETISTA","2023-05-27",30,"2024-05-27","2023-04-30","2024-04-30","5660-45073",{"$f":"G86-SUMIF(ESCALA!$B$14:$B$15,DADOS!K86,ESCALA!$I$14:$I$15)","v":30},null,null,null,null,null,"2023-03-26","as férias não podem começar num domingo"]
[5699,5699,"HELOISA BONATTI ZUMPANO","PROFESSOR (A) DE EDUCAÇÃO BASICA","CELETISTA","2022-08-30",30,"2023-08-30","2022-07-31","2023-07-31","5699-44803",{"$f":"G87-SUMIF(ESCALA!$B$14:$B$15,DADOS!K87,ESCALA!$I$14:$I$15)","v":30},null,null,null,null,null,"2023-03-27","-"]
[5699,5699,"HELOISA BONATTI ZUMPANO","PROFESSOR (A) DE EDUCAÇÃO BASICA","CELETISTA","2023-08-30",30,"2024-08-30","2023-07-31","2024-07-31","5699-45168",{"$f":"G88-SUMIF(ESCALA!$B$14:$B$15,DADOS!K88,ESCALA!$I$14:$I$15)","v":30},null,null,null,null,null,"2023-03-28","-"]
[5708,5708,"MARIA DE LOURDES UMBELINO","PROFESSOR (A) DE EDUCAÇÃO BASICA","CELETISTA","2022-06-02",30,"2023-06-02","2022-05-31","2023-05-31","5708-44714",{"$f":"G89-SUMIF(ESCALA!$B$14:$B$15,DADOS!K89,ESCALA!$I$14:$I$15)","v":30},null,null,null,null,null,"2023-03-29","-"]
[5708,5708,"MARIA DE LOURDES UMBELINO","PROFESSOR (A) DE EDUCAÇÃO BASICA","CELETISTA","2023-06-02",30,"2024-06-02","2023-05-31","2024-05-31","5708-45079",{"$f":"G90-SUMIF(ESCALA!$B$14:$B$15,DADOS!K90,ESCALA!$I$14:$I$15)","v":30},null,null,null,null,null,"2023-03-30","-"]
[5765,5765,"LUCIANE MARIA ROBERTO BERGAMO","COORDENADOR (A) DE PROGRAMAS EDUCACIONAIS","CELETISTA","2022-06-14",5,"2023-06-14","2022-05-31","2023-05-31","5765-44726",{"$f":"G91-SUMIF(ESCALA!$B$14:$B$15,DADOS!K91,ESCALA!$I$14:$I$15)","v":5},null,null,null,null,null,"2023-03-31","as férias não podem começar numa sexta-feira"]
[5765,5765,"LUCIANE MARIA ROBERTO BERGAMO","COORDENADOR (A) DE PROGRAMAS EDUCACIONAIS","CELETISTA","2023-06-14",30,"2024-06-14","2023-05-31","2024-05-31","5765-45091",{"$f":"G92-SUMIF(ESCALA!$B$14:$B$15,DADOS!K92,ESCALA!$I$14:$I$15)","v":30},null,null,null,null,null,"2023-04-01","as férias não podem começar num sábado"]
[5776,5776,"SHIRLEI SILVANA FORMAIO DE AMORIM","PROFESSOR (A) DE EDUCAÇÃO BASICA","CELETISTA","2022-06-20",30,"2023-06-20","2022-05-31","2023-05-31","5776-44732",{"$f":"G93-SUMIF(ESCALA!$B$14:$B$15,DADOS!K93,ESCALA!$I$14:$I$15)","v":30},null,null,null,null,null,"2023-04-02","as férias não podem começar num domingo"]
[5776,5776,"SHIRLEI SILVANA FORMAIO DE AMORIM","PROFESSOR (A) DE EDUCAÇÃO BASICA","CELETISTA","2023-06-20",30,"2024-06-20","2023-05-31","2024-05-31","5776-45097",{"$f":"G94-SUMIF(ESCALA!$B$14:$B$15,DADOS!K94,ESCALA!$I$14:$I$15)","v":30},null,null,null,null,null,"2023-04-03","-"]
[5804,5804,"SUSANA HELENA HENNING SAUD","PROFESSOR (A) DE EDUCAÇÃO BASICA","CELETISTA","2022-07-07",30,"2023-07-07","2022-06-30","2023-06-30","5804-44749",{"$f":"G95-SUMIF(ESCALA!$B$14:$B$15,DADOS!K95,ESCALA!$I$14:$I$15)","v":30},null,null,null,null,null,"2023-04-04","-"]
[5804,5804,"SUSANA HELENA HENNING SAUD","PROFESSOR (A) DE EDUCAÇÃO BASICA","CELETISTA","2023-07-07",30,"2024-07-07","2023-06-30","2024-06-30","5804-45114",{"$f":"G96-SUMIF(ESCALA!$B$14:$B$15,DADOS!K96,ESCALA!$I$14:$I$15)","v":30},null,null,null,null,null,"2023-04-05","as férias não podem começar numa antevéspera de feriado"]
[5814,5814,"MARILDA ROCHA GABELONI BAZZANI","PROFESSOR (A) DE EDUCAÇÃO BÁSICA","CELETISTA","2022-07-13",30,"2023-07-13","2022-06-30","2023-06-30","5814-44755",{"$f":"G97-SUMIF(ESCALA!$B$14:$B$15,DADOS!K97,ESCALA!$I$14:$I$15)","v":30},null,null,null,null,null,"2023-04-06","as férias não podem começar numa véspera de feriado"]
[5814,5814,"MARILDA ROCHA GABELONI BAZZANI","PROFESSOR (A) DE EDUCAÇÃO BÁSICA","CELETISTA","2023-07-13",30,"2024-07-13","2023-06-30","2024-06-30","5814-45120",{"$f":"G98-SUMIF(ESCALA!$B$14:$B$15,DADOS!K98,ESCALA!$I$14:$I$15)","v":30},null,null,null,null,null,"2023-04-07","as férias não podem começar numa sexta-feira"]
[6120,6120,"MAURICIO LESSA","CHEFE DE DIVISAO TECNICA","CELETISTA","2022-08-12",5,"2023-08-12","2022-07-31","2023-07-31","6120-44785",{"$f":"G99-SUMIF(ESCALA!$B$14:$B$15,DADOS!K99,ESCALA!$I$14:$I$15)","v":5},null,null,null,null,null,"2023-04-08","as férias não podem começar num sábado"]
[6120,6120,"MAURICIO LESSA","CHEFE DE DIVISAO TECNICA","CELETISTA","2023-08-12",30,"2024-08-12","2023-07-31","2024-07-31","6120-45150",{"$f":"G100-SUMIF(ESCALA!$B$14:$B$15,DADOS!K100,ESCALA!$I$14:$I$15)","v":30},null,null,null,null,null,"2023-04-09","as férias não podem começar num domingo"]
[6177,6177,"VERA REGINA GUARANEZ","VICE-DIRETOR (A) DE ESCOLA","CELETISTA","2022-08-12",30,"2023-08-12","2022-07-31","2023-07-31","6177-44785",{"$f":"G101-SUMIF(ESCALA!$B$14:$B$15,DADOS!K101,ESCALA!$I$14:$I$15)","v":30},null,null,null,null,null,"2023-04-10","-"]
[6177,6177,"VERA REGINA GUARANEZ","VICE-DIRETOR (A) DE ESCOLA","CELETISTA","2023-08-12",30,"2024-08-12","2023-07-31","2024-07-31","6177-45150",{"$f":"G102-SUMIF(ESCALA!$B$14:$B$15,DADOS!K102,ESCALA!$I$14:$I$15)","v":30},null,null,null,null,null,"2023-04-11","-"]
[6280,6280,"NOEMIA RODRIGUES DE MACEDO","ASSISTENTE DE GESTÃO PÚBLICA","CELETISTA","2023-04-03",30,"2024-04-03","2023-03-31","2024-03-31","6280-45019",{"$f":"G103-SUMIF(ESCALA!$B$14:$B$15,DADOS!K103,ESCALA!$I$14:$I$15)","v":30},null,null,null,null,null,"2023-04-12","-"]
[6314,6314,"GUSTAVO AFONSO DALL ACQUA SILVA","ASSISTENTE DE GESTÃO PÚBLICA","CELETISTA","2022-09-26",30,"2023-09-26","2022-08-31","2023-08-31","6314-44830",{"$f":"G104-SUMIF(ESCALA!$B$14:$B$15,DADOS!K104,ESCALA!$I$14:$I$15)","v":30},null,null,null,null,null,"2023-04-13","-"]
[6314,6314,"GUSTAVO AFONSO DALL ACQUA SILVA","ASSISTENTE DE GESTÃO PÚBLICA","CELETISTA","2023-09-26",30,"2024-09-26","2023-08-31","2024-08-31","6314-45195",{"$f":"G105-SUMIF(ESCALA!$B$14:$B$15,DADOS!K105,ESCALA!$I$14:$I$15)","v":30},null,null,null,null,null,"2023-04-14","as férias não podem começar numa sexta-feira"]
[6475,6475,"BERNADETE DOI AUGUSTO MOTTA","PROFESSOR (A) DE EDUCAÇÃO BASICA","CELETISTA","2022-06-06",30,"2023-06-06","2022-05-31","2023-05-31","6475-44718",{"$f":"G106-SUMIF(ESCALA!$B$14:$B$15,DADOS!K106,ESCALA!$I$14:$I$15)","v":30},null,null,null,null,null,"2023-04-15","as férias não podem começar num sábado"]
[6475,6475,"BERNADETE DOI AUGUSTO MOTTA","PROFESSOR (A) DE EDUCAÇÃO BASICA","CELETISTA","2023-06-06",30,"2024-06-06","2023-05-31","2024-05-31","6475-45083",{"$f":"G107-SUMIF(ESCALA!$B$14:$B$15,DADOS!K107,ESCALA!$I$14:$I$15)","v":30},null,null,null,null,null,"2023-04-16","as férias não podem começar num domingo"]
[6666,6666,"HAIDEE SILVA FIGUEIREDO","PROFESSOR (A) DE EDUCAÇÃO BASICA","CELETISTA","2022-02-08",30,"2023-02-08","2022-01-31","2023-01-31","6666-44600",{"$f":"G108-SUMIF(ESCALA!$B$14:$B$15,DADOS!K108,ESCALA!$I$14:$I$15)","v":30},null,null,null,null,null,"2023-04-17","-"]
[6666,6666,"HAIDEE SILVA FIGUEIREDO","PROFESSOR (A) DE EDUCAÇÃO BASICA","CELETISTA","2023-02-08",30,"2024-02-08","2023-01-31","2024-01-31","6666-44965",{"$f":"G109-SUMIF(ESCALA!$B$14:$B$15,DADOS!K109,ESCALA!$I$14:$I$15)","v":30},null,null,null,null,null,"2023-04-18","-"]
[6781,6781,"VALERIA ZANCANARO DELAFINA MATTOS","PROFESSOR (A) DE EDUCAÇÃO BASICA","CELETISTA","2023-01-01",30,"2024-01-01","2022-12-31","2023-12-31","6781-44927",{"$f":"G110-SUMIF(ESCALA!$B$14:$B$15,DADOS!K110,ESCALA!$I$14:$I$15)","v":30},null,null,null,null,null,"2023-04-19","as férias não podem começar numa antevéspera de feriado"]
[6825,6825,"IRACEMA MARIA DOS SANTOS SILVA","PROFESSOR (A) DE EDUCAÇÃO BASICA","CELETISTA","2023-01-01",30,"2024-01-01","2022-12-31","2023-12-31","6825-44927",{"$f":"G111-SUMIF(ESCALA!$B$14:$B$15,DADOS!K111,ESCALA!$I$14:$I$15)","v":30},null,null,null,null,null,"2023-04-20","as férias não podem começar numa véspera de feriado"]
[6883,6883,"ELISETE QUAIATO RIBEIRO DE MELO","VICE-DIRETOR (A) DE ESCOLA","CELETISTA","2023-01-01",30,"2024-01-01","2022-12-31","2023-12-31","6883-44927",{"$f":"G112-SUMIF(ESCALA!$B$14:$B$15,DADOS!K112,ESCALA!$I$14:$I$15)","v":30},null,null,null,null,null,"2023-04-21","as férias não podem começar numa sexta-feira"]
[6901,6901,"PATRICIA HELENA ETSUKO MIYASATO ALBUQUERQUE","VICE-DIRETOR (A) DE ESCOLA","CELETISTA","2022-03-18",30,"2023-03-18","2022-02-28","2023-02-28","6901-44638",{"$f":"G113-SUMIF(ESCALA!$B$14:$B$15,DADOS!K113,ESCALA!$I$14:$I$15)","v":30},null,null,null,null,null,"2023-04-22","as férias não podem começar num sábado"]
[6901,6901,"PATRICIA HELENA ETSUKO MIYASATO ALBUQUERQUE","VICE-DIRETOR (A) DE ESCOLA","CELETISTA","2023-03-18",30,"2024-03-18","2023-02-28","2024-02-29","6901-45003",{"$f":"G114-SUMIF(ESCALA!$B$14:$B$15,DADOS!K114,ESCALA!$I$14:$I$15)","v":30},null,null,null,null,null,"2023-04-23","as férias não podem começar num domingo"]
[6916,6916,"DORISVALDO CRUZ DE OLIVEIRA","MOTORISTA","CELETISTA","2022-06-01",30,"2023-06-01","2022-05-31","2023-05-31","6916-44713",{"$f":"G115-SUMIF(ESCALA!$B$14:$B$15,DADOS!K115,ESCALA!$I$14:$I$15)","v":30},null,null,null,null,null,"2023-04-24","-"]
[6916,6916,"DORISVALDO CRUZ DE OLIVEIRA","MOTORISTA","CELETISTA","2023-06-01",30,"2024-06-01","2023-05-31","2024-05-31","6916-45078",{"$f":"G116-SUMIF(ESCALA!$B$14:$B$15,DADOS!K116,ESCALA!$I$14:$I$15)","v":30},null,null,null,null,null,"2023-04-25","-"]
[6923,6923,"IRANILDE LOPES LOURENCO","COZINHEIRO (A)","CELETISTA","2023-01-25",30,"2024-01-25","2022-12-31","2023-12-31","6923-44951",{"$f":"G117-SUMIF(ESCALA!$B$14:$B$15,DADOS!K117,ESCALA!$I$14:$I$15)","v":30},null,null,null,null,null,"2023-04-26","-"]
[6998,6998,"MARTA APARECIDA CURY POSSELT","PROFESSOR (A) DE EDUCAÇÃO BASICA","CELETISTA","2023-01-01",30,"2024-01-01","2022-12-31","2023-12-31","6998-44927",{"$f":"G118-SUMIF(ESCALA!$B$14:$B$15,DADOS!K118,ESCALA!$I$14:$I$15)","v":30},null,null,null,null,null,"2023-04-27","-"]
[7016,7016,"PRISCILA DE MAGALHAES LAXY CARREIRA","COORDENADOR (A) DE PROGRAMAS EDUCACIONAIS","CELETISTA","2022-05-12",20,"2023-05-12","2022-04-30","2023-04-30","7016-44693",{"$f":"G119-SUMIF(ESCALA!$B$14:$B$15,DADOS!K119,ESCALA!$I$14:$I$15)","v":20},null,null,null,null,null,"2023-04-28","as férias não podem começar numa sexta-feira"]
[7016,7016,"PRISCILA DE MAGALHAES LAXY CARREIRA","COORDENADOR (A) DE PROGRAMAS EDUCACIONAIS","CELETISTA","2023-05-12",30,"2024-05-12","2023-04-30","2024-04-30","7016-45058",{"$f":"G120-SUMIF(ESCALA!$B$14:$B$15,DADOS!K120,ESCALA!$I$14:$I$15)","v":30},null,null,null,null,null,"2023-04-29","as férias não podem começar num sábado"]
[7035,7035,"ROSANA ROSSI FEITOSA DA SILVA","PROFESSOR (A) DE EDUCAÇÃO BÁSICA","CELETISTA","2023-01-01",30,"2024-01-01","2022-12-31","2023-12-31","7035-44927",{"$f":"G121-SUMIF(ESCALA!$B$14:$B$15,DADOS!K121,ESCALA!$I$14:$I$15)","v":30},null,null,null,null,null,"2023-04-30","as férias não podem começar num domingo"]
[7075,7075,"MARIA INES NEVES","DIRETOR (A) DE ESCOLA","CELETISTA","2022-06-01",20,"2023-06-01","2022-05-31","2023-05-31","7075-44713",{"$f":"G122-SUMIF(ESCALA!$B$14:$B$15,DADOS!K122,ESCALA!$I$14:$I$15)","v":20},null,null,null,null,null,"2023-05-01","as férias não podem começar num feriado"]
[7075,7075,"MARIA INES NEVES","DIRETOR (A) DE ESCOLA","CELETISTA","2023-06-01",30,"2024-06-01","2023-05-31","2024-05-31","7075-45078",{"$f":"G123-SUMIF(ESCALA!$B$14:$B$15,DADOS!K123,ESCALA!$I$14:$I$15)","v":30},null,null,null,null,null,"2023-05-02","-"]
[7167,7167,"ELISEU MARINHO","CHEFE DE DIVISAO ADMINISTRATIVA","CELETISTA","2022-07-14",15,"2023-07-14","2022-06-30","2023-06-30","7167-44756",{"$f":"G124-SUMIF(ESCALA!$B$14:$B$15,DADOS!K124,ESCALA!$I$14:$I$15)","v":15},null,null,null,null,null,"2023-05-03","-"]
[7167,7167,"ELISEU MARINHO","CHEFE DE DIVISAO ADMINISTRATIVA","CELETISTA","2023-07-14",30,"2024-07-14","2023-06-30","2024-06-30","7167-45121",{"$f":"G125-SUMIF(ESCALA!$B$14:$B$15,DADOS!K125,ESCALA!$I$14:$I$15)","v":30},null,null,null,null,null,"2023-05-04","-"]
[7221,7221,"FATIMA MUDEH","PROFESSOR (A) DE EDUCAÇÃO BASICA","CELETISTA","2022-07-14",30,"2023-07-14","2022-06-30","2023-06-30","7221-44756",{"$f":"G126-SUMIF(ESCALA!$B$14:$B$15,DADOS!K126,ESCALA!$I$14:$I$15)","v":30},null,null,null,null,null,"2023-05-05","as férias não podem começar numa sexta-feira"]
[7221,7221,"FATIMA MUDEH","PROFESSOR (A) DE EDUCAÇÃO BASICA","CELETISTA","2023-07-14",30,"2024-07-14","2023-06-30","2024-06-30","7221-45121",{"$f":"G127-SUMIF(ESCALA!$B$14:$B$15,DADOS!K127,ESCALA!$I$14:$I$15)","v":30},null,null,null,null,null,"2023-05-06","as férias não podem começar num sábado"]
[7288,7288,"KATIA SHIMOHIRAO","PROFESSOR (A) DE EDUCAÇÃO BASICA","CELETISTA","2022-12-31",30,"2023-12-31","2022-11-30","2023-11-30","7288-44926",{"$f":"G128-SUMIF(ESCALA!$B$14:$B$15,DADOS!K128,ESCALA!$I$14:$I$15)","v":30},null,null,null,null,null,"2023-05-07","as férias não podem começar num domingo"]
[7288,7288,"KATIA SHIMOHIRAO","PROFESSOR (A) DE EDUCAÇÃO BASICA","CELETISTA","2023-12-31",30,"2024-12-31","2023-11-30","2024-11-30","7288-45291",{"$f":"G129-SUMIF(ESCALA!$B$14:$B$15,DADOS!K129,ESCALA!$I$14:$I$15)","v":30},null,null,null,null,null,"2023-05-08","-"]
[7292,7292,"MARIA APARECIDA DE FREITAS OLIVEIRA","PROFESSOR (A) DE EDUCAÇÃO BASICA","CELETISTA","2023-01-01",30,"2024-01-01","2022-12-31","2023-12-31","7292-44927",{"$f":"G130-SUMIF(ESCALA!$B$14:$B$15,DADOS!K130,ESCALA!$I$14:$I$15)","v":30},null,null,null,null,null,"2023-05-09","-"]
[{"$f":"IF(L131=0,\"\",B131)","v":7294},7294,"MARIA REGINA RIBEIRO RODRIGUES RAMOS DE AZEVEDO","COORDENADOR (A) DE PROGRAMAS EDUCACIONAIS","CELETISTA","2022-04-16",5,{"$f":"IF(F131<=44985,F131+365,F131+366)","v":"2023-04-16"},"2022-03-31","2023-03-31",{"$f":"CONCATENATE(B131,\"-\",F131)","v":"7294-44667"},{"$f":"G131-SUMIF(ESCALA!$B$14:$B$15,DADOS!K131,ESCALA!$I$14:$I$15)","v":5},null,null,null,null,null,"2023-05-10","-"]
[7294,7294,"MARIA REGINA RIBEIRO RODRIGUES RAMOS DE AZEVEDO","COORDENADOR (A) DE PROGRAMAS EDUCACIONAIS","CELETISTA","2023-04-16",30,"2024-04-16",{"$f":"IF(E132=\"ESTATUTARIO\",EOMONTH(F132,0),EOMONTH(F132,-1))","v":"2023-03-31"},{"$f":"EOMONTH(F132,11)","v":"2024-03-31"},"7294-45032",{"$f":"G132-SUMIF(ESCALA!$B$14:$B$15,DADOS!K132,ESCALA!$I$14:$I$15)","v":30},null,null,null,null,null,"2023-05-11","-"]
[7299,7299,"NADIA DE CASSIA FERRENHA DA SILVA","PROFESSOR (A) DE EDUCAÇÃO BASICA","CELETISTA","2023-01-01",30,"2024-01-01","2022-12-31","2023-12-31","7299-44927",{"$f":"G133-SUMIF(ESCALA!$B$14:$B$15,DADOS!K133,ESCALA!$I$14:$I$15)","v":30},null,null,null,null,null,"2023-05-12","as férias não podem começar numa sexta-feira"]
[7306,7306,"SOLANGE DE JESUS ATTILI","COORDENADOR (A) DE PROGRAMAS EDUCACIONAIS","CELETISTA","2023-01-01",30,"2024-01-01","2022-12-31","2023-12-31","7306-44927",{"$f":"G134-SUMIF(ESCALA!$B$14:$B$15,DADOS!K134,ESCALA!$I$14:$I$15)","v":30},null,null,null,null,null,"2023-05-13","as férias não podem começar num sábado"]
[7308,7308,"TEREZINHA APARECIDA DE JESUS CAMARA COELHO","PROFESSOR (A) DE EDUCACAO BASICA","CELETISTA","2023-01-01",30,"2024-01-01","2022-12-31","2023-12-31","7308-44927",{"$f":"G135-SUMIF(ESCALA!$B$14:$B$15,DADOS!K135,ESCALA!$I$14:$I$15)","v":30},null,null,null,null,null,"2023-05-14","as férias não podem começar num domingo"]
[7321,7321,"CARMEM SILVIA ACOSTA","PROFESSOR (A) DE EDUCAÇÃO BÁSICA","CELETISTA","2023-01-01",30,"2024-01-01","2022-12-31","2023-12-31","7321-44927",{"$f":"G136-SUMIF(ESCALA!$B$14:$B$15,DADOS!K136,ESCALA!$I$14:$I$15)","v":30},null,null,null,null,null,"2023-05-15","-"]
[7336,7336,"IVONETE CARDOSO DA SILVA","VICE-DIRETOR (A) DE ESCOLA","CELETISTA","2023-01-01",30,"2024-01-01","2022-12-31","2023-12-31","7336-44927",{"$f":"G137-SUMIF(ESCALA!$B$14:$B$15,DADOS!K137,ESCALA!$I$14:$I$15)","v":30},null,null,null,null,null,"2023-05-16","-"]
[7346,7346,"LIDIA MARIA ANDRE DOS SANTOS HAGE","COORDENADOR (A) DE PROGRAMAS EDUCACIONAIS","CELETISTA","2023-01-01",30,"2024-01-01","2022-12-31","2023-12-31","7346-44927",{"$f":"G138-SUMIF(ESCALA!$B$14:$B$15,DADOS!K138,ESCALA!$I$14:$I$15)","v":30},null,null,null,null,null,"2023-05-17","-"]
[7352,7352,"MARIA CRISTINA JARRO LAGO ","PROFESSOR (A) DE EDUCAÇÃO BASICA","CELETISTA","2023-01-01",30,"2024-01-01","2022-12-31","2023-12-31","7352-44927",{"$f":"G139-SUMIF(ESCALA!$B$14:$B$15,DADOS!K139,ESCALA!$I$14:$I$15)","v":30},null,null,null,null,null,"2023-05-18","-"]
[7371,7371,"SILVANA ROMAO DA SILVA","DIRETOR (A) DE ESCOLA","CELETISTA","2022-03-30",30,"2023-03-30","2022-02-28","2023-02-28","7371-44650",{"$f":"G140-SUMIF(ESCALA!$B$14:$B$15,DADOS!K140,ESCALA!$I$14:$I$15)","v":30},null,null,null,null,null,"2023-05-19","as férias não podem começar numa sexta-feira"]
[7371,7371,"SILVANA ROMAO DA SILVA","DIRETOR (A) DE ESCOLA","CELETISTA","2023-03-30",30,"2024-03-30","2023-02-28","2024-02-29","7371-45015",{"$f":"G141-SUMIF(ESCALA!$B$14:$B$15,DADOS!K141,ESCALA!$I$14:$I$15)","v":30},null,null,null,null,null,"2023-05-20","as férias não podem começar num sábado"]
[7375,7375,"SUELY CARVALHO CARLI","PROFESSOR (A) DE EDUCACAO BASICA","CELETISTA","2022-11-23",30,"2023-11-23","2022-10-31","2023-10-31","7375-44888",{"$f":"G142-SUMIF(ESCALA!$B$14:$B$15,DADOS!K142,ESCALA!$I$14:$I$15)","v":30},null,null,null,null,null,"2023-05-21","as férias não podem começar num domingo"]
[7375,7375,"SUELY CARVALHO CARLI","PROFESSOR (A) DE EDUCACAO BASICA","CELETISTA","2023-11-23",30,"2024-11-23","2023-10-31","2024-10-31","7375-45253",{"$f":"G143-SUMIF(ESCALA!$B$14:$B$15,DADOS!K143,ESCALA!$I$14:$I$15)","v":30},null,null,null,null,null,"2023-05-22","-"]
[7377,7377,"VALERIA APARECIDA FERNANDES DE ALMEIDA","VICE-DIRETOR (A) DE ESCOLA","CELETISTA","2023-01-01",30,"2024-01-01","2022-12-31","2023-12-31","7377-44927",{"$f":"G144-SUMIF(ESCALA!$B$14:$B$15,DADOS!K144,ESCALA!$I$14:$I$15)","v":30},null,null,null,null,null,"2023-05-23","-"]
[7382,7382,"ADRIANA MARIA CARAMELLA","PROFESSOR (A) DE EDUCACAO BASICA","CELETISTA","2023-01-01",30,"2024-01-01","2022-12-31","2023-12-31","7382-44927",{"$f":"G145-SUMIF(ESCALA!$B$14:$B$15,DADOS!K145,ESCALA!$I$14:$I$15)","v":30},null,null,null,null,null,"2023-05-24","-"]
[7386,7386,"ANA LUCIA PIRES DA SILVA","PROFESSOR (A) DE EDUCAÇÃO BASICA","CELETISTA","2023-01-01",30,"2024-01-01","2022-12-31","2023-12-31","7386-44927",{"$f":"G146-SUMIF(ESCALA!$B$14:$B$15,DADOS!K146,ESCALA!$I$14:$I$15)","v":30},null,null,null,null,null,"2023-05-25","-"]
[7393,7393,"CELIA VIEIRA DOS SANTOS SABINO","VICE-DIRETOR (A) DE ESCOLA","CELETISTA","2023-04-01",30,"2024-04-01","2023-03-31","2024-03-31","7393-45017",{"$f":"G147-SUMIF(ESCALA!$B$14:$B$15,DADOS!K147,ESCALA!$I$14:$I$15)","v":30},null,null,null,null,null,"2023-05-26","as férias não podem começar numa sexta-feira"]
[7430,7430,"LILIAN APARECIDA QUIRINO ANTONIO","PROFESSOR (A) DE EDUCACAO BASICA","CELETISTA","2023-01-01",30,"2024-01-01","2022-12-31","2023-12-31","7430-44927",{"$f":"G148-SUMIF(ESCALA!$B$14:$B$15,DADOS!K148,ESCALA!$I$14:$I$15)","v":30},null,null,null,null,null,"2023-05-27","as férias não podem começar num sábado"]
[7439,7439,"MARCIA CRISTINA DE MORAES ZACCARDELLI","PROFESSOR (A) DE EDUCACAO BASICA","CELETISTA","2022-06-25",30,"2023-06-25","2022-05-31","2023-05-31","7439-44737",{"$f":"G149-SUMIF(ESCALA!$B$14:$B$15,DADOS!K149,ESCALA!$I$14:$I$15)","v":30},null,null,null,null,null,"2023-05-28","as férias não podem começar num domingo"]
[7439,7439,"MARCIA CRISTINA DE MORAES ZACCARDELLI","PROFESSOR (A) DE EDUCACAO BASICA","CELETISTA","2023-06-25",30,"2024-06-25","2023-05-31","2024-05-31","7439-45102",{"$f":"G150-SUMIF(ESCALA!$B$14:$B$15,DADOS!K150,ESCALA!$I$14:$I$15)","v":30},null,null,null,null,null,"2023-05-29","-"]
[7451,7451,"MARIA JOSY CONCEICAO DE OLIVEIRA SOUZA","PROFESSOR (A) DE EDUCACAO BASICA","CELETISTA","2023-01-29",30,"2024-01-29","2022-12-31","2023-12-31","7451-44955",{"$f":"G151-SUMIF(ESCALA!$B$14:$B$15,DADOS!K151,ESCALA!$I$14:$I$15)","v":30},null,null,null,null,null,"2023-05-30","-"]
[7453,7453,"MARIA MADUREIRA GOMES LOURENCO","PROFESSOR (A) DE EDUCACAO BASICA","CELETISTA","2023-01-01",30,"2024-01-01","2022-12-31","2023-12-31","7453-44927",{"$f":"G152-SUMIF(ESCALA!$B$14:$B$15,DADOS!K152,ESCALA!$I$14:$I$15)","v":30},null,null,null,null,null,"2023-05-31","-"]
[7455,7455,"MARILU STIEVANO ","PROFESSOR (A) DE EDUCACAO BASICA","CELETISTA","2022-04-06",15,"2023-04-06","2022-03-31","2023-03-31","7455-44657",{"$f":"G153-SUMIF(ESCALA!$B$14:$B$15,DADOS!K153,ESCALA!$I$14:$I$15)","v":15},null,null,null,null,null,"2023-06-01","-"]
[7455,7455,"MARILU STIEVANO ","PROFESSOR (A) DE EDUCACAO BASICA","CELETISTA","2023-04-06",30,"2024-04-06","2023-03-31","2024-03-31","7455-45022",{"$f":"G154-SUMIF(ESCALA!$B$14:$B$15,DADOS!K154,ESCALA!$I$14:$I$15)","v":30},null,null,null,null,null,"2023-06-02","as férias não podem começar numa sexta-feira"]
[7457,7457,"MERCIA LUIZ DE LIMA","COORDENADOR (A) DE PROGRAMAS EDUCACIONAIS","CELETISTA","2022-06-10",30,"2023-06-10","2022-05-31","2023-05-31","7457-44722",{"$f":"G155-SUMIF(ESCALA!$B$14:$B$15,DADOS!K155,ESCALA!$I$14:$I$15)","v":30},null,null,null,null,null,"2023-06-03","as férias não podem começar num sábado"]
[7457,7457,"MERCIA LUIZ DE LIMA","COORDENADOR (A) DE PROGRAMAS EDUCACIONAIS","CELETISTA","2023-06-10",30,"2024-06-10","2023-05-31","2024-05-31","7457-45087",{"$f":"G156-SUMIF(ESCALA!$B$14:$B$15,DADOS!K156,ESCALA!$I$14:$I$15)","v":30},null,null,null,null,null,"2023-06-04","as férias não podem começar num domingo"]
[7460,7460,"MONICA APARECIDA TORREGROSSA WELLAUSEN","DIRETOR (A) DE ESCOLA","CELETISTA","2022-03-25",20,"2023-03-25","2022-02-28","2023-02-28","7460-44645",{"$f":"G157-SUMIF(ESCALA!$B$14:$B$15,DADOS!K157,ESCALA!$I$14:$I$15)","v":20},null,null,null,null,null,"2023-06-05","-"]
[7460,7460,"MONICA APARECIDA TORREGROSSA WELLAUSEN","DIRETOR (A) DE ESCOLA","CELETISTA","2023-03-25",30,"2024-03-25","2023-02-28","2024-02-29","7460-45010",{"$f":"G158-SUMIF(ESCALA!$B$14:$B$15,DADOS!K158,ESCALA!$I$14:$I$15)","v":30},null,null,null,null,null,"2023-06-06","as férias não podem começar numa antevéspera de feriado"]
[7461,7461,"MONICA MATSUMOTO SADAKANE","PROFESSOR (A) DE EDUCAÇÃO BASICA","CELETISTA","2022-12-07",30,"2023-12-07","2022-11-30","2023-11-30","7461-44902",{"$f":"G159-SUMIF(ESCALA!$B$14:$B$15,DADOS!K159,ESCALA!$I$14:$I$15)","v":30},null,null,null,null,null,"2023-06-07","as férias não podem começar numa véspera de feriado"]
[7461,7461,"MONICA MATSUMOTO SADAKANE","PROFESSOR (A) DE EDUCAÇÃO BASICA","CELETISTA","2023-12-07",30,"2024-12-07","2023-11-30","2024-11-30","7461-45267",{"$f":"G160-SUMIF(ESCALA!$B$14:$B$15,DADOS!K160,ESCALA!$I$14:$I$15)","v":30},null,null,null,null,null,"2023-06-08","as férias não podem começar num feriado"]
[7683,7683,"APARECIDA DONIZETI DOS SANTOS","PROFESSOR (A) DE EDUCAÇÃO BASICA","CELETISTA","2023-01-01",30,"2024-01-01","2022-12-31","2023-12-31","7683-44927",{"$f":"G161-SUMIF(ESCALA!$B$14:$B$15,DADOS!K161,ESCALA!$I$14:$I$15)","v":30},null,null,null,null,null,"2023-06-09","as férias não podem começar numa sexta-feira"]
[7690,7690,"CIDELMA MARIA CHAVES DE OLIVEIRA","PROFESSOR (A) DE EDUCAÇÃO BASICA","CELETISTA","2022-09-17",30,"2023-09-17","2022-08-31","2023-08-31","7690-44821",{"$f":"G162-SUMIF(ESCALA!$B$14:$B$15,DADOS!K162,ESCALA!$I$14:$I$15)","v":30},null,null,null,null,null,"2023-06-10","as férias não podem começar num sábado"]
[7690,7690,"CIDELMA MARIA CHAVES DE OLIVEIRA","PROFESSOR (A) DE EDUCAÇÃO BASICA","CELETISTA","2023-09-17",30,"2024-09-17","2023-08-31","2024-08-31","7690-45186",{"$f":"G163-SUMIF(ESCALA!$B$14:$B$15,DADOS!K163,ESCALA!$I$14:$I$15)","v":30},null,null,null,null,null,"2023-06-11","as férias não podem começar num domingo"]
[7793,7793,"REGIANE APARECIDA BARBOSA","PROFESSOR (A) DE EDUCAÇÃO BÁSICA","CELETISTA","2023-01-01",30,"2024-01-01","2022-12-31","2023-12-31","7793-44927",{"$f":"G164-SUMIF(ESCALA!$B$14:$B$15,DADOS!K164,ESCALA!$I$14:$I$15)","v":30},null,null,null,null,null,"2023-06-12","-"]
[7805,7805,"SANDRA REGINA FORTUNA ","PROFESSOR (A) DE EDUCAÇÃO BASICA","CELETISTA","2022-05-20",30,"2023-05-20","2022-04-30","2023-04-30","7805-44701",{"$f":"G165-SUMIF(ESCALA!$B$14:$B$15,DADOS!K165,ESCALA!$I$14:$I$15)","v":30},null,null,null,null,null,"2023-06-13","-"]
[7805,7805,"SANDRA REGINA FORTUNA ","PROFESSOR (A) DE EDUCAÇÃO BASICA","CELETISTA","2023-05-20",30,"2024-05-20","2023-04-30","2024-04-30","7805-45066",{"$f":"G166-SUMIF(ESCALA!$B$14:$B$15,DADOS!K166,ESCALA!$I$14:$I$15)","v":30},null,null,null,null,null,"2023-06-14","-"]
[7823,7823,"VALDECI APARECIDA CUNHA CHRISTE MEIRELES","PROFESSOR (A) DE EDUCAÇÃO BASICA","CELETISTA","2023-01-01",30,"2024-01-01","2022-12-31","2023-12-31","7823-44927",{"$f":"G167-SUMIF(ESCALA!$B$14:$B$15,DADOS!K167,ESCALA!$I$14:$I$15)","v":30},null,null,null,null,null,"2023-06-15","-"]
[7856,7856,"DENISE MARIA ESTEVES MARTUSCELLI PEREIRA","PROFESSOR (A) DE EDUCACAO BASICA","CELETISTA","2023-01-01",30,"2024-01-01","2022-12-31","2023-12-31","7856-44927",{"$f":"G168-SUMIF(ESCALA!$B$14:$B$15,DADOS!K168,ESCALA!$I$14:$I$15)","v":30},null,null,null,null,null,"2023-06-16","as férias não podem começar numa sexta-feira"]
[7872,7872,"GELSE PERINE","DIRETOR (A) DE ESCOLA","CELETISTA","2022-05-22",30,"2023-05-22","2022-04-30","2023-04-30","7872-44703",{"$f":"G169-SUMIF(ESCALA!$B$14:$B$15,DADOS!K169,ESCALA!$I$14:$I$15)","v":30},null,null,null,null,null,"2023-06-17","as férias não podem começar num sábado"]
[7872,7872,"GELSE PERINE","DIRETOR (A) DE ESCOLA","CELETISTA","2023-05-22",30,"2024-05-22","2023-04-30","2024-04-30","7872-45068",{"$f":"G170-SUMIF(ESCALA!$B$14:$B$15,DADOS!K170,ESCALA!$I$14:$I$15)","v":30},null,null,null,null,null,"2023-06-18","as férias não podem começar num domingo"]
[7920,7920,"MARA LIGIA GODOY CABRERA FERNANDES","COORDENADOR (A) DE PROGRAMAS EDUCACIONAIS","CELETISTA","2023-01-01",30,"2024-01-01","2022-12-31","2023-12-31","7920-44927",{"$f":"G171-SUMIF(ESCALA!$B$14:$B$15,DADOS!K171,ESCALA!$I$14:$I$15)","v":30},null,null,null,null,null,"2023-06-19","-"]
[7926,7926,"MARIZE ESTEVES DE JESUS","VICE-DIRETOR (A) DE ESCOLA","CELETISTA","2022-06-26",30,"2023-06-26","2022-05-31","2023-05-31","7926-44738",{"$f":"G172-SUMIF(ESCALA!$B$14:$B$15,DADOS!K172,ESCALA!$I$14:$I$15)","v":30},null,null,null,null,null,"2023-06-20","-"]
[7926,7926,"MARIZE ESTEVES DE JESUS","VICE-DIRETOR (A) DE ESCOLA","CELETISTA","2023-06-26",30,"2024-06-26","2023-05-31","2024-05-31","7926-45103",{"$f":"G173-SUMIF(ESCALA!$B$14:$B$15,DADOS!K173,ESCALA!$I$14:$I$15)","v":30},null,null,null,null,null,"2023-06-21","-"]
[7970,7970,"VILMA SOARES FERNANDES","PROFESSOR (A) DE EDUCAÇÃO BÁSICA","CELETISTA","2023-01-01",30,"2024-01-01","2022-12-31","2023-12-31","7970-44927",{"$f":"G174-SUMIF(ESCALA!$B$14:$B$15,DADOS!K174,ESCALA!$I$14:$I$15)","v":30},null,null,null,null,null,"2023-06-22","-"]
[8035,8035,"ELISUA MARIA NUNES BRITO","COORDENADOR (A) DE PROGRAMAS EDUCACIONAIS","CELETISTA","2022-02-02",30,"2023-02-02","2022-01-31","2023-01-31","8035-44594",{"$f":"G175-SUMIF(ESCALA!$B$14:$B$15,DADOS!K175,ESCALA!$I$14:$I$15)","v":30},null,null,null,null,null,"2023-06-23","as férias não podem começar numa sexta-feira"]
[8035,8035,"ELISUA MARIA NUNES BRITO","COORDENADOR (A) DE PROGRAMAS EDUCACIONAIS","CELETISTA","2023-02-02",30,"2024-02-02","2023-01-31","2024-01-31","8035-44959",{"$f":"G176-SUMIF(ESCALA!$B$14:$B$15,DADOS!K176,ESCALA!$I$14:$I$15)","v":30},null,null,null,null,null,"2023-06-24","as férias não podem começar num sábado"]
[8125,8125,"MARIA APARECIDA DO NASCIMENTO HERCULANO","PROFESSOR (A) DE EDUCAÇÃO BASICA","CELETISTA","2023-01-15",30,"2024-01-15","2022-12-31","2023-12-31","8125-44941",{"$f":"G177-SUMIF(ESCALA!$B$14:$B$15,DADOS!K177,ESCALA!$I$14:$I$15)","v":30},null,null,null,null,null,"2023-06-25","as férias não podem começar num domingo"]
[8129,8129,"MARIA CLARA GONCALVES","DIRETOR (A) DE ESCOLA","CELETISTA","2022-03-28",30,"2023-03-28","2022-02-28","2023-02-28","8129-44648",{"$f":"G178-SUMIF(ESCALA!$B$14:$B$15,DADOS!K178,ESCALA!$I$14:$I$15)","v":30},null,null,null,null,null,"2023-06-26","-"]
[8129,8129,"MARIA CLARA GONCALVES","DIRETOR (A) DE ESCOLA","CELETISTA","2023-03-28",30,"2024-03-28","2023-02-28","2024-02-29","8129-45013",{"$f":"G179-SUMIF(ESCALA!$B$14:$B$15,DADOS!K179,ESCALA!$I$14:$I$15)","v":30},null,null,null,null,null,"2023-06-27","-"]
[8136,8136,"MARIA DO ROSARIO FERREIRA DE SOUZA","PROFESSOR (A) DE EDUCAÇÃO BÁSICA","CELETISTA","2023-01-01",30,"2024-01-01","2022-12-31","2023-12-31","8136-44927",{"$f":"G180-SUMIF(ESCALA!$B$14:$B$15,DADOS!K180,ESCALA!$I$14:$I$15)","v":30},null,null,null,null,null,"2023-06-28","-"]
[8158,8158,"MIGUEL CARLOS TESTAI","ASSISTENTE DE GESTÃO PÚBLICA","CELETISTA","2022-05-28",18,"2023-05-28","2022-04-30","2023-04-30","8158-44709",{"$f":"G181-SUMIF(ESCALA!$B$14:$B$15,DADOS!K181,ESCALA!$I$14:$I$15)","v":18},null,null,null,null,null,"2023-06-29","-"]
[8158,8158,"MIGUEL CARLOS TESTAI","ASSISTENTE DE GESTÃO PÚBLICA","CELETISTA","2023-05-28",30,"2024-05-28","2023-04-30","2024-04-30","8158-45074",{"$f":"G182-SUMIF(ESCALA!$B$14:$B$15,DADOS!K182,ESCALA!$I$14:$I$15)","v":30},null,null,null,null,null,"2023-06-30","as férias não podem começar numa sexta-feira"]
[8209,8209,"SOLANGE REGINA CHAVES BUOZO","PROFESSOR (A) DE EDUCACAO BASICA","CELETISTA","2023-01-01",30,"2024-01-01","2022-12-31","2023-12-31","8209-44927",{"$f":"G183-SUMIF(ESCALA!$B$14:$B$15,DADOS!K183,ESCALA!$I$14:$I$15)","v":30},null,null,null,null,null,"2023-07-01","as férias não podem começar num sábado"]
[8213,8213,"SUELI SANTOS DA COSTA","SUPERVISOR (A) ESCOLAR","CELETISTA","2022-05-27",10,"2023-05-27","2022-04-30","2023-04-30","8213-44708",{"$f":"G184-SUMIF(ESCALA!$B$14:$B$15,DADOS!K184,ESCALA!$I$14:$I$15)","v":10},null,null,null,null,null,"2023-07-02","as férias não podem começar num domingo"]
[8213,8213,"SUELI SANTOS DA COSTA","SUPERVISOR (A) ESCOLAR","CELETISTA","2023-05-27",30,"2024-05-27","2023-04-30","2024-04-30","8213-45073",{"$f":"G185-SUMIF(ESCALA!$B$14:$B$15,DADOS!K185,ESCALA!$I$14:$I$15)","v":30},null,null,null,null,null,"2023-07-03","-"]
[8393,8393,"THELMA ELILLO","PROFESSOR (A) DE EDUCACAO BASICA","CELETISTA","2022-08-16",30,"2023-08-16","2022-07-31","2023-07-31","8393-44789",{"$f":"G186-SUMIF(ESCALA!$B$14:$B$15,DADOS!K186,ESCALA!$I$14:$I$15)","v":30},null,null,null,null,null,"2023-07-04","-"]
[8393,8393,"THELMA ELILLO","PROFESSOR (A) DE EDUCACAO BASICA","CELETISTA","2023-08-16",30,"2024-08-16","2023-07-31","2024-07-31","8393-45154",{"$f":"G187-SUMIF(ESCALA!$B$14:$B$15,DADOS!K187,ESCALA!$I$14:$I$15)","v":30},null,null,null,null,null,"2023-07-05","-"]
[8444,8444,"GISLENE CONCEICAO ZARZUR FRASSEI","PROFESSOR (A) COORDENADOR (A)  PEDAGOGICO (A)","CELETISTA","2023-01-01",30,"2024-01-01","2022-12-31","2023-12-31","8444-44927",{"$f":"G188-SUMIF(ESCALA!$B$14:$B$15,DADOS!K188,ESCALA!$I$14:$I$15)","v":30},null,null,null,null,null,"2023-07-06","-"]
[8493,8493,"CLAUDIA ADELINA NICOLOSI DE TOLEDO","PROFESSOR (A) DE EDUCAÇÃO BASICA","CELETISTA","2022-12-14",24,"2023-12-14","2022-11-30","2023-11-30","8493-44909",{"$f":"G189-SUMIF(ESCALA!$B$14:$B$15,DADOS!K189,ESCALA!$I$14:$I$15)","v":24},null,null,null,null,null,"2023-07-07","as férias não podem começar numa sexta-feira"]
[8493,8493,"CLAUDIA ADELINA NICOLOSI DE TOLEDO","PROFESSOR (A) DE EDUCAÇÃO BASICA","CELETISTA","2023-12-14",30,"2024-12-14","2023-11-30","2024-11-30","8493-45274",{"$f":"G190-SUMIF(ESCALA!$B$14:$B$15,DADOS!K190,ESCALA!$I$14:$I$15)","v":30},null,null,null,null,null,"2023-07-08","as férias não podem começar num sábado"]
[8567,8567,"MARCIA OLIVEIRA BUENO","DIRETOR (A) DE ESCOLA","CELETISTA","2022-10-05",30,"2023-10-05","2022-09-30","2023-09-30","8567-44839",{"$f":"G191-SUMIF(ESCALA!$B$14:$B$15,DADOS!K191,ESCALA!$I$14:$I$15)","v":30},null,null,null,null,null,"2023-07-09","as férias não podem começar num domingo"]
[8567,8567,"MARCIA OLIVEIRA BUENO","DIRETOR (A) DE ESCOLA","CELETISTA","2023-10-05",30,"2024-10-05","2023-09-30","2024-09-30","8567-45204",{"$f":"G192-SUMIF(ESCALA!$B$14:$B$15,DADOS!K192,ESCALA!$I$14:$I$15)","v":30},null,null,null,null,null,"2023-07-10","-"]
[8594,8594,"ROSANA CRISTINA SEVERINI","PROFESSOR (A) DE EDUCAÇÃO BÁSICA","CELETISTA","2023-01-01",30,"2024-01-01","2022-12-31","2023-12-31","8594-44927",{"$f":"G193-SUMIF(ESCALA!$B$14:$B$15,DADOS!K193,ESCALA!$I$14:$I$15)","v":30},null,null,null,null,null,"2023-07-11","-"]
[8597,8597,"LIDIA MARIA GARCIA FERREIRA","PROFESSOR (A) DE EDUCACAO BASICA","CELETISTA","2023-01-01",30,"2024-01-01","2022-12-31","2023-12-31","8597-44927",{"$f":"G194-SUMIF(ESCALA!$B$14:$B$15,DADOS!K194,ESCALA!$I$14:$I$15)","v":30},null,null,null,null,null,"2023-07-12","-"]
[{"$f":"IF(L195=0,\"\",B195)","v":8633},8633,"MARIA APARECIDA DE ALBUQUERQUE","PEDAGOGO (A)","CELETISTA","2022-10-22",30,{"$f":"IF(F195<=44985,F195+365,F195+366)","v":"2023-10-22"},"2022-09-30","2023-09-30",{"$f":"CONCATENATE(B195,\"-\",F195)","v":"8633-44856"},{"$f":"G195-SUMIF(ESCALA!$B$14:$B$15,DADOS!K195,ESCALA!$I$14:$I$15)","v":30},null,null,null,null,null,"2023-07-13","-"]
[8633,8633,"MARIA APARECIDA DE ALBUQUERQUE","PEDAGOGO (A)","CELETISTA","2023-10-22",30,"2024-10-22",{"$f":"IF(E196=\"ESTATUTARIO\",EOMONTH(F196,0),EOMONTH(F196,-1))","v":"2023-09-30"},{"$f":"EOMONTH(F196,11)","v":"2024-09-30"},"8633-45221",{"$f":"G196-SUMIF(ESCALA!$B$14:$B$15,DADOS!K196,ESCALA!$I$14:$I$15)","v":30},null,null,null,null,null,"2023-07-14","as férias não podem começar numa sexta-feira"]
[8641,8641,"VERA LUCIA RICARDO NASCIMENTO","COZINHEIRO (A)","CELETISTA","2022-10-22",30,"2023-10-22","2022-09-30","2023-09-30","8641-44856",{"$f":"G197-SUMIF(ESCALA!$B$14:$B$15,DADOS!K197,ESCALA!$I$14:$I$15)","v":30},null,null,null,null,null,"2023-07-15","as férias não podem começar num sábado"]
[8641,8641,"VERA LUCIA RICARDO NASCIMENTO","COZINHEIRO (A)","CELETISTA","2023-10-22",30,"2024-10-22","2023-09-30","2024-09-30","8641-45221",{"$f":"G198-SUMIF(ESCALA!$B$14:$B$15,DADOS!K198,ESCALA!$I$14:$I$15)","v":30},null,null,null,null,null,"2023-07-16","as férias não podem começar num domingo"]
[8671,8671,"LUCILENE DUARTE FERNANDES BENSADON","PSICOLOGO (A) ESCOLAR","CELETISTA","2022-10-26",30,"2023-10-26","2022-09-30","2023-09-30","8671-44860",{"$f":"G199-SUMIF(ESCALA!$B$14:$B$15,DADOS!K199,ESCALA!$I$14:$I$15)","v":30},null,null,null,null,null,"2023-07-17","-"]
[8671,8671,"LUCILENE DUARTE FERNANDES BENSADON","PSICOLOGO (A) ESCOLAR","CELETISTA","2023-10-26",30,"2024-10-26","2023-09-30","2024-09-30","8671-45225",{"$f":"G200-SUMIF(ESCALA!$B$14:$B$15,DADOS!K200,ESCALA!$I$14:$I$15)","v":30},null,null,null,null,null,"2023-07-18","-"]
[8725,8725,"NORMA LOMBARDI DE MELO POZZANI","CHEFE DE DIVISAO ADMINISTRATIVA","CELETISTA","2022-12-12",30,"2023-12-12","2022-11-30","2023-11-30","8725-44907",{"$f":"G201-SUMIF(ESCALA!$B$14:$B$15,DADOS!K201,ESCALA!$I$14:$I$15)","v":30},null,null,null,null,null,"2023-07-19","-"]
[8725,8725,"NORMA LOMBARDI DE MELO POZZANI","CHEFE DE DIVISAO ADMINISTRATIVA","CELETISTA","2023-12-12",30,"2024-12-12","2023-11-30","2024-11-30","8725-45272",{"$f":"G202-SUMIF(ESCALA!$B$14:$B$15,DADOS!K202,ESCALA!$I$14:$I$15)","v":30},null,null,null,null,null,"2023-07-20","-"]
[8743,8743,"EDNA SOUSA DAS NEVES MAGALHAES","PROFESSOR (A) COORDENADOR (A)  PEDAGOGICO (A)","CELETISTA","2022-11-08",30,"2023-11-08","2022-10-31","2023-10-31","8743-44873",{"$f":"G203-SUMIF(ESCALA!$B$14:$B$15,DADOS!K203,ESCALA!$I$14:$I$15)","v":30},null,null,null,null,null,"2023-07-21","as férias não podem começar numa sexta-feira"]
[8743,8743,"EDNA SOUSA DAS NEVES MAGALHAES","PROFESSOR (A) COORDENADOR (A)  PEDAGOGICO (A)","CELETISTA","2023-11-08",30,"2024-11-08","2023-10-31","2024-10-31","8743-45238",{"$f":"G204-SUMIF(ESCALA!$B$14:$B$15,DADOS!K204,ESCALA!$I$14:$I$15)","v":30},null,null,null,null,null,"2023-07-22","as férias não podem começar num sábado"]
[8769,8769,"MARIA BERNARDETE PINHEIRO DA SILVA","PROFESSOR (A) COORDENADOR (A)  PEDAGOGICO (A)","CELETISTA","2023-01-01",30,"2024-01-01","2022-12-31","2023-12-31","8769-44927",{"$f":"G205-SUMIF(ESCALA!$B$14:$B$15,DADOS!K205,ESCALA!$I$14:$I$15)","v":30},null,null,null,null,null,"2023-07-23","as férias não podem começar num domingo"]
[8795,8795,"ZENAIDE VIEIRA SANTANA MAGLIA","PROFESSOR (A) DE EDUCACAO BASICA","CELETISTA","2022-11-06",30,"2023-11-06","2022-10-31","2023-10-31","8795-44871",{"$f":"G206-SUMIF(ESCALA!$B$14:$B$15,DADOS!K206,ESCALA!$I$14:$I$15)","v":30},null,null,null,null,null,"2023-07-24","-"]
[8795,8795,"ZENAIDE VIEIRA SANTANA MAGLIA","PROFESSOR (A) DE EDUCACAO BASICA","CELETISTA","2023-11-06",30,"2024-11-06","2023-10-31","2024-10-31","8795-45236",{"$f":"G207-SUMIF(ESCALA!$B$14:$B$15,DADOS!K207,ESCALA!$I$14:$I$15)","v":30},null,null,null,null,null,"2023-07-25","-"]
[8885,8885,"CIDELMAR RIBEIRO DE SA","PROFESSOR (A) DE EDUCACAO BASICA","CELETISTA","2023-01-01",30,"2024-01-01","2022-12-31","2023-12-31","8885-44927",{"$f":"G208-SUMIF(ESCALA!$B$14:$B$15,DADOS!K208,ESCALA!$I$14:$I$15)","v":30},null,null,null,null,null,"2023-07-26","-"]
[8904,8904,"ELIANE DIAS GONCALVES","PROFESSOR (A) DE EDUCACAO BASICA","CELETISTA","2022-12-02",30,"2023-12-02","2022-11-30","2023-11-30","8904-44897",{"$f":"G209-SUMIF(ESCALA!$B$14:$B$15,DADOS!K209,ESCALA!$I$14:$I$15)","v":30},null,null,null,null,null,"2023-07-27","-"]
[8904,8904,"ELIANE DIAS GONCALVES","PROFESSOR (A) DE EDUCACAO BASICA","CELETISTA","2023-12-02",30,"2024-12-02","2023-11-30","2024-11-30","8904-45262",{"$f":"G210-SUMIF(ESCALA!$B$14:$B$15,DADOS!K210,ESCALA!$I$14:$I$15)","v":30},null,null,null,null,null,"2023-07-28","as férias não podem começar numa sexta-feira"]
[8923,8923,"RAQUEL FERREIRA","PROFESSOR (A) DE EDUCAÇÃO BÁSICA","CELETISTA","2023-01-01",30,"2024-01-01","2022-12-31","2023-12-31","8923-44927",{"$f":"G211-SUMIF(ESCALA!$B$14:$B$15,DADOS!K211,ESCALA!$I$14:$I$15)","v":30},null,null,null,null,null,"2023-07-29","as férias não podem começar num sábado"]
[8938,8938,"DEBORA MARIA GERALDELLI DA SILVA PIZA","VICE-DIRETOR (A) DE ESCOLA","CELETISTA","2023-01-01",30,"2024-01-01","2022-12-31","2023-12-31","8938-44927",{"$f":"G212-SUMIF(ESCALA!$B$14:$B$15,DADOS!K212,ESCALA!$I$14:$I$15)","v":30},null,null,null,null,null,"2023-07-30","as férias não podem começar num domingo"]
[8967,8967,"SILMAR APARECIDA BALSALOBRE","PROFESSOR (A) DE EDUCAÇÃO BASICA","CELETISTA","2022-12-14",30,"2023-12-14","2022-11-30","2023-11-30","8967-44909",{"$f":"G213-SUMIF(ESCALA!$B$14:$B$15,DADOS!K213,ESCALA!$I$14:$I$15)","v":30},null,null,null,null,null,"2023-07-31","-"]
[8967,8967,"SILMAR APARECIDA BALSALOBRE","PROFESSOR (A) DE EDUCAÇÃO BASICA","CELETISTA","2023-12-14",30,"2024-12-14","2023-11-30","2024-11-30","8967-45274",{"$f":"G214-SUMIF(ESCALA!$B$14:$B$15,DADOS!K214,ESCALA!$I$14:$I$15)","v":30},null,null,null,null,null,"2023-08-01","-"]
[8997,8997,"ELIANE DE CAMPOS","PSICOLOGO (A) ESCOLAR","CELETISTA","2023-01-04",30,"2024-01-04","2022-12-31","2023-12-31","8997-44930",{"$f":"G215-SUMIF(ESCALA!$B$14:$B$15,DADOS!K215,ESCALA!$I$14:$I$15)","v":30},null,null,null,null,null,"2023-08-02","-"]
[9133,9133,"ANA LUCIA COZER SCHALCH DO AMARAL","PROFESSOR (A) COORDENADOR (A)  PEDAGOGICO (A)","CELETISTA","2023-01-01",30,"2024-01-01","2022-12-31","2023-12-31","9133-44927",{"$f":"G216-SUMIF(ESCALA!$B$14:$B$15,DADOS!K216,ESCALA!$I$14:$I$15)","v":30},null,null,null,null,null,"2023-08-03","-"]
[9180,9180,"HEIMAR DE MORAES","ASSISTENTE DE GESTÃO PÚBLICA","CELETISTA","2023-03-23",30,"2024-03-23","2023-02-28","2024-02-29","9180-45008",{"$f":"G217-SUMIF(ESCALA!$B$14:$B$15,DADOS!K217,ESCALA!$I$14:$I$15)","v":30},null,null,null,null,null,"2023-08-04","as férias não podem começar numa sexta-feira"]
[9199,9199,"MARTINHA MARTINS DE MIRANDA","COZINHEIRO (A)","CELETISTA","2023-01-14",30,"2024-01-14","2022-12-31","2023-12-31","9199-44940",{"$f":"G218-SUMIF(ESCALA!$B$14:$B$15,DADOS!K218,ESCALA!$I$14:$I$15)","v":30},null,null,null,null,null,"2023-08-05","as férias não podem começar num sábado"]
[9253,9253,"EUNICE DE SOUZA ROCHA","PROFESSOR (A) DE EDUCAÇÃO BASICA","CELETISTA","2022-04-07",30,"2023-04-07","2022-03-31","2023-03-31","9253-44658",{"$f":"G219-SUMIF(ESCALA!$B$14:$B$15,DADOS!K219,ESCALA!$I$14:$I$15)","v":30},null,null,null,null,null,"2023-08-06","as férias não podem começar num domingo"]
[9253,9253,"EUNICE DE SOUZA ROCHA","PROFESSOR (A) DE EDUCAÇÃO BASICA","CELETISTA","2023-04-07",30,"2024-04-07","2023-03-31","2024-03-31","9253-45023",{"$f":"G220-SUMIF(ESCALA!$B$14:$B$15,DADOS!K220,ESCALA!$I$14:$I$15)","v":30},null,null,null,null,null,"2023-08-07","-"]
[9282,9282,"VALDENICE BATISTA DA CRUZ PEREIRA BELTRAN","COORDENADOR (A) DE PROGRAMAS EDUCACIONAIS","CELETISTA","2022-10-09",30,"2023-10-09","2022-09-30","2023-09-30","9282-44843",{"$f":"G221-SUMIF(ESCALA!$B$14:$B$15,DADOS!K221,ESCALA!$I$14:$I$15)","v":30},null,null,null,null,null,"2023-08-08","-"]
[9282,9282,"VALDENICE BATISTA DA CRUZ PEREIRA BELTRAN","COORDENADOR (A) DE PROGRAMAS EDUCACIONAIS","CELETISTA","2023-10-09",30,"2024-10-09","2023-09-30","2024-09-30","9282-45208",{"$f":"G222-SUMIF(ESCALA!$B$14:$B$15,DADOS!K222,ESCALA!$I$14:$I$15)","v":30},null,null,null,null,null,"2023-08-09","-"]
[9294,9294,"JANDIRA APARECIDA DA SILVA","PROFESSOR (A) COORDENADOR (A)  PEDAGOGICO (A)","CELETISTA","2022-09-16",30,"2023-09-16","2022-08-31","2023-08-31","9294-44820",{"$f":"G223-SUMIF(ESCALA!$B$14:$B$15,DADOS!K223,ESCALA!$I$14:$I$15)","v":30},null,null,null,null,null,"2023-08-10","-"]
[9294,9294,"JANDIRA APARECIDA DA SILVA","PROFESSOR (A) COORDENADOR (A)  PEDAGOGICO (A)","CELETISTA","2023-09-16",30,"2024-09-16","2023-08-31","2024-08-31","9294-45185",{"$f":"G224-SUMIF(ESCALA!$B$14:$B$15,DADOS!K224,ESCALA!$I$14:$I$15)","v":30},null,null,null,null,null,"2023-08-11","as férias não podem começar numa sexta-feira"]
[9307,9307,"MARIA STELA VIEIRA CARVALHO LUIZ","PROFESSOR (A) DE EDUCAÇÃO BÁSICA","CELETISTA","2022-11-25",30,"2023-11-25","2022-10-31","2023-10-31","9307-44890",{"$f":"G225-SUMIF(ESCALA!$B$14:$B$15,DADOS!K225,ESCALA!$I$14:$I$15)","v":30},null,null,null,null,null,"2023-08-12","as férias não podem começar num sábado"]
[9307,9307,"MARIA STELA VIEIRA CARVALHO LUIZ","PROFESSOR (A) DE EDUCAÇÃO BÁSICA","CELETISTA","2023-11-25",30,"2024-11-25","2023-10-31","2024-10-31","9307-45255",{"$f":"G226-SUMIF(ESCALA!$B$14:$B$15,DADOS!K226,ESCALA!$I$14:$I$15)","v":30},null,null,null,null,null,"2023-08-13","as férias não podem começar num domingo"]
[9388,9388,"DARCY CARDOSO JUNIOR","CHEFE DE SECAO ADMINISTRATIVA","CELETISTA","2022-06-29",30,"2023-06-29","2022-05-31","2023-05-31","9388-44741",{"$f":"G227-SUMIF(ESCALA!$B$14:$B$15,DADOS!K227,ESCALA!$I$14:$I$15)","v":30},null,null,null,null,null,"2023-08-14","-"]
[9388,9388,"DARCY CARDOSO JUNIOR","CHEFE DE SECAO ADMINISTRATIVA","CELETISTA","2023-06-29",30,"2024-06-29","2023-05-31","2024-05-31","9388-45106",{"$f":"G228-SUMIF(ESCALA!$B$14:$B$15,DADOS!K228,ESCALA!$I$14:$I$15)","v":30},null,null,null,null,null,"2023-08-15","-"]
[9421,9421,"ANA RITA CASTANHEIRA DE OLIVEIRA","PROFESSOR (A) COORDENADOR (A)  PEDAGOGICO (A)","CELETISTA","2023-01-01",30,"2024-01-01","2022-12-31","2023-12-31","9421-44927",{"$f":"G229-SUMIF(ESCALA!$B$14:$B$15,DADOS!K229,ESCALA!$I$14:$I$15)","v":30},null,null,null,null,null,"2023-08-16","-"]
[9430,9430,"FABIOLA MOREIRA DA COSTA","CHEFE DE DIVISAO TECNICA","CELETISTA","2023-01-01",30,"2024-01-01","2022-12-31","2023-12-31","9430-44927",{"$f":"G230-SUMIF(ESCALA!$B$14:$B$15,DADOS!K230,ESCALA!$I$14:$I$15)","v":30},null,null,null,null,null,"2023-08-17","-"]
[9482,9482,"SHEILA TAVARES DOS SANTOS POSSENTI","ENGENHEIRO (A) MECANICO","CELETISTA","2022-05-11",15,"2023-05-11","2022-04-30","2023-04-30","9482-44692",{"$f":"G231-SUMIF(ESCALA!$B$14:$B$15,DADOS!K231,ESCALA!$I$14:$I$15)","v":15},null,null,null,null,null,"2023-08-18","as férias não podem começar numa sexta-feira"]
[9482,9482,"SHEILA TAVARES DOS SANTOS POSSENTI","ENGENHEIRO (A) MECANICO","CELETISTA","2023-05-11",30,"2024-05-11","2023-04-30","2024-04-30","9482-45057",{"$f":"G232-SUMIF(ESCALA!$B$14:$B$15,DADOS!K232,ESCALA!$I$14:$I$15)","v":30},null,null,null,null,null,"2023-08-19","as férias não podem começar num sábado"]
[9505,9505,"MARIA SALETE MAXIMIANO DA SILVA","VICE-DIRETOR (A) DE ESCOLA","CELETISTA","2022-12-04",30,"2023-12-04","2022-11-30","2023-11-30","9505-44899",{"$f":"G233-SUMIF(ESCALA!$B$14:$B$15,DADOS!K233,ESCALA!$I$14:$I$15)","v":30},null,null,null,null,null,"2023-08-20","as férias não podem começar num domingo"]
[9505,9505,"MARIA SALETE MAXIMIANO DA SILVA","VICE-DIRETOR (A) DE ESCOLA","CELETISTA","2023-12-04",30,"2024-12-04","2023-11-30","2024-11-30","9505-45264",{"$f":"G234-SUMIF(ESCALA!$B$14:$B$15,DADOS!K234,ESCALA!$I$14:$I$15)","v":30},null,null,null,null,null,"2023-08-21","-"]
[9521,9521,"ROBERSON ANTUNES DE LIMA","ASSISTENTE DE GESTÃO PÚBLICA","CELETISTA","2022-05-19",30,"2023-05-19","2022-04-30","2023-04-30","9521-44700",{"$f":"G235-SUMIF(ESCALA!$B$14:$B$15,DADOS!K235,ESCALA!$I$14:$I$15)","v":30},null,null,null,null,null,"2023-08-22","-"]
[9521,9521,"ROBERSON ANTUNES DE LIMA","ASSISTENTE DE GESTÃO PÚBLICA","CELETISTA","2023-05-19",30,"2024-05-19","2023-04-30","2024-04-30","9521-45065",{"$f":"G236-SUMIF(ESCALA!$B$14:$B$15,DADOS!K236,ESCALA!$I$14:$I$15)","v":30},null,null,null,null,null,"2023-08-23","-"]
[9586,9586,"MARCOS ROBERTO VIEIRA","AUXILIAR OPERACIONAL","CELETISTA","2022-05-24",30,"2023-05-24","2022-04-30","2023-04-30","9586-44705",{"$f":"G237-SUMIF(ESCALA!$B$14:$B$15,DADOS!K237,ESCALA!$I$14:$I$15)","v":30},null,null,null,null,null,"2023-08-24","-"]
[9586,9586,"MARCOS ROBERTO VIEIRA","AUXILIAR OPERACIONAL","CELETISTA","2023-05-24",30,"2024-05-24","2023-04-30","2024-04-30","9586-45070",{"$f":"G238-SUMIF(ESCALA!$B$14:$B$15,DADOS!K238,ESCALA!$I$14:$I$15)","v":30},null,null,null,null,null,"2023-08-25","as férias não podem começar numa sexta-feira"]
[9592,9592,"PATRICIA FERNANDES DE MORAIS ASSIS","CHEFE DE SECAO TECNICA","CELETISTA","2023-01-01",30,"2024-01-01","2022-12-31","2023-12-31","9592-44927",{"$f":"G239-SUMIF(ESCALA!$B$14:$B$15,DADOS!K239,ESCALA!$I$14:$I$15)","v":30},null,null,null,null,null,"2023-08-26","as férias não podem começar num sábado"]
[9602,9602,"SANDRA REGINA LEOPOLDINO","COZINHEIRO (A)","CELETISTA","2022-05-24",30,"2023-05-24","2022-04-30","2023-04-30","9602-44705",{"$f":"G240-SUMIF(ESCALA!$B$14:$B$15,DADOS!K240,ESCALA!$I$14:$I$15)","v":30},null,null,null,null,null,"2023-08-27","as férias não podem começar num domingo"]
[9602,9602,"SANDRA REGINA LEOPOLDINO","COZINHEIRO (A)","CELETISTA","2023-05-24",30,"2024-05-24","2023-04-30","2024-04-30","9602-45070",{"$f":"G241-SUMIF(ESCALA!$B$14:$B$15,DADOS!K241,ESCALA!$I$14:$I$15)","v":30},null,null,null,null,null,"2023-08-28","-"]
[9629,9629,"DISLAYNE FERREIRA","PROFESSOR (A) DE EDUCAÇÃO BASICA","CELETISTA","2023-01-01",30,"2024-01-01","2022-12-31","2023-12-31","9629-44927",{"$f":"G242-SUMIF(ESCALA!$B$14:$B$15,DADOS!K242,ESCALA!$I$14:$I$15)","v":30},null,null,null,null,null,"2023-08-29","-"]
[9658,9658,"MARIA DE FATIMA SOARES SOLA SANCHES","PROFESSOR (A) DE EDUCAÇÃO BASICA","CELETISTA","2023-01-01",30,"2024-01-01","2022-12-31","2023-12-31","9658-44927",{"$f":"G243-SUMIF(ESCALA!$B$14:$B$15,DADOS!K243,ESCALA!$I$14:$I$15)","v":30},null,null,null,null,null,"2023-08-30","-"]
[9687,9687,"ANA ANGELICA DE AGUIAR VALENTINI","COZINHEIRO (A)","CELETISTA","2022-02-21",30,"2023-02-21","2022-01-31","2023-01-31","9687-44613",{"$f":"G244-SUMIF(ESCALA!$B$14:$B$15,DADOS!K244,ESCALA!$I$14:$I$15)","v":30},null,null,null,null,null,"2023-08-31","-"]
[9687,9687,"ANA ANGELICA DE AGUIAR VALENTINI","COZINHEIRO (A)","CELETISTA","2023-02-21",30,"2024-02-21","2023-01-31","2024-01-31","9687-44978",{"$f":"G245-SUMIF(ESCALA!$B$14:$B$15,DADOS!K245,ESCALA!$I$14:$I$15)","v":30},null,null,null,null,null,"2023-09-01","as férias não podem começar numa sexta-feira"]
[9701,9701,"CONCEICAO APARECIDA GONCALVES","SUPERVISOR (A) ESCOLAR","CELETISTA","2023-05-24",30,"2024-05-24","2023-04-30","2024-04-30","9701-45070",{"$f":"G246-SUMIF(ESCALA!$B$14:$B$15,DADOS!K246,ESCALA!$I$14:$I$15)","v":30},null,null,null,null,null,"2023-09-02","as férias não podem começar num sábado"]
[9804,9804,"ADEILDA GILO DOS SANTOS FUJIKURA","VICE-DIRETOR (A) DE ESCOLA","CELETISTA","2022-06-13",10,"2023-06-13","2022-05-31","2023-05-31","9804-44725",{"$f":"G247-SUMIF(ESCALA!$B$14:$B$15,DADOS!K247,ESCALA!$I$14:$I$15)","v":10},null,null,null,null,null,"2023-09-03","as férias não podem começar num domingo"]
[9804,9804,"ADEILDA GILO DOS SANTOS FUJIKURA","VICE-DIRETOR (A) DE ESCOLA","CELETISTA","2023-06-13",30,"2024-06-13","2023-05-31","2024-05-31","9804-45090",{"$f":"G248-SUMIF(ESCALA!$B$14:$B$15,DADOS!K248,ESCALA!$I$14:$I$15)","v":30},null,null,null,null,null,"2023-09-04","-"]
[9820,9820,"CRISTIANE CARDOSO","PROFESSOR (A) DE EDUCAÇÃO BASICA","CELETISTA","2022-07-20",24,"2023-07-20","2022-06-30","2023-06-30","9820-44762",{"$f":"G249-SUMIF(ESCALA!$B$14:$B$15,DADOS!K249,ESCALA!$I$14:$I$15)","v":24},null,null,null,null,null,"2023-09-05","as férias não podem começar numa antevéspera de feriado"]
[9820,9820,"CRISTIANE CARDOSO","PROFESSOR (A) DE EDUCAÇÃO BASICA","CELETISTA","2023-07-20",30,"2024-07-20","2023-06-30","2024-06-30","9820-45127",{"$f":"G250-SUMIF(ESCALA!$B$14:$B$15,DADOS!K250,ESCALA!$I$14:$I$15)","v":30},null,null,null,null,null,"2023-09-06","as férias não podem começar numa véspera de feriado"]
[9824,9824,"CLAUDIO SEVERINI","PROFESSOR (A) DE EDUCACAO BASICA","CELETISTA","2023-01-01",30,"2024-01-01","2022-12-31","2023-12-31","9824-44927",{"$f":"G251-SUMIF(ESCALA!$B$14:$B$15,DADOS!K251,ESCALA!$I$14:$I$15)","v":30},null,null,null,null,null,"2023-09-07","as férias não podem começar num feriado"]
[9853,9853,"FATIMA APARECIDA LUCINDO FERNANDES","VICE-DIRETOR (A) DE ESCOLA","CELETISTA","2023-01-01",30,"2024-01-01","2022-12-31","2023-12-31","9853-44927",{"$f":"G252-SUMIF(ESCALA!$B$14:$B$15,DADOS!K252,ESCALA!$I$14:$I$15)","v":30},null,null,null,null,null,"2023-09-08","as férias não podem começar numa sexta-feira"]
[9861,9861,"FLORIZA DE ALMEIDA SILVA","PROFESSOR (A) DE EDUCAÇÃO BASICA","CELETISTA","2022-06-01",30,"2023-06-01","2022-05-31","2023-05-31","9861-44713",{"$f":"G253-SUMIF(ESCALA!$B$14:$B$15,DADOS!K253,ESCALA!$I$14:$I$15)","v":30},null,null,null,null,null,"2023-09-09","as férias não podem começar num sábado"]
[9861,9861,"FLORIZA DE ALMEIDA SILVA","PROFESSOR (A) DE EDUCAÇÃO BASICA","CELETISTA","2023-06-01",30,"2024-06-01","2023-05-31","2024-05-31","9861-45078",{"$f":"G254-SUMIF(ESCALA!$B$14:$B$15,DADOS!K254,ESCALA!$I$14:$I$15)","v":30},null,null,null,null,null,"2023-09-10","as férias não podem começar num domingo"]
[9914,9914,"KATIA ABSY GALVAO","PROFESSOR (A) DE EDUCAÇÃO BASICA","CELETISTA","2023-01-01",30,"2024-01-01","2022-12-31","2023-12-31","9914-44927",{"$f":"G255-SUMIF(ESCALA!$B$14:$B$15,DADOS!K255,ESCALA!$I$14:$I$15)","v":30},null,null,null,null,null,"2023-09-11","-"]
[9938,9938,"MARIA BERNARDETE XIMENES ","PROFESSOR (A) DE EDUCAÇÃO BASICA","CELETISTA","2022-08-22",30,"2023-08-22","2022-07-31","2023-07-31","9938-44795",{"$f":"G256-SUMIF(ESCALA!$B$14:$B$15,DADOS!K256,ESCALA!$I$14:$I$15)","v":30},null,null,null,null,null,"2023-09-12","-"]
[9938,9938,"MARIA BERNARDETE XIMENES ","PROFESSOR (A) DE EDUCAÇÃO BASICA","CELETISTA","2023-08-22",30,"2024-08-22","2023-07-31","2024-07-31","9938-45160",{"$f":"G257-SUMIF(ESCALA!$B$14:$B$15,DADOS!K257,ESCALA!$I$14:$I$15)","v":30},null,null,null,null,null,"2023-09-13","-"]
[9972,9972,"MARIA DE FATIMA CARDOSO","PROFESSOR (A) COORDENADOR (A)  PEDAGOGICO (A)","CELETISTA","2023-01-01",30,"2024-01-01","2022-12-31","2023-12-31","9972-44927",{"$f":"G258-SUMIF(ESCALA!$B$14:$B$15,DADOS!K258,ESCALA!$I$14:$I$15)","v":30},null,null,null,null,null,"2023-09-14","-"]
[{"$f":"IF(L259=0,\"\",B259)","v":9981},9981,"NEIVA BEMBENIDA DOS SANTOS","PROFESSOR (A) DE EDUCAÇÃO BASICA","CELETISTA","2022-12-09",30,{"$f":"IF(F259<=44985,F259+365,F259+366)","v":"2023-12-09"},"2022-11-30","2023-11-30",{"$f":"CONCATENATE(B259,\"-\",F259)","v":"9981-44904"},{"$f":"G259-SUMIF(ESCALA!$B$14:$B$15,DADOS!K259,ESCALA!$I$14:$I$15)","v":30},null,null,null,null,null,"2023-09-15","as férias não podem começar numa sexta-feira"]
[9981,9981,"NEIVA BEMBENIDA DOS SANTOS","PROFESSOR (A) DE EDUCAÇÃO BASICA","CELETISTA","2023-12-09",30,"2024-12-09",{"$f":"IF(E260=\"ESTATUTARIO\",EOMONTH(F260,0),EOMONTH(F260,-1))","v":"2023-11-30"},{"$f":"EOMONTH(F260,11)","v":"2024-11-30"},"9981-45269",{"$f":"G260-SUMIF(ESCALA!$B$14:$B$15,DADOS!K260,ESCALA!$I$14:$I$15)","v":30},null,null,null,null,null,"2023-09-16","as férias não podem começar num sábado"]
[10017,10017,"RITA BOMFIM DOS SANTOS","MONITORA DE EMEI III","CELETISTA","2023-03-18",30,"2024-03-18","2023-02-28","2024-02-29","10017-45003",{"$f":"G261-SUMIF(ESCALA!$B$14:$B$15,DADOS!K261,ESCALA!$I$14:$I$15)","v":30},null,null,null,null,null,"2023-09-17","as férias não podem começar num domingo"]
[10038,10038,"SALETE FORTUNA ALOI","VICE-DIRETOR (A) DE ESCOLA","CELETISTA","2022-06-06",30,"2023-06-06","2022-05-31","2023-05-31","10038-44718",{"$f":"G262-SUMIF(ESCALA!$B$14:$B$15,DADOS!K262,ESCALA!$I$14:$I$15)","v":30},null,null,null,null,null,"2023-09-18","-"]
[10038,10038,"SALETE FORTUNA ALOI","VICE-DIRETOR (A) DE ESCOLA","CELETISTA","2023-06-06",30,"2024-06-06","2023-05-31","2024-05-31","10038-45083",{"$f":"G263-SUMIF(ESCALA!$B$14:$B$15,DADOS!K263,ESCALA!$I$14:$I$15)","v":30},null,null,null,null,null,"2023-09-19","-"]
[10039,10039,"SUZANA LOPES","PROFESSOR (A) DE EDUCACAO BASICA","CELETISTA","2023-01-01",30,"2024-01-01","2022-12-31","2023-12-31","10039-44927",{"$f":"G264-SUMIF(ESCALA!$B$14:$B$15,DADOS!K264,ESCALA!$I$14:$I$15)","v":30},null,null,null,null,null,"2023-09-20","-"]
[10094,10094,"MARIA JOSE SANTOS","AUXILIAR OPERACIONAL","CELETISTA","2022-06-21",30,"2023-06-21","2022-05-31","2023-05-31","10094-44733",{"$f":"G265-SUMIF(ESCALA!$B$14:$B$15,DADOS!K265,ESCALA!$I$14:$I$15)","v":30},null,null,null,null,null,"2023-09-21","-"]
[10094,10094,"MARIA JOSE SANTOS","AUXILIAR OPERACIONAL","CELETISTA","2023-06-21",30,"2024-06-21","2023-05-31","2024-05-31","10094-45098",{"$f":"G266-SUMIF(ESCALA!$B$14:$B$15,DADOS!K266,ESCALA!$I$14:$I$15)","v":30},null,null,null,null,null,"2023-09-22","as férias não podem começar numa sexta-feira"]
[10124,10124,"SILVIA HERNANDES","PROFESSOR (A) DE EDUCAÇÃO BASICA","CELETISTA","2022-09-27",24,"2023-09-27","2022-08-31","2023-08-31","10124-44831",{"$f":"G267-SUMIF(ESCALA!$B$14:$B$15,DADOS!K267,ESCALA!$I$14:$I$15)","v":24},null,null,null,null,null,"2023-09-23","as férias não podem começar num sábado"]
[10124,10124,"SILVIA HERNANDES","PROFESSOR (A) DE EDUCAÇÃO BASICA","CELETISTA","2023-09-27",30,"2024-09-27","2023-08-31","2024-08-31","10124-45196",{"$f":"G268-SUMIF(ESCALA!$B$14:$B$15,DADOS!K268,ESCALA!$I$14:$I$15)","v":30},null,null,null,null,null,"2023-09-24","as férias não podem começar num domingo"]
[10272,10272,"DIVINA DE LOURDES PEREZ","PROFESSOR (A) DE EDUCACAO BASICA","CELETISTA","2023-01-01",30,"2024-01-01","2022-12-31","2023-12-31","10272-44927",{"$f":"G269-SUMIF(ESCALA!$B$14:$B$15,DADOS!K269,ESCALA!$I$14:$I$15)","v":30},null,null,null,null,null,"2023-09-25","-"]
[10324,10324,"ANTONIO TEOFILO DA SILVA","LIDER DE GRUPO III","ESTATUTARIO","2023-03-14",30,"2024-03-14","2023-03-31","2024-02-29","10324-44999",{"$f":"G270-SUMIF(ESCALA!$B$14:$B$15,DADOS!K270,ESCALA!$I$14:$I$15)","v":30},null,null,null,null,null,"2023-09-26","-"]
[10334,10334,"CLAUDIA ORTOLAN","DIRETOR (A) DE ESCOLA","CELETISTA","2022-06-27",30,"2023-06-27","2022-05-31","2023-05-31","10334-44739",{"$f":"G271-SUMIF(ESCALA!$B$14:$B$15,DADOS!K271,ESCALA!$I$14:$I$15)","v":30},null,null,null,null,null,"2023-09-27","-"]
[10334,10334,"CLAUDIA ORTOLAN","DIRETOR (A) DE ESCOLA","CELETISTA","2023-06-27",30,"2024-06-27","2023-05-31","2024-05-31","10334-45104",{"$f":"G272-SUMIF(ESCALA!$B$14:$B$15,DADOS!K272,ESCALA!$I$14:$I$15)","v":30},null,null,null,null,null,"2023-09-28","-"]
[10381,10381,"MARIA INEZ FRANCO","COZINHEIRO (A)","CELETISTA","2022-05-15",30,"2023-05-15","2022-04-30","2023-04-30","10381-44696",{"$f":"G273-SUMIF(ESCALA!$B$14:$B$15,DADOS!K273,ESCALA!$I$14:$I$15)","v":30},null,null,null,null,null,"2023-09-29","as férias não podem começar numa sexta-feira"]
[10381,10381,"MARIA INEZ FRANCO","COZINHEIRO (A)","CELETISTA","2023-05-15",30,"2024-05-15","2023-04-30","2024-04-30","10381-45061",{"$f":"G274-SUMIF(ESCALA!$B$14:$B$15,DADOS!K274,ESCALA!$I$14:$I$15)","v":30},null,null,null,null,null,"2023-09-30","as férias não podem começar num sábado"]
[10406,10406,"RITA DE CASSIA XAVIER","DIRETOR (A) DE ESCOLA","CELETISTA","2022-06-26",30,"2023-06-26","2022-05-31","2023-05-31","10406-44738",{"$f":"G275-SUMIF(ESCALA!$B$14:$B$15,DADOS!K275,ESCALA!$I$14:$I$15)","v":30},null,null,null,null,null,"2023-10-01","as férias não podem começar num domingo"]
[10406,10406,"RITA DE CASSIA XAVIER","DIRETOR (A) DE ESCOLA","CELETISTA","2023-06-26",30,"2024-06-26","2023-05-31","2024-05-31","10406-45103",{"$f":"G276-SUMIF(ESCALA!$B$14:$B$15,DADOS!K276,ESCALA!$I$14:$I$15)","v":30},null,null,null,null,null,"2023-10-02","-"]
[10422,10422,"ZILDA APARECIDA MATHEUS","COZINHEIRO (A)","CELETISTA","2022-06-27",30,"2023-06-27","2022-05-31","2023-05-31","10422-44739",{"$f":"G277-SUMIF(ESCALA!$B$14:$B$15,DADOS!K277,ESCALA!$I$14:$I$15)","v":30},null,null,null,null,null,"2023-10-03","-"]
[10422,10422,"ZILDA APARECIDA MATHEUS","COZINHEIRO (A)","CELETISTA","2023-06-27",30,"2024-06-27","2023-05-31","2024-05-31","10422-45104",{"$f":"G278-SUMIF(ESCALA!$B$14:$B$15,DADOS!K278,ESCALA!$I$14:$I$15)","v":30},null,null,null,null,null,"2023-10-04","-"]
[10811,10811,"SILVIA APARECIDA GOMES","PROFESSOR (A) DE EDUCACAO BASICA","CELETISTA","2023-01-01",30,"2024-01-01","2022-12-31","2023-12-31","10811-44927",{"$f":"G279-SUMIF(ESCALA!$B$14:$B$15,DADOS!K279,ESCALA!$I$14:$I$15)","v":30},null,null,null,null,null,"2023-10-05","-"]
[11085,11085,"ALCIDES GIRALDELI","PEDREIRO (A)","CELETISTA","2022-08-21",30,"2023-08-21","2022-07-31","2023-07-31","11085-44794",{"$f":"G280-SUMIF(ESCALA!$B$14:$B$15,DADOS!K280,ESCALA!$I$14:$I$15)","v":30},null,null,null,null,null,"2023-10-06","as férias não podem começar numa sexta-feira"]
[11085,11085,"ALCIDES GIRALDELI","PEDREIRO (A)","CELETISTA","2023-08-21",30,"2024-08-21","2023-07-31","2024-07-31","11085-45159",{"$f":"G281-SUMIF(ESCALA!$B$14:$B$15,DADOS!K281,ESCALA!$I$14:$I$15)","v":30},null,null,null,null,null,"2023-10-07","as férias não podem começar num sábado"]
[11235,11235,"MARIA CLEIDE RODRIGUES","COZINHEIRO (A)","CELETISTA","2023-01-01",30,"2024-01-01","2022-12-31","2023-12-31","11235-44927",{"$f":"G282-SUMIF(ESCALA!$B$14:$B$15,DADOS!K282,ESCALA!$I$14:$I$15)","v":30},null,null,null,null,null,"2023-10-08","as férias não podem começar num domingo"]
[11239,11239,"SILVANA ALVES DE SOUZA","COZINHEIRO (A)","CELETISTA","2022-02-27",30,"2023-02-27","2022-01-31","2023-01-31","11239-44619",{"$f":"G283-SUMIF(ESCALA!$B$14:$B$15,DADOS!K283,ESCALA!$I$14:$I$15)","v":30},null,null,null,null,null,"2023-10-09","-"]
[11239,11239,"SILVANA ALVES DE SOUZA","COZINHEIRO (A)","CELETISTA","2023-02-27",30,"2024-02-27","2023-01-31","2024-01-31","11239-44984",{"$f":"G284-SUMIF(ESCALA!$B$14:$B$15,DADOS!K284,ESCALA!$I$14:$I$15)","v":30},null,null,null,null,null,"2023-10-10","as férias não podem começar numa antevéspera de feriado"]
[11253,11253,"IVONE ROSA DA SILVA","COZINHEIRO (A)","CELETISTA","2023-01-01",30,"2024-01-01","2022-12-31","2023-12-31","11253-44927",{"$f":"G285-SUMIF(ESCALA!$B$14:$B$15,DADOS!K285,ESCALA!$I$14:$I$15)","v":30},null,null,null,null,null,"2023-10-11","as férias não podem começar numa véspera de feriado"]
[11276,11276,"JOSEFA ROMAN LORITE","COZINHEIRO (A)","CELETISTA","2022-03-06",30,"2023-03-06","2022-02-28","2023-02-28","11276-44626",{"$f":"G286-SUMIF(ESCALA!$B$14:$B$15,DADOS!K286,ESCALA!$I$14:$I$15)","v":30},null,null,null,null,null,"2023-10-12","as férias não podem começar num feriado"]
[11276,11276,"JOSEFA ROMAN LORITE","COZINHEIRO (A)","CELETISTA","2023-03-06",30,"2024-03-06","2023-02-28","2024-02-29","11276-44991",{"$f":"G287-SUMIF(ESCALA!$B$14:$B$15,DADOS!K287,ESCALA!$I$14:$I$15)","v":30},null,null,null,null,null,"2023-10-13","as férias não podem começar numa sexta-feira"]
[11295,11295,"LEONICE APARECIDA DOS SANTOS MENDES","COZINHEIRO (A)","CELETISTA","2023-03-12",30,"2024-03-12","2023-02-28","2024-02-29","11295-44997",{"$f":"G288-SUMIF(ESCALA!$B$14:$B$15,DADOS!K288,ESCALA!$I$14:$I$15)","v":30},null,null,null,null,null,"2023-10-14","as férias não podem começar num sábado"]
[11297,11297,"VANIA APARECIDA MATEUS DAMASCENO","COZINHEIRO (A)","CELETISTA","2023-06-28",30,"2024-06-28","2023-05-31","2024-05-31","11297-45105",{"$f":"G289-SUMIF(ESCALA!$B$14:$B$15,DADOS!K289,ESCALA!$I$14:$I$15)","v":30},null,null,null,null,null,"2023-10-15","as férias não podem começar num domingo"]
[11311,11311,"ESTER CORREA LOURENCO","COZINHEIRO (A)","CELETISTA","2023-01-01",30,"2024-01-01","2022-12-31","2023-12-31","11311-44927",{"$f":"G290-SUMIF(ESCALA!$B$14:$B$15,DADOS!K290,ESCALA!$I$14:$I$15)","v":30},null,null,null,null,null,"2023-10-16","-"]
[11331,11331,"VALQUIRIA LOURENCO VIANA FILHA CAMPOS","COZINHEIRO (A)","CELETISTA","2022-03-21",30,"2023-03-21","2022-02-28","2023-02-28","11331-44641",{"$f":"G291-SUMIF(ESCALA!$B$14:$B$15,DADOS!K291,ESCALA!$I$14:$I$15)","v":30},null,null,null,null,null,"2023-10-17","-"]
[11331,11331,"VALQUIRIA LOURENCO VIANA FILHA CAMPOS","COZINHEIRO (A)","CELETISTA","2023-03-21",30,"2024-03-21","2023-02-28","2024-02-29","11331-45006",{"$f":"G292-SUMIF(ESCALA!$B$14:$B$15,DADOS!K292,ESCALA!$I$14:$I$15)","v":30},null,null,null,null,null,"2023-10-18","-"]
[11459,11459,"ANAHY APARECIDA DE SOUSA","PROFESSOR (A) DE EDUCAÇÃO BASICA","CELETISTA","2023-04-19",24,"2024-04-19","2023-03-31","2024-03-31","11459-45035",{"$f":"G293-SUMIF(ESCALA!$B$14:$B$15,DADOS!K293,ESCALA!$I$14:$I$15)","v":24},null,null,null,null,null,"2023-10-19","-"]
[11592,11592,"NILTON PAES DOS SANTOS","GUARDA III","CELETISTA","2022-04-23",30,"2023-04-23","2022-03-31","2023-03-31","11592-44674",{"$f":"G294-SUMIF(ESCALA!$B$14:$B$15,DADOS!K294,ESCALA!$I$14:$I$15)","v":30},null,null,null,null,null,"2023-10-20","as férias não podem começar numa sexta-feira"]
[11592,11592,"NILTON PAES DOS SANTOS","GUARDA III","CELETISTA","2023-04-23",30,"2024-04-23","2023-03-31","2024-03-31","11592-45039",{"$f":"G295-SUMIF(ESCALA!$B$14:$B$15,DADOS!K295,ESCALA!$I$14:$I$15)","v":30},null,null,null,null,null,"2023-10-21","as férias não podem começar num sábado"]
[11670,11670,"HUMBERTO DE OLIVEIRA","AUXILIAR OPERACIONAL","ESTATUTARIO","2023-03-06",30,"2024-03-06","2023-03-31","2024-02-29","11670-44991",{"$f":"G296-SUMIF(ESCALA!$B$14:$B$15,DADOS!K296,ESCALA!$I$14:$I$15)","v":30},null,null,null,null,null,"2023-10-22","as férias não podem começar num domingo"]
[11685,11685,"CLEONICE OLIVEIRA COSTA","COZINHEIRO (A)","CELETISTA","2023-01-27",30,"2024-01-27","2022-12-31","2023-12-31","11685-44953",{"$f":"G297-SUMIF(ESCALA!$B$14:$B$15,DADOS!K297,ESCALA!$I$14:$I$15)","v":30},null,null,null,null,null,"2023-10-23","-"]
[11787,11787,"MARLENE GERALDO DE CAMARGO","COZINHEIRO (A)","CELETISTA","2022-04-06",30,"2023-04-06","2022-03-31","2023-03-31","11787-44657",{"$f":"G298-SUMIF(ESCALA!$B$14:$B$15,DADOS!K298,ESCALA!$I$14:$I$15)","v":30},null,null,null,null,null,"2023-10-24","-"]
[11787,11787,"MARLENE GERALDO DE CAMARGO","COZINHEIRO (A)","CELETISTA","2023-04-06",30,"2024-04-06","2023-03-31","2024-03-31","11787-45022",{"$f":"G299-SUMIF(ESCALA!$B$14:$B$15,DADOS!K299,ESCALA!$I$14:$I$15)","v":30},null,null,null,null,null,"2023-10-25","-"]
[11791,11791,"OSMAR DE OLIVEIRA VITAL","CHEFE DE SECAO ADMINISTRATIVA","CELETISTA","2022-06-17",30,"2023-06-17","2022-05-31","2023-05-31","11791-44729",{"$f":"G300-SUMIF(ESCALA!$B$14:$B$15,DADOS!K300,ESCALA!$I$14:$I$15)","v":30},null,null,null,null,null,"2023-10-26","-"]
[11791,11791,"OSMAR DE OLIVEIRA VITAL","CHEFE DE SECAO ADMINISTRATIVA","CELETISTA","2023-06-17",30,"2024-06-17","2023-05-31","2024-05-31","11791-45094",{"$f":"G301-SUMIF(ESCALA!$B$14:$B$15,DADOS!K301,ESCALA!$I$14:$I$15)","v":30},null,null,null,null,null,"2023-10-27","as férias não podem começar numa sexta-feira"]
[11823,11823,"VANDERLEA LOPES DA SILVA FRANCO","AUXILIAR OPERACIONAL","ESTATUTARIO","2022-06-25",30,"2023-06-25","2022-06-30","2023-05-31","11823-44737",{"$f":"G302-SUMIF(ESCALA!$B$14:$B$15,DADOS!K302,ESCALA!$I$14:$I$15)","v":30},null,null,null,null,null,"2023-10-28","as férias não podem começar num sábado"]
[11823,11823,"VANDERLEA LOPES DA SILVA FRANCO","AUXILIAR OPERACIONAL","ESTATUTARIO","2023-06-25",30,"2024-06-25","2023-06-30","2024-05-31","11823-45102",{"$f":"G303-SUMIF(ESCALA!$B$14:$B$15,DADOS!K303,ESCALA!$I$14:$I$15)","v":30},null,null,null,null,null,"2023-10-29","as férias não podem começar num domingo"]
[11873,11873,"VERA LUCIA ABAD NUNES","COZINHEIRO (A)","CELETISTA","2022-07-10",30,"2023-07-10","2022-06-30","2023-06-30","11873-44752",{"$f":"G304-SUMIF(ESCALA!$B$14:$B$15,DADOS!K304,ESCALA!$I$14:$I$15)","v":30},null,null,null,null,null,"2023-10-30","-"]
[11873,11873,"VERA LUCIA ABAD NUNES","COZINHEIRO (A)","CELETISTA","2023-07-10",30,"2024-07-10","2023-06-30","2024-06-30","11873-45117",{"$f":"G305-SUMIF(ESCALA!$B$14:$B$15,DADOS!K305,ESCALA!$I$14:$I$15)","v":30},null,null,null,null,null,"2023-10-31","as férias não podem começar numa antevéspera de feriado"]
[12134,12134,"CARMEN FALCONI DE MELO","VICE-DIRETOR (A) DE ESCOLA","CELETISTA","2023-01-01",30,"2024-01-01","2022-12-31","2023-12-31","12134-44927",{"$f":"G306-SUMIF(ESCALA!$B$14:$B$15,DADOS!K306,ESCALA!$I$14:$I$15)","v":30},null,null,null,null,null,"2023-11-01","as férias não podem começar numa véspera de feriado"]
[12137,12137,"LOURDES MARCIANO RAYMUNDO","PROFESSOR (A) DE EDUCAÇÃO BASICA","CELETISTA","2023-01-01",30,"2024-01-01","2022-12-31","2023-12-31","12137-44927",{"$f":"G307-SUMIF(ESCALA!$B$14:$B$15,DADOS!K307,ESCALA!$I$14:$I$15)","v":30},null,null,null,null,null,"2023-11-02","as férias não podem começar num feriado"]
[12139,12139,"NAIR RODRIGUES DE PAULA","PROFESSOR (A) DE EDUCACAO BASICA","CELETISTA","2023-01-01",30,"2024-01-01","2022-12-31","2023-12-31","12139-44927",{"$f":"G308-SUMIF(ESCALA!$B$14:$B$15,DADOS!K308,ESCALA!$I$14:$I$15)","v":30},null,null,null,null,null,"2023-11-03","as férias não podem começar numa sexta-feira"]
[12142,12142,"VALERIA GUERRERO DA CRUZ GIOSA","PROFESSOR (A) DE EDUCAÇÃO BÁSICA","CELETISTA","2023-01-01",30,"2024-01-01","2022-12-31","2023-12-31","12142-44927",{"$f":"G309-SUMIF(ESCALA!$B$14:$B$15,DADOS!K309,ESCALA!$I$14:$I$15)","v":30},null,null,null,null,null,"2023-11-04","as férias não podem começar num sábado"]
[12149,12149,"ADRIANA APARECIDA BOVO SPESSOTO MASCARENHAS","PROFESSOR (A) DE EDUCAÇÃO BÁSICA","CELETISTA","2023-01-01",30,"2024-01-01","2022-12-31","2023-12-31","12149-44927",{"$f":"G310-SUMIF(ESCALA!$B$14:$B$15,DADOS!K310,ESCALA!$I$14:$I$15)","v":30},null,null,null,null,null,"2023-11-05","as férias não podem começar num domingo"]
[12175,12175,"AZANIAS PINHEIRO","COZINHEIRO (A)","CELETISTA","2023-01-01",30,"2024-01-01","2022-12-31","2023-12-31","12175-44927",{"$f":"G311-SUMIF(ESCALA!$B$14:$B$15,DADOS!K311,ESCALA!$I$14:$I$15)","v":30},null,null,null,null,null,"2023-11-06","-"]
[12206,12206,"AGNALDO ARAUJO DOS SANTOS","PROFESSOR (A) DE EDUCAÇÃO BASICA","CELETISTA","2023-01-01",30,"2024-01-01","2022-12-31","2023-12-31","12206-44927",{"$f":"G312-SUMIF(ESCALA!$B$14:$B$15,DADOS!K312,ESCALA!$I$14:$I$15)","v":30},null,null,null,null,null,"2023-11-07","-"]
[12208,12208,"APARECIDA CAMILA PACHECO DA SILVA","PROFESSOR (A) COORDENADOR (A)  PEDAGOGICO (A)","CELETISTA","2023-01-01",30,"2024-01-01","2022-12-31","2023-12-31","12208-44927",{"$f":"G313-SUMIF(ESCALA!$B$14:$B$15,DADOS!K313,ESCALA!$I$14:$I$15)","v":30},null,null,null,null,null,"2023-11-08","-"]
[12210,12210,"CELIA REGINA BAPTISTA LOPES","DIRETOR (A) DE ESCOLA","CELETISTA","2022-09-19",30,"2023-09-19","2022-08-31","2023-08-31","12210-44823",{"$f":"G314-SUMIF(ESCALA!$B$14:$B$15,DADOS!K314,ESCALA!$I$14:$I$15)","v":30},null,null,null,null,null,"2023-11-09","-"]
[12210,12210,"CELIA REGINA BAPTISTA LOPES","DIRETOR (A) DE ESCOLA","CELETISTA","2023-09-19",30,"2024-09-19","2023-08-31","2024-08-31","12210-45188",{"$f":"G315-SUMIF(ESCALA!$B$14:$B$15,DADOS!K315,ESCALA!$I$14:$I$15)","v":30},null,null,null,null,null,"2023-11-10","as férias não podem começar numa sexta-feira"]
[12217,12217,"HELEIA JONIA KOHLER DE ARAUJO","PROFESSOR (A) DE EDUCAÇÃO BASICA","CELETISTA","2022-12-05",30,"2023-12-05","2022-11-30","2023-11-30","12217-44900",{"$f":"G316-SUMIF(ESCALA!$B$14:$B$15,DADOS!K316,ESCALA!$I$14:$I$15)","v":30},null,null,null,null,null,"2023-11-11","as férias não podem começar num sábado"]
[12217,12217,"HELEIA JONIA KOHLER DE ARAUJO","PROFESSOR (A) DE EDUCAÇÃO BASICA","CELETISTA","2023-12-05",30,"2024-12-05","2023-11-30","2024-11-30","12217-45265",{"$f":"G317-SUMIF(ESCALA!$B$14:$B$15,DADOS!K317,ESCALA!$I$14:$I$15)","v":30},null,null,null,null,null,"2023-11-12","as férias não podem começar num domingo"]
[12218,12218,"IANCY ROCHA ANDRETTA","PROFESSOR (A) COORDENADOR (A)  PEDAGOGICO (A)","CELETISTA","2022-09-16",30,"2023-09-16","2022-08-31","2023-08-31","12218-44820",{"$f":"G318-SUMIF(ESCALA!$B$14:$B$15,DADOS!K318,ESCALA!$I$14:$I$15)","v":30},null,null,null,null,null,"2023-11-13","as férias não podem começar numa antevéspera de feriado"]
[12218,12218,"IANCY ROCHA ANDRETTA","PROFESSOR (A) COORDENADOR (A)  PEDAGOGICO (A)","CELETISTA","2023-09-16",30,"2024-09-16","2023-08-31","2024-08-31","12218-45185",{"$f":"G319-SUMIF(ESCALA!$B$14:$B$15,DADOS!K319,ESCALA!$I$14:$I$15)","v":30},null,null,null,null,null,"2023-11-14","as férias não podem começar numa véspera de feriado"]
[12219,12219,"IRACEMA RODRIGUES DA SILVA","VICE-DIRETOR (A) DE ESCOLA","CELETISTA","2023-01-01",30,"2024-01-01","2022-12-31","2023-12-31","12219-44927",{"$f":"G320-SUMIF(ESCALA!$B$14:$B$15,DADOS!K320,ESCALA!$I$14:$I$15)","v":30},null,null,null,null,null,"2023-11-15","as férias não podem começar num feriado"]
[12226,12226,"MARIA APARECIDA DAMASO ","PROFESSOR (A) DE EDUCAÇÃO BASICA","CELETISTA","2023-01-01",30,"2024-01-01","2022-12-31","2023-12-31","12226-44927",{"$f":"G321-SUMIF(ESCALA!$B$14:$B$15,DADOS!K321,ESCALA!$I$14:$I$15)","v":30},null,null,null,null,null,"2023-11-16","-"]
[12229,12229,"MIRIAN PIRES JACINTHO","DIRETOR (A) DE ESCOLA","CELETISTA","2022-09-17",30,"2023-09-17","2022-08-31","2023-08-31","12229-44821",{"$f":"G322-SUMIF(ESCALA!$B$14:$B$15,DADOS!K322,ESCALA!$I$14:$I$15)","v":30},null,null,null,null,null,"2023-11-17","as férias não podem começar numa sexta-feira"]
[{"$f":"IF(L323=0,\"\",B323)","v":12229},12229,"MIRIAN PIRES JACINTHO","DIRETOR (A) DE ESCOLA","CELETISTA","2023-09-17",30,{"$f":"IF(F323<=44985,F323+365,F323+366)","v":"2024-09-17"},"2023-08-31","2024-08-31",{"$f":"CONCATENATE(B323,\"-\",F323)","v":"12229-45186"},{"$f":"G323-SUMIF(ESCALA!$B$14:$B$15,DADOS!K323,ESCALA!$I$14:$I$15)","v":30},null,null,null,null,null,"2023-11-18","as férias não podem começar num sábado"]
[12231,12231,"RENATA DALLMANN","PEDAGOGO (A)","CELETISTA","2022-09-16",30,"2023-09-16",{"$f":"IF(E324=\"ESTATUTARIO\",EOMONTH(F324,0),EOMONTH(F324,-1))","v":"2022-08-31"},{"$f":"EOMONTH(F324,11)","v":"2023-08-31"},"12231-44820",{"$f":"G324-SUMIF(ESCALA!$B$14:$B$15,DADOS!K324,ESCALA!$I$14:$I$15)","v":30},null,null,null,null,null,"2023-11-19","as férias não podem começar num domingo"]
[12231,12231,"RENATA DALLMANN","PEDAGOGO (A)","CELETISTA","2023-09-16",30,"2024-09-16","2023-08-31","2024-08-31","12231-45185",{"$f":"G325-SUMIF(ESCALA!$B$14:$B$15,DADOS!K325,ESCALA!$I$14:$I$15)","v":30},null,null,null,null,null,"2023-11-20","as férias não podem começar num feriado"]
[12276,12276,"MARIA DE FATIMA EVENCIO","COZINHEIRO (A)","CELETISTA","2022-09-26",30,"2023-09-26","2022-08-31","2023-08-31","12276-44830",{"$f":"G326-SUMIF(ESCALA!$B$14:$B$15,DADOS!K326,ESCALA!$I$14:$I$15)","v":30},null,null,null,null,null,"2023-11-21","-"]
[12276,12276,"MARIA DE FATIMA EVENCIO","COZINHEIRO (A)","CELETISTA","2023-09-26",30,"2024-09-26","2023-08-31","2024-08-31","12276-45195",{"$f":"G327-SUMIF(ESCALA!$B$14:$B$15,DADOS!K327,ESCALA!$I$14:$I$15)","v":30},null,null,null,null,null,"2023-11-22","-"]
[12277,12277,"NOEMI GOMES PEREIRA DE OLIVEIRA","COZINHEIRO (A)","ESTATUTARIO","2022-11-19",30,"2023-11-19","2022-11-30","2023-10-31","12277-44884",{"$f":"G328-SUMIF(ESCALA!$B$14:$B$15,DADOS!K328,ESCALA!$I$14:$I$15)","v":30},null,null,null,null,null,"2023-11-23","-"]
[12277,12277,"NOEMI GOMES PEREIRA DE OLIVEIRA","COZINHEIRO (A)","ESTATUTARIO","2023-11-19",30,"2024-11-19","2023-11-30","2024-10-31","12277-45249",{"$f":"G329-SUMIF(ESCALA!$B$14:$B$15,DADOS!K329,ESCALA!$I$14:$I$15)","v":30},null,null,null,null,null,"2023-11-24","as férias não podem começar numa sexta-feira"]
[12307,12307,"YRENI PALOMARES LIMA","COZINHEIRO (A)","CELETISTA","2022-10-01",30,"2023-10-01","2022-09-30","2023-09-30","12307-44835",{"$f":"G330-SUMIF(ESCALA!$B$14:$B$15,DADOS!K330,ESCALA!$I$14:$I$15)","v":30},null,null,null,null,null,"2023-11-25","as férias não podem começar num sábado"]
[12307,12307,"YRENI PALOMARES LIMA","COZINHEIRO (A)","CELETISTA","2023-10-01",30,"2024-10-01","2023-09-30","2024-09-30","12307-45200",{"$f":"G331-SUMIF(ESCALA!$B$14:$B$15,DADOS!K331,ESCALA!$I$14:$I$15)","v":30},null,null,null,null,null,"2023-11-26","as férias não podem começar num domingo"]
[12308,12308,"MARCIA VIRGINIA FERREIRA BASTOS","PROFESSOR (A) DE EDUCACAO BASICA","CELETISTA","2022-12-27",30,"2023-12-27","2022-11-30","2023-11-30","12308-44922",{"$f":"G332-SUMIF(ESCALA!$B$14:$B$15,DADOS!K332,ESCALA!$I$14:$I$15)","v":30},null,null,null,null,null,"2023-11-27","-"]
[12308,12308,"MARCIA VIRGINIA FERREIRA BASTOS","PROFESSOR (A) DE EDUCACAO BASICA","CELETISTA","2023-12-27",30,"2024-12-27","2023-11-30","2024-11-30","12308-45287",{"$f":"G333-SUMIF(ESCALA!$B$14:$B$15,DADOS!K333,ESCALA!$I$14:$I$15)","v":30},null,null,null,null,null,"2023-11-28","-"]
[12314,12314,"CLEINIULE DE SOUZA TORRES","COORDENADOR (A) DE PROGRAMAS EDUCACIONAIS","CELETISTA","2023-01-01",30,"2024-01-01","2022-12-31","2023-12-31","12314-44927",{"$f":"G334-SUMIF(ESCALA!$B$14:$B$15,DADOS!K334,ESCALA!$I$14:$I$15)","v":30},null,null,null,null,null,"2023-11-29","-"]
[12332,12332,"PAULO MIRANDA DA SILVA","PEDREIRO (A)","CELETISTA","2022-08-20",30,"2023-08-20","2022-07-31","2023-07-31","12332-44793",{"$f":"G335-SUMIF(ESCALA!$B$14:$B$15,DADOS!K335,ESCALA!$I$14:$I$15)","v":30},null,null,null,null,null,"2023-11-30","-"]
[12332,12332,"PAULO MIRANDA DA SILVA","PEDREIRO (A)","CELETISTA","2023-08-20",30,"2024-08-20","2023-07-31","2024-07-31","12332-45158",{"$f":"G336-SUMIF(ESCALA!$B$14:$B$15,DADOS!K336,ESCALA!$I$14:$I$15)","v":30},null,null,null,null,null,"2023-12-01","as férias não podem começar numa sexta-feira"]
[12335,12335,"EDNA GERALDES BRAGA","COZINHEIRO (A)","CELETISTA","2022-10-14",30,"2023-10-14","2022-09-30","2023-09-30","12335-44848",{"$f":"G337-SUMIF(ESCALA!$B$14:$B$15,DADOS!K337,ESCALA!$I$14:$I$15)","v":30},null,null,null,null,null,"2023-12-02","as férias não podem começar num sábado"]
[12335,12335,"EDNA GERALDES BRAGA","COZINHEIRO (A)","CELETISTA","2023-10-14",30,"2024-10-14","2023-09-30","2024-09-30","12335-45213",{"$f":"G338-SUMIF(ESCALA!$B$14:$B$15,DADOS!K338,ESCALA!$I$14:$I$15)","v":30},null,null,null,null,null,"2023-12-03","as férias não podem começar num domingo"]
[12457,12457,"EUTALIA COSTA DOS SANTOS","COZINHEIRO (A)","CELETISTA","2022-10-30",30,"2023-10-30","2022-09-30","2023-09-30","12457-44864",{"$f":"G339-SUMIF(ESCALA!$B$14:$B$15,DADOS!K339,ESCALA!$I$14:$I$15)","v":30},null,null,null,null,null,"2023-12-04","-"]
[12457,12457,"EUTALIA COSTA DOS SANTOS","COZINHEIRO (A)","CELETISTA","2023-10-30",30,"2024-10-30","2023-09-30","2024-09-30","12457-45229",{"$f":"G340-SUMIF(ESCALA!$B$14:$B$15,DADOS!K340,ESCALA!$I$14:$I$15)","v":30},null,null,null,null,null,"2023-12-05","-"]
[12474,12474,"MARISA CATARINA DELORENZO","PSICOLOGO (A) ESCOLAR","CELETISTA","2022-11-05",30,"2023-11-05","2022-10-31","2023-10-31","12474-44870",{"$f":"G341-SUMIF(ESCALA!$B$14:$B$15,DADOS!K341,ESCALA!$I$14:$I$15)","v":30},null,null,null,null,null,"2023-12-06","as férias não podem começar numa antevéspera de feriado"]
[12474,12474,"MARISA CATARINA DELORENZO","PSICOLOGO (A) ESCOLAR","CELETISTA","2023-11-05",30,"2024-11-05","2023-10-31","2024-10-31","12474-45235",{"$f":"G342-SUMIF(ESCALA!$B$14:$B$15,DADOS!K342,ESCALA!$I$14:$I$15)","v":30},null,null,null,null,null,"2023-12-07","as férias não podem começar numa véspera de feriado"]
[12528,12528,"MARCIA MARIA VIVEIROS","AGENTE DE ADMINISTRAÇÃO B","ESTATUTARIO","2022-11-18",30,"2023-11-18","2022-11-30","2023-10-31","12528-44883",{"$f":"G343-SUMIF(ESCALA!$B$14:$B$15,DADOS!K343,ESCALA!$I$14:$I$15)","v":30},null,null,null,null,null,"2023-12-08","as férias não podem começar numa sexta-feira"]
[12528,12528,"MARCIA MARIA VIVEIROS","AGENTE DE ADMINISTRAÇÃO B","ESTATUTARIO","2023-11-18",30,"2024-11-18","2023-11-30","2024-10-31","12528-45248",{"$f":"G344-SUMIF(ESCALA!$B$14:$B$15,DADOS!K344,ESCALA!$I$14:$I$15)","v":30},null,null,null,null,null,"2023-12-09","as férias não podem começar num sábado"]
[12541,12541,"LUCIA HELENA LOPES DA SILVA","COZINHEIRO (A)","CELETISTA","2022-11-20",30,"2023-11-20","2022-10-31","2023-10-31","12541-44885",{"$f":"G345-SUMIF(ESCALA!$B$14:$B$15,DADOS!K345,ESCALA!$I$14:$I$15)","v":30},null,null,null,null,null,"2023-12-10","as férias não podem começar num domingo"]
[12541,12541,"LUCIA HELENA LOPES DA SILVA","COZINHEIRO (A)","CELETISTA","2023-11-20",30,"2024-11-20","2023-10-31","2024-10-31","12541-45250",{"$f":"G346-SUMIF(ESCALA!$B$14:$B$15,DADOS!K346,ESCALA!$I$14:$I$15)","v":30},null,null,null,null,null,"2023-12-11","-"]
[12574,12574,"GILMARA DA CONCEICAO","COZINHEIRO (A)","CELETISTA","2022-11-28",30,"2023-11-28","2022-10-31","2023-10-31","12574-44893",{"$f":"G347-SUMIF(ESCALA!$B$14:$B$15,DADOS!K347,ESCALA!$I$14:$I$15)","v":30},null,null,null,null,null,"2023-12-12","-"]
[12574,12574,"GILMARA DA CONCEICAO","COZINHEIRO (A)","CELETISTA","2023-11-28",30,"2024-11-28","2023-10-31","2024-10-31","12574-45258",{"$f":"G348-SUMIF(ESCALA!$B$14:$B$15,DADOS!K348,ESCALA!$I$14:$I$15)","v":30},null,null,null,null,null,"2023-12-13","-"]
[12606,12606,"MARIA APARECIDA BAPTISTA DOS SANTOS","CHEFE DE SECAO ADMINISTRATIVA","CELETISTA","2022-12-05",30,"2023-12-05","2022-11-30","2023-11-30","12606-44900",{"$f":"G349-SUMIF(ESCALA!$B$14:$B$15,DADOS!K349,ESCALA!$I$14:$I$15)","v":30},null,null,null,null,null,"2023-12-14","-"]
[12606,12606,"MARIA APARECIDA BAPTISTA DOS SANTOS","CHEFE DE SECAO ADMINISTRATIVA","CELETISTA","2023-12-05",30,"2024-12-05","2023-11-30","2024-11-30","12606-45265",{"$f":"G350-SUMIF(ESCALA!$B$14:$B$15,DADOS!K350,ESCALA!$I$14:$I$15)","v":30},null,null,null,null,null,"2023-12-15","as férias não podem começar numa sexta-feira"]
[12685,12685,"SIDNEI GONCALVES FERREIRA","AGENTE DE ADMINISTRAÇÃO B","ESTATUTARIO","2022-12-20",30,"2023-12-20","2022-12-31","2023-11-30","12685-44915",{"$f":"G351-SUMIF(ESCALA!$B$14:$B$15,DADOS!K351,ESCALA!$I$14:$I$15)","v":30},null,null,null,null,null,"2023-12-16","as férias não podem começar num sábado"]
[12685,12685,"SIDNEI GONCALVES FERREIRA","AGENTE DE ADMINISTRAÇÃO B","ESTATUTARIO","2023-12-20",30,"2024-12-20","2023-12-31","2024-11-30","12685-45280",{"$f":"G352-SUMIF(ESCALA!$B$14:$B$15,DADOS!K352,ESCALA!$I$14:$I$15)","v":30},null,null,null,null,null,"2023-12-17","as férias não podem começar num domingo"]
[12695,12695,"DARCI CAETANO","MOTORISTA","CELETISTA","2022-12-26",30,"2023-12-26","2022-11-30","2023-11-30","12695-44921",{"$f":"G353-SUMIF(ESCALA!$B$14:$B$15,DADOS!K353,ESCALA!$I$14:$I$15)","v":30},null,null,null,null,null,"2023-12-18","-"]
[12695,12695,"DARCI CAETANO","MOTORISTA","CELETISTA","2023-12-26",30,"2024-12-26","2023-11-30","2024-11-30","12695-45286",{"$f":"G354-SUMIF(ESCALA!$B$14:$B$15,DADOS!K354,ESCALA!$I$14:$I$15)","v":30},null,null,null,null,null,"2023-12-19","-"]
[12702,12702,"JOSE RAUL DOS SANTOS","GUARDA III","CELETISTA","2022-12-27",30,"2023-12-27","2022-11-30","2023-11-30","12702-44922",{"$f":"G355-SUMIF(ESCALA!$B$14:$B$15,DADOS!K355,ESCALA!$I$14:$I$15)","v":30},null,null,null,null,null,"2023-12-20","-"]
[12702,12702,"JOSE RAUL DOS SANTOS","GUARDA III","CELETISTA","2023-12-27",30,"2024-12-27","2023-11-30","2024-11-30","12702-45287",{"$f":"G356-SUMIF(ESCALA!$B$14:$B$15,DADOS!K356,ESCALA!$I$14:$I$15)","v":30},null,null,null,null,null,"2023-12-21","-"]
[12810,12810,"SONIA DE OLIVEIRA ROGERIO","COORDENADOR (A) DE PROGRAMAS EDUCACIONAIS","CELETISTA","2023-01-01",30,"2024-01-01","2022-12-31","2023-12-31","12810-44927",{"$f":"G357-SUMIF(ESCALA!$B$14:$B$15,DADOS!K357,ESCALA!$I$14:$I$15)","v":30},null,null,null,null,null,"2023-12-22","as férias não podem começar numa sexta-feira"]
[12841,12841,"ANDREA VACARELLA","PROFESSOR (A) DE EDUCAÇÃO BASICA","CELETISTA","2023-01-01",30,"2024-01-01","2022-12-31","2023-12-31","12841-44927",{"$f":"G358-SUMIF(ESCALA!$B$14:$B$15,DADOS!K358,ESCALA!$I$14:$I$15)","v":30},null,null,null,null,null,"2023-12-23","as férias não podem começar num sábado"]
[12850,12850,"CELESTE APARECIDA TESTONE","VICE-DIRETOR (A) DE ESCOLA","CELETISTA","2023-01-01",30,"2024-01-01","2022-12-31","2023-12-31","12850-44927",{"$f":"G359-SUMIF(ESCALA!$B$14:$B$15,DADOS!K359,ESCALA!$I$14:$I$15)","v":30},null,null,null,null,null,"2023-12-24","as férias não podem começar num domingo"]
[12855,12855,"GLAUCIA CRISTINA DE CERQUEIRA COSTA AOYANAGI","PROFESSOR (A) DE EDUCAÇÃO BASICA","CELETISTA","2023-01-01",30,"2024-01-01","2022-12-31","2023-12-31","12855-44927",{"$f":"G360-SUMIF(ESCALA!$B$14:$B$15,DADOS!K360,ESCALA!$I$14:$I$15)","v":30},null,null,null,null,null,"2023-12-25","as férias não podem começar num feriado"]
[12891,12891,"VERA DOS SANTOS","PROFESSOR (A) COORDENADOR (A)  PEDAGOGICO (A)","CELETISTA","2023-01-01",30,"2024-01-01","2022-12-31","2023-12-31","12891-44927",{"$f":"G361-SUMIF(ESCALA!$B$14:$B$15,DADOS!K361,ESCALA!$I$14:$I$15)","v":30},null,null,null,null,null,"2023-12-26","-"]
[12894,12894,"ANA BEATRIZ GOMES DA SILVA OLIVEIRA","PROFESSOR (A) DE EDUCACAO ESPECIAL","CELETISTA","2023-01-01",30,"2024-01-01","2022-12-31","2023-12-31","12894-44927",{"$f":"G362-SUMIF(ESCALA!$B$14:$B$15,DADOS!K362,ESCALA!$I$14:$I$15)","v":30},null,null,null,null,null,"2023-12-27","-"]
[12898,12898,"DULCE ELENA CINTRA DE SOUSA","DIRETOR (A) DE ESCOLA","CELETISTA","2022-02-07",15,"2023-02-07","2022-01-31","2023-01-31","12898-44599",{"$f":"G363-SUMIF(ESCALA!$B$14:$B$15,DADOS!K363,ESCALA!$I$14:$I$15)","v":15},null,null,null,null,null,"2023-12-28","-"]
[12898,12898,"DULCE ELENA CINTRA DE SOUSA","DIRETOR (A) DE ESCOLA","CELETISTA","2023-02-07",30,"2024-02-07","2023-01-31","2024-01-31","12898-44964",{"$f":"G364-SUMIF(ESCALA!$B$14:$B$15,DADOS!K364,ESCALA!$I$14:$I$15)","v":30},null,null,null,null,null,"2023-12-29","as férias não podem começar numa sexta-feira"]
[12914,12914,"MARIA LUIZA QUINTANEIRO","COORDENADOR (A) DE PROGRAMAS EDUCACIONAIS","CELETISTA","2023-01-01",30,"2024-01-01","2022-12-31","2023-12-31","12914-44927",{"$f":"G365-SUMIF(ESCALA!$B$14:$B$15,DADOS!K365,ESCALA!$I$14:$I$15)","v":30},null,null,null,null,null,"2023-12-30","as férias não podem começar num sábado"]
[12941,12941,"JOSENICE DA SILVA SOUZA COSTA","PROFESSOR (A) DE EDUCACAO BASICA","CELETISTA","2023-01-01",30,"2024-01-01","2022-12-31","2023-12-31","12941-44927",{"$f":"G366-SUMIF(ESCALA!$B$14:$B$15,DADOS!K366,ESCALA!$I$14:$I$15)","v":30},null,null,null,null,null,"2023-12-31","as férias não podem começar num domingo"]
[12992,12992,"SIMONE POHL FUKUNAGA","PROFESSOR (A) COORDENADOR (A)  PEDAGOGICO (A)","CELETISTA","2023-01-01",30,"2024-01-01","2022-12-31","2023-12-31","12992-44927",{"$f":"G367-SUMIF(ESCALA!$B$14:$B$15,DADOS!K367,ESCALA!$I$14:$I$15)","v":30}]
[13030,13030,"JOAO AMERICO NAVARRO DOS SANTOS","AUXILIAR OPERACIONAL","CELETISTA","2023-04-26",30,"2024-04-26","2023-03-31","2024-03-31","13030-45042",{"$f":"G368-SUMIF(ESCALA!$B$14:$B$15,DADOS!K368,ESCALA!$I$14:$I$15)","v":30}]
[13117,13117,"HELENA REGINA VICENTE","PROFESSOR (A) DE EDUCACAO ESPECIAL","CELETISTA","2023-01-01",30,"2024-01-01","2022-12-31","2023-12-31","13117-44927",{"$f":"G369-SUMIF(ESCALA!$B$14:$B$15,DADOS!K369,ESCALA!$I$14:$I$15)","v":30}]
[13119,13119,"MARIA SILVIA VERRUMA SANTOS","PROFESSOR (A) DE EDUCACAO ESPECIAL","CELETISTA","2023-01-01",30,"2024-01-01","2022-12-31","2023-12-31","13119-44927",{"$f":"G370-SUMIF(ESCALA!$B$14:$B$15,DADOS!K370,ESCALA!$I$14:$I$15)","v":30}]
[13121,13121,"JOCELISA MARIA DE MOURA SOUZA","COORDENADOR (A) DE PROGRAMAS EDUCACIONAIS","CELETISTA","2023-01-01",30,"2024-01-01","2022-12-31","2023-12-31","13121-44927",{"$f":"G371-SUMIF(ESCALA!$B$14:$B$15,DADOS!K371,ESCALA!$I$14:$I$15)","v":30}]
[13131,13131,"NEUZA LUCARELI MILAGRE MUTO","VICE-DIRETOR (A) DE ESCOLA","CELETISTA","2022-11-21",30,"2023-11-21","2022-10-31","2023-10-31","13131-44886",{"$f":"G372-SUMIF(ESCALA!$B$14:$B$15,DADOS!K372,ESCALA!$I$14:$I$15)","v":30}]
[13131,13131,"NEUZA LUCARELI MILAGRE MUTO","VICE-DIRETOR (A) DE ESCOLA","CELETISTA","2023-11-21",30,"2024-11-21","2023-10-31","2024-10-31","13131-45251",{"$f":"G373-SUMIF(ESCALA!$B$14:$B$15,DADOS!K373,ESCALA!$I$14:$I$15)","v":30}]
[13142,13142,"LUCIA HELENA PALAZZIN MACHADO","DIRETOR (A) DE ESCOLA","CELETISTA","2022-02-25",20,"2023-02-25","2022-01-31","2023-01-31","13142-44617",{"$f":"G374-SUMIF(ESCALA!$B$14:$B$15,DADOS!K374,ESCALA!$I$14:$I$15)","v":20}]
[13142,13142,"LUCIA HELENA PALAZZIN MACHADO","DIRETOR (A) DE ESCOLA","CELETISTA","2023-02-25",30,"2024-02-25","2023-01-31","2024-01-31","13142-44982",{"$f":"G375-SUMIF(ESCALA!$B$14:$B$15,DADOS!K375,ESCALA!$I$14:$I$15)","v":30}]
[13150,13150,"ALBERTINA DE MORAES","COZINHEIRO (A)","CELETISTA","2023-01-01",30,"2024-01-01","2022-12-31","2023-12-31","13150-44927",{"$f":"G376-SUMIF(ESCALA!$B$14:$B$15,DADOS!K376,ESCALA!$I$14:$I$15)","v":30}]
[13151,13151,"ROSELI APARECIDA NICACIO","COZINHEIRO (A)","CELETISTA","2023-01-01",30,"2024-01-01","2022-12-31","2023-12-31","13151-44927",{"$f":"G377-SUMIF(ESCALA!$B$14:$B$15,DADOS!K377,ESCALA!$I$14:$I$15)","v":30}]
[13223,13223,"CIBELI BARBOSA","PEDAGOGO (A)","CELETISTA","2023-04-29",30,"2024-04-29","2023-03-31","2024-03-31","13223-45045",{"$f":"G378-SUMIF(ESCALA!$B$14:$B$15,DADOS!K378,ESCALA!$I$14:$I$15)","v":30}]
[13246,13246,"CRISTHINA EUGENIA DE OLIVEIRA","COZINHEIRO (A)","CELETISTA","2023-01-01",30,"2024-01-01","2022-12-31","2023-12-31","13246-44927",{"$f":"G379-SUMIF(ESCALA!$B$14:$B$15,DADOS!K379,ESCALA!$I$14:$I$15)","v":30}]
[13247,13247,"MARIA IRALDINA PIRES","PSICOLOGO (A) ESCOLAR","CELETISTA","2022-03-07",30,"2023-03-07","2022-02-28","2023-02-28","13247-44627",{"$f":"G380-SUMIF(ESCALA!$B$14:$B$15,DADOS!K380,ESCALA!$I$14:$I$15)","v":30}]
[13247,13247,"MARIA IRALDINA PIRES","PSICOLOGO (A) ESCOLAR","CELETISTA","2023-03-07",30,"2024-03-07","2023-02-28","2024-02-29","13247-44992",{"$f":"G381-SUMIF(ESCALA!$B$14:$B$15,DADOS!K381,ESCALA!$I$14:$I$15)","v":30}]
[13249,13249,"MIRIAM TEIXEIRA DE SOUZA","PEDAGOGO (A)","CELETISTA","2022-03-07",30,"2023-03-07","2022-02-28","2023-02-28","13249-44627",{"$f":"G382-SUMIF(ESCALA!$B$14:$B$15,DADOS!K382,ESCALA!$I$14:$I$15)","v":30}]
[13249,13249,"MIRIAM TEIXEIRA DE SOUZA","PEDAGOGO (A)","CELETISTA","2023-03-07",30,"2024-03-07","2023-02-28","2024-02-29","13249-44992",{"$f":"G383-SUMIF(ESCALA!$B$14:$B$15,DADOS!K383,ESCALA!$I$14:$I$15)","v":30}]
[13264,13264,"ELAINE APARECIDA ESCRIBANO MUNHOZ","VICE-DIRETOR (A) DE ESCOLA","CELETISTA","2023-01-01",30,"2024-01-01","2022-12-31","2023-12-31","13264-44927",{"$f":"G384-SUMIF(ESCALA!$B$14:$B$15,DADOS!K384,ESCALA!$I$14:$I$15)","v":30}]
[13267,13267,"GISELA ALVES OLIVEIRA","PROFESSOR (A) DE EDUCAÇÃO BÁSICA","CELETISTA","2023-01-01",30,"2024-01-01","2022-12-31","2023-12-31","13267-44927",{"$f":"G385-SUMIF(ESCALA!$B$14:$B$15,DADOS!K385,ESCALA!$I$14:$I$15)","v":30}]
[13307,13307,"WBERLANY ALVES PEREIRA DE SOUZA","PROFESSOR (A) DE EDUCAÇÃO BASICA","CELETISTA","2023-01-01",30,"2024-01-01","2022-12-31","2023-12-31","13307-44927",{"$f":"G386-SUMIF(ESCALA!$B$14:$B$15,DADOS!K386,ESCALA!$I$14:$I$15)","v":30}]
[{"$f":"IF(L387=0,\"\",B387)","v":13365},13365,"LUCIA ALVES LEITE","PROFESSOR (A) DE EDUCAÇÃO BÁSICA","CELETISTA","2023-01-01",30,{"$f":"IF(F387<=44985,F387+365,F387+366)","v":"2024-01-01"},"2022-12-31","2023-12-31",{"$f":"CONCATENATE(B387,\"-\",F387)","v":"13365-44927"},{"$f":"G387-SUMIF(ESCALA!$B$14:$B$15,DADOS!K387,ESCALA!$I$14:$I$15)","v":30}]
[13370,13370,"MARIA FILOMENA DE CASTRO SALES","DIRETOR (A) DE ESCOLA","CELETISTA","2022-03-17",15,"2023-03-17",{"$f":"IF(E388=\"ESTATUTARIO\",EOMONTH(F388,0),EOMONTH(F388,-1))","v":"2022-02-28"},{"$f":"EOMONTH(F388,11)","v":"2023-02-28"},"13370-44637",{"$f":"G388-SUMIF(ESCALA!$B$14:$B$15,DADOS!K388,ESCALA!$I$14:$I$15)","v":15}]
[13370,13370,"MARIA FILOMENA DE CASTRO SALES","DIRETOR (A) DE ESCOLA","CELETISTA","2023-03-17",30,"2024-03-17","2023-02-28","2024-02-29","13370-45002",{"$f":"G389-SUMIF(ESCALA!$B$14:$B$15,DADOS!K389,ESCALA!$I$14:$I$15)","v":30}]
[13380,13380,"SONIA MARIA FIDELLI","COZINHEIRO (A)","CELETISTA","2023-01-01",30,"2024-01-01","2022-12-31","2023-12-31","13380-44927",{"$f":"G390-SUMIF(ESCALA!$B$14:$B$15,DADOS!K390,ESCALA!$I$14:$I$15)","v":30}]
[13384,13384,"MIRIAN HIROYO ONIWA OGIMI","AGENTE DE ADMINISTRAÇÃO C","ESTATUTARIO","2022-03-24",15,"2023-03-24","2022-03-31","2023-02-28","13384-44644",{"$f":"G391-SUMIF(ESCALA!$B$14:$B$15,DADOS!K391,ESCALA!$I$14:$I$15)","v":15}]
[13384,13384,"MIRIAN HIROYO ONIWA OGIMI","AGENTE DE ADMINISTRAÇÃO C","ESTATUTARIO","2023-03-24",30,"2024-03-24","2023-03-31","2024-02-29","13384-45009",{"$f":"G392-SUMIF(ESCALA!$B$14:$B$15,DADOS!K392,ESCALA!$I$14:$I$15)","v":30}]
[13400,13400,"DORACI NASCIMENTO ARGOLO","AGENTE DE ADMINISTRAÇÃO B","ESTATUTARIO","2022-03-26",15,"2023-03-26","2022-03-31","2023-02-28","13400-44646",{"$f":"G393-SUMIF(ESCALA!$B$14:$B$15,DADOS!K393,ESCALA!$I$14:$I$15)","v":15}]
[13400,13400,"DORACI NASCIMENTO ARGOLO","AGENTE DE ADMINISTRAÇÃO B","ESTATUTARIO","2023-03-26",30,"2024-03-26","2023-03-31","2024-02-29","13400-45011",{"$f":"G394-SUMIF(ESCALA!$B$14:$B$15,DADOS!K394,ESCALA!$I$14:$I$15)","v":30}]
[13464,13464,"MARINA AYAKO KAOHASHI NAGAI","SUPERVISOR (A) ESCOLAR","CELETISTA","2023-04-02",30,"2024-04-02","2023-03-31","2024-03-31","13464-45018",{"$f":"G395-SUMIF(ESCALA!$B$14:$B$15,DADOS!K395,ESCALA!$I$14:$I$15)","v":30}]
[13607,13607,"CLAUDENICE MARIA DA SILVA BENITTI","PROFESSOR (A) DE EDUCACAO BASICA","CELETISTA","2023-01-01",30,"2024-01-01","2022-12-31","2023-12-31","13607-44927",{"$f":"G396-SUMIF(ESCALA!$B$14:$B$15,DADOS!K396,ESCALA!$I$14:$I$15)","v":30}]
[13608,13608,"MARIA LAURA DE OLIVEIRA DOMINGUES ARGEOLI","PROFESSOR (A) DE EDUCAÇÃO BASICA","CELETISTA","2022-09-28",30,"2023-09-28","2022-08-31","2023-08-31","13608-44832",{"$f":"G397-SUMIF(ESCALA!$B$14:$B$15,DADOS!K397,ESCALA!$I$14:$I$15)","v":30}]
[13608,13608,"MARIA LAURA DE OLIVEIRA DOMINGUES ARGEOLI","PROFESSOR (A) DE EDUCAÇÃO BASICA","CELETISTA","2023-09-28",30,"2024-09-28","2023-08-31","2024-08-31","13608-45197",{"$f":"G398-SUMIF(ESCALA!$B$14:$B$15,DADOS!K398,ESCALA!$I$14:$I$15)","v":30}]
[13610,13610,"SIRLEI ALONSO GONCALVES","PROFESSOR (A) DE EDUCACAO BASICA","CELETISTA","2023-01-01",30,"2024-01-01","2022-12-31","2023-12-31","13610-44927",{"$f":"G399-SUMIF(ESCALA!$B$14:$B$15,DADOS!K399,ESCALA!$I$14:$I$15)","v":30}]
[13647,13647,"MARIA DO CARMO SOUZA BARROS","COZINHEIRO (A)","CELETISTA","2023-05-06",30,"2024-05-06","2023-04-30","2024-04-30","13647-45052",{"$f":"G400-SUMIF(ESCALA!$B$14:$B$15,DADOS!K400,ESCALA!$I$14:$I$15)","v":30}]
[13696,13696,"ISRAEL ALVES VIANA","AUXILIAR OPERACIONAL","CELETISTA","2022-05-19",30,"2023-05-19","2022-04-30","2023-04-30","13696-44700",{"$f":"G401-SUMIF(ESCALA!$B$14:$B$15,DADOS!K401,ESCALA!$I$14:$I$15)","v":30}]
[13696,13696,"ISRAEL ALVES VIANA","AUXILIAR OPERACIONAL","CELETISTA","2023-05-19",30,"2024-05-19","2023-04-30","2024-04-30","13696-45065",{"$f":"G402-SUMIF(ESCALA!$B$14:$B$15,DADOS!K402,ESCALA!$I$14:$I$15)","v":30}]
[13711,13711,"ALBERTINA FRANCISCA DA SILVA ASSUMPCAO","COZINHEIRO (A)","CELETISTA","2022-08-28",30,"2023-08-28","2022-07-31","2023-07-31","13711-44801",{"$f":"G403-SUMIF(ESCALA!$B$14:$B$15,DADOS!K403,ESCALA!$I$14:$I$15)","v":30}]
[13711,13711,"ALBERTINA FRANCISCA DA SILVA ASSUMPCAO","COZINHEIRO (A)","CELETISTA","2023-08-28",30,"2024-08-28","2023-07-31","2024-07-31","13711-45166",{"$f":"G404-SUMIF(ESCALA!$B$14:$B$15,DADOS!K404,ESCALA!$I$14:$I$15)","v":30}]
[13850,13850,"KATIA FERNANDA FRIGOLI","ARQUITETO (A)","ESTATUTARIO","2023-07-22",30,"2024-07-22","2023-07-31","2024-06-30","13850-45129",{"$f":"G405-SUMIF(ESCALA!$B$14:$B$15,DADOS!K405,ESCALA!$I$14:$I$15)","v":30}]
[13856,13856,"MEIRE CRISTINA FIORIN","PROFESSOR (A) DE EDUCAÇÃO BASICA","CELETISTA","2022-05-11",30,"2023-05-11","2022-04-30","2023-04-30","13856-44692",{"$f":"G406-SUMIF(ESCALA!$B$14:$B$15,DADOS!K406,ESCALA!$I$14:$I$15)","v":30}]
[13856,13856,"MEIRE CRISTINA FIORIN","PROFESSOR (A) DE EDUCAÇÃO BASICA","CELETISTA","2023-05-11",30,"2024-05-11","2023-04-30","2024-04-30","13856-45057",{"$f":"G407-SUMIF(ESCALA!$B$14:$B$15,DADOS!K407,ESCALA!$I$14:$I$15)","v":30}]
[13857,13857,"MIRIAM LEITE MORELLI","DIRETOR (A) DE ESCOLA","CELETISTA","2022-07-17",30,"2023-07-17","2022-06-30","2023-06-30","13857-44759",{"$f":"G408-SUMIF(ESCALA!$B$14:$B$15,DADOS!K408,ESCALA!$I$14:$I$15)","v":30}]
[13857,13857,"MIRIAM LEITE MORELLI","DIRETOR (A) DE ESCOLA","CELETISTA","2023-07-17",30,"2024-07-17","2023-06-30","2024-06-30","13857-45124",{"$f":"G409-SUMIF(ESCALA!$B$14:$B$15,DADOS!K409,ESCALA!$I$14:$I$15)","v":30}]
[13863,13863,"SILVIA REGINA RIESS DE ALMEIDA ","PROFESSOR (A) DE EDUCAÇÃO BASICA","CELETISTA","2023-01-01",30,"2024-01-01","2022-12-31","2023-12-31","13863-44927",{"$f":"G410-SUMIF(ESCALA!$B$14:$B$15,DADOS!K410,ESCALA!$I$14:$I$15)","v":30}]
[13876,13876,"VALDENICE PADOVANI FEITOSA","PROFESSOR (A) DE EDUCAÇÃO BÁSICA","CELETISTA","2022-07-24",30,"2023-07-24","2022-06-30","2023-06-30","13876-44766",{"$f":"G411-SUMIF(ESCALA!$B$14:$B$15,DADOS!K411,ESCALA!$I$14:$I$15)","v":30}]
[13876,13876,"VALDENICE PADOVANI FEITOSA","PROFESSOR (A) DE EDUCAÇÃO BÁSICA","CELETISTA","2023-07-24",30,"2024-07-24","2023-06-30","2024-06-30","13876-45131",{"$f":"G412-SUMIF(ESCALA!$B$14:$B$15,DADOS!K412,ESCALA!$I$14:$I$15)","v":30}]
[13887,13887,"SUELI MARIA DE SOUZA PEREIRA","COORDENADOR (A) DE PROGRAMAS EDUCACIONAIS","CELETISTA","2023-01-01",30,"2024-01-01","2022-12-31","2023-12-31","13887-44927",{"$f":"G413-SUMIF(ESCALA!$B$14:$B$15,DADOS!K413,ESCALA!$I$14:$I$15)","v":30}]
[13902,13902,"FLORIPES FERNANDES DE MIRANDA PINTO","SUPERVISOR (A) ESCOLAR","CELETISTA","2022-08-04",20,"2023-08-04","2022-07-31","2023-07-31","13902-44777",{"$f":"G414-SUMIF(ESCALA!$B$14:$B$15,DADOS!K414,ESCALA!$I$14:$I$15)","v":20}]
[13902,13902,"FLORIPES FERNANDES DE MIRANDA PINTO","SUPERVISOR (A) ESCOLAR","CELETISTA","2023-08-04",30,"2024-08-04","2023-07-31","2024-07-31","13902-45142",{"$f":"G415-SUMIF(ESCALA!$B$14:$B$15,DADOS!K415,ESCALA!$I$14:$I$15)","v":30}]
[13909,13909,"MARIA DO CARMO PERRELA AYACHE","PROFESSOR (A) DE EDUCACAO BASICA","CELETISTA","2023-01-01",30,"2024-01-01","2022-12-31","2023-12-31","13909-44927",{"$f":"G416-SUMIF(ESCALA!$B$14:$B$15,DADOS!K416,ESCALA!$I$14:$I$15)","v":30}]
[13914,13914,"SILVANDA MARIA BARBOSA DE SANTANA","PROFESSOR (A) DE EDUCAÇÃO BASICA","CELETISTA","2023-01-01",30,"2024-01-01","2022-12-31","2023-12-31","13914-44927",{"$f":"G417-SUMIF(ESCALA!$B$14:$B$15,DADOS!K417,ESCALA!$I$14:$I$15)","v":30}]
[13938,13938,"ANA LUCIA TAVARES DA SILVA","PROFESSOR (A) DE EDUCAÇÃO BASICA","CELETISTA","2023-01-01",30,"2024-01-01","2022-12-31","2023-12-31","13938-44927",{"$f":"G418-SUMIF(ESCALA!$B$14:$B$15,DADOS!K418,ESCALA!$I$14:$I$15)","v":30}]
[14018,14018,"IARA SIMONE DE OLIVEIRA COSTA","COZINHEIRO (A)","ESTATUTARIO","2023-01-14",30,"2024-01-14","2023-01-31","2023-12-31","14018-44940",{"$f":"G419-SUMIF(ESCALA!$B$14:$B$15,DADOS!K419,ESCALA!$I$14:$I$15)","v":30}]
[14057,14057,"CLEUZA ALVES DA SILVA","COZINHEIRO (A)","CELETISTA","2022-05-31",30,"2023-05-31","2022-04-30","2023-04-30","14057-44712",{"$f":"G420-SUMIF(ESCALA!$B$14:$B$15,DADOS!K420,ESCALA!$I$14:$I$15)","v":30}]
[14057,14057,"CLEUZA ALVES DA SILVA","COZINHEIRO (A)","CELETISTA","2023-05-31",30,"2024-05-31","2023-04-30","2024-04-30","14057-45077",{"$f":"G421-SUMIF(ESCALA!$B$14:$B$15,DADOS!K421,ESCALA!$I$14:$I$15)","v":30}]
[14059,14059,"ELIANE RODRIGUES SANTOS MARCON","COZINHEIRO (A)","CELETISTA","2022-03-24",30,"2023-03-24","2022-02-28","2023-02-28","14059-44644",{"$f":"G422-SUMIF(ESCALA!$B$14:$B$15,DADOS!K422,ESCALA!$I$14:$I$15)","v":30}]
[14059,14059,"ELIANE RODRIGUES SANTOS MARCON","COZINHEIRO (A)","CELETISTA","2023-03-24",30,"2024-03-24","2023-02-28","2024-02-29","14059-45009",{"$f":"G423-SUMIF(ESCALA!$B$14:$B$15,DADOS!K423,ESCALA!$I$14:$I$15)","v":30}]
[14072,14072,"SANDRA NERIS SANTIAGO","COZINHEIRO (A)","CELETISTA","2022-08-26",30,"2023-08-26","2022-07-31","2023-07-31","14072-44799",{"$f":"G424-SUMIF(ESCALA!$B$14:$B$15,DADOS!K424,ESCALA!$I$14:$I$15)","v":30}]
[14072,14072,"SANDRA NERIS SANTIAGO","COZINHEIRO (A)","CELETISTA","2023-08-26",30,"2024-08-26","2023-07-31","2024-07-31","14072-45164",{"$f":"G425-SUMIF(ESCALA!$B$14:$B$15,DADOS!K425,ESCALA!$I$14:$I$15)","v":30}]
[14104,14104,"NIEDJA CRISTINA COELHO DA ROCHA","COZINHEIRO (A)","CELETISTA","2022-09-02",30,"2023-09-02","2022-08-31","2023-08-31","14104-44806",{"$f":"G426-SUMIF(ESCALA!$B$14:$B$15,DADOS!K426,ESCALA!$I$14:$I$15)","v":30}]
[14104,14104,"NIEDJA CRISTINA COELHO DA ROCHA","COZINHEIRO (A)","CELETISTA","2023-09-02",30,"2024-09-02","2023-08-31","2024-08-31","14104-45171",{"$f":"G427-SUMIF(ESCALA!$B$14:$B$15,DADOS!K427,ESCALA!$I$14:$I$15)","v":30}]
[14174,14174,"MARIA DE FATIMA DA SILVA","COZINHEIRO (A)","CELETISTA","2022-09-22",30,"2023-09-22","2022-08-31","2023-08-31","14174-44826",{"$f":"G428-SUMIF(ESCALA!$B$14:$B$15,DADOS!K428,ESCALA!$I$14:$I$15)","v":30}]
[14174,14174,"MARIA DE FATIMA DA SILVA","COZINHEIRO (A)","CELETISTA","2023-09-22",30,"2024-09-22","2023-08-31","2024-08-31","14174-45191",{"$f":"G429-SUMIF(ESCALA!$B$14:$B$15,DADOS!K429,ESCALA!$I$14:$I$15)","v":30}]
[14219,14219,"JOAO AUGUSTO PEREIRA DA SILVA GOMES","DIRETOR (A) DE ESCOLA","CELETISTA","2022-10-09",30,"2023-10-09","2022-09-30","2023-09-30","14219-44843",{"$f":"G430-SUMIF(ESCALA!$B$14:$B$15,DADOS!K430,ESCALA!$I$14:$I$15)","v":30}]
[14219,14219,"JOAO AUGUSTO PEREIRA DA SILVA GOMES","DIRETOR (A) DE ESCOLA","CELETISTA","2023-10-09",30,"2024-10-09","2023-09-30","2024-09-30","14219-45208",{"$f":"G431-SUMIF(ESCALA!$B$14:$B$15,DADOS!K431,ESCALA!$I$14:$I$15)","v":30}]
[14232,14232,"FLAVIA MADAZIO","PROFESSOR (A) DE EDUCACAO BASICA","CELETISTA","2023-01-01",30,"2024-01-01","2022-12-31","2023-12-31","14232-44927",{"$f":"G432-SUMIF(ESCALA!$B$14:$B$15,DADOS!K432,ESCALA!$I$14:$I$15)","v":30}]
[14355,14355,"LUCIA MIEKO MATSUI","SUPERVISOR (A) ESCOLAR","CELETISTA","2023-02-21",30,"2024-02-21","2023-01-31","2024-01-31","14355-44978",{"$f":"G433-SUMIF(ESCALA!$B$14:$B$15,DADOS!K433,ESCALA!$I$14:$I$15)","v":30}]
[14500,14500,"CLAUDIO JULIO BARBOSA","AGENTE DE ADMINISTRAÇÃO C","ESTATUTARIO","2022-11-08",30,"2023-11-08","2022-11-30","2023-10-31","14500-44873",{"$f":"G434-SUMIF(ESCALA!$B$14:$B$15,DADOS!K434,ESCALA!$I$14:$I$15)","v":30}]
[14500,14500,"CLAUDIO JULIO BARBOSA","AGENTE DE ADMINISTRAÇÃO C","ESTATUTARIO","2023-11-08",30,"2024-11-08","2023-11-30","2024-10-31","14500-45238",{"$f":"G435-SUMIF(ESCALA!$B$14:$B$15,DADOS!K435,ESCALA!$I$14:$I$15)","v":30}]
[14604,14604,"DIRCE YAMASHITA","PROFESSOR (A) DE EDUCACAO ESPECIAL","CELETISTA","2022-11-23",30,"2023-11-23","2022-10-31","2023-10-31","14604-44888",{"$f":"G436-SUMIF(ESCALA!$B$14:$B$15,DADOS!K436,ESCALA!$I$14:$I$15)","v":30}]
[14604,14604,"DIRCE YAMASHITA","PROFESSOR (A) DE EDUCACAO ESPECIAL","CELETISTA","2023-11-23",30,"2024-11-23","2023-10-31","2024-10-31","14604-45253",{"$f":"G437-SUMIF(ESCALA!$B$14:$B$15,DADOS!K437,ESCALA!$I$14:$I$15)","v":30}]
[14606,14606,"ISABEL CRISTINA BONOME","PROFESSOR (A) DE EDUCAÇÃO BÁSICA","CELETISTA","2023-01-01",30,"2024-01-01","2022-12-31","2023-12-31","14606-44927",{"$f":"G438-SUMIF(ESCALA!$B$14:$B$15,DADOS!K438,ESCALA!$I$14:$I$15)","v":30}]
[14607,14607,"SANDRA ANDREIA PENIDO PEREIRA","PROFESSOR (A) DE EDUCACAO BASICA","CELETISTA","2023-01-01",30,"2024-01-01","2022-12-31","2023-12-31","14607-44927",{"$f":"G439-SUMIF(ESCALA!$B$14:$B$15,DADOS!K439,ESCALA!$I$14:$I$15)","v":30}]
[14608,14608,"SIMONE MEIRE BRUNO SANTOS","PROFESSOR (A) DE EDUCAÇÃO BASICA","CELETISTA","2023-01-30",30,"2024-01-30","2022-12-31","2023-12-31","14608-44956",{"$f":"G440-SUMIF(ESCALA!$B$14:$B$15,DADOS!K440,ESCALA!$I$14:$I$15)","v":30}]
[14609,14609,"SONIA MINGORANCE TEIXEIRA ORTEGA","PROFESSOR (A) DE EDUCAÇÃO BASICA","CELETISTA","2023-01-01",30,"2024-01-01","2022-12-31","2023-12-31","14609-44927",{"$f":"G441-SUMIF(ESCALA!$B$14:$B$15,DADOS!K441,ESCALA!$I$14:$I$15)","v":30}]
[14647,14647,"PRICILA PIRES","PEDAGOGO (A)","CELETISTA","2022-02-05",25,"2023-02-05","2022-01-31","2023-01-31","14647-44597",{"$f":"G442-SUMIF(ESCALA!$B$14:$B$15,DADOS!K442,ESCALA!$I$14:$I$15)","v":25}]
[14647,14647,"PRICILA PIRES","PEDAGOGO (A)","CELETISTA","2023-02-05",30,"2024-02-05","2023-01-31","2024-01-31","14647-44962",{"$f":"G443-SUMIF(ESCALA!$B$14:$B$15,DADOS!K443,ESCALA!$I$14:$I$15)","v":30}]
[14680,14680,"IZABEL CUSTODIA DE FREITAS MEIRA","PROFESSOR (A) DE EDUCAÇÃO BASICA","CELETISTA","2022-11-20",30,"2023-11-20","2022-10-31","2023-10-31","14680-44885",{"$f":"G444-SUMIF(ESCALA!$B$14:$B$15,DADOS!K444,ESCALA!$I$14:$I$15)","v":30}]
[14680,14680,"IZABEL CUSTODIA DE FREITAS MEIRA","PROFESSOR (A) DE EDUCAÇÃO BASICA","CELETISTA","2023-11-20",30,"2024-11-20","2023-10-31","2024-10-31","14680-45250",{"$f":"G445-SUMIF(ESCALA!$B$14:$B$15,DADOS!K445,ESCALA!$I$14:$I$15)","v":30}]
[14682,14682,"NOEMIA CUSTODIA DE FREITAS GUBOLIN","PROFESSOR (A) DE EDUCAÇÃO BÁSICA","CELETISTA","2023-01-01",30,"2024-01-01","2022-12-31","2023-12-31","14682-44927",{"$f":"G446-SUMIF(ESCALA!$B$14:$B$15,DADOS!K446,ESCALA!$I$14:$I$15)","v":30}]
[14683,14683,"SIBELI GIAZZI CARASEK","PROFESSOR (A) DE EDUCAÇÃO BÁSICA","ESTATUTARIO","2022-02-05",30,"2023-02-05","2022-02-28","2023-01-31","14683-44597",{"$f":"G447-SUMIF(ESCALA!$B$14:$B$15,DADOS!K447,ESCALA!$I$14:$I$15)","v":30}]
[14683,14683,"SIBELI GIAZZI CARASEK","PROFESSOR (A) DE EDUCAÇÃO BÁSICA","ESTATUTARIO","2023-02-05",30,"2024-02-05","2023-02-28","2024-01-31","14683-44962",{"$f":"G448-SUMIF(ESCALA!$B$14:$B$15,DADOS!K448,ESCALA!$I$14:$I$15)","v":30}]
[14710,14710,"CLARICE SIMPLICIO DE LACERDA","PEDAGOGO (A)","CELETISTA","2022-02-09",20,"2023-02-09","2022-01-31","2023-01-31","14710-44601",{"$f":"G449-SUMIF(ESCALA!$B$14:$B$15,DADOS!K449,ESCALA!$I$14:$I$15)","v":20}]
[14710,14710,"CLARICE SIMPLICIO DE LACERDA","PEDAGOGO (A)","CELETISTA","2023-02-09",30,"2024-02-09","2023-01-31","2024-01-31","14710-44966",{"$f":"G450-SUMIF(ESCALA!$B$14:$B$15,DADOS!K450,ESCALA!$I$14:$I$15)","v":30}]
[{"$f":"IF(L451=0,\"\",B451)","v":14718},14718,"ANA PAULA OLIVEIRA PEGORARO","PROFESSOR (A) DE EDUCACAO BASICA","CELETISTA","2022-02-09",30,{"$f":"IF(F451<=44985,F451+365,F451+366)","v":"2023-02-09"},"2022-01-31","2023-01-31",{"$f":"CONCATENATE(B451,\"-\",F451)","v":"14718-44601"},{"$f":"G451-SUMIF(ESCALA!$B$14:$B$15,DADOS!K451,ESCALA!$I$14:$I$15)","v":30}]
[14718,14718,"ANA PAULA OLIVEIRA PEGORARO","PROFESSOR (A) DE EDUCACAO BASICA","CELETISTA","2023-02-09",30,"2024-02-09",{"$f":"IF(E452=\"ESTATUTARIO\",EOMONTH(F452,0),EOMONTH(F452,-1))","v":"2023-01-31"},{"$f":"EOMONTH(F452,11)","v":"2024-01-31"},"14718-44966",{"$f":"G452-SUMIF(ESCALA!$B$14:$B$15,DADOS!K452,ESCALA!$I$14:$I$15)","v":30}]
[14720,14720,"CRISTIANE APARECIDA PEREIRA","PROFESSOR (A) DE EDUCACAO BASICA","CELETISTA","2023-01-01",30,"2024-01-01","2022-12-31","2023-12-31","14720-44927",{"$f":"G453-SUMIF(ESCALA!$B$14:$B$15,DADOS!K453,ESCALA!$I$14:$I$15)","v":30}]
[14728,14728,"MARCIA DA SILVA WEBER","PROFESSOR (A) COORDENADOR (A)  PEDAGOGICO (A)","CELETISTA","2023-01-01",30,"2024-01-01","2022-12-31","2023-12-31","14728-44927",{"$f":"G454-SUMIF(ESCALA!$B$14:$B$15,DADOS!K454,ESCALA!$I$14:$I$15)","v":30}]
[14733,14733,"RITA DE CASSIA STRUZANI","PROFESSOR (A) DE EDUCAÇÃO BÁSICA","CELETISTA","2022-02-21",30,"2023-02-21","2022-01-31","2023-01-31","14733-44613",{"$f":"G455-SUMIF(ESCALA!$B$14:$B$15,DADOS!K455,ESCALA!$I$14:$I$15)","v":30}]
[14733,14733,"RITA DE CASSIA STRUZANI","PROFESSOR (A) DE EDUCAÇÃO BÁSICA","CELETISTA","2023-02-21",30,"2024-02-21","2023-01-31","2024-01-31","14733-44978",{"$f":"G456-SUMIF(ESCALA!$B$14:$B$15,DADOS!K456,ESCALA!$I$14:$I$15)","v":30}]
[14736,14736,"SANDRA REGINA RIBEIRO DA SILVA","PROFESSOR (A) DE EDUCACAO ESPECIAL","CELETISTA","2023-01-01",30,"2024-01-01","2022-12-31","2023-12-31","14736-44927",{"$f":"G457-SUMIF(ESCALA!$B$14:$B$15,DADOS!K457,ESCALA!$I$14:$I$15)","v":30}]
[14739,14739,"VALERIA QUEIROZ DA SILVA","PROFESSOR (A) DE EDUCACAO BASICA","CELETISTA","2023-01-01",30,"2024-01-01","2022-12-31","2023-12-31","14739-44927",{"$f":"G458-SUMIF(ESCALA!$B$14:$B$15,DADOS!K458,ESCALA!$I$14:$I$15)","v":30}]
[14756,14756,"DENILSON LOCATELLI","GUARDA III","CELETISTA","2022-02-11",30,"2023-02-11","2022-01-31","2023-01-31","14756-44603",{"$f":"G459-SUMIF(ESCALA!$B$14:$B$15,DADOS!K459,ESCALA!$I$14:$I$15)","v":30}]
[14756,14756,"DENILSON LOCATELLI","GUARDA III","CELETISTA","2023-02-11",30,"2024-02-11","2023-01-31","2024-01-31","14756-44968",{"$f":"G460-SUMIF(ESCALA!$B$14:$B$15,DADOS!K460,ESCALA!$I$14:$I$15)","v":30}]
[14758,14758,"IDA DO CARMO TAVARES LIMA","COZINHEIRO (A)","CELETISTA","2023-01-01",30,"2024-01-01","2022-12-31","2023-12-31","14758-44927",{"$f":"G461-SUMIF(ESCALA!$B$14:$B$15,DADOS!K461,ESCALA!$I$14:$I$15)","v":30}]
[14759,14759,"MARIA DA GLORIA ROCHA","COZINHEIRO (A)","CELETISTA","2022-02-11",24,"2023-02-11","2022-01-31","2023-01-31","14759-44603",{"$f":"G462-SUMIF(ESCALA!$B$14:$B$15,DADOS!K462,ESCALA!$I$14:$I$15)","v":24}]
[14759,14759,"MARIA DA GLORIA ROCHA","COZINHEIRO (A)","CELETISTA","2023-02-11",30,"2024-02-11","2023-01-31","2024-01-31","14759-44968",{"$f":"G463-SUMIF(ESCALA!$B$14:$B$15,DADOS!K463,ESCALA!$I$14:$I$15)","v":30}]
[14768,14768,"MARIA SILVANA DOS SANTOS QUEIROZ","COORDENADOR (A) DE PROGRAMAS EDUCACIONAIS","CELETISTA","2023-01-01",30,"2024-01-01","2022-12-31","2023-12-31","14768-44927",{"$f":"G464-SUMIF(ESCALA!$B$14:$B$15,DADOS!K464,ESCALA!$I$14:$I$15)","v":30}]
[14794,14794,"ANA AMABILE MELCHIORI","PROFESSOR (A) DE EDUCAÇÃO BÁSICA","CELETISTA","2022-11-30",30,"2023-11-30","2022-10-31","2023-10-31","14794-44895",{"$f":"G465-SUMIF(ESCALA!$B$14:$B$15,DADOS!K465,ESCALA!$I$14:$I$15)","v":30}]
[14794,14794,"ANA AMABILE MELCHIORI","PROFESSOR (A) DE EDUCAÇÃO BÁSICA","CELETISTA","2023-11-30",30,"2024-11-30","2023-10-31","2024-10-31","14794-45260",{"$f":"G466-SUMIF(ESCALA!$B$14:$B$15,DADOS!K466,ESCALA!$I$14:$I$15)","v":30}]
[14797,14797,"DERCI DE SOUZA BATISTA BARROS","PROFESSOR (A) DE EDUCACAO BASICA","CELETISTA","2023-01-01",30,"2024-01-01","2022-12-31","2023-12-31","14797-44927",{"$f":"G467-SUMIF(ESCALA!$B$14:$B$15,DADOS!K467,ESCALA!$I$14:$I$15)","v":30}]
[14798,14798,"MARIA EDNALVA CARVALHO DE SOUZA","PROFESSOR (A) DE EDUCACAO BASICA","CELETISTA","2023-01-01",30,"2024-01-01","2022-12-31","2023-12-31","14798-44927",{"$f":"G468-SUMIF(ESCALA!$B$14:$B$15,DADOS!K468,ESCALA!$I$14:$I$15)","v":30}]
[14799,14799,"MARIA MARQUES DA SILVA","PROFESSOR (A) DE EDUCAÇÃO BASICA","CELETISTA","2023-01-01",30,"2024-01-01","2022-12-31","2023-12-31","14799-44927",{"$f":"G469-SUMIF(ESCALA!$B$14:$B$15,DADOS!K469,ESCALA!$I$14:$I$15)","v":30}]
[14800,14800,"MARILIA FERREIRA CRISPIM MARQUEZ","PROFESSOR (A) DE EDUCAÇÃO BASICA","CELETISTA","2022-02-18",18,"2023-02-18","2022-01-31","2023-01-31","14800-44610",{"$f":"G470-SUMIF(ESCALA!$B$14:$B$15,DADOS!K470,ESCALA!$I$14:$I$15)","v":18}]
[14800,14800,"MARILIA FERREIRA CRISPIM MARQUEZ","PROFESSOR (A) DE EDUCAÇÃO BASICA","CELETISTA","2023-02-18",30,"2024-02-18","2023-01-31","2024-01-31","14800-44975",{"$f":"G471-SUMIF(ESCALA!$B$14:$B$15,DADOS!K471,ESCALA!$I$14:$I$15)","v":30}]
[14803,14803,"VERA REGINA DA SILVA SANT ANA","PROFESSOR (A) DE EDUCACAO BASICA","CELETISTA","2023-01-01",30,"2024-01-01","2022-12-31","2023-12-31","14803-44927",{"$f":"G472-SUMIF(ESCALA!$B$14:$B$15,DADOS!K472,ESCALA!$I$14:$I$15)","v":30}]
[14816,14816,"MARIA APARECIDA FERREIRA DOS SANTOS","CHEFE DE SECAO ADMINISTRATIVA","CELETISTA","2022-02-16",30,"2023-02-16","2022-01-31","2023-01-31","14816-44608",{"$f":"G473-SUMIF(ESCALA!$B$14:$B$15,DADOS!K473,ESCALA!$I$14:$I$15)","v":30}]
[14816,14816,"MARIA APARECIDA FERREIRA DOS SANTOS","CHEFE DE SECAO ADMINISTRATIVA","CELETISTA","2023-02-16",30,"2024-02-16","2023-01-31","2024-01-31","14816-44973",{"$f":"G474-SUMIF(ESCALA!$B$14:$B$15,DADOS!K474,ESCALA!$I$14:$I$15)","v":30}]
[14837,14837,"MIRTIS PELEGRINI","PROFESSOR (A) DE EDUCACAO ESPECIAL","CELETISTA","2023-01-01",30,"2024-01-01","2022-12-31","2023-12-31","14837-44927",{"$f":"G475-SUMIF(ESCALA!$B$14:$B$15,DADOS!K475,ESCALA!$I$14:$I$15)","v":30}]
[14855,14855,"MARIELZA VICENTE BORBA","PROFESSOR (A) DE EDUCAÇÃO BÁSICA","CELETISTA","2023-01-01",30,"2024-01-01","2022-12-31","2023-12-31","14855-44927",{"$f":"G476-SUMIF(ESCALA!$B$14:$B$15,DADOS!K476,ESCALA!$I$14:$I$15)","v":30}]
[14882,14882,"JOSELITA PEREIRA DE JESUS","COZINHEIRO (A)","CELETISTA","2021-03-05",30,"2022-03-05","2021-02-28","2022-02-28","14882-44260",{"$f":"G477-SUMIF(ESCALA!$B$14:$B$15,DADOS!K477,ESCALA!$I$14:$I$15)","v":30}]
[14883,14883,"NADJA MARIA CHAVES ALBUQUERQUE","COZINHEIRO (A)","CELETISTA","2022-11-03",30,"2023-11-03","2022-10-31","2023-10-31","14883-44868",{"$f":"G478-SUMIF(ESCALA!$B$14:$B$15,DADOS!K478,ESCALA!$I$14:$I$15)","v":30}]
[14883,14883,"NADJA MARIA CHAVES ALBUQUERQUE","COZINHEIRO (A)","CELETISTA","2023-11-03",30,"2024-11-03","2023-10-31","2024-10-31","14883-45233",{"$f":"G479-SUMIF(ESCALA!$B$14:$B$15,DADOS!K479,ESCALA!$I$14:$I$15)","v":30}]
[14911,14911,"PRISCILA SIMONETTE RODRIGUES","PROFESSOR (A) DE EDUCACAO BASICA","CELETISTA","2023-01-01",30,"2024-01-01","2022-12-31","2023-12-31","14911-44927",{"$f":"G480-SUMIF(ESCALA!$B$14:$B$15,DADOS!K480,ESCALA!$I$14:$I$15)","v":30}]
[14957,14957,"RITA DE CASSIA TAVARES DE SANTANA","PROFESSOR (A) DE EDUCAÇÃO BÁSICA","CELETISTA","2023-01-01",30,"2024-01-01","2022-12-31","2023-12-31","14957-44927",{"$f":"G481-SUMIF(ESCALA!$B$14:$B$15,DADOS!K481,ESCALA!$I$14:$I$15)","v":30}]
[14962,14962,"SUELI MARIANA DE MEDEIROS","PSICOLOGO (A) ESCOLAR","CELETISTA","2022-03-16",20,"2023-03-16","2022-02-28","2023-02-28","14962-44636",{"$f":"G482-SUMIF(ESCALA!$B$14:$B$15,DADOS!K482,ESCALA!$I$14:$I$15)","v":20}]
[14962,14962,"SUELI MARIANA DE MEDEIROS","PSICOLOGO (A) ESCOLAR","CELETISTA","2023-03-16",30,"2024-03-16","2023-02-28","2024-02-29","14962-45001",{"$f":"G483-SUMIF(ESCALA!$B$14:$B$15,DADOS!K483,ESCALA!$I$14:$I$15)","v":30}]
[15098,15098,"DEBORA SANTOS JOAO DE DEUS","COZINHEIRO (A)","ESTATUTARIO","2022-04-07",30,"2023-04-07","2022-04-30","2023-03-31","15098-44658",{"$f":"G484-SUMIF(ESCALA!$B$14:$B$15,DADOS!K484,ESCALA!$I$14:$I$15)","v":30}]
[15098,15098,"DEBORA SANTOS JOAO DE DEUS","COZINHEIRO (A)","ESTATUTARIO","2023-04-07",30,"2024-04-07","2023-04-30","2024-03-31","15098-45023",{"$f":"G485-SUMIF(ESCALA!$B$14:$B$15,DADOS!K485,ESCALA!$I$14:$I$15)","v":30}]
[15135,15135,"NOEMI COSTA DE OLIVEIRA","COZINHEIRO (A)","ESTATUTARIO","2022-04-12",30,"2023-04-12","2022-04-30","2023-03-31","15135-44663",{"$f":"G486-SUMIF(ESCALA!$B$14:$B$15,DADOS!K486,ESCALA!$I$14:$I$15)","v":30}]
[15135,15135,"NOEMI COSTA DE OLIVEIRA","COZINHEIRO (A)","ESTATUTARIO","2023-04-12",30,"2024-04-12","2023-04-30","2024-03-31","15135-45028",{"$f":"G487-SUMIF(ESCALA!$B$14:$B$15,DADOS!K487,ESCALA!$I$14:$I$15)","v":30}]
[15162,15162,"SILVIA ELI NUNES","COORDENADOR (A) DE PROGRAMAS EDUCACIONAIS","CELETISTA","2022-11-10",30,"2023-11-10","2022-10-31","2023-10-31","15162-44875",{"$f":"G488-SUMIF(ESCALA!$B$14:$B$15,DADOS!K488,ESCALA!$I$14:$I$15)","v":30}]
[15162,15162,"SILVIA ELI NUNES","COORDENADOR (A) DE PROGRAMAS EDUCACIONAIS","CELETISTA","2023-11-10",30,"2024-11-10","2023-10-31","2024-10-31","15162-45240",{"$f":"G489-SUMIF(ESCALA!$B$14:$B$15,DADOS!K489,ESCALA!$I$14:$I$15)","v":30}]
[15224,15224,"KATIA GOMES MOREIRA DOS SANTOS","PROFESSOR (A) DE EDUCAÇÃO BASICA","CELETISTA","2022-04-28",30,"2023-04-28","2022-03-31","2023-03-31","15224-44679",{"$f":"G490-SUMIF(ESCALA!$B$14:$B$15,DADOS!K490,ESCALA!$I$14:$I$15)","v":30}]
[15224,15224,"KATIA GOMES MOREIRA DOS SANTOS","PROFESSOR (A) DE EDUCAÇÃO BASICA","CELETISTA","2023-04-28",30,"2024-04-28","2023-03-31","2024-03-31","15224-45044",{"$f":"G491-SUMIF(ESCALA!$B$14:$B$15,DADOS!K491,ESCALA!$I$14:$I$15)","v":30}]
[15225,15225,"SELMA APARECIDA DA SILVA CANTUARIA","PROFESSOR (A) COORDENADOR (A)  PEDAGOGICO (A)","CELETISTA","2023-01-01",30,"2024-01-01","2022-12-31","2023-12-31","15225-44927",{"$f":"G492-SUMIF(ESCALA!$B$14:$B$15,DADOS!K492,ESCALA!$I$14:$I$15)","v":30}]
[15243,15243,"ALECSANDRO FERREIRA","ENCANADOR (A)","ESTATUTARIO","2023-01-11",30,"2024-01-11","2023-01-31","2023-12-31","15243-44937",{"$f":"G493-SUMIF(ESCALA!$B$14:$B$15,DADOS!K493,ESCALA!$I$14:$I$15)","v":30}]
[15249,15249,"SORAIA AHMAD MALAS YUSUF","PROFESSOR (A) COORDENADOR (A)  PEDAGOGICO (A)","CELETISTA","2022-11-13",24,"2023-11-13","2022-10-31","2023-10-31","15249-44878",{"$f":"G494-SUMIF(ESCALA!$B$14:$B$15,DADOS!K494,ESCALA!$I$14:$I$15)","v":24}]
[15249,15249,"SORAIA AHMAD MALAS YUSUF","PROFESSOR (A) COORDENADOR (A)  PEDAGOGICO (A)","CELETISTA","2023-11-13",30,"2024-11-13","2023-10-31","2024-10-31","15249-45243",{"$f":"G495-SUMIF(ESCALA!$B$14:$B$15,DADOS!K495,ESCALA!$I$14:$I$15)","v":30}]
[15298,15298,"CLAUDENIR MORAES SOUZA","CHEFE DE DIVISAO ADMINISTRATIVA","CELETISTA","2022-12-04",30,"2023-12-04","2022-11-30","2023-11-30","15298-44899",{"$f":"G496-SUMIF(ESCALA!$B$14:$B$15,DADOS!K496,ESCALA!$I$14:$I$15)","v":30}]
[15298,15298,"CLAUDENIR MORAES SOUZA","CHEFE DE DIVISAO ADMINISTRATIVA","CELETISTA","2023-12-04",30,"2024-12-04","2023-11-30","2024-11-30","15298-45264",{"$f":"G497-SUMIF(ESCALA!$B$14:$B$15,DADOS!K497,ESCALA!$I$14:$I$15)","v":30}]
[15356,15356,"EDENILSON DE SOUZA","AUXILIAR OPERACIONAL","ESTATUTARIO","2023-05-04",30,"2024-05-04","2023-05-31","2024-04-30","15356-45050",{"$f":"G498-SUMIF(ESCALA!$B$14:$B$15,DADOS!K498,ESCALA!$I$14:$I$15)","v":30}]
[15425,15425,"ANA MARIA DE AVILA VECHIATTO","PROFESSOR (A) DE EDUCAÇÃO BASICA","CELETISTA","2022-06-22",30,"2023-06-22","2022-05-31","2023-05-31","15425-44734",{"$f":"G499-SUMIF(ESCALA!$B$14:$B$15,DADOS!K499,ESCALA!$I$14:$I$15)","v":30}]
[15425,15425,"ANA MARIA DE AVILA VECHIATTO","PROFESSOR (A) DE EDUCAÇÃO BASICA","CELETISTA","2023-06-22",30,"2024-06-22","2023-05-31","2024-05-31","15425-45099",{"$f":"G500-SUMIF(ESCALA!$B$14:$B$15,DADOS!K500,ESCALA!$I$14:$I$15)","v":30}]
[15426,15426,"ANA PAULA FERREIRA TOPA","PROFESSOR (A) DE EDUCAÇÃO BÁSICA","CELETISTA","2022-12-20",30,"2023-12-20","2022-11-30","2023-11-30","15426-44915",{"$f":"G501-SUMIF(ESCALA!$B$14:$B$15,DADOS!K501,ESCALA!$I$14:$I$15)","v":30}]
[15426,15426,"ANA PAULA FERREIRA TOPA","PROFESSOR (A) DE EDUCAÇÃO BÁSICA","CELETISTA","2023-12-20",30,"2024-12-20","2023-11-30","2024-11-30","15426-45280",{"$f":"G502-SUMIF(ESCALA!$B$14:$B$15,DADOS!K502,ESCALA!$I$14:$I$15)","v":30}]
[15431,15431,"JOAO MARCOS FERREIRA","GUARDA III","CELETISTA","2023-05-04",30,"2024-05-04","2023-04-30","2024-04-30","15431-45050",{"$f":"G503-SUMIF(ESCALA!$B$14:$B$15,DADOS!K503,ESCALA!$I$14:$I$15)","v":30}]
[15436,15436,"MAGDA LUCIANA SOARES SANTOS","COZINHEIRO (A)","ESTATUTARIO","2022-05-14",5,"2023-05-14","2022-05-31","2023-04-30","15436-44695",{"$f":"G504-SUMIF(ESCALA!$B$14:$B$15,DADOS!K504,ESCALA!$I$14:$I$15)","v":5}]
[15436,15436,"MAGDA LUCIANA SOARES SANTOS","COZINHEIRO (A)","ESTATUTARIO","2023-05-14",30,"2024-05-14","2023-05-31","2024-04-30","15436-45060",{"$f":"G505-SUMIF(ESCALA!$B$14:$B$15,DADOS!K505,ESCALA!$I$14:$I$15)","v":30}]
[15483,15483,"GIANE CARVALHO BRITO","COZINHEIRO (A)","CELETISTA","2022-05-19",30,"2023-05-19","2022-04-30","2023-04-30","15483-44700",{"$f":"G506-SUMIF(ESCALA!$B$14:$B$15,DADOS!K506,ESCALA!$I$14:$I$15)","v":30}]
[15483,15483,"GIANE CARVALHO BRITO","COZINHEIRO (A)","CELETISTA","2023-05-19",30,"2024-05-19","2023-04-30","2024-04-30","15483-45065",{"$f":"G507-SUMIF(ESCALA!$B$14:$B$15,DADOS!K507,ESCALA!$I$14:$I$15)","v":30}]
[15484,15484,"IOLANDA DORTA OLIVEIRA","PROFESSOR (A) DE EDUCACAO BASICA","CELETISTA","2022-08-12",30,"2023-08-12","2022-07-31","2023-07-31","15484-44785",{"$f":"G508-SUMIF(ESCALA!$B$14:$B$15,DADOS!K508,ESCALA!$I$14:$I$15)","v":30}]
[15484,15484,"IOLANDA DORTA OLIVEIRA","PROFESSOR (A) DE EDUCACAO BASICA","CELETISTA","2023-08-12",30,"2024-08-12","2023-07-31","2024-07-31","15484-45150",{"$f":"G509-SUMIF(ESCALA!$B$14:$B$15,DADOS!K509,ESCALA!$I$14:$I$15)","v":30}]
[15504,15504,"CLADELICE FRANCOSO DE SOUZA USHIRO","VICE DIRETOR (A) SUBSTITUTO (A)","ESTATUTARIO","2022-12-12",30,"2023-12-12","2022-12-31","2023-11-30","15504-44907",{"$f":"G510-SUMIF(ESCALA!$B$14:$B$15,DADOS!K510,ESCALA!$I$14:$I$15)","v":30}]
[15504,15504,"CLADELICE FRANCOSO DE SOUZA USHIRO","VICE DIRETOR (A) SUBSTITUTO (A)","ESTATUTARIO","2023-12-12",30,"2024-12-12","2023-12-31","2024-11-30","15504-45272",{"$f":"G511-SUMIF(ESCALA!$B$14:$B$15,DADOS!K511,ESCALA!$I$14:$I$15)","v":30}]
[15505,15505,"ELAINE CRISTINA FRANCO","PROFESSOR (A) DE EDUCAÇÃO BASICA","CELETISTA","2023-01-01",30,"2024-01-01","2022-12-31","2023-12-31","15505-44927",{"$f":"G512-SUMIF(ESCALA!$B$14:$B$15,DADOS!K512,ESCALA!$I$14:$I$15)","v":30}]
[15554,15554,"EDNA ALVES","PROFESSOR (A) DE EDUCACAO BASICA","CELETISTA","2022-07-29",30,"2023-07-29","2022-06-30","2023-06-30","15554-44771",{"$f":"G513-SUMIF(ESCALA!$B$14:$B$15,DADOS!K513,ESCALA!$I$14:$I$15)","v":30}]
[15554,15554,"EDNA ALVES","PROFESSOR (A) DE EDUCACAO BASICA","CELETISTA","2023-07-29",30,"2024-07-29","2023-06-30","2024-06-30","15554-45136",{"$f":"G514-SUMIF(ESCALA!$B$14:$B$15,DADOS!K514,ESCALA!$I$14:$I$15)","v":30}]
[{"$f":"IF(L515=0,\"\",B515)","v":15624},15624,"MARIA DAS GRACAS VIEIRA COSTA","PROFESSOR (A) DE EDUCAÇÃO BÁSICA","CELETISTA","2023-01-01",30,{"$f":"IF(F515<=44985,F515+365,F515+366)","v":"2024-01-01"},"2022-12-31","2023-12-31",{"$f":"CONCATENATE(B515,\"-\",F515)","v":"15624-44927"},{"$f":"G515-SUMIF(ESCALA!$B$14:$B$15,DADOS!K515,ESCALA!$I$14:$I$15)","v":30}]
[15627,15627,"MARIA DOS SANTOS SOUSA SILVA","PROFESSOR (A) DE EDUCAÇÃO BASICA","CELETISTA","2023-01-01",30,"2024-01-01",{"$f":"IF(E516=\"ESTATUTARIO\",EOMONTH(F516,0),EOMONTH(F516,-1))","v":"2022-12-31"},{"$f":"EOMONTH(F516,11)","v":"2023-12-31"},"15627-44927",{"$f":"G516-SUMIF(ESCALA!$B$14:$B$15,DADOS!K516,ESCALA!$I$14:$I$15)","v":30}]
[15632,15632,"MARIA JOSE MENDES","COZINHEIRO (A)","CELETISTA","2022-06-01",30,"2023-06-01","2022-05-31","2023-05-31","15632-44713",{"$f":"G517-SUMIF(ESCALA!$B$14:$B$15,DADOS!K517,ESCALA!$I$14:$I$15)","v":30}]
[15632,15632,"MARIA JOSE MENDES","COZINHEIRO (A)","CELETISTA","2023-06-01",30,"2024-06-01","2023-05-31","2024-05-31","15632-45078",{"$f":"G518-SUMIF(ESCALA!$B$14:$B$15,DADOS!K518,ESCALA!$I$14:$I$15)","v":30}]
[15644,15644,"MARCO AURELIO SILVA","AGENTE DE MANUTENCAO DE AUTOMOTORES","ESTATUTARIO","2023-05-31",30,"2024-05-31","2023-05-31","2024-04-30","15644-45077",{"$f":"G519-SUMIF(ESCALA!$B$14:$B$15,DADOS!K519,ESCALA!$I$14:$I$15)","v":30}]
[15753,15753,"ANDREA MOSQUETTI MERCHEL CARVALHO","CHEFE DE SECAO TECNICA","ESTATUTARIO","2023-06-14",30,"2024-06-14","2023-06-30","2024-05-31","15753-45091",{"$f":"G520-SUMIF(ESCALA!$B$14:$B$15,DADOS!K520,ESCALA!$I$14:$I$15)","v":30}]
[15995,15995,"LUCIA BENEDITA ANACLETO","PROFESSOR (A) DE EDUCACAO ESPECIAL","CELETISTA","2023-01-01",30,"2024-01-01","2022-12-31","2023-12-31","15995-44927",{"$f":"G521-SUMIF(ESCALA!$B$14:$B$15,DADOS!K521,ESCALA!$I$14:$I$15)","v":30}]
[16026,16026,"JANE MARY CARVALHO PAIXAO","COZINHEIRO (A)","CELETISTA","2022-08-02",30,"2023-08-02","2022-07-31","2023-07-31","16026-44775",{"$f":"G522-SUMIF(ESCALA!$B$14:$B$15,DADOS!K522,ESCALA!$I$14:$I$15)","v":30}]
[16026,16026,"JANE MARY CARVALHO PAIXAO","COZINHEIRO (A)","CELETISTA","2023-08-02",30,"2024-08-02","2023-07-31","2024-07-31","16026-45140",{"$f":"G523-SUMIF(ESCALA!$B$14:$B$15,DADOS!K523,ESCALA!$I$14:$I$15)","v":30}]
[16313,16313,"DALVA MARIA DA CRUZ","COZINHEIRO (A)","CELETISTA","2022-07-16",30,"2023-07-16","2022-06-30","2023-06-30","16313-44758",{"$f":"G524-SUMIF(ESCALA!$B$14:$B$15,DADOS!K524,ESCALA!$I$14:$I$15)","v":30}]
[16313,16313,"DALVA MARIA DA CRUZ","COZINHEIRO (A)","CELETISTA","2023-07-16",30,"2024-07-16","2023-06-30","2024-06-30","16313-45123",{"$f":"G525-SUMIF(ESCALA!$B$14:$B$15,DADOS!K525,ESCALA!$I$14:$I$15)","v":30}]
[16315,16315,"MARIA VITORIA BATISTA DE OLIVEIRA","COZINHEIRO (A)","CELETISTA","2022-07-19",30,"2023-07-19","2022-06-30","2023-06-30","16315-44761",{"$f":"G526-SUMIF(ESCALA!$B$14:$B$15,DADOS!K526,ESCALA!$I$14:$I$15)","v":30}]
[16315,16315,"MARIA VITORIA BATISTA DE OLIVEIRA","COZINHEIRO (A)","CELETISTA","2023-07-19",30,"2024-07-19","2023-06-30","2024-06-30","16315-45126",{"$f":"G527-SUMIF(ESCALA!$B$14:$B$15,DADOS!K527,ESCALA!$I$14:$I$15)","v":30}]
[16316,16316,"MARLI INES DAS CHAGAS","COZINHEIRO (A)","CELETISTA","2022-07-19",30,"2023-07-19","2022-06-30","2023-06-30","16316-44761",{"$f":"G528-SUMIF(ESCALA!$B$14:$B$15,DADOS!K528,ESCALA!$I$14:$I$15)","v":30}]
[16316,16316,"MARLI INES DAS CHAGAS","COZINHEIRO (A)","CELETISTA","2023-07-19",30,"2024-07-19","2023-06-30","2024-06-30","16316-45126",{"$f":"G529-SUMIF(ESCALA!$B$14:$B$15,DADOS!K529,ESCALA!$I$14:$I$15)","v":30}]
[16317,16317,"MARLENE SILVA COSTA","COZINHEIRO (A)","CELETISTA","2022-07-19",30,"2023-07-19","2022-06-30","2023-06-30","16317-44761",{"$f":"G530-SUMIF(ESCALA!$B$14:$B$15,DADOS!K530,ESCALA!$I$14:$I$15)","v":30}]
[16317,16317,"MARLENE SILVA COSTA","COZINHEIRO (A)","CELETISTA","2023-07-19",30,"2024-07-19","2023-06-30","2024-06-30","16317-45126",{"$f":"G531-SUMIF(ESCALA!$B$14:$B$15,DADOS!K531,ESCALA!$I$14:$I$15)","v":30}]
[16437,16437,"ANGELICA CARDENA","SUPERVISÃO DE SETOR","CELETISTA","2022-07-29",30,"2023-07-29","2022-06-30","2023-06-30","16437-44771",{"$f":"G532-SUMIF(ESCALA!$B$14:$B$15,DADOS!K532,ESCALA!$I$14:$I$15)","v":30}]
[16437,16437,"ANGELICA CARDENA","SUPERVISÃO DE SETOR","CELETISTA","2023-07-29",30,"2024-07-29","2023-06-30","2024-06-30","16437-45136",{"$f":"G533-SUMIF(ESCALA!$B$14:$B$15,DADOS!K533,ESCALA!$I$14:$I$15)","v":30}]
[16438,16438,"ELVIRA AYALA MENDES","COZINHEIRO (A)","CELETISTA","2022-02-15",30,"2023-02-15","2022-01-31","2023-01-31","16438-44607",{"$f":"G534-SUMIF(ESCALA!$B$14:$B$15,DADOS!K534,ESCALA!$I$14:$I$15)","v":30}]
[16438,16438,"ELVIRA AYALA MENDES","COZINHEIRO (A)","CELETISTA","2023-02-15",30,"2024-02-15","2023-01-31","2024-01-31","16438-44972",{"$f":"G535-SUMIF(ESCALA!$B$14:$B$15,DADOS!K535,ESCALA!$I$14:$I$15)","v":30}]
[16501,16501,"DILMA GOMES DE OLIVEIRA SOUSA","PROFESSOR (A) DE EDUCACAO BASICA","CELETISTA","2023-01-01",30,"2024-01-01","2022-12-31","2023-12-31","16501-44927",{"$f":"G536-SUMIF(ESCALA!$B$14:$B$15,DADOS!K536,ESCALA!$I$14:$I$15)","v":30}]
[16505,16505,"SUZANI MARIA COLOMBO DIOTTI JOSE","VICE DIRETOR (A) SUBSTITUTO (A)","CELETISTA","2023-01-01",30,"2024-01-01","2022-12-31","2023-12-31","16505-44927",{"$f":"G537-SUMIF(ESCALA!$B$14:$B$15,DADOS!K537,ESCALA!$I$14:$I$15)","v":30}]
[16552,16552,"CLEIDE APARECIDA COSTA","COORDENADOR (A) DE PROGRAMAS EDUCACIONAIS","CELETISTA","2023-01-01",30,"2024-01-01","2022-12-31","2023-12-31","16552-44927",{"$f":"G538-SUMIF(ESCALA!$B$14:$B$15,DADOS!K538,ESCALA!$I$14:$I$15)","v":30}]
[16553,16553,"DIJANEIDE VICENTE DE ALBUQUERQUE","DIRETOR (A) DE ESCOLA","CELETISTA","2023-01-01",30,"2024-01-01","2022-12-31","2023-12-31","16553-44927",{"$f":"G539-SUMIF(ESCALA!$B$14:$B$15,DADOS!K539,ESCALA!$I$14:$I$15)","v":30}]
[16557,16557,"LUZIA DE CASSIA DESIDERIO E SOUZA","PROFESSOR (A) DE EDUCAÇÃO BASICA","CELETISTA","2023-01-01",30,"2024-01-01","2022-12-31","2023-12-31","16557-44927",{"$f":"G540-SUMIF(ESCALA!$B$14:$B$15,DADOS!K540,ESCALA!$I$14:$I$15)","v":30}]
[16558,16558,"MEIRY AKEMY UEMURA","PROFESSOR (A) DE EDUCACAO ESPECIAL","ESTATUTARIO","2022-08-14",30,"2023-08-14","2022-08-31","2023-07-31","16558-44787",{"$f":"G541-SUMIF(ESCALA!$B$14:$B$15,DADOS!K541,ESCALA!$I$14:$I$15)","v":30}]
[16558,16558,"MEIRY AKEMY UEMURA","PROFESSOR (A) DE EDUCACAO ESPECIAL","ESTATUTARIO","2023-08-14",30,"2024-08-14","2023-08-31","2024-07-31","16558-45152",{"$f":"G542-SUMIF(ESCALA!$B$14:$B$15,DADOS!K542,ESCALA!$I$14:$I$15)","v":30}]
[16559,16559,"RICARDO CESAR","PROFESSOR (A) COORDENADOR (A)  PEDAGOGICO (A)","CELETISTA","2023-01-01",30,"2024-01-01","2022-12-31","2023-12-31","16559-44927",{"$f":"G543-SUMIF(ESCALA!$B$14:$B$15,DADOS!K543,ESCALA!$I$14:$I$15)","v":30}]
[16621,16621,"CRISTIANE FURINI","PROFESSOR (A) COORDENADOR (A)  PEDAGOGICO (A)","CELETISTA","2023-01-01",30,"2024-01-01","2022-12-31","2023-12-31","16621-44927",{"$f":"G544-SUMIF(ESCALA!$B$14:$B$15,DADOS!K544,ESCALA!$I$14:$I$15)","v":30}]
[17059,17059,"CLEIDE RENESTO DE SOUZA","VICE-DIRETOR (A) DE ESCOLA","CELETISTA","2023-01-01",30,"2024-01-01","2022-12-31","2023-12-31","17059-44927",{"$f":"G545-SUMIF(ESCALA!$B$14:$B$15,DADOS!K545,ESCALA!$I$14:$I$15)","v":30}]
[17065,17065,"MARIZA FIUME GARCIA","PROFESSOR (A) DE EDUCAÇÃO BASICA","CELETISTA","2023-01-01",30,"2024-01-01","2022-12-31","2023-12-31","17065-44927",{"$f":"G546-SUMIF(ESCALA!$B$14:$B$15,DADOS!K546,ESCALA!$I$14:$I$15)","v":30}]
[17067,17067,"SIMONE RODRIGUES MONTEIRO BRAZAN","PROFESSOR (A) DE EDUCAÇÃO BASICA","CELETISTA","2022-09-09",30,"2023-09-09","2022-08-31","2023-08-31","17067-44813",{"$f":"G547-SUMIF(ESCALA!$B$14:$B$15,DADOS!K547,ESCALA!$I$14:$I$15)","v":30}]
[17067,17067,"SIMONE RODRIGUES MONTEIRO BRAZAN","PROFESSOR (A) DE EDUCAÇÃO BASICA","CELETISTA","2023-09-09",30,"2024-09-09","2023-08-31","2024-08-31","17067-45178",{"$f":"G548-SUMIF(ESCALA!$B$14:$B$15,DADOS!K548,ESCALA!$I$14:$I$15)","v":30}]
[17082,17082,"ROSANGELA ANDRADE DA SILVA","PROFESSOR (A) DE EDUCAÇÃO BÁSICA","CELETISTA","2023-01-01",30,"2024-01-01","2022-12-31","2023-12-31","17082-44927",{"$f":"G549-SUMIF(ESCALA!$B$14:$B$15,DADOS!K549,ESCALA!$I$14:$I$15)","v":30}]
[17127,17127,"DARCILIA DA CUNHA PINHEIRO COSTA","PROFESSOR (A) DE EDUCAÇÃO BASICA","CELETISTA","2023-01-01",30,"2024-01-01","2022-12-31","2023-12-31","17127-44927",{"$f":"G550-SUMIF(ESCALA!$B$14:$B$15,DADOS!K550,ESCALA!$I$14:$I$15)","v":30}]
[17130,17130,"ELIUDE ROSA DA SILVA","PROFESSOR (A) DE EDUCAÇÃO BASICA","CELETISTA","2022-08-30",24,"2023-08-30","2022-07-31","2023-07-31","17130-44803",{"$f":"G551-SUMIF(ESCALA!$B$14:$B$15,DADOS!K551,ESCALA!$I$14:$I$15)","v":24}]
[17130,17130,"ELIUDE ROSA DA SILVA","PROFESSOR (A) DE EDUCAÇÃO BASICA","CELETISTA","2023-08-30",30,"2024-08-30","2023-07-31","2024-07-31","17130-45168",{"$f":"G552-SUMIF(ESCALA!$B$14:$B$15,DADOS!K552,ESCALA!$I$14:$I$15)","v":30}]
[17137,17137,"SILVANA SOFIA STAGNO","PROFESSOR (A) DE EDUCACAO BASICA","CELETISTA","2023-01-01",30,"2024-01-01","2022-12-31","2023-12-31","17137-44927",{"$f":"G553-SUMIF(ESCALA!$B$14:$B$15,DADOS!K553,ESCALA!$I$14:$I$15)","v":30}]
[17151,17151,"SANDRA CRISTINA APARECIDA BIANCHI DA SILVA","PROFESSOR (A) COORDENADOR (A)  PEDAGOGICO (A)","CELETISTA","2023-01-01",30,"2024-01-01","2022-12-31","2023-12-31","17151-44927",{"$f":"G554-SUMIF(ESCALA!$B$14:$B$15,DADOS!K554,ESCALA!$I$14:$I$15)","v":30}]
[17154,17154,"WANDA CRISTIANO","PROFESSOR (A) DE EDUCAÇÃO BASICA","CELETISTA","2023-01-01",30,"2024-01-01","2022-12-31","2023-12-31","17154-44927",{"$f":"G555-SUMIF(ESCALA!$B$14:$B$15,DADOS!K555,ESCALA!$I$14:$I$15)","v":30}]
[17294,17294,"SANDRA APARECIDA DA SILVA","COORDENADOR (A) DE PROGRAMAS EDUCACIONAIS","CELETISTA","2023-01-01",30,"2024-01-01","2022-12-31","2023-12-31","17294-44927",{"$f":"G556-SUMIF(ESCALA!$B$14:$B$15,DADOS!K556,ESCALA!$I$14:$I$15)","v":30}]
[17427,17427,"HELENISE PERALTA LEMES DOS ANJOS ","PROFESSOR (A) DE EDUCACAO BASICA","CELETISTA","2023-01-01",30,"2024-01-01","2022-12-31","2023-12-31","17427-44927",{"$f":"G557-SUMIF(ESCALA!$B$14:$B$15,DADOS!K557,ESCALA!$I$14:$I$15)","v":30}]
[17472,17472,"GISELA MAYUMI KODAMA","NUTRICIONISTA","ESTATUTARIO","2022-06-14",15,"2023-06-14","2022-06-30","2023-05-31","17472-44726",{"$f":"G558-SUMIF(ESCALA!$B$14:$B$15,DADOS!K558,ESCALA!$I$14:$I$15)","v":15}]
[17472,17472,"GISELA MAYUMI KODAMA","NUTRICIONISTA","ESTATUTARIO","2023-06-14",30,"2024-06-14","2023-06-30","2024-05-31","17472-45091",{"$f":"G559-SUMIF(ESCALA!$B$14:$B$15,DADOS!K559,ESCALA!$I$14:$I$15)","v":30}]
[17588,17588,"MARIA APARECIDA LOPES","AUXILIAR OPERACIONAL","CELETISTA","2022-07-05",30,"2023-07-05","2022-06-30","2023-06-30","17588-44747",{"$f":"G560-SUMIF(ESCALA!$B$14:$B$15,DADOS!K560,ESCALA!$I$14:$I$15)","v":30}]
[17588,17588,"MARIA APARECIDA LOPES","AUXILIAR OPERACIONAL","CELETISTA","2023-07-05",30,"2024-07-05","2023-06-30","2024-06-30","17588-45112",{"$f":"G561-SUMIF(ESCALA!$B$14:$B$15,DADOS!K561,ESCALA!$I$14:$I$15)","v":30}]
[17641,17641,"MARCIA MARIA FERIA SILVA","CHEFE DE DIVISAO TECNICA","ESTATUTARIO","2022-07-15",10,"2023-07-15","2022-07-31","2023-06-30","17641-44757",{"$f":"G562-SUMIF(ESCALA!$B$14:$B$15,DADOS!K562,ESCALA!$I$14:$I$15)","v":10}]
[17641,17641,"MARCIA MARIA FERIA SILVA","CHEFE DE DIVISAO TECNICA","ESTATUTARIO","2023-07-15",30,"2024-07-15","2023-07-31","2024-06-30","17641-45122",{"$f":"G563-SUMIF(ESCALA!$B$14:$B$15,DADOS!K563,ESCALA!$I$14:$I$15)","v":30}]
[17704,17704,"ADRIANA PAULILLO","PROFESSOR (A) DE EDUCACAO ESPECIAL","CELETISTA","2023-01-01",30,"2024-01-01","2022-12-31","2023-12-31","17704-44927",{"$f":"G564-SUMIF(ESCALA!$B$14:$B$15,DADOS!K564,ESCALA!$I$14:$I$15)","v":30}]
[17766,17766,"MARCELO MANOEL DA SILVA","AUXILIAR OPERACIONAL","ESTATUTARIO","2023-05-21",30,"2024-05-21","2023-05-31","2024-04-30","17766-45067",{"$f":"G565-SUMIF(ESCALA!$B$14:$B$15,DADOS!K565,ESCALA!$I$14:$I$15)","v":30}]
[17869,17869,"VANIA BORGES DE OLIVEIRA","AGENTE DE ADMINISTRAÇÃO D","ESTATUTARIO","2022-09-28",15,"2023-09-28","2022-09-30","2023-08-31","17869-44832",{"$f":"G566-SUMIF(ESCALA!$B$14:$B$15,DADOS!K566,ESCALA!$I$14:$I$15)","v":15}]
[17869,17869,"VANIA BORGES DE OLIVEIRA","AGENTE DE ADMINISTRAÇÃO D","ESTATUTARIO","2023-09-28",30,"2024-09-28","2023-09-30","2024-08-31","17869-45197",{"$f":"G567-SUMIF(ESCALA!$B$14:$B$15,DADOS!K567,ESCALA!$I$14:$I$15)","v":30}]
[17901,17901,"LUIS CARLOS DA SILVA","MOTORISTA","CELETISTA","2022-07-03",15,"2023-07-03","2022-06-30","2023-06-30","17901-44745",{"$f":"G568-SUMIF(ESCALA!$B$14:$B$15,DADOS!K568,ESCALA!$I$14:$I$15)","v":15}]
[17901,17901,"LUIS CARLOS DA SILVA","MOTORISTA","CELETISTA","2023-07-03",30,"2024-07-03","2023-06-30","2024-06-30","17901-45110",{"$f":"G569-SUMIF(ESCALA!$B$14:$B$15,DADOS!K569,ESCALA!$I$14:$I$15)","v":30}]
[17947,17947,"JAIR JOSE PINA","GUARDA III","CELETISTA","2023-10-18",30,"2024-10-18","2023-09-30","2024-09-30","17947-45217",{"$f":"G570-SUMIF(ESCALA!$B$14:$B$15,DADOS!K570,ESCALA!$I$14:$I$15)","v":30}]
[18237,18237,"NAILDA PEREIRA DE OLIVEIRA","COZINHEIRO (A)","CELETISTA","2023-01-23",30,"2024-01-23","2022-12-31","2023-12-31","18237-44949",{"$f":"G571-SUMIF(ESCALA!$B$14:$B$15,DADOS!K571,ESCALA!$I$14:$I$15)","v":30}]
[18250,18250,"ANTONIA CARRASCAL LORENSO","COZINHEIRO (A)","CELETISTA","2023-01-01",30,"2024-01-01","2022-12-31","2023-12-31","18250-44927",{"$f":"G572-SUMIF(ESCALA!$B$14:$B$15,DADOS!K572,ESCALA!$I$14:$I$15)","v":30}]
[18265,18265,"ANA MARIA SALVADOR PAVANELO","COZINHEIRO (A)","CELETISTA","2023-02-09",24,"2024-02-09","2023-01-31","2024-01-31","18265-44966",{"$f":"G573-SUMIF(ESCALA!$B$14:$B$15,DADOS!K573,ESCALA!$I$14:$I$15)","v":24}]
[18283,18283,"REGINA APARECIDA TEUBNER","COZINHEIRO (A)","CELETISTA","2023-01-30",30,"2024-01-30","2022-12-31","2023-12-31","18283-44956",{"$f":"G574-SUMIF(ESCALA!$B$14:$B$15,DADOS!K574,ESCALA!$I$14:$I$15)","v":30}]
[18320,18320,"MARIA CRISTINA ZIMA BORSARI MESQUITA MAURICIO","PROFESSOR (A) DE EDUCAÇÃO BASICA","CELETISTA","2022-02-01",30,"2023-02-01","2022-01-31","2023-01-31","18320-44593",{"$f":"G575-SUMIF(ESCALA!$B$14:$B$15,DADOS!K575,ESCALA!$I$14:$I$15)","v":30}]
[18320,18320,"MARIA CRISTINA ZIMA BORSARI MESQUITA MAURICIO","PROFESSOR (A) DE EDUCAÇÃO BASICA","CELETISTA","2023-02-01",30,"2024-02-01","2023-01-31","2024-01-31","18320-44958",{"$f":"G576-SUMIF(ESCALA!$B$14:$B$15,DADOS!K576,ESCALA!$I$14:$I$15)","v":30}]
[18328,18328,"SALI AGUIAR LUCCAS DE OLIVEIRA","ASSISTENTE DE GESTÃO ESCOLAR","CELETISTA","2023-01-31",30,"2024-01-31","2022-12-31","2023-12-31","18328-44957",{"$f":"G577-SUMIF(ESCALA!$B$14:$B$15,DADOS!K577,ESCALA!$I$14:$I$15)","v":30}]
[18329,18329,"SANDRA APARECIDA DA SILVA GALVAO","SUPERVISÃO DE SETOR","CELETISTA","2022-02-01",10,"2023-02-01","2022-01-31","2023-01-31","18329-44593",{"$f":"G578-SUMIF(ESCALA!$B$14:$B$15,DADOS!K578,ESCALA!$I$14:$I$15)","v":10}]
[{"$f":"IF(L579=0,\"\",B579)","v":18329},18329,"SANDRA APARECIDA DA SILVA GALVAO","SUPERVISÃO DE SETOR","CELETISTA","2023-02-01",30,{"$f":"IF(F579<=44985,F579+365,F579+366)","v":"2024-02-01"},"2023-01-31","2024-01-31",{"$f":"CONCATENATE(B579,\"-\",F579)","v":"18329-44958"},{"$f":"G579-SUMIF(ESCALA!$B$14:$B$15,DADOS!K579,ESCALA!$I$14:$I$15)","v":30}]
[18332,18332,"DIRCE MAGALHAES MARQUES","COZINHEIRO (A)","ESTATUTARIO","2022-08-11",30,"2023-08-11",{"$f":"IF(E580=\"ESTATUTARIO\",EOMONTH(F580,0),EOMONTH(F580,-1))","v":"2022-08-31"},{"$f":"EOMONTH(F580,11)","v":"2023-07-31"},"18332-44784",{"$f":"G580-SUMIF(ESCALA!$B$14:$B$15,DADOS!K580,ESCALA!$I$14:$I$15)","v":30}]
[18332,18332,"DIRCE MAGALHAES MARQUES","COZINHEIRO (A)","ESTATUTARIO","2023-08-11",30,"2024-08-11","2023-08-31","2024-07-31","18332-45149",{"$f":"G581-SUMIF(ESCALA!$B$14:$B$15,DADOS!K581,ESCALA!$I$14:$I$15)","v":30}]
[18351,18351,"JANETE DO CARMO DO NASCIMENTO","COZINHEIRO (A)","CELETISTA","2022-07-08",30,"2023-07-08","2022-06-30","2023-06-30","18351-44750",{"$f":"G582-SUMIF(ESCALA!$B$14:$B$15,DADOS!K582,ESCALA!$I$14:$I$15)","v":30}]
[18351,18351,"JANETE DO CARMO DO NASCIMENTO","COZINHEIRO (A)","CELETISTA","2023-07-08",30,"2024-07-08","2023-06-30","2024-06-30","18351-45115",{"$f":"G583-SUMIF(ESCALA!$B$14:$B$15,DADOS!K583,ESCALA!$I$14:$I$15)","v":30}]
[18364,18364,"ZORAIDE DE SOUZA","COZINHEIRO (A)","CELETISTA","2022-02-06",30,"2023-02-06","2022-01-31","2023-01-31","18364-44598",{"$f":"G584-SUMIF(ESCALA!$B$14:$B$15,DADOS!K584,ESCALA!$I$14:$I$15)","v":30}]
[18364,18364,"ZORAIDE DE SOUZA","COZINHEIRO (A)","CELETISTA","2023-02-06",30,"2024-02-06","2023-01-31","2024-01-31","18364-44963",{"$f":"G585-SUMIF(ESCALA!$B$14:$B$15,DADOS!K585,ESCALA!$I$14:$I$15)","v":30}]
[18483,18483,"MARIA INES DA CONCEICAO SIMOES","COZINHEIRO (A)","CELETISTA","2022-03-02",30,"2023-03-02","2022-02-28","2023-02-28","18483-44622",{"$f":"G586-SUMIF(ESCALA!$B$14:$B$15,DADOS!K586,ESCALA!$I$14:$I$15)","v":30}]
[18483,18483,"MARIA INES DA CONCEICAO SIMOES","COZINHEIRO (A)","CELETISTA","2023-03-02",30,"2024-03-02","2023-02-28","2024-02-29","18483-44987",{"$f":"G587-SUMIF(ESCALA!$B$14:$B$15,DADOS!K587,ESCALA!$I$14:$I$15)","v":30}]
[18514,18514,"ELAINE CRISTINA PALMA","PROFESSOR (A) DE EDUCAÇÃO BASICA","CELETISTA","2022-03-17",30,"2023-03-17","2022-02-28","2023-02-28","18514-44637",{"$f":"G588-SUMIF(ESCALA!$B$14:$B$15,DADOS!K588,ESCALA!$I$14:$I$15)","v":30}]
[18514,18514,"ELAINE CRISTINA PALMA","PROFESSOR (A) DE EDUCAÇÃO BASICA","CELETISTA","2023-03-17",30,"2024-03-17","2023-02-28","2024-02-29","18514-45002",{"$f":"G589-SUMIF(ESCALA!$B$14:$B$15,DADOS!K589,ESCALA!$I$14:$I$15)","v":30}]
[18515,18515,"ELADE MIRANDA MOTA NOGUEIRA","PROFESSOR (A) DE EDUCACAO BASICA","ESTATUTARIO","2023-01-01",30,"2024-01-01","2023-01-31","2023-12-31","18515-44927",{"$f":"G590-SUMIF(ESCALA!$B$14:$B$15,DADOS!K590,ESCALA!$I$14:$I$15)","v":30}]
[18516,18516,"ELIANA RODRIGUES SOARES DOS SANTOS","PROFESSOR (A) DE EDUCAÇÃO BASICA","CELETISTA","2023-01-01",30,"2024-01-01","2022-12-31","2023-12-31","18516-44927",{"$f":"G591-SUMIF(ESCALA!$B$14:$B$15,DADOS!K591,ESCALA!$I$14:$I$15)","v":30}]
[18519,18519,"IARA SOARES PIAZENT","PROFESSOR (A) DE EDUCAÇÃO BASICA","CELETISTA","2022-10-18",24,"2023-10-18","2022-09-30","2023-09-30","18519-44852",{"$f":"G592-SUMIF(ESCALA!$B$14:$B$15,DADOS!K592,ESCALA!$I$14:$I$15)","v":24}]
[18519,18519,"IARA SOARES PIAZENT","PROFESSOR (A) DE EDUCAÇÃO BASICA","CELETISTA","2023-10-18",30,"2024-10-18","2023-09-30","2024-09-30","18519-45217",{"$f":"G593-SUMIF(ESCALA!$B$14:$B$15,DADOS!K593,ESCALA!$I$14:$I$15)","v":30}]
[18527,18527,"LANA VENANCIO SARPIERI","PROFESSOR (A) DE EDUCAÇÃO BASICA","CELETISTA","2023-03-02",30,"2024-03-02","2023-02-28","2024-02-29","18527-44987",{"$f":"G594-SUMIF(ESCALA!$B$14:$B$15,DADOS!K594,ESCALA!$I$14:$I$15)","v":30}]
[18528,18528,"LUCIA AGUIAR DE MACEDO","COZINHEIRO (A)","CELETISTA","2022-11-09",30,"2023-11-09","2022-10-31","2023-10-31","18528-44874",{"$f":"G595-SUMIF(ESCALA!$B$14:$B$15,DADOS!K595,ESCALA!$I$14:$I$15)","v":30}]
[18528,18528,"LUCIA AGUIAR DE MACEDO","COZINHEIRO (A)","CELETISTA","2023-11-09",30,"2024-11-09","2023-10-31","2024-10-31","18528-45239",{"$f":"G596-SUMIF(ESCALA!$B$14:$B$15,DADOS!K596,ESCALA!$I$14:$I$15)","v":30}]
[18532,18532,"MARIA APARECIDA CANDIDA GONCALVES","DIRETOR (A) DE ESCOLA","CELETISTA","2022-03-27",30,"2023-03-27","2022-02-28","2023-02-28","18532-44647",{"$f":"G597-SUMIF(ESCALA!$B$14:$B$15,DADOS!K597,ESCALA!$I$14:$I$15)","v":30}]
[18532,18532,"MARIA APARECIDA CANDIDA GONCALVES","DIRETOR (A) DE ESCOLA","CELETISTA","2023-03-27",30,"2024-03-27","2023-02-28","2024-02-29","18532-45012",{"$f":"G598-SUMIF(ESCALA!$B$14:$B$15,DADOS!K598,ESCALA!$I$14:$I$15)","v":30}]
[18545,18545,"ROSELENE FERRAZ DE ALENCAR","PROFESSOR (A) DE EDUCAÇÃO BÁSICA","CELETISTA","2023-01-01",30,"2024-01-01","2022-12-31","2023-12-31","18545-44927",{"$f":"G599-SUMIF(ESCALA!$B$14:$B$15,DADOS!K599,ESCALA!$I$14:$I$15)","v":30}]
[18557,18557,"ANTONIO DE SOUZA SANTOS","ASSISTENTE DE GESTÃO ESCOLAR","CELETISTA","2022-04-10",30,"2023-04-10","2022-03-31","2023-03-31","18557-44661",{"$f":"G600-SUMIF(ESCALA!$B$14:$B$15,DADOS!K600,ESCALA!$I$14:$I$15)","v":30}]
[18557,18557,"ANTONIO DE SOUZA SANTOS","ASSISTENTE DE GESTÃO ESCOLAR","CELETISTA","2023-04-10",30,"2024-04-10","2023-03-31","2024-03-31","18557-45026",{"$f":"G601-SUMIF(ESCALA!$B$14:$B$15,DADOS!K601,ESCALA!$I$14:$I$15)","v":30}]
[18575,18575,"ANA MARIA MAGNANI DA SILVA","PROFESSOR (A) DE EDUCAÇÃO BASICA","CELETISTA","2022-03-11",30,"2023-03-11","2022-02-28","2023-02-28","18575-44631",{"$f":"G602-SUMIF(ESCALA!$B$14:$B$15,DADOS!K602,ESCALA!$I$14:$I$15)","v":30}]
[18575,18575,"ANA MARIA MAGNANI DA SILVA","PROFESSOR (A) DE EDUCAÇÃO BASICA","CELETISTA","2023-03-11",30,"2024-03-11","2023-02-28","2024-02-29","18575-44996",{"$f":"G603-SUMIF(ESCALA!$B$14:$B$15,DADOS!K603,ESCALA!$I$14:$I$15)","v":30}]
[18576,18576,"CECILIA MARTA DA SILVA","DIRETOR (A) DE ESCOLA","CELETISTA","2022-04-06",25,"2023-04-06","2022-03-31","2023-03-31","18576-44657",{"$f":"G604-SUMIF(ESCALA!$B$14:$B$15,DADOS!K604,ESCALA!$I$14:$I$15)","v":25}]
[18576,18576,"CECILIA MARTA DA SILVA","DIRETOR (A) DE ESCOLA","CELETISTA","2023-04-06",30,"2024-04-06","2023-03-31","2024-03-31","18576-45022",{"$f":"G605-SUMIF(ESCALA!$B$14:$B$15,DADOS!K605,ESCALA!$I$14:$I$15)","v":30}]
[18580,18580,"PAULETE RIBEIRO DA SILVA MOLINARI","PROFESSOR (A) DE EDUCAÇÃO BASICA","CELETISTA","2023-01-01",30,"2024-01-01","2022-12-31","2023-12-31","18580-44927",{"$f":"G606-SUMIF(ESCALA!$B$14:$B$15,DADOS!K606,ESCALA!$I$14:$I$15)","v":30}]
[18581,18581,"SILVIA CRISTINA GOZZI","PROFESSOR (A) DE EDUCAÇÃO BASICA","CELETISTA","2023-01-01",30,"2024-01-01","2022-12-31","2023-12-31","18581-44927",{"$f":"G607-SUMIF(ESCALA!$B$14:$B$15,DADOS!K607,ESCALA!$I$14:$I$15)","v":30}]
[18753,18753,"WAGNER RODRIGUES MOREIRA","AGENTE DE MANUTENCAO DE AUTOMOTORES","ESTATUTARIO","2023-05-23",30,"2024-05-23","2023-05-31","2024-04-30","18753-45069",{"$f":"G608-SUMIF(ESCALA!$B$14:$B$15,DADOS!K608,ESCALA!$I$14:$I$15)","v":30}]
[18756,18756,"ANA LUCIA CIRILLO DA SILVA","PROFESSOR (A) COORDENADOR (A)  PEDAGOGICO (A)","CELETISTA","2022-05-26",30,"2023-05-26","2022-04-30","2023-04-30","18756-44707",{"$f":"G609-SUMIF(ESCALA!$B$14:$B$15,DADOS!K609,ESCALA!$I$14:$I$15)","v":30}]
[18756,18756,"ANA LUCIA CIRILLO DA SILVA","PROFESSOR (A) COORDENADOR (A)  PEDAGOGICO (A)","CELETISTA","2023-05-26",30,"2024-05-26","2023-04-30","2024-04-30","18756-45072",{"$f":"G610-SUMIF(ESCALA!$B$14:$B$15,DADOS!K610,ESCALA!$I$14:$I$15)","v":30}]
[18758,18758,"CLAUDIA REGINA DE MOURA ALVES FREIRE","PROFESSOR (A) DE EDUCAÇÃO BASICA","CELETISTA","2022-11-21",30,"2023-11-21","2022-10-31","2023-10-31","18758-44886",{"$f":"G611-SUMIF(ESCALA!$B$14:$B$15,DADOS!K611,ESCALA!$I$14:$I$15)","v":30}]
[18758,18758,"CLAUDIA REGINA DE MOURA ALVES FREIRE","PROFESSOR (A) DE EDUCAÇÃO BASICA","CELETISTA","2023-11-21",30,"2024-11-21","2023-10-31","2024-10-31","18758-45251",{"$f":"G612-SUMIF(ESCALA!$B$14:$B$15,DADOS!K612,ESCALA!$I$14:$I$15)","v":30}]
[18777,18777,"JOSE ROBERTO DA SILVA","PROFESSOR (A) DE EDUCACAO BASICA","ESTATUTARIO","2022-05-29",30,"2023-05-29","2022-05-31","2023-04-30","18777-44710",{"$f":"G613-SUMIF(ESCALA!$B$14:$B$15,DADOS!K613,ESCALA!$I$14:$I$15)","v":30}]
[18777,18777,"JOSE ROBERTO DA SILVA","PROFESSOR (A) DE EDUCACAO BASICA","ESTATUTARIO","2023-05-29",30,"2024-05-29","2023-05-31","2024-04-30","18777-45075",{"$f":"G614-SUMIF(ESCALA!$B$14:$B$15,DADOS!K614,ESCALA!$I$14:$I$15)","v":30}]
[18798,18798,"EDNEUSA CREMA DE ANDRADE VALENCIANO","VICE-DIRETOR (A) DE ESCOLA","CELETISTA","2022-06-07",20,"2023-06-07","2022-05-31","2023-05-31","18798-44719",{"$f":"G615-SUMIF(ESCALA!$B$14:$B$15,DADOS!K615,ESCALA!$I$14:$I$15)","v":20}]
[18798,18798,"EDNEUSA CREMA DE ANDRADE VALENCIANO","VICE-DIRETOR (A) DE ESCOLA","CELETISTA","2023-06-07",30,"2024-06-07","2023-05-31","2024-05-31","18798-45084",{"$f":"G616-SUMIF(ESCALA!$B$14:$B$15,DADOS!K616,ESCALA!$I$14:$I$15)","v":30}]
[18800,18800,"FATIMA REGINA DE CARVALHO ARAUJO","VICE-DIRETOR (A) DE ESCOLA","CELETISTA","2022-05-31",15,"2023-05-31","2022-04-30","2023-04-30","18800-44712",{"$f":"G617-SUMIF(ESCALA!$B$14:$B$15,DADOS!K617,ESCALA!$I$14:$I$15)","v":15}]
[18800,18800,"FATIMA REGINA DE CARVALHO ARAUJO","VICE-DIRETOR (A) DE ESCOLA","CELETISTA","2023-05-31",30,"2024-05-31","2023-04-30","2024-04-30","18800-45077",{"$f":"G618-SUMIF(ESCALA!$B$14:$B$15,DADOS!K618,ESCALA!$I$14:$I$15)","v":30}]
[18802,18802,"IVONILDA APARECIDA DA SILVA CREMON","VICE-DIRETOR (A) DE ESCOLA","CELETISTA","2023-01-01",30,"2024-01-01","2022-12-31","2023-12-31","18802-44927",{"$f":"G619-SUMIF(ESCALA!$B$14:$B$15,DADOS!K619,ESCALA!$I$14:$I$15)","v":30}]
[18813,18813,"NEIDE DA SILVA","VICE DIRETOR (A) SUBSTITUTO (A)","CELETISTA","2023-01-01",30,"2024-01-01","2022-12-31","2023-12-31","18813-44927",{"$f":"G620-SUMIF(ESCALA!$B$14:$B$15,DADOS!K620,ESCALA!$I$14:$I$15)","v":30}]
[18871,18871,"DEBORAH LEA CORREA MIRANDA DA SILVA","PROFESSOR (A) DE EDUCAÇÃO BÁSICA","CELETISTA","2023-01-01",30,"2024-01-01","2022-12-31","2023-12-31","18871-44927",{"$f":"G621-SUMIF(ESCALA!$B$14:$B$15,DADOS!K621,ESCALA!$I$14:$I$15)","v":30}]
[18899,18899,"MARIA LENI LEONARDI ROCHA","PROFESSOR (A) DE EDUCACAO BASICA","CELETISTA","2022-04-02",30,"2023-04-02","2022-03-31","2023-03-31","18899-44653",{"$f":"G622-SUMIF(ESCALA!$B$14:$B$15,DADOS!K622,ESCALA!$I$14:$I$15)","v":30}]
[18899,18899,"MARIA LENI LEONARDI ROCHA","PROFESSOR (A) DE EDUCACAO BASICA","CELETISTA","2023-04-02",30,"2024-04-02","2023-03-31","2024-03-31","18899-45018",{"$f":"G623-SUMIF(ESCALA!$B$14:$B$15,DADOS!K623,ESCALA!$I$14:$I$15)","v":30}]
[18932,18932,"JOSEFINA APARECIDA CARDOSO SANTIAGO","PROFESSOR (A) DE EDUCAÇÃO BÁSICA","CELETISTA","2023-01-01",30,"2024-01-01","2022-12-31","2023-12-31","18932-44927",{"$f":"G624-SUMIF(ESCALA!$B$14:$B$15,DADOS!K624,ESCALA!$I$14:$I$15)","v":30}]
[18949,18949,"GLAUCE KUBICKE DIBO","COORDENADOR (A) DE PROGRAMAS EDUCACIONAIS","CELETISTA","2023-01-01",30,"2024-01-01","2022-12-31","2023-12-31","18949-44927",{"$f":"G625-SUMIF(ESCALA!$B$14:$B$15,DADOS!K625,ESCALA!$I$14:$I$15)","v":30}]
[18951,18951,"LIA INES DOS SANTOS","PROFESSOR (A) DE EDUCACAO BASICA","CELETISTA","2022-06-29",30,"2023-06-29","2022-05-31","2023-05-31","18951-44741",{"$f":"G626-SUMIF(ESCALA!$B$14:$B$15,DADOS!K626,ESCALA!$I$14:$I$15)","v":30}]
[18951,18951,"LIA INES DOS SANTOS","PROFESSOR (A) DE EDUCACAO BASICA","CELETISTA","2023-06-29",24,"2024-06-29","2023-05-31","2024-05-31","18951-45106",{"$f":"G627-SUMIF(ESCALA!$B$14:$B$15,DADOS!K627,ESCALA!$I$14:$I$15)","v":24}]
[18955,18955,"SOLANGE BIANCKI FONSECA GONZAGA","PROFESSOR (A) DE EDUCACAO BASICA","CELETISTA","2023-01-01",30,"2024-01-01","2022-12-31","2023-12-31","18955-44927",{"$f":"G628-SUMIF(ESCALA!$B$14:$B$15,DADOS!K628,ESCALA!$I$14:$I$15)","v":30}]
[18957,18957,"MELISSA AUBIN ZANETTI MANGEA","AGENTE TECNICO IMOBILIARIO IV","ESTATUTARIO","2023-06-12",30,"2024-06-12","2023-06-30","2024-05-31","18957-45089",{"$f":"G629-SUMIF(ESCALA!$B$14:$B$15,DADOS!K629,ESCALA!$I$14:$I$15)","v":30}]
[18983,18983,"ADRIANA CASSIANA BARBOSA LOPES GUEDES","VICE DIRETOR (A) SUBSTITUTO (A)","CELETISTA","2022-07-05",30,"2023-07-05","2022-06-30","2023-06-30","18983-44747",{"$f":"G630-SUMIF(ESCALA!$B$14:$B$15,DADOS!K630,ESCALA!$I$14:$I$15)","v":30}]
[18983,18983,"ADRIANA CASSIANA BARBOSA LOPES GUEDES","VICE DIRETOR (A) SUBSTITUTO (A)","CELETISTA","2023-07-05",30,"2024-07-05","2023-06-30","2024-06-30","18983-45112",{"$f":"G631-SUMIF(ESCALA!$B$14:$B$15,DADOS!K631,ESCALA!$I$14:$I$15)","v":30}]
[18985,18985,"ARGENTINA CONCEBIDA DA SILVA BARBOSA","DIRETOR (A) DE ESCOLA","ESTATUTARIO","2023-01-01",30,"2024-01-01","2023-01-31","2023-12-31","18985-44927",{"$f":"G632-SUMIF(ESCALA!$B$14:$B$15,DADOS!K632,ESCALA!$I$14:$I$15)","v":30}]
[18988,18988,"MAIRA BLANCO","PROFESSOR (A) DE EDUCAÇÃO BÁSICA","ESTATUTARIO","2023-09-08",30,"2024-09-08","2023-09-30","2024-08-31","18988-45177",{"$f":"G633-SUMIF(ESCALA!$B$14:$B$15,DADOS!K633,ESCALA!$I$14:$I$15)","v":30}]
[18990,18990,"REGINA MARCIA GUARESEMIN","PROFESSOR (A) DE EDUCACAO BASICA","CELETISTA","2023-01-01",30,"2024-01-01","2022-12-31","2023-12-31","18990-44927",{"$f":"G634-SUMIF(ESCALA!$B$14:$B$15,DADOS!K634,ESCALA!$I$14:$I$15)","v":30}]
[19000,19000,"MAISA TIEMI KAMI","VICE-DIRETOR (A) DE ESCOLA","CELETISTA","2023-01-01",30,"2024-01-01","2022-12-31","2023-12-31","19000-44927",{"$f":"G635-SUMIF(ESCALA!$B$14:$B$15,DADOS!K635,ESCALA!$I$14:$I$15)","v":30}]
[19001,19001,"VALQUIRIA SOUZA GOMES","PROFESSOR (A) DE EDUCACAO BASICA","CELETISTA","2022-12-22",30,"2023-12-22","2022-11-30","2023-11-30","19001-44917",{"$f":"G636-SUMIF(ESCALA!$B$14:$B$15,DADOS!K636,ESCALA!$I$14:$I$15)","v":30}]
[19001,19001,"VALQUIRIA SOUZA GOMES","PROFESSOR (A) DE EDUCACAO BASICA","CELETISTA","2023-12-22",30,"2024-12-22","2023-11-30","2024-11-30","19001-45282",{"$f":"G637-SUMIF(ESCALA!$B$14:$B$15,DADOS!K637,ESCALA!$I$14:$I$15)","v":30}]
[19015,19015,"JANE FERREIRA DOS REIS SOUZA","PROFESSOR (A) DE EDUCAÇÃO BÁSICA","CELETISTA","2023-01-01",30,"2024-01-01","2022-12-31","2023-12-31","19015-44927",{"$f":"G638-SUMIF(ESCALA!$B$14:$B$15,DADOS!K638,ESCALA!$I$14:$I$15)","v":30}]
[19016,19016,"MARIA FATIMA DOS SANTOS","PROFESSOR (A) DE EDUCAÇÃO BÁSICA","CELETISTA","2023-01-01",30,"2024-01-01","2022-12-31","2023-12-31","19016-44927",{"$f":"G639-SUMIF(ESCALA!$B$14:$B$15,DADOS!K639,ESCALA!$I$14:$I$15)","v":30}]
[19017,19017,"MARIA LUCIA DOS SANTOS","PROFESSOR (A) DE EDUCACAO BASICA","CELETISTA","2022-07-06",30,"2023-07-06","2022-06-30","2023-06-30","19017-44748",{"$f":"G640-SUMIF(ESCALA!$B$14:$B$15,DADOS!K640,ESCALA!$I$14:$I$15)","v":30}]
[19017,19017,"MARIA LUCIA DOS SANTOS","PROFESSOR (A) DE EDUCACAO BASICA","CELETISTA","2023-07-06",30,"2024-07-06","2023-06-30","2024-06-30","19017-45113",{"$f":"G641-SUMIF(ESCALA!$B$14:$B$15,DADOS!K641,ESCALA!$I$14:$I$15)","v":30}]
[19081,19081,"CLAUDIA REGINA DE CASTRO","PROFESSOR (A) DE EDUCAÇÃO BÁSICA","CELETISTA","2022-07-17",30,"2023-07-17","2022-06-30","2023-06-30","19081-44759",{"$f":"G642-SUMIF(ESCALA!$B$14:$B$15,DADOS!K642,ESCALA!$I$14:$I$15)","v":30}]
[{"$f":"IF(L643=0,\"\",B643)","v":19081},19081,"CLAUDIA REGINA DE CASTRO","PROFESSOR (A) DE EDUCAÇÃO BÁSICA","CELETISTA","2023-07-17",30,{"$f":"IF(F643<=44985,F643+365,F643+366)","v":"2024-07-17"},"2023-06-30","2024-06-30",{"$f":"CONCATENATE(B643,\"-\",F643)","v":"19081-45124"},{"$f":"G643-SUMIF(ESCALA!$B$14:$B$15,DADOS!K643,ESCALA!$I$14:$I$15)","v":30}]
[19086,19086,"MARGARETE CIRIACO","PROFESSOR (A) DE EDUCAÇÃO BÁSICA","ESTATUTARIO","2022-07-21",30,"2023-07-21",{"$f":"IF(E644=\"ESTATUTARIO\",EOMONTH(F644,0),EOMONTH(F644,-1))","v":"2022-07-31"},{"$f":"EOMONTH(F644,11)","v":"2023-06-30"},"19086-44763",{"$f":"G644-SUMIF(ESCALA!$B$14:$B$15,DADOS!K644,ESCALA!$I$14:$I$15)","v":30}]
[19086,19086,"MARGARETE CIRIACO","PROFESSOR (A) DE EDUCAÇÃO BÁSICA","ESTATUTARIO","2023-07-21",30,"2024-07-21","2023-07-31","2024-06-30","19086-45128",{"$f":"G645-SUMIF(ESCALA!$B$14:$B$15,DADOS!K645,ESCALA!$I$14:$I$15)","v":30}]
[19116,19116,"EDITE GUEDES MARTINS","PROFESSOR (A) DE EDUCAÇÃO BÁSICA","CELETISTA","2023-01-01",30,"2024-01-01","2022-12-31","2023-12-31","19116-44927",{"$f":"G646-SUMIF(ESCALA!$B$14:$B$15,DADOS!K646,ESCALA!$I$14:$I$15)","v":30}]
[19122,19122,"SILMARA SILVA DE AGUIAR","PROFESSOR (A) DE EDUCAÇÃO BASICA","CELETISTA","2023-01-01",24,"2024-01-01","2022-12-31","2023-12-31","19122-44927",{"$f":"G647-SUMIF(ESCALA!$B$14:$B$15,DADOS!K647,ESCALA!$I$14:$I$15)","v":24}]
[19154,19154,"ADRIANA DE LIMA","PROFESSOR (A) DE EDUCAÇÃO BASICA","CELETISTA","2022-07-01",20,"2023-07-01","2022-06-30","2023-06-30","19154-44743",{"$f":"G648-SUMIF(ESCALA!$B$14:$B$15,DADOS!K648,ESCALA!$I$14:$I$15)","v":20}]
[19154,19154,"ADRIANA DE LIMA","PROFESSOR (A) DE EDUCAÇÃO BASICA","CELETISTA","2023-07-01",30,"2024-07-01","2023-06-30","2024-06-30","19154-45108",{"$f":"G649-SUMIF(ESCALA!$B$14:$B$15,DADOS!K649,ESCALA!$I$14:$I$15)","v":30}]
[19157,19157,"MARIA NEUZA ARAUJO SCHMIDT","PROFESSOR (A) DE EDUCAÇÃO BÁSICA","CELETISTA","2023-01-01",30,"2024-01-01","2022-12-31","2023-12-31","19157-44927",{"$f":"G650-SUMIF(ESCALA!$B$14:$B$15,DADOS!K650,ESCALA!$I$14:$I$15)","v":30}]
[19192,19192,"MARTA LEITE CARNEIRO JUCIO","PROFESSOR (A) DE EDUCAÇÃO BASICA","CELETISTA","2023-01-01",24,"2024-01-01","2022-12-31","2023-12-31","19192-44927",{"$f":"G651-SUMIF(ESCALA!$B$14:$B$15,DADOS!K651,ESCALA!$I$14:$I$15)","v":24}]
[19202,19202,"JERRY ADRIANE SARAIVA SOUZA","CHEFE DE DIVISAO TECNICA","ESTATUTARIO","2022-08-03",15,"2023-08-03","2022-08-31","2023-07-31","19202-44776",{"$f":"G652-SUMIF(ESCALA!$B$14:$B$15,DADOS!K652,ESCALA!$I$14:$I$15)","v":15}]
[19202,19202,"JERRY ADRIANE SARAIVA SOUZA","CHEFE DE DIVISAO TECNICA","ESTATUTARIO","2023-08-03",30,"2024-08-03","2023-08-31","2024-07-31","19202-45141",{"$f":"G653-SUMIF(ESCALA!$B$14:$B$15,DADOS!K653,ESCALA!$I$14:$I$15)","v":30}]
[19229,19229,"BENJAMINITA FERREIRA DE BARROS DA SILVA","DIRETOR (A) DE ESCOLA","CELETISTA","2022-08-18",30,"2023-08-18","2022-07-31","2023-07-31","19229-44791",{"$f":"G654-SUMIF(ESCALA!$B$14:$B$15,DADOS!K654,ESCALA!$I$14:$I$15)","v":30}]
[19229,19229,"BENJAMINITA FERREIRA DE BARROS DA SILVA","DIRETOR (A) DE ESCOLA","CELETISTA","2023-08-18",30,"2024-08-18","2023-07-31","2024-07-31","19229-45156",{"$f":"G655-SUMIF(ESCALA!$B$14:$B$15,DADOS!K655,ESCALA!$I$14:$I$15)","v":30}]
[19342,19342,"BENEDITA APARECIDA DE AZEVEDO","DIRETOR (A) DE ESCOLA","CELETISTA","2022-08-15",30,"2023-08-15","2022-07-31","2023-07-31","19342-44788",{"$f":"G656-SUMIF(ESCALA!$B$14:$B$15,DADOS!K656,ESCALA!$I$14:$I$15)","v":30}]
[19342,19342,"BENEDITA APARECIDA DE AZEVEDO","DIRETOR (A) DE ESCOLA","CELETISTA","2023-08-15",30,"2024-08-15","2023-07-31","2024-07-31","19342-45153",{"$f":"G657-SUMIF(ESCALA!$B$14:$B$15,DADOS!K657,ESCALA!$I$14:$I$15)","v":30}]
[19343,19343,"RAIMUNDA SOUZA GONCALVES","DIRETOR (A) DE ESCOLA","CELETISTA","2022-08-16",30,"2023-08-16","2022-07-31","2023-07-31","19343-44789",{"$f":"G658-SUMIF(ESCALA!$B$14:$B$15,DADOS!K658,ESCALA!$I$14:$I$15)","v":30}]
[19343,19343,"RAIMUNDA SOUZA GONCALVES","DIRETOR (A) DE ESCOLA","CELETISTA","2023-08-16",30,"2024-08-16","2023-07-31","2024-07-31","19343-45154",{"$f":"G659-SUMIF(ESCALA!$B$14:$B$15,DADOS!K659,ESCALA!$I$14:$I$15)","v":30}]
[19427,19427,"SIMONE APARECIDA DA SILVA","PROFESSOR (A) DE EDUCAÇÃO BÁSICA","ESTATUTARIO","2023-01-01",30,"2024-01-01","2023-01-31","2023-12-31","19427-44927",{"$f":"G660-SUMIF(ESCALA!$B$14:$B$15,DADOS!K660,ESCALA!$I$14:$I$15)","v":30}]
[19551,19551,"ANTONIO MARIA GAMBOA","ASSISTENTE DE GESTAO PUBLICA","ESTATUTARIO","2022-08-25",15,"2023-08-25","2022-08-31","2023-07-31","19551-44798",{"$f":"G661-SUMIF(ESCALA!$B$14:$B$15,DADOS!K661,ESCALA!$I$14:$I$15)","v":15}]
[19551,19551,"ANTONIO MARIA GAMBOA","ASSISTENTE DE GESTAO PUBLICA","ESTATUTARIO","2023-08-25",30,"2024-08-25","2023-08-31","2024-07-31","19551-45163",{"$f":"G662-SUMIF(ESCALA!$B$14:$B$15,DADOS!K662,ESCALA!$I$14:$I$15)","v":30}]
[19578,19578,"DANIEL GUBOLIN","CHEFE DE DIVISAO TECNICA","ESTATUTARIO","2022-10-18",15,"2023-10-18","2022-10-31","2023-09-30","19578-44852",{"$f":"G663-SUMIF(ESCALA!$B$14:$B$15,DADOS!K663,ESCALA!$I$14:$I$15)","v":15}]
[19578,19578,"DANIEL GUBOLIN","CHEFE DE DIVISAO TECNICA","ESTATUTARIO","2023-10-18",30,"2024-10-18","2023-10-31","2024-09-30","19578-45217",{"$f":"G664-SUMIF(ESCALA!$B$14:$B$15,DADOS!K664,ESCALA!$I$14:$I$15)","v":30}]
[19610,19610,"FRANCISCO DOS SANTOS","MOTORISTA","ESTATUTARIO","2022-11-06",30,"2023-11-06","2022-11-30","2023-10-31","19610-44871",{"$f":"G665-SUMIF(ESCALA!$B$14:$B$15,DADOS!K665,ESCALA!$I$14:$I$15)","v":30}]
[19610,19610,"FRANCISCO DOS SANTOS","MOTORISTA","ESTATUTARIO","2023-11-06",30,"2024-11-06","2023-11-30","2024-10-31","19610-45236",{"$f":"G666-SUMIF(ESCALA!$B$14:$B$15,DADOS!K666,ESCALA!$I$14:$I$15)","v":30}]
[19636,19636,"SILVANA LUMIKO YAMABUCHI","TERAPEUTA OCUPACIONAL","CELETISTA","2022-11-20",30,"2023-11-20","2022-10-31","2023-10-31","19636-44885",{"$f":"G667-SUMIF(ESCALA!$B$14:$B$15,DADOS!K667,ESCALA!$I$14:$I$15)","v":30}]
[19636,19636,"SILVANA LUMIKO YAMABUCHI","TERAPEUTA OCUPACIONAL","CELETISTA","2023-11-20",30,"2024-11-20","2023-10-31","2024-10-31","19636-45250",{"$f":"G668-SUMIF(ESCALA!$B$14:$B$15,DADOS!K668,ESCALA!$I$14:$I$15)","v":30}]
[19643,19643,"HELIO AMERICO DOS ANJOS","PEDREIRO (A)","ESTATUTARIO","2022-11-04",30,"2023-11-04","2022-11-30","2023-10-31","19643-44869",{"$f":"G669-SUMIF(ESCALA!$B$14:$B$15,DADOS!K669,ESCALA!$I$14:$I$15)","v":30}]
[19643,19643,"HELIO AMERICO DOS ANJOS","PEDREIRO (A)","ESTATUTARIO","2023-11-04",30,"2024-11-04","2023-11-30","2024-10-31","19643-45234",{"$f":"G670-SUMIF(ESCALA!$B$14:$B$15,DADOS!K670,ESCALA!$I$14:$I$15)","v":30}]
[19660,19660,"DENISE FERREIRA NUNES HANSEL","RECEPCIONISTA","CELETISTA","2022-11-17",30,"2023-11-17","2022-10-31","2023-10-31","19660-44882",{"$f":"G671-SUMIF(ESCALA!$B$14:$B$15,DADOS!K671,ESCALA!$I$14:$I$15)","v":30}]
[19660,19660,"DENISE FERREIRA NUNES HANSEL","RECEPCIONISTA","CELETISTA","2023-11-17",30,"2024-11-17","2023-10-31","2024-10-31","19660-45247",{"$f":"G672-SUMIF(ESCALA!$B$14:$B$15,DADOS!K672,ESCALA!$I$14:$I$15)","v":30}]
[19691,19691,"JOSE MARIA DA SILVA","SUPERVISÃO DE SETOR","ESTATUTARIO","2022-11-28",30,"2023-11-28","2022-11-30","2023-10-31","19691-44893",{"$f":"G673-SUMIF(ESCALA!$B$14:$B$15,DADOS!K673,ESCALA!$I$14:$I$15)","v":30}]
[19691,19691,"JOSE MARIA DA SILVA","SUPERVISÃO DE SETOR","ESTATUTARIO","2023-11-28",30,"2024-11-28","2023-11-30","2024-10-31","19691-45258",{"$f":"G674-SUMIF(ESCALA!$B$14:$B$15,DADOS!K674,ESCALA!$I$14:$I$15)","v":30}]
[19731,19731,"CRISTIANE CERVIGNI","PSICOLOGO (A) ESCOLAR","CELETISTA","2022-12-12",30,"2023-12-12","2022-11-30","2023-11-30","19731-44907",{"$f":"G675-SUMIF(ESCALA!$B$14:$B$15,DADOS!K675,ESCALA!$I$14:$I$15)","v":30}]
[19731,19731,"CRISTIANE CERVIGNI","PSICOLOGO (A) ESCOLAR","CELETISTA","2023-12-12",30,"2024-12-12","2023-11-30","2024-11-30","19731-45272",{"$f":"G676-SUMIF(ESCALA!$B$14:$B$15,DADOS!K676,ESCALA!$I$14:$I$15)","v":30}]
[19772,19772,"LUCILIA RIBEIRO DE SOUZA","PSICOLOGO (A) ESCOLAR","CELETISTA","2022-05-12",30,"2023-05-12","2022-04-30","2023-04-30","19772-44693",{"$f":"G677-SUMIF(ESCALA!$B$14:$B$15,DADOS!K677,ESCALA!$I$14:$I$15)","v":30}]
[19772,19772,"LUCILIA RIBEIRO DE SOUZA","PSICOLOGO (A) ESCOLAR","CELETISTA","2023-05-12",30,"2024-05-12","2023-04-30","2024-04-30","19772-45058",{"$f":"G678-SUMIF(ESCALA!$B$14:$B$15,DADOS!K678,ESCALA!$I$14:$I$15)","v":30}]
[19777,19777,"ACLAER TREVISAN","DIRETOR (A) DE ESCOLA","CELETISTA","2023-01-10",30,"2024-01-10","2022-12-31","2023-12-31","19777-44936",{"$f":"G679-SUMIF(ESCALA!$B$14:$B$15,DADOS!K679,ESCALA!$I$14:$I$15)","v":30}]
[19837,19837,"TANIA MARCIA KAISER PEREIRA SILVA","DIRETOR (A) DE ESCOLA","CELETISTA","2023-01-01",30,"2024-01-01","2022-12-31","2023-12-31","19837-44927",{"$f":"G680-SUMIF(ESCALA!$B$14:$B$15,DADOS!K680,ESCALA!$I$14:$I$15)","v":30}]
[19969,19969,"ARLETE MARIA GREGORIO GONCALVES","PROFESSOR (A) DE EDUCAÇÃO BÁSICA","CELETISTA","2023-01-01",30,"2024-01-01","2022-12-31","2023-12-31","19969-44927",{"$f":"G681-SUMIF(ESCALA!$B$14:$B$15,DADOS!K681,ESCALA!$I$14:$I$15)","v":30}]
[20015,20015,"PAULO SERGIO DOS SANTOS","AUXILIAR OPERACIONAL","ESTATUTARIO","2022-11-05",30,"2023-11-05","2022-11-30","2023-10-31","20015-44870",{"$f":"G682-SUMIF(ESCALA!$B$14:$B$15,DADOS!K682,ESCALA!$I$14:$I$15)","v":30}]
[20015,20015,"PAULO SERGIO DOS SANTOS","AUXILIAR OPERACIONAL","ESTATUTARIO","2023-11-05",30,"2024-11-05","2023-11-30","2024-10-31","20015-45235",{"$f":"G683-SUMIF(ESCALA!$B$14:$B$15,DADOS!K683,ESCALA!$I$14:$I$15)","v":30}]
[20110,20110,"ROSELI APARECIDA TEIXEIRA MARTINS","PROFESSOR (A) DE EDUCACAO ESPECIAL","CELETISTA","2023-01-01",30,"2024-01-01","2022-12-31","2023-12-31","20110-44927",{"$f":"G684-SUMIF(ESCALA!$B$14:$B$15,DADOS!K684,ESCALA!$I$14:$I$15)","v":30}]
[20154,20154,"MARIA RITA GONCALVES ASSIS","ASSISTENTE DE GESTÃO ESCOLAR","CELETISTA","2023-03-13",30,"2024-03-13","2023-02-28","2024-02-29","20154-44998",{"$f":"G685-SUMIF(ESCALA!$B$14:$B$15,DADOS!K685,ESCALA!$I$14:$I$15)","v":30}]
[20156,20156,"CELIA REGINA PEREIRA FERNANDES","COZINHEIRO (A)","CELETISTA","2022-03-14",30,"2023-03-14","2022-02-28","2023-02-28","20156-44634",{"$f":"G686-SUMIF(ESCALA!$B$14:$B$15,DADOS!K686,ESCALA!$I$14:$I$15)","v":30}]
[20156,20156,"CELIA REGINA PEREIRA FERNANDES","COZINHEIRO (A)","CELETISTA","2023-03-14",30,"2024-03-14","2023-02-28","2024-02-29","20156-44999",{"$f":"G687-SUMIF(ESCALA!$B$14:$B$15,DADOS!K687,ESCALA!$I$14:$I$15)","v":30}]
[20157,20157,"MARINALVA DANTAS DA SILVA","COZINHEIRO (A)","ESTATUTARIO","2023-01-01",30,"2024-01-01","2023-01-31","2023-12-31","20157-44927",{"$f":"G688-SUMIF(ESCALA!$B$14:$B$15,DADOS!K688,ESCALA!$I$14:$I$15)","v":30}]
[20158,20158,"NILCEIA PEREIRA DA CRUZ","COZINHEIRO (A)","CELETISTA","2022-09-12",30,"2023-09-12","2022-08-31","2023-08-31","20158-44816",{"$f":"G689-SUMIF(ESCALA!$B$14:$B$15,DADOS!K689,ESCALA!$I$14:$I$15)","v":30}]
[20158,20158,"NILCEIA PEREIRA DA CRUZ","COZINHEIRO (A)","CELETISTA","2023-09-12",30,"2024-09-12","2023-08-31","2024-08-31","20158-45181",{"$f":"G690-SUMIF(ESCALA!$B$14:$B$15,DADOS!K690,ESCALA!$I$14:$I$15)","v":30}]
[20207,20207,"EDNA BARBOSA FERREIRA NOBREGA","COZINHEIRO (A)","CELETISTA","2022-03-16",30,"2023-03-16","2022-02-28","2023-02-28","20207-44636",{"$f":"G691-SUMIF(ESCALA!$B$14:$B$15,DADOS!K691,ESCALA!$I$14:$I$15)","v":30}]
[20207,20207,"EDNA BARBOSA FERREIRA NOBREGA","COZINHEIRO (A)","CELETISTA","2023-03-16",30,"2024-03-16","2023-02-28","2024-02-29","20207-45001",{"$f":"G692-SUMIF(ESCALA!$B$14:$B$15,DADOS!K692,ESCALA!$I$14:$I$15)","v":30}]
[20219,20219,"SUELI DE OLIVEIRA","COZINHEIRO (A)","CELETISTA","2022-03-20",30,"2023-03-20","2022-02-28","2023-02-28","20219-44640",{"$f":"G693-SUMIF(ESCALA!$B$14:$B$15,DADOS!K693,ESCALA!$I$14:$I$15)","v":30}]
[20219,20219,"SUELI DE OLIVEIRA","COZINHEIRO (A)","CELETISTA","2023-03-20",30,"2024-03-20","2023-02-28","2024-02-29","20219-45005",{"$f":"G694-SUMIF(ESCALA!$B$14:$B$15,DADOS!K694,ESCALA!$I$14:$I$15)","v":30}]
[20242,20242,"MARISTELLA RIBEIRO","PROFESSOR (A) DE EDUCACAO ESPECIAL","CELETISTA","2023-01-01",30,"2024-01-01","2022-12-31","2023-12-31","20242-44927",{"$f":"G695-SUMIF(ESCALA!$B$14:$B$15,DADOS!K695,ESCALA!$I$14:$I$15)","v":30}]
[20253,20253,"LEONICE SILVA BARBOSA","COZINHEIRO (A)","CELETISTA","2022-03-27",30,"2023-03-27","2022-02-28","2023-02-28","20253-44647",{"$f":"G696-SUMIF(ESCALA!$B$14:$B$15,DADOS!K696,ESCALA!$I$14:$I$15)","v":30}]
[20253,20253,"LEONICE SILVA BARBOSA","COZINHEIRO (A)","CELETISTA","2023-03-27",30,"2024-03-27","2023-02-28","2024-02-29","20253-45012",{"$f":"G697-SUMIF(ESCALA!$B$14:$B$15,DADOS!K697,ESCALA!$I$14:$I$15)","v":30}]
[20266,20266,"ROBERTA APARECIDA NEVES DA SILVA","AUXILIAR OPERACIONAL","ESTATUTARIO","2022-09-05",30,"2023-09-05","2022-09-30","2023-08-31","20266-44809",{"$f":"G698-SUMIF(ESCALA!$B$14:$B$15,DADOS!K698,ESCALA!$I$14:$I$15)","v":30}]
[20266,20266,"ROBERTA APARECIDA NEVES DA SILVA","AUXILIAR OPERACIONAL","ESTATUTARIO","2023-09-05",30,"2024-09-05","2023-09-30","2024-08-31","20266-45174",{"$f":"G699-SUMIF(ESCALA!$B$14:$B$15,DADOS!K699,ESCALA!$I$14:$I$15)","v":30}]
[20274,20274,"NEUSA MARIA DE OLIVEIRA","COZINHEIRO (A)","CELETISTA","2022-06-27",30,"2023-06-27","2022-05-31","2023-05-31","20274-44739",{"$f":"G700-SUMIF(ESCALA!$B$14:$B$15,DADOS!K700,ESCALA!$I$14:$I$15)","v":30}]
[20274,20274,"NEUSA MARIA DE OLIVEIRA","COZINHEIRO (A)","CELETISTA","2023-06-27",30,"2024-06-27","2023-05-31","2024-05-31","20274-45104",{"$f":"G701-SUMIF(ESCALA!$B$14:$B$15,DADOS!K701,ESCALA!$I$14:$I$15)","v":30}]
[20306,20306,"ANGELA MARIA SOBREIRA DE BARROS","SUPERVISÃO DE SETOR","ESTATUTARIO","2023-04-09",30,"2024-04-09","2023-04-30","2024-03-31","20306-45025",{"$f":"G702-SUMIF(ESCALA!$B$14:$B$15,DADOS!K702,ESCALA!$I$14:$I$15)","v":30}]
[20307,20307,"DALVA ELI SANT ANA","COZINHEIRO (A)","CELETISTA","2022-04-09",30,"2023-04-09","2022-03-31","2023-03-31","20307-44660",{"$f":"G703-SUMIF(ESCALA!$B$14:$B$15,DADOS!K703,ESCALA!$I$14:$I$15)","v":30}]
[20307,20307,"DALVA ELI SANT ANA","COZINHEIRO (A)","CELETISTA","2023-04-09",30,"2024-04-09","2023-03-31","2024-03-31","20307-45025",{"$f":"G704-SUMIF(ESCALA!$B$14:$B$15,DADOS!K704,ESCALA!$I$14:$I$15)","v":30}]
[20333,20333,"MARIA DE LOURDES GUEDES","COZINHEIRO (A)","ESTATUTARIO","2022-04-10",30,"2023-04-10","2022-04-30","2023-03-31","20333-44661",{"$f":"G705-SUMIF(ESCALA!$B$14:$B$15,DADOS!K705,ESCALA!$I$14:$I$15)","v":30}]
[20333,20333,"MARIA DE LOURDES GUEDES","COZINHEIRO (A)","ESTATUTARIO","2023-04-10",30,"2024-04-10","2023-04-30","2024-03-31","20333-45026",{"$f":"G706-SUMIF(ESCALA!$B$14:$B$15,DADOS!K706,ESCALA!$I$14:$I$15)","v":30}]
[{"$f":"IF(L707=0,\"\",B707)","v":20376},20376,"JANICE APARECIDA CARDOSO DE ARAUJO","COZINHEIRO (A)","CELETISTA","2023-01-01",30,{"$f":"IF(F707<=44985,F707+365,F707+366)","v":"2024-01-01"},"2022-12-31","2023-12-31",{"$f":"CONCATENATE(B707,\"-\",F707)","v":"20376-44927"},{"$f":"G707-SUMIF(ESCALA!$B$14:$B$15,DADOS!K707,ESCALA!$I$14:$I$15)","v":30}]
[20377,20377,"LUZIA MAGALI COLANTONIO","COZINHEIRO (A)","CELETISTA","2022-04-23",30,"2023-04-23",{"$f":"IF(E708=\"ESTATUTARIO\",EOMONTH(F708,0),EOMONTH(F708,-1))","v":"2022-03-31"},{"$f":"EOMONTH(F708,11)","v":"2023-03-31"},"20377-44674",{"$f":"G708-SUMIF(ESCALA!$B$14:$B$15,DADOS!K708,ESCALA!$I$14:$I$15)","v":30}]
[20377,20377,"LUZIA MAGALI COLANTONIO","COZINHEIRO (A)","CELETISTA","2023-04-23",30,"2024-04-23","2023-03-31","2024-03-31","20377-45039",{"$f":"G709-SUMIF(ESCALA!$B$14:$B$15,DADOS!K709,ESCALA!$I$14:$I$15)","v":30}]
[20381,20381,"REGINA DE FATIMA RONQUI","ASSISTENTE DE GESTÃO ESCOLAR","CELETISTA","2023-03-05",30,"2024-03-05","2023-02-28","2024-02-29","20381-44990",{"$f":"G710-SUMIF(ESCALA!$B$14:$B$15,DADOS!K710,ESCALA!$I$14:$I$15)","v":30}]
[20382,20382,"ROSALINA CONCEICAO DE OLIVEIRA","COZINHEIRO (A)","CELETISTA","2023-01-01",30,"2024-01-01","2022-12-31","2023-12-31","20382-44927",{"$f":"G711-SUMIF(ESCALA!$B$14:$B$15,DADOS!K711,ESCALA!$I$14:$I$15)","v":30}]
[20481,20481,"CLAUDIA MASSAE SATAKE","COZINHEIRO (A)","ESTATUTARIO","2022-04-22",15,"2023-04-22","2022-04-30","2023-03-31","20481-44673",{"$f":"G712-SUMIF(ESCALA!$B$14:$B$15,DADOS!K712,ESCALA!$I$14:$I$15)","v":15}]
[20481,20481,"CLAUDIA MASSAE SATAKE","COZINHEIRO (A)","ESTATUTARIO","2023-04-22",30,"2024-04-22","2023-04-30","2024-03-31","20481-45038",{"$f":"G713-SUMIF(ESCALA!$B$14:$B$15,DADOS!K713,ESCALA!$I$14:$I$15)","v":30}]
[20722,20722,"ELAINE ALONSO BERNARDO","SUPERVISOR (A) ESCOLAR","ESTATUTARIO","2023-01-01",30,"2024-01-01","2023-01-31","2023-12-31","20722-44927",{"$f":"G714-SUMIF(ESCALA!$B$14:$B$15,DADOS!K714,ESCALA!$I$14:$I$15)","v":30}]
[20723,20723,"EMERSON DONIZETE CUSTODIO","PROFESSOR (A) DE EDUCACAO BASICA","ESTATUTARIO","2022-06-21",30,"2023-06-21","2022-06-30","2023-05-31","20723-44733",{"$f":"G715-SUMIF(ESCALA!$B$14:$B$15,DADOS!K715,ESCALA!$I$14:$I$15)","v":30}]
[20723,20723,"EMERSON DONIZETE CUSTODIO","PROFESSOR (A) DE EDUCACAO BASICA","ESTATUTARIO","2023-06-21",30,"2024-06-21","2023-06-30","2024-05-31","20723-45098",{"$f":"G716-SUMIF(ESCALA!$B$14:$B$15,DADOS!K716,ESCALA!$I$14:$I$15)","v":30}]
[20728,20728,"PATRICIA WASSER FREIRE SILVA","DIRETOR (A) DE ESCOLA","ESTATUTARIO","2022-06-21",15,"2023-06-21","2022-06-30","2023-05-31","20728-44733",{"$f":"G717-SUMIF(ESCALA!$B$14:$B$15,DADOS!K717,ESCALA!$I$14:$I$15)","v":15}]
[20728,20728,"PATRICIA WASSER FREIRE SILVA","DIRETOR (A) DE ESCOLA","ESTATUTARIO","2023-06-21",30,"2024-06-21","2023-06-30","2024-05-31","20728-45098",{"$f":"G718-SUMIF(ESCALA!$B$14:$B$15,DADOS!K718,ESCALA!$I$14:$I$15)","v":30}]
[20732,20732,"ROBERTA ZANELLA","PROFESSOR (A) DE EDUCAÇÃO BASICA","CELETISTA","2023-01-01",30,"2024-01-01","2022-12-31","2023-12-31","20732-44927",{"$f":"G719-SUMIF(ESCALA!$B$14:$B$15,DADOS!K719,ESCALA!$I$14:$I$15)","v":30}]
[20810,20810,"DARCY MEDEIROS SANTANA BOLOU","DIRETOR (A) DE ESCOLA","ESTATUTARIO","2022-07-03",30,"2023-07-03","2022-07-31","2023-06-30","20810-44745",{"$f":"G720-SUMIF(ESCALA!$B$14:$B$15,DADOS!K720,ESCALA!$I$14:$I$15)","v":30}]
[20810,20810,"DARCY MEDEIROS SANTANA BOLOU","DIRETOR (A) DE ESCOLA","ESTATUTARIO","2023-07-03",30,"2024-07-03","2023-07-31","2024-06-30","20810-45110",{"$f":"G721-SUMIF(ESCALA!$B$14:$B$15,DADOS!K721,ESCALA!$I$14:$I$15)","v":30}]
[20812,20812,"GISLENE ZADRES LIMAO","DIRETOR (A) DE ESCOLA","ESTATUTARIO","2022-07-06",15,"2023-07-06","2022-07-31","2023-06-30","20812-44748",{"$f":"G722-SUMIF(ESCALA!$B$14:$B$15,DADOS!K722,ESCALA!$I$14:$I$15)","v":15}]
[20812,20812,"GISLENE ZADRES LIMAO","DIRETOR (A) DE ESCOLA","ESTATUTARIO","2023-07-06",30,"2024-07-06","2023-07-31","2024-06-30","20812-45113",{"$f":"G723-SUMIF(ESCALA!$B$14:$B$15,DADOS!K723,ESCALA!$I$14:$I$15)","v":30}]
[20814,20814,"KATIA CRISTINA BARBATANO DOS SANTOS BORGES","PROFESSOR (A) DE EDUCAÇÃO BÁSICA","CELETISTA","2023-01-01",30,"2024-01-01","2022-12-31","2023-12-31","20814-44927",{"$f":"G724-SUMIF(ESCALA!$B$14:$B$15,DADOS!K724,ESCALA!$I$14:$I$15)","v":30}]
[20853,20853,"RENATA CROCI","PROFESSOR (A) DE EDUCACAO BASICA","CELETISTA","2023-01-01",30,"2024-01-01","2022-12-31","2023-12-31","20853-44927",{"$f":"G725-SUMIF(ESCALA!$B$14:$B$15,DADOS!K725,ESCALA!$I$14:$I$15)","v":30}]
[20864,20864,"ROSANGELA FERREIRA AMARO MATHIAS","COZINHEIRO (A)","ESTATUTARIO","2023-07-20",30,"2024-07-20","2023-07-31","2024-06-30","20864-45127",{"$f":"G726-SUMIF(ESCALA!$B$14:$B$15,DADOS!K726,ESCALA!$I$14:$I$15)","v":30}]
[20883,20883,"ALBERTO CARLOS SANTOS NASCIMENTO","AUXILIAR OPERACIONAL","ESTATUTARIO","2022-07-25",30,"2023-07-25","2022-07-31","2023-06-30","20883-44767",{"$f":"G727-SUMIF(ESCALA!$B$14:$B$15,DADOS!K727,ESCALA!$I$14:$I$15)","v":30}]
[20883,20883,"ALBERTO CARLOS SANTOS NASCIMENTO","AUXILIAR OPERACIONAL","ESTATUTARIO","2023-07-25",30,"2024-07-25","2023-07-31","2024-06-30","20883-45132",{"$f":"G728-SUMIF(ESCALA!$B$14:$B$15,DADOS!K728,ESCALA!$I$14:$I$15)","v":30}]
[20924,20924,"RITA ROSELI SILVA NASCIMENTO","PROFESSOR (A) DE EDUCACAO BASICA","CELETISTA","2023-01-01",30,"2024-01-01","2022-12-31","2023-12-31","20924-44927",{"$f":"G729-SUMIF(ESCALA!$B$14:$B$15,DADOS!K729,ESCALA!$I$14:$I$15)","v":30}]
[20926,20926,"ANA PAULA DA SILVA","PROFESSOR (A) DE EDUCAÇÃO BASICA","CELETISTA","2022-07-16",30,"2023-07-16","2022-06-30","2023-06-30","20926-44758",{"$f":"G730-SUMIF(ESCALA!$B$14:$B$15,DADOS!K730,ESCALA!$I$14:$I$15)","v":30}]
[20926,20926,"ANA PAULA DA SILVA","PROFESSOR (A) DE EDUCAÇÃO BASICA","CELETISTA","2023-07-16",30,"2024-07-16","2023-06-30","2024-06-30","20926-45123",{"$f":"G731-SUMIF(ESCALA!$B$14:$B$15,DADOS!K731,ESCALA!$I$14:$I$15)","v":30}]
[20931,20931,"MICHEL VIEIRA CARVALHAIS","PROFESSOR (A) DE EDUCACAO BASICA","ESTATUTARIO","2023-01-01",30,"2024-01-01","2023-01-31","2023-12-31","20931-44927",{"$f":"G732-SUMIF(ESCALA!$B$14:$B$15,DADOS!K732,ESCALA!$I$14:$I$15)","v":30}]
[20944,20944,"MAGDA APARECIDA DE SOUSA","VICE-DIRETOR (A) DE ESCOLA","ESTATUTARIO","2023-01-01",30,"2024-01-01","2023-01-31","2023-12-31","20944-44927",{"$f":"G733-SUMIF(ESCALA!$B$14:$B$15,DADOS!K733,ESCALA!$I$14:$I$15)","v":30}]
[20945,20945,"ROSANGELA MATOS RIBEIRO FERREIRA","PROFESSOR (A) DE EDUCACAO BASICA","ESTATUTARIO","2023-01-01",30,"2024-01-01","2023-01-31","2023-12-31","20945-44927",{"$f":"G734-SUMIF(ESCALA!$B$14:$B$15,DADOS!K734,ESCALA!$I$14:$I$15)","v":30}]
[20970,20970,"DJENANE MARTINS OLIVEIRA","DIRETOR (A) DE ESCOLA","ESTATUTARIO","2022-12-08",30,"2023-12-08","2022-12-31","2023-11-30","20970-44903",{"$f":"G735-SUMIF(ESCALA!$B$14:$B$15,DADOS!K735,ESCALA!$I$14:$I$15)","v":30}]
[20970,20970,"DJENANE MARTINS OLIVEIRA","DIRETOR (A) DE ESCOLA","ESTATUTARIO","2023-12-08",30,"2024-12-08","2023-12-31","2024-11-30","20970-45268",{"$f":"G736-SUMIF(ESCALA!$B$14:$B$15,DADOS!K736,ESCALA!$I$14:$I$15)","v":30}]
[20972,20972,"LUCIANA CRAVERO MONTEIRO","PROFESSOR (A) DE EDUCACAO BASICA","ESTATUTARIO","2022-09-04",30,"2023-09-04","2022-09-30","2023-08-31","20972-44808",{"$f":"G737-SUMIF(ESCALA!$B$14:$B$15,DADOS!K737,ESCALA!$I$14:$I$15)","v":30}]
[20972,20972,"LUCIANA CRAVERO MONTEIRO","PROFESSOR (A) DE EDUCACAO BASICA","ESTATUTARIO","2023-09-04",30,"2024-09-04","2023-09-30","2024-08-31","20972-45173",{"$f":"G738-SUMIF(ESCALA!$B$14:$B$15,DADOS!K738,ESCALA!$I$14:$I$15)","v":30}]
[20974,20974,"PAULA MARIA NASCIMENTO","DIRETOR (A) DE ESCOLA","ESTATUTARIO","2023-01-01",30,"2024-01-01","2023-01-31","2023-12-31","20974-44927",{"$f":"G739-SUMIF(ESCALA!$B$14:$B$15,DADOS!K739,ESCALA!$I$14:$I$15)","v":30}]
[21012,21012,"PATRICIA AVELINO DOS SANTOS","COZINHEIRO (A)","ESTATUTARIO","2022-08-10",15,"2023-08-10","2022-08-31","2023-07-31","21012-44783",{"$f":"G740-SUMIF(ESCALA!$B$14:$B$15,DADOS!K740,ESCALA!$I$14:$I$15)","v":15}]
[21012,21012,"PATRICIA AVELINO DOS SANTOS","COZINHEIRO (A)","ESTATUTARIO","2023-08-10",30,"2024-08-10","2023-08-31","2024-07-31","21012-45148",{"$f":"G741-SUMIF(ESCALA!$B$14:$B$15,DADOS!K741,ESCALA!$I$14:$I$15)","v":30}]
[21017,21017,"ANDREA GIMENEZ GONCALVES","PROFESSOR (A) DE EDUCACAO BASICA","ESTATUTARIO","2023-01-01",30,"2024-01-01","2023-01-31","2023-12-31","21017-44927",{"$f":"G742-SUMIF(ESCALA!$B$14:$B$15,DADOS!K742,ESCALA!$I$14:$I$15)","v":30}]
[21023,21023,"MARCOS MENDES","ESTAFETA III","ESTATUTARIO","2022-08-09",15,"2023-08-09","2022-08-31","2023-07-31","21023-44782",{"$f":"G743-SUMIF(ESCALA!$B$14:$B$15,DADOS!K743,ESCALA!$I$14:$I$15)","v":15}]
[21023,21023,"MARCOS MENDES","ESTAFETA III","ESTATUTARIO","2023-08-09",30,"2024-08-09","2023-08-31","2024-07-31","21023-45147",{"$f":"G744-SUMIF(ESCALA!$B$14:$B$15,DADOS!K744,ESCALA!$I$14:$I$15)","v":30}]
[21031,21031,"ELIANA SILVA","PROFESSOR (A) COORDENADOR (A)  PEDAGOGICO (A)","ESTATUTARIO","2023-01-01",30,"2024-01-01","2023-01-31","2023-12-31","21031-44927",{"$f":"G745-SUMIF(ESCALA!$B$14:$B$15,DADOS!K745,ESCALA!$I$14:$I$15)","v":30}]
[21033,21033,"DOROTI NAOMY HATAE","PROFESSOR (A) DE EDUCACAO BASICA","ESTATUTARIO","2023-01-01",30,"2024-01-01","2023-01-31","2023-12-31","21033-44927",{"$f":"G746-SUMIF(ESCALA!$B$14:$B$15,DADOS!K746,ESCALA!$I$14:$I$15)","v":30}]
[21034,21034,"LUCIMARA ARAUJO DE ANDRADE BRAGA","PROFESSOR (A) DE EDUCAÇÃO BÁSICA","ESTATUTARIO","2023-01-01",30,"2024-01-01","2023-01-31","2023-12-31","21034-44927",{"$f":"G747-SUMIF(ESCALA!$B$14:$B$15,DADOS!K747,ESCALA!$I$14:$I$15)","v":30}]
[21084,21084,"ELIANE FREITAS DE SOUZA OLIVEIRA","PSICOLOGO (A) ESCOLAR","CELETISTA","2022-08-22",30,"2023-08-22","2022-07-31","2023-07-31","21084-44795",{"$f":"G748-SUMIF(ESCALA!$B$14:$B$15,DADOS!K748,ESCALA!$I$14:$I$15)","v":30}]
[21084,21084,"ELIANE FREITAS DE SOUZA OLIVEIRA","PSICOLOGO (A) ESCOLAR","CELETISTA","2023-08-22",30,"2024-08-22","2023-07-31","2024-07-31","21084-45160",{"$f":"G749-SUMIF(ESCALA!$B$14:$B$15,DADOS!K749,ESCALA!$I$14:$I$15)","v":30}]
[21144,21144,"ANGELA MARIA DE OLIVEIRA","COZINHEIRO (A)","ESTATUTARIO","2022-09-04",30,"2023-09-04","2022-09-30","2023-08-31","21144-44808",{"$f":"G750-SUMIF(ESCALA!$B$14:$B$15,DADOS!K750,ESCALA!$I$14:$I$15)","v":30}]
[21144,21144,"ANGELA MARIA DE OLIVEIRA","COZINHEIRO (A)","ESTATUTARIO","2023-09-04",30,"2024-09-04","2023-09-30","2024-08-31","21144-45173",{"$f":"G751-SUMIF(ESCALA!$B$14:$B$15,DADOS!K751,ESCALA!$I$14:$I$15)","v":30}]
[21145,21145,"ILMA CRISTINA SANTOS ALARCON","PROFESSOR (A) DE EDUCAÇÃO BASICA","CELETISTA","2022-09-04",30,"2023-09-04","2022-08-31","2023-08-31","21145-44808",{"$f":"G752-SUMIF(ESCALA!$B$14:$B$15,DADOS!K752,ESCALA!$I$14:$I$15)","v":30}]
[21145,21145,"ILMA CRISTINA SANTOS ALARCON","PROFESSOR (A) DE EDUCAÇÃO BASICA","CELETISTA","2023-09-04",30,"2024-09-04","2023-08-31","2024-08-31","21145-45173",{"$f":"G753-SUMIF(ESCALA!$B$14:$B$15,DADOS!K753,ESCALA!$I$14:$I$15)","v":30}]
[21174,21174,"JOAO FAUSTO DE SOUZA","CHEFE DE SECAO TECNICA","CELETISTA","2022-09-11",30,"2023-09-11","2022-08-31","2023-08-31","21174-44815",{"$f":"G754-SUMIF(ESCALA!$B$14:$B$15,DADOS!K754,ESCALA!$I$14:$I$15)","v":30}]
[21174,21174,"JOAO FAUSTO DE SOUZA","CHEFE DE SECAO TECNICA","CELETISTA","2023-09-11",30,"2024-09-11","2023-08-31","2024-08-31","21174-45180",{"$f":"G755-SUMIF(ESCALA!$B$14:$B$15,DADOS!K755,ESCALA!$I$14:$I$15)","v":30}]
[21190,21190,"LAURA MARIA RIBEIRO FERREIRA","BIBLIOTECARIO (A)","ESTATUTARIO","2022-09-18",30,"2023-09-18","2022-09-30","2023-08-31","21190-44822",{"$f":"G756-SUMIF(ESCALA!$B$14:$B$15,DADOS!K756,ESCALA!$I$14:$I$15)","v":30}]
[21190,21190,"LAURA MARIA RIBEIRO FERREIRA","BIBLIOTECARIO (A)","ESTATUTARIO","2023-09-18",30,"2024-09-18","2023-09-30","2024-08-31","21190-45187",{"$f":"G757-SUMIF(ESCALA!$B$14:$B$15,DADOS!K757,ESCALA!$I$14:$I$15)","v":30}]
[21195,21195,"MARIA MADALENA DO CARMO SANTOS","COZINHEIRO (A)","CELETISTA","2023-09-19",30,"2024-09-19","2023-08-31","2024-08-31","21195-45188",{"$f":"G758-SUMIF(ESCALA!$B$14:$B$15,DADOS!K758,ESCALA!$I$14:$I$15)","v":30}]
[21200,21200,"SANDRA ESMERALDA DOS SANTOS DURANTE","PSICOLOGO (A) ESCOLAR","CELETISTA","2022-09-20",30,"2023-09-20","2022-08-31","2023-08-31","21200-44824",{"$f":"G759-SUMIF(ESCALA!$B$14:$B$15,DADOS!K759,ESCALA!$I$14:$I$15)","v":30}]
[21200,21200,"SANDRA ESMERALDA DOS SANTOS DURANTE","PSICOLOGO (A) ESCOLAR","CELETISTA","2023-09-20",30,"2024-09-20","2023-08-31","2024-08-31","21200-45189",{"$f":"G760-SUMIF(ESCALA!$B$14:$B$15,DADOS!K760,ESCALA!$I$14:$I$15)","v":30}]
[21218,21218,"MARLI ROCHA COELHO","COZINHEIRO (A)","ESTATUTARIO","2022-09-25",30,"2023-09-25","2022-09-30","2023-08-31","21218-44829",{"$f":"G761-SUMIF(ESCALA!$B$14:$B$15,DADOS!K761,ESCALA!$I$14:$I$15)","v":30}]
[21218,21218,"MARLI ROCHA COELHO","COZINHEIRO (A)","ESTATUTARIO","2023-09-25",30,"2024-09-25","2023-09-30","2024-08-31","21218-45194",{"$f":"G762-SUMIF(ESCALA!$B$14:$B$15,DADOS!K762,ESCALA!$I$14:$I$15)","v":30}]
[21235,21235,"EUNICE VIEIRA ROCHA","COZINHEIRO (A)","CELETISTA","2022-09-27",30,"2023-09-27","2022-08-31","2023-08-31","21235-44831",{"$f":"G763-SUMIF(ESCALA!$B$14:$B$15,DADOS!K763,ESCALA!$I$14:$I$15)","v":30}]
[21235,21235,"EUNICE VIEIRA ROCHA","COZINHEIRO (A)","CELETISTA","2023-09-27",30,"2024-09-27","2023-08-31","2024-08-31","21235-45196",{"$f":"G764-SUMIF(ESCALA!$B$14:$B$15,DADOS!K764,ESCALA!$I$14:$I$15)","v":30}]
[21281,21281,"BERNARDETE CARDOSO BEIRAL DE JESUS","COZINHEIRO (A)","CELETISTA","2022-08-04",30,"2023-08-04","2022-07-31","2023-07-31","21281-44777",{"$f":"G765-SUMIF(ESCALA!$B$14:$B$15,DADOS!K765,ESCALA!$I$14:$I$15)","v":30}]
[21281,21281,"BERNARDETE CARDOSO BEIRAL DE JESUS","COZINHEIRO (A)","CELETISTA","2023-08-04",30,"2024-08-04","2023-07-31","2024-07-31","21281-45142",{"$f":"G766-SUMIF(ESCALA!$B$14:$B$15,DADOS!K766,ESCALA!$I$14:$I$15)","v":30}]
[21380,21380,"MARIA DE FATIMA GOMES DE OLIVEIRA SILVA","COZINHEIRO (A)","CELETISTA","2022-12-05",30,"2023-12-05","2022-11-30","2023-11-30","21380-44900",{"$f":"G767-SUMIF(ESCALA!$B$14:$B$15,DADOS!K767,ESCALA!$I$14:$I$15)","v":30}]
[21380,21380,"MARIA DE FATIMA GOMES DE OLIVEIRA SILVA","COZINHEIRO (A)","CELETISTA","2023-12-05",30,"2024-12-05","2023-11-30","2024-11-30","21380-45265",{"$f":"G768-SUMIF(ESCALA!$B$14:$B$15,DADOS!K768,ESCALA!$I$14:$I$15)","v":30}]
[21425,21425,"ELENITA APARECIDA DOS SANTOS","PROFESSOR (A) DE EDUCAÇÃO BÁSICA","ESTATUTARIO","2023-01-01",30,"2024-01-01","2023-01-31","2023-12-31","21425-44927",{"$f":"G769-SUMIF(ESCALA!$B$14:$B$15,DADOS!K769,ESCALA!$I$14:$I$15)","v":30}]
[21431,21431,"MEIDE PAZINI LOPES","PSICOPEDAGOGO (A) III","CELETISTA","2022-08-16",30,"2023-08-16","2022-07-31","2023-07-31","21431-44789",{"$f":"G770-SUMIF(ESCALA!$B$14:$B$15,DADOS!K770,ESCALA!$I$14:$I$15)","v":30}]
[{"$f":"IF(L771=0,\"\",B771)","v":21431},21431,"MEIDE PAZINI LOPES","PSICOPEDAGOGO (A) III","CELETISTA","2023-08-16",30,{"$f":"IF(F771<=44985,F771+365,F771+366)","v":"2024-08-16"},"2023-07-31","2024-07-31",{"$f":"CONCATENATE(B771,\"-\",F771)","v":"21431-45154"},{"$f":"G771-SUMIF(ESCALA!$B$14:$B$15,DADOS!K771,ESCALA!$I$14:$I$15)","v":30}]
[21440,21440,"ANDREA OLIVA FREIRE PEREIRA","VICE DIRETOR (A) SUBSTITUTO (A)","CELETISTA","2022-04-11",30,"2023-04-11",{"$f":"IF(E772=\"ESTATUTARIO\",EOMONTH(F772,0),EOMONTH(F772,-1))","v":"2022-03-31"},{"$f":"EOMONTH(F772,11)","v":"2023-03-31"},"21440-44662",{"$f":"G772-SUMIF(ESCALA!$B$14:$B$15,DADOS!K772,ESCALA!$I$14:$I$15)","v":30}]
[21440,21440,"ANDREA OLIVA FREIRE PEREIRA","VICE DIRETOR (A) SUBSTITUTO (A)","CELETISTA","2023-04-11",30,"2024-04-11","2023-03-31","2024-03-31","21440-45027",{"$f":"G773-SUMIF(ESCALA!$B$14:$B$15,DADOS!K773,ESCALA!$I$14:$I$15)","v":30}]
[21441,21441,"TESSALIA CRISTINA LEMOS","PROFESSOR (A) DE EDUCAÇÃO BÁSICA","CELETISTA","2023-01-01",30,"2024-01-01","2022-12-31","2023-12-31","21441-44927",{"$f":"G774-SUMIF(ESCALA!$B$14:$B$15,DADOS!K774,ESCALA!$I$14:$I$15)","v":30}]
[21456,21456,"ELAINE CRISTINA IANIBELLI","PROFESSOR (A) DE EDUCACAO BASICA","ESTATUTARIO","2023-01-01",30,"2024-01-01","2023-01-31","2023-12-31","21456-44927",{"$f":"G775-SUMIF(ESCALA!$B$14:$B$15,DADOS!K775,ESCALA!$I$14:$I$15)","v":30}]
[21493,21493,"SILVANA FLORENTINO GONCALVES","PROFESSOR (A) DE EDUCAÇÃO BASICA","CELETISTA","2023-01-01",30,"2024-01-01","2022-12-31","2023-12-31","21493-44927",{"$f":"G776-SUMIF(ESCALA!$B$14:$B$15,DADOS!K776,ESCALA!$I$14:$I$15)","v":30}]
[21510,21510,"EDNALVA PEREIRA DOS SANTOS ","PROFESSOR (A) DE EDUCACAO BASICA","CELETISTA","2023-01-01",12,"2024-01-01","2022-12-31","2023-12-31","21510-44927",{"$f":"G777-SUMIF(ESCALA!$B$14:$B$15,DADOS!K777,ESCALA!$I$14:$I$15)","v":12}]
[21525,21525,"MARCIA ROSARIO","PROFESSOR (A) DE EDUCACAO BASICA","CELETISTA","2023-01-01",30,"2024-01-01","2022-12-31","2023-12-31","21525-44927",{"$f":"G778-SUMIF(ESCALA!$B$14:$B$15,DADOS!K778,ESCALA!$I$14:$I$15)","v":30}]
[21531,21531,"MARIA APARECIDA MARTINS DOS SANTOS OLIVEIRA","COZINHEIRO (A)","CELETISTA","2023-02-11",30,"2024-02-11","2023-01-31","2024-01-31","21531-44968",{"$f":"G779-SUMIF(ESCALA!$B$14:$B$15,DADOS!K779,ESCALA!$I$14:$I$15)","v":30}]
[21549,21549,"SILVANA RODRIGUES CHAGAS","PROFESSOR (A) DE EDUCACAO BASICA","CELETISTA","2023-01-01",30,"2024-01-01","2022-12-31","2023-12-31","21549-44927",{"$f":"G780-SUMIF(ESCALA!$B$14:$B$15,DADOS!K780,ESCALA!$I$14:$I$15)","v":30}]
[21550,21550,"VALDIRENE ANASTACIO","PROFESSOR (A) DE EDUCACAO BASICA","ESTATUTARIO","2023-01-01",30,"2024-01-01","2023-01-31","2023-12-31","21550-44927",{"$f":"G781-SUMIF(ESCALA!$B$14:$B$15,DADOS!K781,ESCALA!$I$14:$I$15)","v":30}]
[21596,21596,"MARIA APARECIDA DA SILVA LIMA","COZINHEIRO (A)","ESTATUTARIO","2023-01-01",30,"2024-01-01","2023-01-31","2023-12-31","21596-44927",{"$f":"G782-SUMIF(ESCALA!$B$14:$B$15,DADOS!K782,ESCALA!$I$14:$I$15)","v":30}]
[21610,21610,"NENIR CRISTINA DE SOUZA","COZINHEIRO (A)","ESTATUTARIO","2022-10-27",30,"2023-10-27","2022-10-31","2023-09-30","21610-44861",{"$f":"G783-SUMIF(ESCALA!$B$14:$B$15,DADOS!K783,ESCALA!$I$14:$I$15)","v":30}]
[21610,21610,"NENIR CRISTINA DE SOUZA","COZINHEIRO (A)","ESTATUTARIO","2023-10-27",30,"2024-10-27","2023-10-31","2024-09-30","21610-45226",{"$f":"G784-SUMIF(ESCALA!$B$14:$B$15,DADOS!K784,ESCALA!$I$14:$I$15)","v":30}]
[21621,21621,"CILENE DE OLIVEIRA","CHEFE DE SECAO ADMINISTRATIVA","CELETISTA","2022-02-28",5,"2023-02-28","2022-01-31","2023-01-31","21621-44620",{"$f":"G785-SUMIF(ESCALA!$B$14:$B$15,DADOS!K785,ESCALA!$I$14:$I$15)","v":5}]
[21621,21621,"CILENE DE OLIVEIRA","CHEFE DE SECAO ADMINISTRATIVA","CELETISTA","2023-02-28",30,"2024-02-28","2023-01-31","2024-01-31","21621-44985",{"$f":"G786-SUMIF(ESCALA!$B$14:$B$15,DADOS!K786,ESCALA!$I$14:$I$15)","v":30}]
[21652,21652,"ROSANA BARBOZA ALVES DE FREITAS","VICE-DIRETOR (A) DE ESCOLA","ESTATUTARIO","2022-03-06",5,"2023-03-06","2022-03-31","2023-02-28","21652-44626",{"$f":"G787-SUMIF(ESCALA!$B$14:$B$15,DADOS!K787,ESCALA!$I$14:$I$15)","v":5}]
[21652,21652,"ROSANA BARBOZA ALVES DE FREITAS","VICE-DIRETOR (A) DE ESCOLA","ESTATUTARIO","2023-03-06",30,"2024-03-06","2023-03-31","2024-02-29","21652-44991",{"$f":"G788-SUMIF(ESCALA!$B$14:$B$15,DADOS!K788,ESCALA!$I$14:$I$15)","v":30}]
[21665,21665,"AGNALDO DOMINGUES","AGENTE DE ADMINISTRAÇÃO B","ESTATUTARIO","2023-03-06",30,"2024-03-06","2023-03-31","2024-02-29","21665-44991",{"$f":"G789-SUMIF(ESCALA!$B$14:$B$15,DADOS!K789,ESCALA!$I$14:$I$15)","v":30}]
[21679,21679,"ELAINE CRISTINA DE OLIVEIRA CORDEIRO","PROFESSOR (A) DE EDUCACAO BASICA","ESTATUTARIO","2023-01-01",30,"2024-01-01","2023-01-31","2023-12-31","21679-44927",{"$f":"G790-SUMIF(ESCALA!$B$14:$B$15,DADOS!K790,ESCALA!$I$14:$I$15)","v":30}]
[21680,21680,"JANETE SILVERIO SIQUEIRA","PROFESSOR (A) DE EDUCACAO BASICA","CELETISTA","2023-01-01",30,"2024-01-01","2022-12-31","2023-12-31","21680-44927",{"$f":"G791-SUMIF(ESCALA!$B$14:$B$15,DADOS!K791,ESCALA!$I$14:$I$15)","v":30}]
[21697,21697,"ELISANGELA DE ALMEIDA SANCHES","DIRETOR (A) DE ESCOLA","ESTATUTARIO","2022-11-13",30,"2023-11-13","2022-11-30","2023-10-31","21697-44878",{"$f":"G792-SUMIF(ESCALA!$B$14:$B$15,DADOS!K792,ESCALA!$I$14:$I$15)","v":30}]
[21697,21697,"ELISANGELA DE ALMEIDA SANCHES","DIRETOR (A) DE ESCOLA","ESTATUTARIO","2023-11-13",30,"2024-11-13","2023-11-30","2024-10-31","21697-45243",{"$f":"G793-SUMIF(ESCALA!$B$14:$B$15,DADOS!K793,ESCALA!$I$14:$I$15)","v":30}]
[21700,21700,"MIRIAM AUGUSTO DA SILVA","PROFESSOR (A) DE EDUCAÇÃO BASICA","CELETISTA","2023-01-01",30,"2024-01-01","2022-12-31","2023-12-31","21700-44927",{"$f":"G794-SUMIF(ESCALA!$B$14:$B$15,DADOS!K794,ESCALA!$I$14:$I$15)","v":30}]
[21717,21717,"CRISTIANA RIBEIRO BIFONE","PROFESSOR (A) DE EDUCACAO BASICA","ESTATUTARIO","2023-04-11",30,"2024-04-11","2023-04-30","2024-03-31","21717-45027",{"$f":"G795-SUMIF(ESCALA!$B$14:$B$15,DADOS!K795,ESCALA!$I$14:$I$15)","v":30}]
[21762,21762,"JOVELINO ALBERTO DE FREITAS","DIRETOR (A) DE ESCOLA","ESTATUTARIO","2023-03-17",30,"2024-03-17","2023-03-31","2024-02-29","21762-45002",{"$f":"G796-SUMIF(ESCALA!$B$14:$B$15,DADOS!K796,ESCALA!$I$14:$I$15)","v":30}]
[21811,21811,"ERIKA AMANO","AGENTE DE ADMINISTRAÇÃO C","ESTATUTARIO","2023-03-24",30,"2024-03-24","2023-03-31","2024-02-29","21811-45009",{"$f":"G797-SUMIF(ESCALA!$B$14:$B$15,DADOS!K797,ESCALA!$I$14:$I$15)","v":30}]
[21814,21814,"ADRIANA NATAL FERREIRA MICHETTI","PROFESSOR (A) DE EDUCAÇÃO BASICA","CELETISTA","2023-01-01",30,"2024-01-01","2022-12-31","2023-12-31","21814-44927",{"$f":"G798-SUMIF(ESCALA!$B$14:$B$15,DADOS!K798,ESCALA!$I$14:$I$15)","v":30}]
[21816,21816,"MARIA CRISTINA ROSA DOS SANTOS GONCALVES","PROFESSOR (A) DE EDUCAÇÃO BÁSICA","CELETISTA","2023-01-01",30,"2024-01-01","2022-12-31","2023-12-31","21816-44927",{"$f":"G799-SUMIF(ESCALA!$B$14:$B$15,DADOS!K799,ESCALA!$I$14:$I$15)","v":30}]
[21831,21831,"ADRIANA SANTANA MOREIRA","PROFESSOR (A) DE EDUCAÇÃO BASICA","CELETISTA","2023-01-01",30,"2024-01-01","2022-12-31","2023-12-31","21831-44927",{"$f":"G800-SUMIF(ESCALA!$B$14:$B$15,DADOS!K800,ESCALA!$I$14:$I$15)","v":30}]
[21833,21833,"VANIA MARIA MARANGONI SANTOS","DIRETOR (A) DE ESCOLA","ESTATUTARIO","2022-03-27",30,"2023-03-27","2022-03-31","2023-02-28","21833-44647",{"$f":"G801-SUMIF(ESCALA!$B$14:$B$15,DADOS!K801,ESCALA!$I$14:$I$15)","v":30}]
[21833,21833,"VANIA MARIA MARANGONI SANTOS","DIRETOR (A) DE ESCOLA","ESTATUTARIO","2023-03-27",30,"2024-03-27","2023-03-31","2024-02-29","21833-45012",{"$f":"G802-SUMIF(ESCALA!$B$14:$B$15,DADOS!K802,ESCALA!$I$14:$I$15)","v":30}]
[21881,21881,"CLAUDIA CARILLO","PROFESSOR (A) DE EDUCAÇÃO BÁSICA","CELETISTA","2022-08-11",30,"2023-08-11","2022-07-31","2023-07-31","21881-44784",{"$f":"G803-SUMIF(ESCALA!$B$14:$B$15,DADOS!K803,ESCALA!$I$14:$I$15)","v":30}]
[21881,21881,"CLAUDIA CARILLO","PROFESSOR (A) DE EDUCAÇÃO BÁSICA","CELETISTA","2023-08-10",30,"2024-08-10","2023-07-31","2024-07-31","21881-45148",{"$f":"G804-SUMIF(ESCALA!$B$14:$B$15,DADOS!K804,ESCALA!$I$14:$I$15)","v":30}]
[21882,21882,"JANINE PIO DE MAGALHAES","PROFESSOR (A) DE EDUCACAO BASICA","ESTATUTARIO","2023-01-01",30,"2024-01-01","2023-01-31","2023-12-31","21882-44927",{"$f":"G805-SUMIF(ESCALA!$B$14:$B$15,DADOS!K805,ESCALA!$I$14:$I$15)","v":30}]
[21887,21887,"CRISTIANE SIMOES SAMPAIO","PROFESSOR (A) DE EDUCACAO BASICA","CELETISTA","2023-01-01",30,"2024-01-01","2022-12-31","2023-12-31","21887-44927",{"$f":"G806-SUMIF(ESCALA!$B$14:$B$15,DADOS!K806,ESCALA!$I$14:$I$15)","v":30}]
[21894,21894,"ROSANA PANERARI","PROFESSOR (A) DE EDUCAÇÃO BASICA","CELETISTA","2023-01-01",30,"2024-01-01","2022-12-31","2023-12-31","21894-44927",{"$f":"G807-SUMIF(ESCALA!$B$14:$B$15,DADOS!K807,ESCALA!$I$14:$I$15)","v":30}]
[21902,21902,"DANIEL FELIPPE BELLO","CHEFE DE DIVISAO TECNICA","ESTATUTARIO","2023-04-09",30,"2024-04-09","2023-04-30","2024-03-31","21902-45025",{"$f":"G808-SUMIF(ESCALA!$B$14:$B$15,DADOS!K808,ESCALA!$I$14:$I$15)","v":30}]
[21909,21909,"MARGARETE ELISABETH SHWAFATI","PEDAGOGO (A)","CELETISTA","2022-04-10",15,"2023-04-10","2022-03-31","2023-03-31","21909-44661",{"$f":"G809-SUMIF(ESCALA!$B$14:$B$15,DADOS!K809,ESCALA!$I$14:$I$15)","v":15}]
[21909,21909,"MARGARETE ELISABETH SHWAFATI","PEDAGOGO (A)","CELETISTA","2023-04-10",30,"2024-04-10","2023-03-31","2024-03-31","21909-45026",{"$f":"G810-SUMIF(ESCALA!$B$14:$B$15,DADOS!K810,ESCALA!$I$14:$I$15)","v":30}]
[21910,21910,"CLAUDIA MARCHIORI FERNANDES","PROFESSOR (A) DE EDUCAÇÃO BASICA","CELETISTA","2023-01-01",30,"2024-01-01","2022-12-31","2023-12-31","21910-44927",{"$f":"G811-SUMIF(ESCALA!$B$14:$B$15,DADOS!K811,ESCALA!$I$14:$I$15)","v":30}]
[21917,21917,"ALECSSANDRA NASCIMENTO","COORDENADOR (A) DE PROGRAMAS EDUCACIONAIS","CELETISTA","2023-01-01",30,"2024-01-01","2022-12-31","2023-12-31","21917-44927",{"$f":"G812-SUMIF(ESCALA!$B$14:$B$15,DADOS!K812,ESCALA!$I$14:$I$15)","v":30}]
[21922,21922,"ANDREA ARAUJO DOS REIS","PROFESSOR (A) DE EDUCACAO BASICA","ESTATUTARIO","2022-10-04",30,"2023-10-04","2022-10-31","2023-09-30","21922-44838",{"$f":"G813-SUMIF(ESCALA!$B$14:$B$15,DADOS!K813,ESCALA!$I$14:$I$15)","v":30}]
[21922,21922,"ANDREA ARAUJO DOS REIS","PROFESSOR (A) DE EDUCACAO BASICA","ESTATUTARIO","2023-10-04",30,"2024-10-04","2023-10-31","2024-09-30","21922-45203",{"$f":"G814-SUMIF(ESCALA!$B$14:$B$15,DADOS!K814,ESCALA!$I$14:$I$15)","v":30}]
[21925,21925,"SILVIA PIEDADE DE MORAES","COORDENADOR (A) DE PROGRAMAS EDUCACIONAIS","ESTATUTARIO","2022-04-13",20,"2023-04-13","2022-04-30","2023-03-31","21925-44664",{"$f":"G815-SUMIF(ESCALA!$B$14:$B$15,DADOS!K815,ESCALA!$I$14:$I$15)","v":20}]
[21925,21925,"SILVIA PIEDADE DE MORAES","COORDENADOR (A) DE PROGRAMAS EDUCACIONAIS","ESTATUTARIO","2023-04-13",30,"2024-04-13","2023-04-30","2024-03-31","21925-45029",{"$f":"G816-SUMIF(ESCALA!$B$14:$B$15,DADOS!K816,ESCALA!$I$14:$I$15)","v":30}]
[21929,21929,"MAURA DA SILVA FREITAS PEREIRA","COZINHEIRO (A)","ESTATUTARIO","2022-05-08",30,"2023-05-08","2022-05-31","2023-04-30","21929-44689",{"$f":"G817-SUMIF(ESCALA!$B$14:$B$15,DADOS!K817,ESCALA!$I$14:$I$15)","v":30}]
[21929,21929,"MAURA DA SILVA FREITAS PEREIRA","COZINHEIRO (A)","ESTATUTARIO","2023-05-08",30,"2024-05-08","2023-05-31","2024-04-30","21929-45054",{"$f":"G818-SUMIF(ESCALA!$B$14:$B$15,DADOS!K818,ESCALA!$I$14:$I$15)","v":30}]
[21943,21943,"AUREA MARIA FERREIRA IZIDORO","COORDENADOR (A) DE PROGRAMAS EDUCACIONAIS","ESTATUTARIO","2023-01-01",20,"2024-01-01","2023-01-31","2023-12-31","21943-44927",{"$f":"G819-SUMIF(ESCALA!$B$14:$B$15,DADOS!K819,ESCALA!$I$14:$I$15)","v":20}]
[21945,21945,"DIVA EDUARDO DE MITRI","PROFESSOR (A) DE EDUCAÇÃO BASICA","CELETISTA","2023-01-01",30,"2024-01-01","2022-12-31","2023-12-31","21945-44927",{"$f":"G820-SUMIF(ESCALA!$B$14:$B$15,DADOS!K820,ESCALA!$I$14:$I$15)","v":30}]
[21953,21953,"ALICE HELENA TENDOLINI","VICE-DIRETOR (A) DE ESCOLA","CELETISTA","2022-04-16",15,"2023-04-16","2022-03-31","2023-03-31","21953-44667",{"$f":"G821-SUMIF(ESCALA!$B$14:$B$15,DADOS!K821,ESCALA!$I$14:$I$15)","v":15}]
[21953,21953,"ALICE HELENA TENDOLINI","VICE-DIRETOR (A) DE ESCOLA","CELETISTA","2023-04-16",30,"2024-04-16","2023-03-31","2024-03-31","21953-45032",{"$f":"G822-SUMIF(ESCALA!$B$14:$B$15,DADOS!K822,ESCALA!$I$14:$I$15)","v":30}]
[21954,21954,"ANDREA MANSANO GODOI DINIZ","PROFESSOR (A) DE EDUCACAO BASICA","ESTATUTARIO","2023-01-01",30,"2024-01-01","2023-01-31","2023-12-31","21954-44927",{"$f":"G823-SUMIF(ESCALA!$B$14:$B$15,DADOS!K823,ESCALA!$I$14:$I$15)","v":30}]
[21971,21971,"CRISTIANE INOCENCIO","COORDENADOR (A) DE PROGRAMAS EDUCACIONAIS","ESTATUTARIO","2022-09-15",30,"2023-09-15","2022-09-30","2023-08-31","21971-44819",{"$f":"G824-SUMIF(ESCALA!$B$14:$B$15,DADOS!K824,ESCALA!$I$14:$I$15)","v":30}]
[21971,21971,"CRISTIANE INOCENCIO","COORDENADOR (A) DE PROGRAMAS EDUCACIONAIS","ESTATUTARIO","2023-09-15",30,"2024-09-15","2023-09-30","2024-08-31","21971-45184",{"$f":"G825-SUMIF(ESCALA!$B$14:$B$15,DADOS!K825,ESCALA!$I$14:$I$15)","v":30}]
[21989,21989,"TEREZINHA NEVES DE SOUSA ","COZINHEIRO (A)","ESTATUTARIO","2022-04-22",30,"2023-04-22","2022-04-30","2023-03-31","21989-44673",{"$f":"G826-SUMIF(ESCALA!$B$14:$B$15,DADOS!K826,ESCALA!$I$14:$I$15)","v":30}]
[21989,21989,"TEREZINHA NEVES DE SOUSA ","COZINHEIRO (A)","ESTATUTARIO","2023-04-22",30,"2024-04-22","2023-04-30","2024-03-31","21989-45038",{"$f":"G827-SUMIF(ESCALA!$B$14:$B$15,DADOS!K827,ESCALA!$I$14:$I$15)","v":30}]
[22004,22004,"ROSANGELA AUGUSTA DA SILVA","PROFESSOR (A) DE EDUCACAO BASICA","CELETISTA","2022-04-24",30,"2023-04-24","2022-03-31","2023-03-31","22004-44675",{"$f":"G828-SUMIF(ESCALA!$B$14:$B$15,DADOS!K828,ESCALA!$I$14:$I$15)","v":30}]
[22004,22004,"ROSANGELA AUGUSTA DA SILVA","PROFESSOR (A) DE EDUCACAO BASICA","CELETISTA","2023-04-24",30,"2024-04-24","2023-03-31","2024-03-31","22004-45040",{"$f":"G829-SUMIF(ESCALA!$B$14:$B$15,DADOS!K829,ESCALA!$I$14:$I$15)","v":30}]
[22006,22006,"SANDRA SORIA","PEDAGOGO (A)","CELETISTA","2022-04-24",30,"2023-04-24","2022-03-31","2023-03-31","22006-44675",{"$f":"G830-SUMIF(ESCALA!$B$14:$B$15,DADOS!K830,ESCALA!$I$14:$I$15)","v":30}]
[22006,22006,"SANDRA SORIA","PEDAGOGO (A)","CELETISTA","2023-04-24",30,"2024-04-24","2023-03-31","2024-03-31","22006-45040",{"$f":"G831-SUMIF(ESCALA!$B$14:$B$15,DADOS!K831,ESCALA!$I$14:$I$15)","v":30}]
[22016,22016,"CARLOS ALBERTO SANTO","AGENTE DE ADMINISTRAÇÃO B","ESTATUTARIO","2022-04-25",16,"2023-04-25","2022-04-30","2023-03-31","22016-44676",{"$f":"G832-SUMIF(ESCALA!$B$14:$B$15,DADOS!K832,ESCALA!$I$14:$I$15)","v":16}]
[22016,22016,"CARLOS ALBERTO SANTO","AGENTE DE ADMINISTRAÇÃO B","ESTATUTARIO","2023-04-25",30,"2024-04-25","2023-04-30","2024-03-31","22016-45041",{"$f":"G833-SUMIF(ESCALA!$B$14:$B$15,DADOS!K833,ESCALA!$I$14:$I$15)","v":30}]
[22023,22023,"HILDA CAMARGO MANDOTTI","AUXILIAR DE COZINHA III","CELETISTA","2022-04-28",6,"2023-04-28","2022-03-31","2023-03-31","22023-44679",{"$f":"G834-SUMIF(ESCALA!$B$14:$B$15,DADOS!K834,ESCALA!$I$14:$I$15)","v":6}]
[{"$f":"IF(L835=0,\"\",B835)","v":22023},22023,"HILDA CAMARGO MANDOTTI","AUXILIAR DE COZINHA III","CELETISTA","2023-04-28",30,{"$f":"IF(F835<=44985,F835+365,F835+366)","v":"2024-04-28"},"2023-03-31","2024-03-31",{"$f":"CONCATENATE(B835,\"-\",F835)","v":"22023-45044"},{"$f":"G835-SUMIF(ESCALA!$B$14:$B$15,DADOS!K835,ESCALA!$I$14:$I$15)","v":30}]
[22032,22032,"MARIA GORETI DAMAS RANGEL","VICE-DIRETOR (A) DE ESCOLA","ESTATUTARIO","2023-01-01",30,"2024-01-01",{"$f":"IF(E836=\"ESTATUTARIO\",EOMONTH(F836,0),EOMONTH(F836,-1))","v":"2023-01-31"},{"$f":"EOMONTH(F836,11)","v":"2023-12-31"},"22032-44927",{"$f":"G836-SUMIF(ESCALA!$B$14:$B$15,DADOS!K836,ESCALA!$I$14:$I$15)","v":30}]
[22036,22036,"NILVA MADAZIO","PROFESSOR (A) DE EDUCAÇÃO BASICA","CELETISTA","2023-01-01",30,"2024-01-01","2022-12-31","2023-12-31","22036-44927",{"$f":"G837-SUMIF(ESCALA!$B$14:$B$15,DADOS!K837,ESCALA!$I$14:$I$15)","v":30}]
[22073,22073,"MARIA ESTELA GRACA MELLO","DIRETOR (A) DE ESCOLA","CELETISTA","2023-01-01",30,"2024-01-01","2022-12-31","2023-12-31","22073-44927",{"$f":"G838-SUMIF(ESCALA!$B$14:$B$15,DADOS!K838,ESCALA!$I$14:$I$15)","v":30}]
[22083,22083,"SIMONE CAMPOS BRAZ","FONOAUDIOLOGO (A)","ESTATUTARIO","2022-05-07",18,"2023-05-07","2022-05-31","2023-04-30","22083-44688",{"$f":"G839-SUMIF(ESCALA!$B$14:$B$15,DADOS!K839,ESCALA!$I$14:$I$15)","v":18}]
[22083,22083,"SIMONE CAMPOS BRAZ","FONOAUDIOLOGO (A)","ESTATUTARIO","2023-05-07",30,"2024-05-07","2023-05-31","2024-04-30","22083-45053",{"$f":"G840-SUMIF(ESCALA!$B$14:$B$15,DADOS!K840,ESCALA!$I$14:$I$15)","v":30}]
[22098,22098,"MARCIA ARJONA CAVALCANTI","COORDENADOR (A) DE PROGRAMAS EDUCACIONAIS","CELETISTA","2023-01-01",30,"2024-01-01","2022-12-31","2023-12-31","22098-44927",{"$f":"G841-SUMIF(ESCALA!$B$14:$B$15,DADOS!K841,ESCALA!$I$14:$I$15)","v":30}]
[22125,22125,"ALESSANDRA MARIA DOS SANTOS CARVALHAL","PROFESSOR (A) DE EDUCACAO BASICA","ESTATUTARIO","2022-05-12",30,"2023-05-12","2022-05-31","2023-04-30","22125-44693",{"$f":"G842-SUMIF(ESCALA!$B$14:$B$15,DADOS!K842,ESCALA!$I$14:$I$15)","v":30}]
[22125,22125,"ALESSANDRA MARIA DOS SANTOS CARVALHAL","PROFESSOR (A) DE EDUCACAO BASICA","ESTATUTARIO","2023-05-12",30,"2024-05-12","2023-05-31","2024-04-30","22125-45058",{"$f":"G843-SUMIF(ESCALA!$B$14:$B$15,DADOS!K843,ESCALA!$I$14:$I$15)","v":30}]
[22126,22126,"ANALUCIA COELHO DE FREITAS","PROFESSOR (A) DE EDUCAÇÃO BASICA","CELETISTA","2023-01-01",30,"2024-01-01","2022-12-31","2023-12-31","22126-44927",{"$f":"G844-SUMIF(ESCALA!$B$14:$B$15,DADOS!K844,ESCALA!$I$14:$I$15)","v":30}]
[22129,22129,"MARIA FATIMA DE SOUZA","PROFESSOR (A) DE EDUCACAO BASICA","CELETISTA","2022-05-13",30,"2023-05-13","2022-04-30","2023-04-30","22129-44694",{"$f":"G845-SUMIF(ESCALA!$B$14:$B$15,DADOS!K845,ESCALA!$I$14:$I$15)","v":30}]
[22129,22129,"MARIA FATIMA DE SOUZA","PROFESSOR (A) DE EDUCACAO BASICA","CELETISTA","2023-05-13",30,"2024-05-13","2023-04-30","2024-04-30","22129-45059",{"$f":"G846-SUMIF(ESCALA!$B$14:$B$15,DADOS!K846,ESCALA!$I$14:$I$15)","v":30}]
[22153,22153,"JOSEFA MARIA DE JESUS COSTA","COZINHEIRO (A)","ESTATUTARIO","2022-05-19",15,"2023-05-19","2022-05-31","2023-04-30","22153-44700",{"$f":"G847-SUMIF(ESCALA!$B$14:$B$15,DADOS!K847,ESCALA!$I$14:$I$15)","v":15}]
[22153,22153,"JOSEFA MARIA DE JESUS COSTA","COZINHEIRO (A)","ESTATUTARIO","2023-05-19",30,"2024-05-19","2023-05-31","2024-04-30","22153-45065",{"$f":"G848-SUMIF(ESCALA!$B$14:$B$15,DADOS!K848,ESCALA!$I$14:$I$15)","v":30}]
[22179,22179,"MARIA DE CASTRO SANTOS","DIRETOR (A) DE ESCOLA","CELETISTA","2023-01-01",30,"2024-01-01","2022-12-31","2023-12-31","22179-44927",{"$f":"G849-SUMIF(ESCALA!$B$14:$B$15,DADOS!K849,ESCALA!$I$14:$I$15)","v":30}]
[22285,22285,"DIOMAR MARIA CARVALHO","PROFESSOR (A) DE EDUCAÇÃO BÁSICA","CELETISTA","2023-01-01",30,"2024-01-01","2022-12-31","2023-12-31","22285-44927",{"$f":"G850-SUMIF(ESCALA!$B$14:$B$15,DADOS!K850,ESCALA!$I$14:$I$15)","v":30}]
[22287,22287,"LILIAN CANONICO ","PEDAGOGO (A)","CELETISTA","2020-06-17",30,"2021-06-17","2020-05-31","2021-05-31","22287-43999",{"$f":"G851-SUMIF(ESCALA!$B$14:$B$15,DADOS!K851,ESCALA!$I$14:$I$15)","v":30}]
[22287,22287,"LILIAN CANONICO ","PEDAGOGO (A)","CELETISTA","2022-06-27",30,"2023-06-27","2022-05-31","2023-05-31","22287-44739",{"$f":"G852-SUMIF(ESCALA!$B$14:$B$15,DADOS!K852,ESCALA!$I$14:$I$15)","v":30}]
[22287,22287,"LILIAN CANONICO ","PEDAGOGO (A)","CELETISTA","2023-06-27",30,"2024-06-27","2023-05-31","2024-05-31","22287-45104",{"$f":"G853-SUMIF(ESCALA!$B$14:$B$15,DADOS!K853,ESCALA!$I$14:$I$15)","v":30}]
[22300,22300,"CLAUDINEIA DE AGUIAR LIMA","PROFESSOR (A) DE EDUCAÇÃO BÁSICA","CELETISTA","2023-01-01",30,"2024-01-01","2022-12-31","2023-12-31","22300-44927",{"$f":"G854-SUMIF(ESCALA!$B$14:$B$15,DADOS!K854,ESCALA!$I$14:$I$15)","v":30}]
[22301,22301,"IZILDINHA CARDOSO DA SILVA DE MORAES","PROFESSOR (A) DE EDUCACAO BASICA","CELETISTA","2023-01-01",30,"2024-01-01","2022-12-31","2023-12-31","22301-44927",{"$f":"G855-SUMIF(ESCALA!$B$14:$B$15,DADOS!K855,ESCALA!$I$14:$I$15)","v":30}]
[22327,22327,"ELISANGELA IGNACIO DE SOUZA","PROFESSOR (A) DE EDUCAÇÃO BÁSICA","ESTATUTARIO","2022-06-24",30,"2023-06-24","2022-06-30","2023-05-31","22327-44736",{"$f":"G856-SUMIF(ESCALA!$B$14:$B$15,DADOS!K856,ESCALA!$I$14:$I$15)","v":30}]
[22327,22327,"ELISANGELA IGNACIO DE SOUZA","PROFESSOR (A) DE EDUCAÇÃO BÁSICA","ESTATUTARIO","2023-06-24",30,"2024-06-24","2023-06-30","2024-05-31","22327-45101",{"$f":"G857-SUMIF(ESCALA!$B$14:$B$15,DADOS!K857,ESCALA!$I$14:$I$15)","v":30}]
[22328,22328,"SANDRA RODRIGUES FERREIRA MARTINS","PROFESSOR (A) DE EDUCAÇÃO BASICA","CELETISTA","2023-01-01",30,"2024-01-01","2022-12-31","2023-12-31","22328-44927",{"$f":"G858-SUMIF(ESCALA!$B$14:$B$15,DADOS!K858,ESCALA!$I$14:$I$15)","v":30}]
[22342,22342,"MAURICIO VASCONCELLOS","CHEFE DE SECAO ADMINISTRATIVA","ESTATUTARIO","2023-06-25",30,"2024-06-25","2023-06-30","2024-05-31","22342-45102",{"$f":"G859-SUMIF(ESCALA!$B$14:$B$15,DADOS!K859,ESCALA!$I$14:$I$15)","v":30}]
[22344,22344,"MARIA JULIA FAZZIO","PROFESSOR (A) DE EDUCAÇÃO BÁSICA","CELETISTA","2022-11-07",30,"2023-11-07","2022-10-31","2023-10-31","22344-44872",{"$f":"G860-SUMIF(ESCALA!$B$14:$B$15,DADOS!K860,ESCALA!$I$14:$I$15)","v":30}]
[22344,22344,"MARIA JULIA FAZZIO","PROFESSOR (A) DE EDUCAÇÃO BÁSICA","CELETISTA","2023-11-07",30,"2024-11-07","2023-10-31","2024-10-31","22344-45237",{"$f":"G861-SUMIF(ESCALA!$B$14:$B$15,DADOS!K861,ESCALA!$I$14:$I$15)","v":30}]
[22380,22380,"RENATA PIVATO","AUXILIAR DE BIBLIOTECA","ESTATUTARIO","2023-10-29",30,"2024-10-29","2023-10-31","2024-09-30","22380-45228",{"$f":"G862-SUMIF(ESCALA!$B$14:$B$15,DADOS!K862,ESCALA!$I$14:$I$15)","v":30}]
[22386,22386,"ROSANGELA ALVES LIMA","PROFESSOR (A) DE EDUCAÇÃO BASICA","CELETISTA","2022-03-31",30,"2023-03-31","2022-02-28","2023-02-28","22386-44651",{"$f":"G863-SUMIF(ESCALA!$B$14:$B$15,DADOS!K863,ESCALA!$I$14:$I$15)","v":30}]
[22386,22386,"ROSANGELA ALVES LIMA","PROFESSOR (A) DE EDUCAÇÃO BASICA","CELETISTA","2023-03-31",30,"2024-03-31","2023-02-28","2024-02-29","22386-45016",{"$f":"G864-SUMIF(ESCALA!$B$14:$B$15,DADOS!K864,ESCALA!$I$14:$I$15)","v":30}]
[22393,22393,"ADRIANA RANIERI ORTIGOSA BARALDI","PROFESSOR (A) DE EDUCAÇÃO BASICA","CELETISTA","2023-01-01",30,"2024-01-01","2022-12-31","2023-12-31","22393-44927",{"$f":"G865-SUMIF(ESCALA!$B$14:$B$15,DADOS!K865,ESCALA!$I$14:$I$15)","v":30}]
[22442,22442,"ANDREIA PAIXAO","DIRETOR (A) DE ESCOLA","ESTATUTARIO","2023-07-11",30,"2024-07-11","2023-07-31","2024-06-30","22442-45118",{"$f":"G866-SUMIF(ESCALA!$B$14:$B$15,DADOS!K866,ESCALA!$I$14:$I$15)","v":30}]
[22448,22448,"ROSANA PALASIO RODRIGUES","PROFESSOR (A) DE EDUCAÇÃO BÁSICA","CELETISTA","2022-12-31",30,"2023-12-31","2022-11-30","2023-11-30","22448-44926",{"$f":"G867-SUMIF(ESCALA!$B$14:$B$15,DADOS!K867,ESCALA!$I$14:$I$15)","v":30}]
[22448,22448,"ROSANA PALASIO RODRIGUES","PROFESSOR (A) DE EDUCAÇÃO BÁSICA","CELETISTA","2023-12-31",30,"2024-12-31","2023-11-30","2024-11-30","22448-45291",{"$f":"G868-SUMIF(ESCALA!$B$14:$B$15,DADOS!K868,ESCALA!$I$14:$I$15)","v":30}]
[22487,22487,"MELISSA WILTEMBURG VAZ ROSSELLA","PROFESSOR (A) COORDENADOR (A)  PEDAGOGICO (A)","ESTATUTARIO","2022-07-15",30,"2023-07-15","2022-07-31","2023-06-30","22487-44757",{"$f":"G869-SUMIF(ESCALA!$B$14:$B$15,DADOS!K869,ESCALA!$I$14:$I$15)","v":30}]
[22487,22487,"MELISSA WILTEMBURG VAZ ROSSELLA","PROFESSOR (A) COORDENADOR (A)  PEDAGOGICO (A)","ESTATUTARIO","2023-07-15",30,"2024-07-15","2023-07-31","2024-06-30","22487-45122",{"$f":"G870-SUMIF(ESCALA!$B$14:$B$15,DADOS!K870,ESCALA!$I$14:$I$15)","v":30}]
[22491,22491,"ANALICE QUEIROZ DA SILVA","PROFESSOR (A) DE EDUCAÇÃO BASICA","CELETISTA","2022-12-14",30,"2023-12-14","2022-11-30","2023-11-30","22491-44909",{"$f":"G871-SUMIF(ESCALA!$B$14:$B$15,DADOS!K871,ESCALA!$I$14:$I$15)","v":30}]
[22491,22491,"ANALICE QUEIROZ DA SILVA","PROFESSOR (A) DE EDUCAÇÃO BASICA","CELETISTA","2023-12-14",30,"2024-12-14","2023-11-30","2024-11-30","22491-45274",{"$f":"G872-SUMIF(ESCALA!$B$14:$B$15,DADOS!K872,ESCALA!$I$14:$I$15)","v":30}]
[22493,22493,"ANTONIO LAEDSON MONTEIRO","CHEFE DE SECAO TECNICA","ESTATUTARIO","2022-07-15",30,"2023-07-15","2022-07-31","2023-06-30","22493-44757",{"$f":"G873-SUMIF(ESCALA!$B$14:$B$15,DADOS!K873,ESCALA!$I$14:$I$15)","v":30}]
[22493,22493,"ANTONIO LAEDSON MONTEIRO","CHEFE DE SECAO TECNICA","ESTATUTARIO","2023-07-15",30,"2024-07-15","2023-07-31","2024-06-30","22493-45122",{"$f":"G874-SUMIF(ESCALA!$B$14:$B$15,DADOS!K874,ESCALA!$I$14:$I$15)","v":30}]
[22505,22505,"ROSEMEIRE APARECIDA DOS SANTOS","PROFESSOR (A) DE EDUCACAO BASICA","CELETISTA","2022-07-17",30,"2023-07-17","2022-06-30","2023-06-30","22505-44759",{"$f":"G875-SUMIF(ESCALA!$B$14:$B$15,DADOS!K875,ESCALA!$I$14:$I$15)","v":30}]
[22505,22505,"ROSEMEIRE APARECIDA DOS SANTOS","PROFESSOR (A) DE EDUCACAO BASICA","CELETISTA","2023-07-17",30,"2024-07-17","2023-06-30","2024-06-30","22505-45124",{"$f":"G876-SUMIF(ESCALA!$B$14:$B$15,DADOS!K876,ESCALA!$I$14:$I$15)","v":30}]
[22516,22516,"SONIA APARECIDA DE SOUZA ","PROFESSOR (A) DE EDUCAÇÃO BASICA","CELETISTA","2022-07-18",30,"2023-07-18","2022-06-30","2023-06-30","22516-44760",{"$f":"G877-SUMIF(ESCALA!$B$14:$B$15,DADOS!K877,ESCALA!$I$14:$I$15)","v":30}]
[22516,22516,"SONIA APARECIDA DE SOUZA ","PROFESSOR (A) DE EDUCAÇÃO BASICA","CELETISTA","2023-07-18",30,"2024-07-18","2023-06-30","2024-06-30","22516-45125",{"$f":"G878-SUMIF(ESCALA!$B$14:$B$15,DADOS!K878,ESCALA!$I$14:$I$15)","v":30}]
[22558,22558,"FATIMA DA CONCEICAO MORAIS NOGUEIRA PENIDO","PROFESSOR (A) DE EDUCAÇÃO BASICA","CELETISTA","2022-07-24",30,"2023-07-24","2022-06-30","2023-06-30","22558-44766",{"$f":"G879-SUMIF(ESCALA!$B$14:$B$15,DADOS!K879,ESCALA!$I$14:$I$15)","v":30}]
[22558,22558,"FATIMA DA CONCEICAO MORAIS NOGUEIRA PENIDO","PROFESSOR (A) DE EDUCAÇÃO BASICA","CELETISTA","2023-07-24",30,"2024-07-24","2023-06-30","2024-06-30","22558-45131",{"$f":"G880-SUMIF(ESCALA!$B$14:$B$15,DADOS!K880,ESCALA!$I$14:$I$15)","v":30}]
[22559,22559,"ALEXANDRE GOMES DE SOUZA","TECNICO (A) EM MANUTENCAO","ESTATUTARIO","2022-07-28",30,"2023-07-28","2022-07-31","2023-06-30","22559-44770",{"$f":"G881-SUMIF(ESCALA!$B$14:$B$15,DADOS!K881,ESCALA!$I$14:$I$15)","v":30}]
[22559,22559,"ALEXANDRE GOMES DE SOUZA","TECNICO (A) EM MANUTENCAO","ESTATUTARIO","2023-07-28",30,"2024-07-28","2023-07-31","2024-06-30","22559-45135",{"$f":"G882-SUMIF(ESCALA!$B$14:$B$15,DADOS!K882,ESCALA!$I$14:$I$15)","v":30}]
[22574,22574,"ELENICE SATOKO SATO MIYAZAKI","DIRETOR (A) DE ESCOLA","CELETISTA","2022-06-02",30,"2023-06-02","2022-05-31","2023-05-31","22574-44714",{"$f":"G883-SUMIF(ESCALA!$B$14:$B$15,DADOS!K883,ESCALA!$I$14:$I$15)","v":30}]
[22574,22574,"ELENICE SATOKO SATO MIYAZAKI","DIRETOR (A) DE ESCOLA","CELETISTA","2023-06-02",30,"2024-06-02","2023-05-31","2024-05-31","22574-45079",{"$f":"G884-SUMIF(ESCALA!$B$14:$B$15,DADOS!K884,ESCALA!$I$14:$I$15)","v":30}]
[22576,22576,"JOSE SOARES DE SOUZA","TECNICO (A) EM MANUTENÇÃO","CELETISTA","2023-03-04",30,"2024-03-04","2023-02-28","2024-02-29","22576-44989",{"$f":"G885-SUMIF(ESCALA!$B$14:$B$15,DADOS!K885,ESCALA!$I$14:$I$15)","v":30}]
[22603,22603,"ANDREA DE CARLOS","PROFESSOR (A) DE EDUCAÇÃO BASICA","CELETISTA","2023-01-01",30,"2024-01-01","2022-12-31","2023-12-31","22603-44927",{"$f":"G886-SUMIF(ESCALA!$B$14:$B$15,DADOS!K886,ESCALA!$I$14:$I$15)","v":30}]
[22606,22606,"PAULA DE FATIMA FERNANDES MOREIRA RISSATI","PROFESSOR (A) DE EDUCAÇÃO BÁSICA","ESTATUTARIO","2023-01-01",30,"2024-01-01","2023-01-31","2023-12-31","22606-44927",{"$f":"G887-SUMIF(ESCALA!$B$14:$B$15,DADOS!K887,ESCALA!$I$14:$I$15)","v":30}]
[22608,22608,"EDUARDO DA SILVA TAVARES","DIRETOR (A) DE DEPARTAMENTO","ESTATUTARIO","2023-02-10",30,"2024-02-10","2023-02-28","2024-01-31","22608-44967",{"$f":"G888-SUMIF(ESCALA!$B$14:$B$15,DADOS!K888,ESCALA!$I$14:$I$15)","v":30}]
[22612,22612,"CLAUDETE PAES DOS SANTOS","PROFESSOR (A) DE EDUCACAO BASICA","ESTATUTARIO","2022-10-19",30,"2023-10-19","2022-10-31","2023-09-30","22612-44853",{"$f":"G889-SUMIF(ESCALA!$B$14:$B$15,DADOS!K889,ESCALA!$I$14:$I$15)","v":30}]
[22612,22612,"CLAUDETE PAES DOS SANTOS","PROFESSOR (A) DE EDUCACAO BASICA","ESTATUTARIO","2023-10-19",30,"2024-10-19","2023-10-31","2024-09-30","22612-45218",{"$f":"G890-SUMIF(ESCALA!$B$14:$B$15,DADOS!K890,ESCALA!$I$14:$I$15)","v":30}]
[22614,22614,"MARCIA SCHROTER","PROFESSOR (A) DE EDUCAÇÃO BÁSICA","ESTATUTARIO","2023-01-01",30,"2024-01-01","2023-01-31","2023-12-31","22614-44927",{"$f":"G891-SUMIF(ESCALA!$B$14:$B$15,DADOS!K891,ESCALA!$I$14:$I$15)","v":30}]
[22628,22628,"ANTONIO JUNIOR SOARES DE FREITAS","SUPERVISÃO DE SETOR","ESTATUTARIO","2023-02-14",30,"2024-02-14","2023-02-28","2024-01-31","22628-44971",{"$f":"G892-SUMIF(ESCALA!$B$14:$B$15,DADOS!K892,ESCALA!$I$14:$I$15)","v":30}]
[22635,22635,"IVANI APARECIDA DOS SANTOS","PROFESSOR (A) DE EDUCAÇÃO BASICA","CELETISTA","2022-02-10",20,"2023-02-10","2022-01-31","2023-01-31","22635-44602",{"$f":"G893-SUMIF(ESCALA!$B$14:$B$15,DADOS!K893,ESCALA!$I$14:$I$15)","v":20}]
[22635,22635,"IVANI APARECIDA DOS SANTOS","PROFESSOR (A) DE EDUCAÇÃO BASICA","CELETISTA","2023-02-10",30,"2024-02-10","2023-01-31","2024-01-31","22635-44967",{"$f":"G894-SUMIF(ESCALA!$B$14:$B$15,DADOS!K894,ESCALA!$I$14:$I$15)","v":30}]
[22636,22636,"NILMARA GERALDES XIMENES DE SOUZA","PROFESSOR (A) DE EDUCACAO BASICA","ESTATUTARIO","2023-01-01",30,"2024-01-01","2023-01-31","2023-12-31","22636-44927",{"$f":"G895-SUMIF(ESCALA!$B$14:$B$15,DADOS!K895,ESCALA!$I$14:$I$15)","v":30}]
[22642,22642,"CLAUDIA REGINA PISSUTO DA CONCEICAO","PROFESSOR (A) DE EDUCAÇÃO BASICA","CELETISTA","2023-01-01",30,"2024-01-01","2022-12-31","2023-12-31","22642-44927",{"$f":"G896-SUMIF(ESCALA!$B$14:$B$15,DADOS!K896,ESCALA!$I$14:$I$15)","v":30}]
[22643,22643,"FLAVIA LEANDRA PORTARI","PROFESSOR (A) DE EDUCAÇÃO BASICA","CELETISTA","2022-08-07",30,"2023-08-07","2022-07-31","2023-07-31","22643-44780",{"$f":"G897-SUMIF(ESCALA!$B$14:$B$15,DADOS!K897,ESCALA!$I$14:$I$15)","v":30}]
[22643,22643,"FLAVIA LEANDRA PORTARI","PROFESSOR (A) DE EDUCAÇÃO BASICA","CELETISTA","2023-08-07",30,"2024-08-07","2023-07-31","2024-07-31","22643-45145",{"$f":"G898-SUMIF(ESCALA!$B$14:$B$15,DADOS!K898,ESCALA!$I$14:$I$15)","v":30}]
[{"$f":"IF(L899=0,\"\",B899)","v":22645},22645,"MARIA BETANIA DE ALCANTARA RIBEIRO SILVA","DIRETOR (A) DE ESCOLA","ESTATUTARIO","2023-01-01",30,{"$f":"IF(F899<=44985,F899+365,F899+366)","v":"2024-01-01"},"2023-01-31","2023-12-31",{"$f":"CONCATENATE(B899,\"-\",F899)","v":"22645-44927"},{"$f":"G899-SUMIF(ESCALA!$B$14:$B$15,DADOS!K899,ESCALA!$I$14:$I$15)","v":30}]
[22655,22655,"IRILDA SILVEIRA LOPES ALMEIDA","PROFESSOR (A) DE EDUCAÇÃO BASICA","CELETISTA","2023-01-01",30,"2024-01-01",{"$f":"IF(E900=\"ESTATUTARIO\",EOMONTH(F900,0),EOMONTH(F900,-1))","v":"2022-12-31"},{"$f":"EOMONTH(F900,11)","v":"2023-12-31"},"22655-44927",{"$f":"G900-SUMIF(ESCALA!$B$14:$B$15,DADOS!K900,ESCALA!$I$14:$I$15)","v":30}]
[22656,22656,"MARCIA ZEFERINO DE SOUZA BERGAMINI","PROFESSOR (A) DE EDUCACAO BASICA","CELETISTA","2023-01-01",30,"2024-01-01","2022-12-31","2023-12-31","22656-44927",{"$f":"G901-SUMIF(ESCALA!$B$14:$B$15,DADOS!K901,ESCALA!$I$14:$I$15)","v":30}]
[22668,22668,"AMERICA ZANELA RODRIGUES MAGALHAES","VICE-DIRETOR (A) DE ESCOLA","CELETISTA","2023-01-01",30,"2024-01-01","2022-12-31","2023-12-31","22668-44927",{"$f":"G902-SUMIF(ESCALA!$B$14:$B$15,DADOS!K902,ESCALA!$I$14:$I$15)","v":30}]
[22670,22670,"ROSEMARY FERNANDES BARBOSA","PROFESSOR (A) DE EDUCACAO BASICA","CELETISTA","2023-01-01",30,"2024-01-01","2022-12-31","2023-12-31","22670-44927",{"$f":"G903-SUMIF(ESCALA!$B$14:$B$15,DADOS!K903,ESCALA!$I$14:$I$15)","v":30}]
[22672,22672,"TANIA REGINA RAFALZIK GAMA","SUPERVISOR (A) ESCOLAR","ESTATUTARIO","2023-01-01",30,"2024-01-01","2023-01-31","2023-12-31","22672-44927",{"$f":"G904-SUMIF(ESCALA!$B$14:$B$15,DADOS!K904,ESCALA!$I$14:$I$15)","v":30}]
[22682,22682,"SOLANGE DONON ANDRADE","PROFESSOR (A) DE EDUCAÇÃO BASICA","CELETISTA","2023-01-01",30,"2024-01-01","2022-12-31","2023-12-31","22682-44927",{"$f":"G905-SUMIF(ESCALA!$B$14:$B$15,DADOS!K905,ESCALA!$I$14:$I$15)","v":30}]
[22685,22685,"REICO CLAUDIA OTAKE","PROFESSOR (A) DE EDUCACAO INFANTIL","ESTATUTARIO","2022-08-12",30,"2023-08-12","2022-08-31","2023-07-31","22685-44785",{"$f":"G906-SUMIF(ESCALA!$B$14:$B$15,DADOS!K906,ESCALA!$I$14:$I$15)","v":30}]
[22685,22685,"REICO CLAUDIA OTAKE","PROFESSOR (A) DE EDUCACAO INFANTIL","ESTATUTARIO","2023-08-12",30,"2024-08-12","2023-08-31","2024-07-31","22685-45150",{"$f":"G907-SUMIF(ESCALA!$B$14:$B$15,DADOS!K907,ESCALA!$I$14:$I$15)","v":30}]
[22741,22741,"CRISTIANE SOARES SALES","PROFESSOR (A) DE EDUCACAO BASICA","ESTATUTARIO","2022-08-27",30,"2023-08-27","2022-08-31","2023-07-31","22741-44800",{"$f":"G908-SUMIF(ESCALA!$B$14:$B$15,DADOS!K908,ESCALA!$I$14:$I$15)","v":30}]
[22741,22741,"CRISTIANE SOARES SALES","PROFESSOR (A) DE EDUCACAO BASICA","ESTATUTARIO","2023-08-27",30,"2024-08-27","2023-08-31","2024-07-31","22741-45165",{"$f":"G909-SUMIF(ESCALA!$B$14:$B$15,DADOS!K909,ESCALA!$I$14:$I$15)","v":30}]
[22755,22755,"VALERIA CANDIDA DA SILVA","PROFESSOR (A) DE EDUCACAO INFANTIL","ESTATUTARIO","2022-08-29",30,"2023-08-29","2022-08-31","2023-07-31","22755-44802",{"$f":"G910-SUMIF(ESCALA!$B$14:$B$15,DADOS!K910,ESCALA!$I$14:$I$15)","v":30}]
[22755,22755,"VALERIA CANDIDA DA SILVA","PROFESSOR (A) DE EDUCACAO INFANTIL","ESTATUTARIO","2023-08-29",30,"2024-08-29","2023-08-31","2024-07-31","22755-45167",{"$f":"G911-SUMIF(ESCALA!$B$14:$B$15,DADOS!K911,ESCALA!$I$14:$I$15)","v":30}]
[22773,22773,"FLORENCIA DOS SANTOS PINHEIRO","PROFESSOR (A) DE EDUCACAO INFANTIL","CELETISTA","2022-09-01",30,"2023-09-01","2022-08-31","2023-08-31","22773-44805",{"$f":"G912-SUMIF(ESCALA!$B$14:$B$15,DADOS!K912,ESCALA!$I$14:$I$15)","v":30}]
[22773,22773,"FLORENCIA DOS SANTOS PINHEIRO","PROFESSOR (A) DE EDUCACAO INFANTIL","CELETISTA","2023-09-01",30,"2024-09-01","2023-08-31","2024-08-31","22773-45170",{"$f":"G913-SUMIF(ESCALA!$B$14:$B$15,DADOS!K913,ESCALA!$I$14:$I$15)","v":30}]
[22774,22774,"SILMARA REGINA MACIEIRA","PROFESSOR (A) DE EDUCAÇÃO BASICA","CELETISTA","2022-09-01",30,"2023-09-01","2022-08-31","2023-08-31","22774-44805",{"$f":"G914-SUMIF(ESCALA!$B$14:$B$15,DADOS!K914,ESCALA!$I$14:$I$15)","v":30}]
[22774,22774,"SILMARA REGINA MACIEIRA","PROFESSOR (A) DE EDUCAÇÃO BASICA","CELETISTA","2023-09-01",30,"2024-09-01","2023-08-31","2024-08-31","22774-45170",{"$f":"G915-SUMIF(ESCALA!$B$14:$B$15,DADOS!K915,ESCALA!$I$14:$I$15)","v":30}]
[22788,22788,"ANA LUCIA SOARES DE ARAUJO","VICE-DIRETOR (A) DE ESCOLA","ESTATUTARIO","2023-09-04",30,"2024-09-04","2023-09-30","2024-08-31","22788-45173",{"$f":"G916-SUMIF(ESCALA!$B$14:$B$15,DADOS!K916,ESCALA!$I$14:$I$15)","v":30}]
[22825,22825,"NATALINA RAMOS NOGUEIRA","PROFESSOR (A) DE EDUCACAO BASICA","ESTATUTARIO","2022-09-15",30,"2023-09-15","2022-09-30","2023-08-31","22825-44819",{"$f":"G917-SUMIF(ESCALA!$B$14:$B$15,DADOS!K917,ESCALA!$I$14:$I$15)","v":30}]
[22825,22825,"NATALINA RAMOS NOGUEIRA","PROFESSOR (A) DE EDUCACAO BASICA","ESTATUTARIO","2023-09-15",30,"2024-09-15","2023-09-30","2024-08-31","22825-45184",{"$f":"G918-SUMIF(ESCALA!$B$14:$B$15,DADOS!K918,ESCALA!$I$14:$I$15)","v":30}]
[22887,22887,"EUNEA SILVANA DA SILVA LUIZ","PROFESSOR (A) DE EDUCAÇÃO BÁSICA","CELETISTA","2022-10-01",30,"2023-10-01","2022-09-30","2023-09-30","22887-44835",{"$f":"G919-SUMIF(ESCALA!$B$14:$B$15,DADOS!K919,ESCALA!$I$14:$I$15)","v":30}]
[22887,22887,"EUNEA SILVANA DA SILVA LUIZ","PROFESSOR (A) DE EDUCAÇÃO BÁSICA","CELETISTA","2023-10-01",30,"2024-10-01","2023-09-30","2024-09-30","22887-45200",{"$f":"G920-SUMIF(ESCALA!$B$14:$B$15,DADOS!K920,ESCALA!$I$14:$I$15)","v":30}]
[22895,22895,"MARCELO DE SOUZA FERREIRA","TECNICO (A) EM MANUTENCAO","ESTATUTARIO","2022-10-06",15,"2023-10-06","2022-10-31","2023-09-30","22895-44840",{"$f":"G921-SUMIF(ESCALA!$B$14:$B$15,DADOS!K921,ESCALA!$I$14:$I$15)","v":15}]
[22895,22895,"MARCELO DE SOUZA FERREIRA","TECNICO (A) EM MANUTENCAO","ESTATUTARIO","2023-10-06",30,"2024-10-06","2023-10-31","2024-09-30","22895-45205",{"$f":"G922-SUMIF(ESCALA!$B$14:$B$15,DADOS!K922,ESCALA!$I$14:$I$15)","v":30}]
[22914,22914,"SANDRA FERNANDES DO NASCIMENTO","COZINHEIRO (A)","ESTATUTARIO","2022-10-07",30,"2023-10-07","2022-10-31","2023-09-30","22914-44841",{"$f":"G923-SUMIF(ESCALA!$B$14:$B$15,DADOS!K923,ESCALA!$I$14:$I$15)","v":30}]
[22914,22914,"SANDRA FERNANDES DO NASCIMENTO","COZINHEIRO (A)","ESTATUTARIO","2023-10-07",30,"2024-10-07","2023-10-31","2024-09-30","22914-45206",{"$f":"G924-SUMIF(ESCALA!$B$14:$B$15,DADOS!K924,ESCALA!$I$14:$I$15)","v":30}]
[22955,22955,"ALICE CANDIDO DE CARVALHO REBULO","COZINHEIRO (A)","CELETISTA","2022-10-22",30,"2023-10-22","2022-09-30","2023-09-30","22955-44856",{"$f":"G925-SUMIF(ESCALA!$B$14:$B$15,DADOS!K925,ESCALA!$I$14:$I$15)","v":30}]
[22955,22955,"ALICE CANDIDO DE CARVALHO REBULO","COZINHEIRO (A)","CELETISTA","2023-10-22",30,"2024-10-22","2023-09-30","2024-09-30","22955-45221",{"$f":"G926-SUMIF(ESCALA!$B$14:$B$15,DADOS!K926,ESCALA!$I$14:$I$15)","v":30}]
[22962,22962,"MARIA LUCIA CONCEICAO RODRIGUES","AUXILIAR OPERACIONAL","ESTATUTARIO","2022-10-23",30,"2023-10-23","2022-10-31","2023-09-30","22962-44857",{"$f":"G927-SUMIF(ESCALA!$B$14:$B$15,DADOS!K927,ESCALA!$I$14:$I$15)","v":30}]
[22962,22962,"MARIA LUCIA CONCEICAO RODRIGUES","AUXILIAR OPERACIONAL","ESTATUTARIO","2023-10-23",30,"2024-10-23","2023-10-31","2024-09-30","22962-45222",{"$f":"G928-SUMIF(ESCALA!$B$14:$B$15,DADOS!K928,ESCALA!$I$14:$I$15)","v":30}]
[23046,23046,"ANA CLAUDIA CAMPOS VARGAS DOS SANTOS","CHEFE DE SECAO ADMINISTRATIVA","ESTATUTARIO","2022-11-13",30,"2023-11-13","2022-11-30","2023-10-31","23046-44878",{"$f":"G929-SUMIF(ESCALA!$B$14:$B$15,DADOS!K929,ESCALA!$I$14:$I$15)","v":30}]
[23046,23046,"ANA CLAUDIA CAMPOS VARGAS DOS SANTOS","CHEFE DE SECAO ADMINISTRATIVA","ESTATUTARIO","2023-11-13",30,"2024-11-13","2023-11-30","2024-10-31","23046-45243",{"$f":"G930-SUMIF(ESCALA!$B$14:$B$15,DADOS!K930,ESCALA!$I$14:$I$15)","v":30}]
[23175,23175,"VALERIA RASPANTE DE OLIVEIRA","AGENTE DE ADMINISTRAÇÃO B","ESTATUTARIO","2022-01-06",5,"2023-01-06","2022-01-31","2022-12-31","23175-44567",{"$f":"G931-SUMIF(ESCALA!$B$14:$B$15,DADOS!K931,ESCALA!$I$14:$I$15)","v":5}]
[23175,23175,"VALERIA RASPANTE DE OLIVEIRA","AGENTE DE ADMINISTRAÇÃO B","ESTATUTARIO","2023-01-06",30,"2024-01-06","2023-01-31","2023-12-31","23175-44932",{"$f":"G932-SUMIF(ESCALA!$B$14:$B$15,DADOS!K932,ESCALA!$I$14:$I$15)","v":30}]
[23616,23616,"ALESSANDRA RODRIGUES FERREIRA TOMAZ","AUXILIAR OPERACIONAL","ESTATUTARIO","2023-03-20",30,"2024-03-20","2023-03-31","2024-02-29","23616-45005",{"$f":"G933-SUMIF(ESCALA!$B$14:$B$15,DADOS!K933,ESCALA!$I$14:$I$15)","v":30}]
[23642,23642,"MARIA DALVA RAMOS","COZINHEIRO (A)","ESTATUTARIO","2022-03-25",30,"2023-03-25","2022-03-31","2023-02-28","23642-44645",{"$f":"G934-SUMIF(ESCALA!$B$14:$B$15,DADOS!K934,ESCALA!$I$14:$I$15)","v":30}]
[23642,23642,"MARIA DALVA RAMOS","COZINHEIRO (A)","ESTATUTARIO","2023-03-25",30,"2024-03-25","2023-03-31","2024-02-29","23642-45010",{"$f":"G935-SUMIF(ESCALA!$B$14:$B$15,DADOS!K935,ESCALA!$I$14:$I$15)","v":30}]
[23656,23656,"INES DE OLIVEIRA NUNES SOUZA","CHEFE DE SECAO ADMINISTRATIVA","CELETISTA","2022-04-02",30,"2023-04-02","2022-03-31","2023-03-31","23656-44653",{"$f":"G936-SUMIF(ESCALA!$B$14:$B$15,DADOS!K936,ESCALA!$I$14:$I$15)","v":30}]
[23656,23656,"INES DE OLIVEIRA NUNES SOUZA","CHEFE DE SECAO ADMINISTRATIVA","CELETISTA","2023-04-02",30,"2024-04-02","2023-03-31","2024-03-31","23656-45018",{"$f":"G937-SUMIF(ESCALA!$B$14:$B$15,DADOS!K937,ESCALA!$I$14:$I$15)","v":30}]
[23675,23675,"GUIOMAR HELENA PALAZZIN DE ALMEIDA","DIRETOR (A) DE ESCOLA","CELETISTA","2022-04-06",5,"2023-04-06","2022-03-31","2023-03-31","23675-44657",{"$f":"G938-SUMIF(ESCALA!$B$14:$B$15,DADOS!K938,ESCALA!$I$14:$I$15)","v":5}]
[23675,23675,"GUIOMAR HELENA PALAZZIN DE ALMEIDA","DIRETOR (A) DE ESCOLA","CELETISTA","2023-04-06",30,"2024-04-06","2023-03-31","2024-03-31","23675-45022",{"$f":"G939-SUMIF(ESCALA!$B$14:$B$15,DADOS!K939,ESCALA!$I$14:$I$15)","v":30}]
[23687,23687,"SANDRA DE CASSIA E SILVA","PROFESSOR (A) DE EDUCACAO BASICA","ESTATUTARIO","2022-04-08",30,"2023-04-08","2022-04-30","2023-03-31","23687-44659",{"$f":"G940-SUMIF(ESCALA!$B$14:$B$15,DADOS!K940,ESCALA!$I$14:$I$15)","v":30}]
[23687,23687,"SANDRA DE CASSIA E SILVA","PROFESSOR (A) DE EDUCACAO BASICA","ESTATUTARIO","2023-04-08",30,"2024-04-08","2023-04-30","2024-03-31","23687-45024",{"$f":"G941-SUMIF(ESCALA!$B$14:$B$15,DADOS!K941,ESCALA!$I$14:$I$15)","v":30}]
[23689,23689,"ADALGISA APOLONIO DE SOUSA COSTA","DIRETOR (A) DE ESCOLA","ESTATUTARIO","2023-04-09",30,"2024-04-09","2023-04-30","2024-03-31","23689-45025",{"$f":"G942-SUMIF(ESCALA!$B$14:$B$15,DADOS!K942,ESCALA!$I$14:$I$15)","v":30}]
[23691,23691,"LUZIA BATISTA DE SOUZA","PROFESSOR (A) DE EDUCAÇÃO BASICA","CELETISTA","2022-04-09",30,"2023-04-09","2022-03-31","2023-03-31","23691-44660",{"$f":"G943-SUMIF(ESCALA!$B$14:$B$15,DADOS!K943,ESCALA!$I$14:$I$15)","v":30}]
[23691,23691,"LUZIA BATISTA DE SOUZA","PROFESSOR (A) DE EDUCAÇÃO BASICA","CELETISTA","2023-04-09",30,"2024-04-09","2023-03-31","2024-03-31","23691-45025",{"$f":"G944-SUMIF(ESCALA!$B$14:$B$15,DADOS!K944,ESCALA!$I$14:$I$15)","v":30}]
[23712,23712,"LUCIENE FERREIRA DA SILVA","DIRETOR (A) DE ESCOLA","ESTATUTARIO","2022-04-13",5,"2023-04-13","2022-04-30","2023-03-31","23712-44664",{"$f":"G945-SUMIF(ESCALA!$B$14:$B$15,DADOS!K945,ESCALA!$I$14:$I$15)","v":5}]
[23712,23712,"LUCIENE FERREIRA DA SILVA","DIRETOR (A) DE ESCOLA","ESTATUTARIO","2023-04-13",30,"2024-04-13","2023-04-30","2024-03-31","23712-45029",{"$f":"G946-SUMIF(ESCALA!$B$14:$B$15,DADOS!K946,ESCALA!$I$14:$I$15)","v":30}]
[23713,23713,"MARCIA REGINA DA SILVA SOUZA","PROFESSOR (A) DE EDUCACAO INFANTIL","CELETISTA","2022-05-30",30,"2023-05-30","2022-04-30","2023-04-30","23713-44711",{"$f":"G947-SUMIF(ESCALA!$B$14:$B$15,DADOS!K947,ESCALA!$I$14:$I$15)","v":30}]
[23713,23713,"MARCIA REGINA DA SILVA SOUZA","PROFESSOR (A) DE EDUCACAO INFANTIL","CELETISTA","2023-05-30",30,"2024-05-30","2023-04-30","2024-04-30","23713-45076",{"$f":"G948-SUMIF(ESCALA!$B$14:$B$15,DADOS!K948,ESCALA!$I$14:$I$15)","v":30}]
[23715,23715,"ROSA MARIA DE FRANCA","PROFESSOR (A) DE EDUCACAO BASICA","ESTATUTARIO","2022-08-14",30,"2023-08-14","2022-08-31","2023-07-31","23715-44787",{"$f":"G949-SUMIF(ESCALA!$B$14:$B$15,DADOS!K949,ESCALA!$I$14:$I$15)","v":30}]
[23715,23715,"ROSA MARIA DE FRANCA","PROFESSOR (A) DE EDUCACAO BASICA","ESTATUTARIO","2023-08-14",30,"2024-08-14","2023-08-31","2024-07-31","23715-45152",{"$f":"G950-SUMIF(ESCALA!$B$14:$B$15,DADOS!K950,ESCALA!$I$14:$I$15)","v":30}]
[23734,23734,"ROSANGELA SANTANA SOARES","AGENTE DE ADMINISTRAÇÃO B","ESTATUTARIO","2023-04-13",30,"2024-04-13","2023-04-30","2024-03-31","23734-45029",{"$f":"G951-SUMIF(ESCALA!$B$14:$B$15,DADOS!K951,ESCALA!$I$14:$I$15)","v":30}]
[23737,23737,"CLAUDILENE NORBERTO","PROFESSOR (A) DE EDUCAÇÃO BASICA","CELETISTA","2022-12-31",30,"2023-12-31","2022-11-30","2023-11-30","23737-44926",{"$f":"G952-SUMIF(ESCALA!$B$14:$B$15,DADOS!K952,ESCALA!$I$14:$I$15)","v":30}]
[23737,23737,"CLAUDILENE NORBERTO","PROFESSOR (A) DE EDUCAÇÃO BASICA","CELETISTA","2023-12-31",30,"2024-12-31","2023-11-30","2024-11-30","23737-45291",{"$f":"G953-SUMIF(ESCALA!$B$14:$B$15,DADOS!K953,ESCALA!$I$14:$I$15)","v":30}]
[23745,23745,"IVONE DOS SANTOS","PROFESSOR (A) DE EDUCAÇÃO BASICA","CELETISTA","2022-04-16",30,"2023-04-16","2022-03-31","2023-03-31","23745-44667",{"$f":"G954-SUMIF(ESCALA!$B$14:$B$15,DADOS!K954,ESCALA!$I$14:$I$15)","v":30}]
[23745,23745,"IVONE DOS SANTOS","PROFESSOR (A) DE EDUCAÇÃO BASICA","CELETISTA","2023-04-16",30,"2024-04-16","2023-03-31","2024-03-31","23745-45032",{"$f":"G955-SUMIF(ESCALA!$B$14:$B$15,DADOS!K955,ESCALA!$I$14:$I$15)","v":30}]
[23752,23752,"ROBSON RODRIGUES","DIRETOR (A) DE ESCOLA","CELETISTA","2022-09-09",5,"2023-09-09","2022-08-31","2023-08-31","23752-44813",{"$f":"G956-SUMIF(ESCALA!$B$14:$B$15,DADOS!K956,ESCALA!$I$14:$I$15)","v":5}]
[23752,23752,"ROBSON RODRIGUES","DIRETOR (A) DE ESCOLA","CELETISTA","2023-09-09",30,"2024-09-09","2023-08-31","2024-08-31","23752-45178",{"$f":"G957-SUMIF(ESCALA!$B$14:$B$15,DADOS!K957,ESCALA!$I$14:$I$15)","v":30}]
[23785,23785,"PATRICIA CRISTIANE TONETTO FIRMO","COORDENADOR (A) DE CENTRO EDUCACIONAL","CELETISTA","2022-05-05",25,"2023-05-05","2022-04-30","2023-04-30","23785-44686",{"$f":"G958-SUMIF(ESCALA!$B$14:$B$15,DADOS!K958,ESCALA!$I$14:$I$15)","v":25}]
[23785,23785,"PATRICIA CRISTIANE TONETTO FIRMO","COORDENADOR (A) DE CENTRO EDUCACIONAL","CELETISTA","2023-05-05",30,"2024-05-05","2023-04-30","2024-04-30","23785-45051",{"$f":"G959-SUMIF(ESCALA!$B$14:$B$15,DADOS!K959,ESCALA!$I$14:$I$15)","v":30}]
[23805,23805,"EDNEIA GONCALVES DOS SANTOS FRANCO","PROFESSOR (A) DE EDUCAÇÃO BASICA","CELETISTA","2022-04-22",30,"2023-04-22","2022-03-31","2023-03-31","23805-44673",{"$f":"G960-SUMIF(ESCALA!$B$14:$B$15,DADOS!K960,ESCALA!$I$14:$I$15)","v":30}]
[23805,23805,"EDNEIA GONCALVES DOS SANTOS FRANCO","PROFESSOR (A) DE EDUCAÇÃO BASICA","CELETISTA","2023-04-22",30,"2024-04-22","2023-03-31","2024-03-31","23805-45038",{"$f":"G961-SUMIF(ESCALA!$B$14:$B$15,DADOS!K961,ESCALA!$I$14:$I$15)","v":30}]
[23807,23807,"SANDRA MARIA DA SILVA GAMA","PROFESSOR (A) DE EDUCAÇÃO BASICA","CELETISTA","2022-05-14",30,"2023-05-14","2022-04-30","2023-04-30","23807-44695",{"$f":"G962-SUMIF(ESCALA!$B$14:$B$15,DADOS!K962,ESCALA!$I$14:$I$15)","v":30}]
[{"$f":"IF(L963=0,\"\",B963)","v":23807},23807,"SANDRA MARIA DA SILVA GAMA","PROFESSOR (A) DE EDUCAÇÃO BASICA","CELETISTA","2023-05-14",30,{"$f":"IF(F963<=44985,F963+365,F963+366)","v":"2024-05-14"},"2023-04-30","2024-04-30",{"$f":"CONCATENATE(B963,\"-\",F963)","v":"23807-45060"},{"$f":"G963-SUMIF(ESCALA!$B$14:$B$15,DADOS!K963,ESCALA!$I$14:$I$15)","v":30}]
[23813,23813,"SIMONE DE OLIVEIRA GOMES DOS SANTOS","PROFESSOR (A) DE EDUCACAO BASICA","CELETISTA","2022-05-15",30,"2023-05-15",{"$f":"IF(E964=\"ESTATUTARIO\",EOMONTH(F964,0),EOMONTH(F964,-1))","v":"2022-04-30"},{"$f":"EOMONTH(F964,11)","v":"2023-04-30"},"23813-44696",{"$f":"G964-SUMIF(ESCALA!$B$14:$B$15,DADOS!K964,ESCALA!$I$14:$I$15)","v":30}]
[23813,23813,"SIMONE DE OLIVEIRA GOMES DOS SANTOS","PROFESSOR (A) DE EDUCACAO BASICA","CELETISTA","2023-05-15",30,"2024-05-15","2023-04-30","2024-04-30","23813-45061",{"$f":"G965-SUMIF(ESCALA!$B$14:$B$15,DADOS!K965,ESCALA!$I$14:$I$15)","v":30}]
[23815,23815,"SUELI DOMINGUES DOS SANTOS","PROFESSOR (A) DE EDUCAÇÃO BASICA","CELETISTA","2022-05-15",30,"2023-05-15","2022-04-30","2023-04-30","23815-44696",{"$f":"G966-SUMIF(ESCALA!$B$14:$B$15,DADOS!K966,ESCALA!$I$14:$I$15)","v":30}]
[23815,23815,"SUELI DOMINGUES DOS SANTOS","PROFESSOR (A) DE EDUCAÇÃO BASICA","CELETISTA","2023-05-15",30,"2024-05-15","2023-04-30","2024-04-30","23815-45061",{"$f":"G967-SUMIF(ESCALA!$B$14:$B$15,DADOS!K967,ESCALA!$I$14:$I$15)","v":30}]
[23817,23817,"ANDREA ALVES DE SOUSA TONON","PROFESSOR (A) DE EDUCACAO BASICA","CELETISTA","2022-05-19",30,"2023-05-19","2022-04-30","2023-04-30","23817-44700",{"$f":"G968-SUMIF(ESCALA!$B$14:$B$15,DADOS!K968,ESCALA!$I$14:$I$15)","v":30}]
[23817,23817,"ANDREA ALVES DE SOUSA TONON","PROFESSOR (A) DE EDUCACAO BASICA","CELETISTA","2023-05-19",30,"2024-05-19","2023-04-30","2024-04-30","23817-45065",{"$f":"G969-SUMIF(ESCALA!$B$14:$B$15,DADOS!K969,ESCALA!$I$14:$I$15)","v":30}]
[23837,23837,"KARIN DEGENHARD BOMBO","PROFESSOR (A) DE EDUCAÇÃO BÁSICA","ESTATUTARIO","2022-02-13",30,"2023-02-13","2022-02-28","2023-01-31","23837-44605",{"$f":"G970-SUMIF(ESCALA!$B$14:$B$15,DADOS!K970,ESCALA!$I$14:$I$15)","v":30}]
[23837,23837,"KARIN DEGENHARD BOMBO","PROFESSOR (A) DE EDUCAÇÃO BÁSICA","ESTATUTARIO","2023-02-13",30,"2024-02-13","2023-02-28","2024-01-31","23837-44970",{"$f":"G971-SUMIF(ESCALA!$B$14:$B$15,DADOS!K971,ESCALA!$I$14:$I$15)","v":30}]
[23842,23842,"FABIANA DE ARAUJO SILVA","PROFESSOR (A) DE EDUCACAO BASICA","ESTATUTARIO","2022-05-26",30,"2023-05-26","2022-05-31","2023-04-30","23842-44707",{"$f":"G972-SUMIF(ESCALA!$B$14:$B$15,DADOS!K972,ESCALA!$I$14:$I$15)","v":30}]
[23842,23842,"FABIANA DE ARAUJO SILVA","PROFESSOR (A) DE EDUCACAO BASICA","ESTATUTARIO","2023-05-26",30,"2024-05-26","2023-05-31","2024-04-30","23842-45072",{"$f":"G973-SUMIF(ESCALA!$B$14:$B$15,DADOS!K973,ESCALA!$I$14:$I$15)","v":30}]
[23866,23866,"PATRICIA CADENCIA CALHAU ROSA","PROFESSOR (A) DE EDUCACAO BASICA","ESTATUTARIO","2022-10-07",30,"2023-10-07","2022-10-31","2023-09-30","23866-44841",{"$f":"G974-SUMIF(ESCALA!$B$14:$B$15,DADOS!K974,ESCALA!$I$14:$I$15)","v":30}]
[23866,23866,"PATRICIA CADENCIA CALHAU ROSA","PROFESSOR (A) DE EDUCACAO BASICA","ESTATUTARIO","2023-10-07",30,"2024-10-07","2023-10-31","2024-09-30","23866-45206",{"$f":"G975-SUMIF(ESCALA!$B$14:$B$15,DADOS!K975,ESCALA!$I$14:$I$15)","v":30}]
[23869,23869,"ADRIANA CRISTINA JACIUK DE JESUS","VICE-DIRETOR (A) DE ESCOLA","ESTATUTARIO","2022-06-04",30,"2023-06-04","2022-06-30","2023-05-31","23869-44716",{"$f":"G976-SUMIF(ESCALA!$B$14:$B$15,DADOS!K976,ESCALA!$I$14:$I$15)","v":30}]
[23869,23869,"ADRIANA CRISTINA JACIUK DE JESUS","VICE-DIRETOR (A) DE ESCOLA","ESTATUTARIO","2023-06-04",30,"2024-06-04","2023-06-30","2024-05-31","23869-45081",{"$f":"G977-SUMIF(ESCALA!$B$14:$B$15,DADOS!K977,ESCALA!$I$14:$I$15)","v":30}]
[23873,23873,"ELIANA RODRIGUES PLACIDO YAMASSITA","PROFESSOR (A) DE EDUCACAO BASICA","CELETISTA","2022-06-03",30,"2023-06-03","2022-05-31","2023-05-31","23873-44715",{"$f":"G978-SUMIF(ESCALA!$B$14:$B$15,DADOS!K978,ESCALA!$I$14:$I$15)","v":30}]
[23873,23873,"ELIANA RODRIGUES PLACIDO YAMASSITA","PROFESSOR (A) DE EDUCACAO BASICA","CELETISTA","2023-06-03",30,"2024-06-03","2023-05-31","2024-05-31","23873-45080",{"$f":"G979-SUMIF(ESCALA!$B$14:$B$15,DADOS!K979,ESCALA!$I$14:$I$15)","v":30}]
[23874,23874,"GLAUCE RIBEIRO DOS SANTOS","PROFESSOR (A) DE EDUCACAO BASICA","ESTATUTARIO","2022-06-02",30,"2023-06-02","2022-06-30","2023-05-31","23874-44714",{"$f":"G980-SUMIF(ESCALA!$B$14:$B$15,DADOS!K980,ESCALA!$I$14:$I$15)","v":30}]
[23874,23874,"GLAUCE RIBEIRO DOS SANTOS","PROFESSOR (A) DE EDUCACAO BASICA","ESTATUTARIO","2023-06-02",30,"2024-06-02","2023-06-30","2024-05-31","23874-45079",{"$f":"G981-SUMIF(ESCALA!$B$14:$B$15,DADOS!K981,ESCALA!$I$14:$I$15)","v":30}]
[23901,23901,"ANDREA BARCELOS DE OLIVEIRA","PROFESSOR (A) DE EDUCACAO BASICA","CELETISTA","2022-06-08",30,"2023-06-08","2022-05-31","2023-05-31","23901-44720",{"$f":"G982-SUMIF(ESCALA!$B$14:$B$15,DADOS!K982,ESCALA!$I$14:$I$15)","v":30}]
[23901,23901,"ANDREA BARCELOS DE OLIVEIRA","PROFESSOR (A) DE EDUCACAO BASICA","CELETISTA","2023-06-08",30,"2024-06-08","2023-05-31","2024-05-31","23901-45085",{"$f":"G983-SUMIF(ESCALA!$B$14:$B$15,DADOS!K983,ESCALA!$I$14:$I$15)","v":30}]
[23918,23918,"SANDRA LUIZ GASQUES","PROFESSOR (A) COORDENADOR (A)  PEDAGOGICO (A)","ESTATUTARIO","2022-06-11",30,"2023-06-11","2022-06-30","2023-05-31","23918-44723",{"$f":"G984-SUMIF(ESCALA!$B$14:$B$15,DADOS!K984,ESCALA!$I$14:$I$15)","v":30}]
[23918,23918,"SANDRA LUIZ GASQUES","PROFESSOR (A) COORDENADOR (A)  PEDAGOGICO (A)","ESTATUTARIO","2023-06-11",30,"2024-06-11","2023-06-30","2024-05-31","23918-45088",{"$f":"G985-SUMIF(ESCALA!$B$14:$B$15,DADOS!K985,ESCALA!$I$14:$I$15)","v":30}]
[23961,23961,"CLAUDIA SIMONE FERREIRA LUCENA","CHEFE DE SECAO TECNICA","ESTATUTARIO","2022-07-13",30,"2023-07-13","2022-07-31","2023-06-30","23961-44755",{"$f":"G986-SUMIF(ESCALA!$B$14:$B$15,DADOS!K986,ESCALA!$I$14:$I$15)","v":30}]
[23961,23961,"CLAUDIA SIMONE FERREIRA LUCENA","CHEFE DE SECAO TECNICA","ESTATUTARIO","2023-07-13",30,"2024-07-13","2023-07-31","2024-06-30","23961-45120",{"$f":"G987-SUMIF(ESCALA!$B$14:$B$15,DADOS!K987,ESCALA!$I$14:$I$15)","v":30}]
[23994,23994,"MERCIA CARVALHO DA SILVA NAVARRO ","PROFESSOR (A) DE EDUCACAO BASICA","ESTATUTARIO","2022-07-23",30,"2023-07-23","2022-07-31","2023-06-30","23994-44765",{"$f":"G988-SUMIF(ESCALA!$B$14:$B$15,DADOS!K988,ESCALA!$I$14:$I$15)","v":30}]
[23994,23994,"MERCIA CARVALHO DA SILVA NAVARRO ","PROFESSOR (A) DE EDUCACAO BASICA","ESTATUTARIO","2023-07-23",30,"2024-07-23","2023-07-31","2024-06-30","23994-45130",{"$f":"G989-SUMIF(ESCALA!$B$14:$B$15,DADOS!K989,ESCALA!$I$14:$I$15)","v":30}]
[23997,23997,"CATHERINE AMELOTTI BELLAN DO NASCIMENTO","PROFESSOR (A) DE EDUCACAO BASICA","CELETISTA","2022-07-24",30,"2023-07-24","2022-06-30","2023-06-30","23997-44766",{"$f":"G990-SUMIF(ESCALA!$B$14:$B$15,DADOS!K990,ESCALA!$I$14:$I$15)","v":30}]
[23997,23997,"CATHERINE AMELOTTI BELLAN DO NASCIMENTO","PROFESSOR (A) DE EDUCACAO BASICA","CELETISTA","2023-07-24",30,"2024-07-24","2023-06-30","2024-06-30","23997-45131",{"$f":"G991-SUMIF(ESCALA!$B$14:$B$15,DADOS!K991,ESCALA!$I$14:$I$15)","v":30}]
[24152,24152,"SANDRA LUCIA ESTAVARENCO BARBOSA","PROFESSOR (A) DE EDUCACAO INFANTIL","ESTATUTARIO","2022-10-05",30,"2023-10-05","2022-10-31","2023-09-30","24152-44839",{"$f":"G992-SUMIF(ESCALA!$B$14:$B$15,DADOS!K992,ESCALA!$I$14:$I$15)","v":30}]
[24152,24152,"SANDRA LUCIA ESTAVARENCO BARBOSA","PROFESSOR (A) DE EDUCACAO INFANTIL","ESTATUTARIO","2023-10-05",30,"2024-10-05","2023-10-31","2024-09-30","24152-45204",{"$f":"G993-SUMIF(ESCALA!$B$14:$B$15,DADOS!K993,ESCALA!$I$14:$I$15)","v":30}]
[24227,24227,"SILVIA PINHEIRO RODRIGUES","COZINHEIRO (A)","ESTATUTARIO","2022-10-19",30,"2023-10-19","2022-10-31","2023-09-30","24227-44853",{"$f":"G994-SUMIF(ESCALA!$B$14:$B$15,DADOS!K994,ESCALA!$I$14:$I$15)","v":30}]
[24227,24227,"SILVIA PINHEIRO RODRIGUES","COZINHEIRO (A)","ESTATUTARIO","2023-10-19",30,"2024-10-19","2023-10-31","2024-09-30","24227-45218",{"$f":"G995-SUMIF(ESCALA!$B$14:$B$15,DADOS!K995,ESCALA!$I$14:$I$15)","v":30}]
[24257,24257,"MARIA IONE RONDINI","COZINHEIRO (A)","ESTATUTARIO","2022-10-22",30,"2023-10-22","2022-10-31","2023-09-30","24257-44856",{"$f":"G996-SUMIF(ESCALA!$B$14:$B$15,DADOS!K996,ESCALA!$I$14:$I$15)","v":30}]
[24257,24257,"MARIA IONE RONDINI","COZINHEIRO (A)","ESTATUTARIO","2023-10-22",30,"2024-10-22","2023-10-31","2024-09-30","24257-45221",{"$f":"G997-SUMIF(ESCALA!$B$14:$B$15,DADOS!K997,ESCALA!$I$14:$I$15)","v":30}]
[24260,24260,"TANIA MARA HENRIQUE ANTONIO","COZINHEIRO (A)","CELETISTA","2022-10-23",30,"2023-10-23","2022-09-30","2023-09-30","24260-44857",{"$f":"G998-SUMIF(ESCALA!$B$14:$B$15,DADOS!K998,ESCALA!$I$14:$I$15)","v":30}]
[24260,24260,"TANIA MARA HENRIQUE ANTONIO","COZINHEIRO (A)","CELETISTA","2023-10-23",30,"2024-10-23","2023-09-30","2024-09-30","24260-45222",{"$f":"G999-SUMIF(ESCALA!$B$14:$B$15,DADOS!K999,ESCALA!$I$14:$I$15)","v":30}]
[24659,24659,"JULIO CESAR CUNHA DE BRITO","AUXILIAR OPERACIONAL","CELETISTA","2022-12-15",30,"2023-12-15","2022-11-30","2023-11-30","24659-44910",{"$f":"G1000-SUMIF(ESCALA!$B$14:$B$15,DADOS!K1000,ESCALA!$I$14:$I$15)","v":30}]
[24659,24659,"JULIO CESAR CUNHA DE BRITO","AUXILIAR OPERACIONAL","CELETISTA","2023-12-15",30,"2024-12-15","2023-11-30","2024-11-30","24659-45275",{"$f":"G1001-SUMIF(ESCALA!$B$14:$B$15,DADOS!K1001,ESCALA!$I$14:$I$15)","v":30}]
[24664,24664,"ELIANE DA SILVA SANTOS CASTICO","PROFESSOR (A) DE EDUCACAO INFANTIL","CELETISTA","2022-12-17",30,"2023-12-17","2022-11-30","2023-11-30","24664-44912",{"$f":"G1002-SUMIF(ESCALA!$B$14:$B$15,DADOS!K1002,ESCALA!$I$14:$I$15)","v":30}]
[24664,24664,"ELIANE DA SILVA SANTOS CASTICO","PROFESSOR (A) DE EDUCACAO INFANTIL","CELETISTA","2023-12-17",30,"2024-12-17","2023-11-30","2024-11-30","24664-45277",{"$f":"G1003-SUMIF(ESCALA!$B$14:$B$15,DADOS!K1003,ESCALA!$I$14:$I$15)","v":30}]
[24779,24779,"ROSEMEIRE SANTANA VIANA","PROFESSOR (A) DE EDUCACAO BASICA","ESTATUTARIO","2022-12-10",30,"2023-12-10","2022-12-31","2023-11-30","24779-44905",{"$f":"G1004-SUMIF(ESCALA!$B$14:$B$15,DADOS!K1004,ESCALA!$I$14:$I$15)","v":30}]
[24779,24779,"ROSEMEIRE SANTANA VIANA","PROFESSOR (A) DE EDUCACAO BASICA","ESTATUTARIO","2023-12-10",30,"2024-12-10","2023-12-31","2024-11-30","24779-45270",{"$f":"G1005-SUMIF(ESCALA!$B$14:$B$15,DADOS!K1005,ESCALA!$I$14:$I$15)","v":30}]
[24790,24790,"TEREZA NAZARETH ARRAIS DO PRADO","PROFESSOR (A) DE EDUCAÇÃO BÁSICA","CELETISTA","2023-01-01",30,"2024-01-01","2022-12-31","2023-12-31","24790-44927",{"$f":"G1006-SUMIF(ESCALA!$B$14:$B$15,DADOS!K1006,ESCALA!$I$14:$I$15)","v":30}]
[24929,24929,"MARCIA FERREIRA BREVES DE CAMARGO","COZINHEIRO (A)","ESTATUTARIO","2023-01-01",30,"2024-01-01","2023-01-31","2023-12-31","24929-44927",{"$f":"G1007-SUMIF(ESCALA!$B$14:$B$15,DADOS!K1007,ESCALA!$I$14:$I$15)","v":30}]
[25162,25162,"MARIA APARECIDA DE FATIMA VIEIRA","PROFESSOR (A) COORDENADOR (A)  PEDAGOGICO (A)","CELETISTA","2023-01-01",30,"2024-01-01","2022-12-31","2023-12-31","25162-44927",{"$f":"G1008-SUMIF(ESCALA!$B$14:$B$15,DADOS!K1008,ESCALA!$I$14:$I$15)","v":30}]
[25163,25163,"CLARICE BARDUZI LUIZ","COZINHEIRO (A)","CELETISTA","2023-01-01",30,"2024-01-01","2022-12-31","2023-12-31","25163-44927",{"$f":"G1009-SUMIF(ESCALA!$B$14:$B$15,DADOS!K1009,ESCALA!$I$14:$I$15)","v":30}]
[25177,25177,"ANDREA REGINA RESTA DE OLIVEIRA","COZINHEIRO (A)","ESTATUTARIO","2023-01-01",30,"2024-01-01","2023-01-31","2023-12-31","25177-44927",{"$f":"G1010-SUMIF(ESCALA!$B$14:$B$15,DADOS!K1010,ESCALA!$I$14:$I$15)","v":30}]
[25248,25248,"CARMEM SILVIA CHAVIER DE AZEVEDO","PROFESSOR (A) DE EDUCAÇÃO BASICA","CELETISTA","2022-04-07",30,"2023-04-07","2022-03-31","2023-03-31","25248-44658",{"$f":"G1011-SUMIF(ESCALA!$B$14:$B$15,DADOS!K1011,ESCALA!$I$14:$I$15)","v":30}]
[25248,25248,"CARMEM SILVIA CHAVIER DE AZEVEDO","PROFESSOR (A) DE EDUCAÇÃO BASICA","CELETISTA","2023-04-07",30,"2024-04-07","2023-03-31","2024-03-31","25248-45023",{"$f":"G1012-SUMIF(ESCALA!$B$14:$B$15,DADOS!K1012,ESCALA!$I$14:$I$15)","v":30}]
[25275,25275,"ANA MARIA DE LIMA BARROS","PROFESSOR (A) DE EDUCAÇÃO BASICA","CELETISTA","2023-01-01",30,"2024-01-01","2022-12-31","2023-12-31","25275-44927",{"$f":"G1013-SUMIF(ESCALA!$B$14:$B$15,DADOS!K1013,ESCALA!$I$14:$I$15)","v":30}]
[25281,25281,"ISAURA MARIKO YOSHIDA KAWAE","PROFESSOR (A) DE EDUCAÇÃO BÁSICA","CELETISTA","2023-01-01",30,"2024-01-01","2022-12-31","2023-12-31","25281-44927",{"$f":"G1014-SUMIF(ESCALA!$B$14:$B$15,DADOS!K1014,ESCALA!$I$14:$I$15)","v":30}]
[25305,25305,"MARCIA DE SOUZA OLIVEIRA","PROFESSOR (A) DE EDUCACAO BASICA","ESTATUTARIO","2023-01-01",30,"2024-01-01","2023-01-31","2023-12-31","25305-44927",{"$f":"G1015-SUMIF(ESCALA!$B$14:$B$15,DADOS!K1015,ESCALA!$I$14:$I$15)","v":30}]
[25308,25308,"ANDREIA APARECIDA JACIUK DE SOUSA","PROFESSOR (A) DE EDUCACAO BASICA","CELETISTA","2023-01-01",30,"2024-01-01","2022-12-31","2023-12-31","25308-44927",{"$f":"G1016-SUMIF(ESCALA!$B$14:$B$15,DADOS!K1016,ESCALA!$I$14:$I$15)","v":30}]
[25314,25314,"MARIA APARECIDA DA SILVA OLIVEIRA","PROFESSOR (A) DE EDUCACAO BASICA","CELETISTA","2022-05-03",30,"2023-05-03","2022-04-30","2023-04-30","25314-44684",{"$f":"G1017-SUMIF(ESCALA!$B$14:$B$15,DADOS!K1017,ESCALA!$I$14:$I$15)","v":30}]
[25314,25314,"MARIA APARECIDA DA SILVA OLIVEIRA","PROFESSOR (A) DE EDUCACAO BASICA","CELETISTA","2023-05-03",30,"2024-05-03","2023-04-30","2024-04-30","25314-45049",{"$f":"G1018-SUMIF(ESCALA!$B$14:$B$15,DADOS!K1018,ESCALA!$I$14:$I$15)","v":30}]
[25316,25316,"SILVANA CONCEICAO ALVES","PROFESSOR (A) DE EDUCAÇÃO BASICA","CELETISTA","2023-01-01",30,"2024-01-01","2022-12-31","2023-12-31","25316-44927",{"$f":"G1019-SUMIF(ESCALA!$B$14:$B$15,DADOS!K1019,ESCALA!$I$14:$I$15)","v":30}]
[25332,25332,"JOSE EPTACIO GOUVEIA DO NASCIMENTO","PROFESSOR (A) DE EDUCACAO BASICA","ESTATUTARIO","2022-05-17",30,"2023-05-17","2022-05-31","2023-04-30","25332-44698",{"$f":"G1020-SUMIF(ESCALA!$B$14:$B$15,DADOS!K1020,ESCALA!$I$14:$I$15)","v":30}]
[25332,25332,"JOSE EPTACIO GOUVEIA DO NASCIMENTO","PROFESSOR (A) DE EDUCACAO BASICA","ESTATUTARIO","2023-05-17",30,"2024-05-17","2023-05-31","2024-04-30","25332-45063",{"$f":"G1021-SUMIF(ESCALA!$B$14:$B$15,DADOS!K1021,ESCALA!$I$14:$I$15)","v":30}]
[25337,25337,"ADALGISA MATOS DE CARVALHO","PROFESSOR (A) DE EDUCACAO ESPECIAL","CELETISTA","2022-05-21",30,"2023-05-21","2022-04-30","2023-04-30","25337-44702",{"$f":"G1022-SUMIF(ESCALA!$B$14:$B$15,DADOS!K1022,ESCALA!$I$14:$I$15)","v":30}]
[25337,25337,"ADALGISA MATOS DE CARVALHO","PROFESSOR (A) DE EDUCACAO ESPECIAL","CELETISTA","2023-05-21",30,"2024-05-21","2023-04-30","2024-04-30","25337-45067",{"$f":"G1023-SUMIF(ESCALA!$B$14:$B$15,DADOS!K1023,ESCALA!$I$14:$I$15)","v":30}]
[25338,25338,"DENISE MARIA DEL BUSSO DA SILVA","PROFESSOR (A) DE EDUCAÇÃO BASICA","CELETISTA","2022-05-24",30,"2023-05-24","2022-04-30","2023-04-30","25338-44705",{"$f":"G1024-SUMIF(ESCALA!$B$14:$B$15,DADOS!K1024,ESCALA!$I$14:$I$15)","v":30}]
[25338,25338,"DENISE MARIA DEL BUSSO DA SILVA","PROFESSOR (A) DE EDUCAÇÃO BASICA","CELETISTA","2023-05-24",30,"2024-05-24","2023-04-30","2024-04-30","25338-45070",{"$f":"G1025-SUMIF(ESCALA!$B$14:$B$15,DADOS!K1025,ESCALA!$I$14:$I$15)","v":30}]
[25342,25342,"SUELI APARECIDA FREITAS ROHDT ","PROFESSOR (A) DE EDUCACAO ESPECIAL","ESTATUTARIO","2023-01-27",30,"2024-01-27","2023-01-31","2023-12-31","25342-44953",{"$f":"G1026-SUMIF(ESCALA!$B$14:$B$15,DADOS!K1026,ESCALA!$I$14:$I$15)","v":30}]
[{"$f":"IF(L1027=0,\"\",B1027)","v":25362},25362,"DANIELLE BRISAC","PROFESSOR (A) DE EDUCAÇÃO BÁSICA","CELETISTA","2022-06-07",30,{"$f":"IF(F1027<=44985,F1027+365,F1027+366)","v":"2023-06-07"},"2022-05-31","2023-05-31",{"$f":"CONCATENATE(B1027,\"-\",F1027)","v":"25362-44719"},{"$f":"G1027-SUMIF(ESCALA!$B$14:$B$15,DADOS!K1027,ESCALA!$I$14:$I$15)","v":30}]
[25362,25362,"DANIELLE BRISAC","PROFESSOR (A) DE EDUCAÇÃO BÁSICA","CELETISTA","2023-06-07",30,"2024-06-07",{"$f":"IF(E1028=\"ESTATUTARIO\",EOMONTH(F1028,0),EOMONTH(F1028,-1))","v":"2023-05-31"},{"$f":"EOMONTH(F1028,11)","v":"2024-05-31"},"25362-45084",{"$f":"G1028-SUMIF(ESCALA!$B$14:$B$15,DADOS!K1028,ESCALA!$I$14:$I$15)","v":30}]
[25393,25393,"ANGELA CRISTINA BIGAL","PROFESSOR (A) DE EDUCACAO BASICA","ESTATUTARIO","2022-06-28",30,"2023-06-28","2022-06-30","2023-05-31","25393-44740",{"$f":"G1029-SUMIF(ESCALA!$B$14:$B$15,DADOS!K1029,ESCALA!$I$14:$I$15)","v":30}]
[25393,25393,"ANGELA CRISTINA BIGAL","PROFESSOR (A) DE EDUCACAO BASICA","ESTATUTARIO","2023-06-28",30,"2024-06-28","2023-06-30","2024-05-31","25393-45105",{"$f":"G1030-SUMIF(ESCALA!$B$14:$B$15,DADOS!K1030,ESCALA!$I$14:$I$15)","v":30}]
[25430,25430,"ELIANA VITOR PEREIRA","PROFESSOR (A) DE EDUCACAO BASICA","ESTATUTARIO","2022-06-29",30,"2023-06-29","2022-06-30","2023-05-31","25430-44741",{"$f":"G1031-SUMIF(ESCALA!$B$14:$B$15,DADOS!K1031,ESCALA!$I$14:$I$15)","v":30}]
[25430,25430,"ELIANA VITOR PEREIRA","PROFESSOR (A) DE EDUCACAO BASICA","ESTATUTARIO","2023-06-29",30,"2024-06-29","2023-06-30","2024-05-31","25430-45106",{"$f":"G1032-SUMIF(ESCALA!$B$14:$B$15,DADOS!K1032,ESCALA!$I$14:$I$15)","v":30}]
[25466,25466,"MARCIA FRANCA DOS SANTOS OLIVEIRA","COZINHEIRO (A)","ESTATUTARIO","2022-02-08",30,"2023-02-08","2022-02-28","2023-01-31","25466-44600",{"$f":"G1033-SUMIF(ESCALA!$B$14:$B$15,DADOS!K1033,ESCALA!$I$14:$I$15)","v":30}]
[25466,25466,"MARCIA FRANCA DOS SANTOS OLIVEIRA","COZINHEIRO (A)","ESTATUTARIO","2023-02-08",30,"2024-02-08","2023-02-28","2024-01-31","25466-44965",{"$f":"G1034-SUMIF(ESCALA!$B$14:$B$15,DADOS!K1034,ESCALA!$I$14:$I$15)","v":30}]
[25484,25484,"IONE MARIA DA SILVA CABRINI","COZINHEIRO (A)","ESTATUTARIO","2022-07-15",30,"2023-07-15","2022-07-31","2023-06-30","25484-44757",{"$f":"G1035-SUMIF(ESCALA!$B$14:$B$15,DADOS!K1035,ESCALA!$I$14:$I$15)","v":30}]
[25484,25484,"IONE MARIA DA SILVA CABRINI","COZINHEIRO (A)","ESTATUTARIO","2023-07-15",30,"2024-07-15","2023-07-31","2024-06-30","25484-45122",{"$f":"G1036-SUMIF(ESCALA!$B$14:$B$15,DADOS!K1036,ESCALA!$I$14:$I$15)","v":30}]
[25563,25563,"CELIA VALDOMIRA DOS SANTOS","PROFESSOR (A) DE EDUCAÇÃO BASICA","CELETISTA","2022-07-29",30,"2023-07-29","2022-06-30","2023-06-30","25563-44771",{"$f":"G1037-SUMIF(ESCALA!$B$14:$B$15,DADOS!K1037,ESCALA!$I$14:$I$15)","v":30}]
[25563,25563,"CELIA VALDOMIRA DOS SANTOS","PROFESSOR (A) DE EDUCAÇÃO BASICA","CELETISTA","2023-07-29",30,"2024-07-29","2023-06-30","2024-06-30","25563-45136",{"$f":"G1038-SUMIF(ESCALA!$B$14:$B$15,DADOS!K1038,ESCALA!$I$14:$I$15)","v":30}]
[25569,25569,"GINA VIGANO","DIRETOR (A) DE ESCOLA","ESTATUTARIO","2022-08-02",21,"2023-08-02","2022-08-31","2023-07-31","25569-44775",{"$f":"G1039-SUMIF(ESCALA!$B$14:$B$15,DADOS!K1039,ESCALA!$I$14:$I$15)","v":21}]
[25569,25569,"GINA VIGANO","DIRETOR (A) DE ESCOLA","ESTATUTARIO","2023-08-02",30,"2024-08-02","2023-08-31","2024-07-31","25569-45140",{"$f":"G1040-SUMIF(ESCALA!$B$14:$B$15,DADOS!K1040,ESCALA!$I$14:$I$15)","v":30}]
[25616,25616,"LUCIANA ZIMA BORSARI","PROFESSOR (A) DE EDUCACAO BASICA","ESTATUTARIO","2022-08-04",30,"2023-08-04","2022-08-31","2023-07-31","25616-44777",{"$f":"G1041-SUMIF(ESCALA!$B$14:$B$15,DADOS!K1041,ESCALA!$I$14:$I$15)","v":30}]
[25616,25616,"LUCIANA ZIMA BORSARI","PROFESSOR (A) DE EDUCACAO BASICA","ESTATUTARIO","2023-08-04",30,"2024-08-04","2023-08-31","2024-07-31","25616-45142",{"$f":"G1042-SUMIF(ESCALA!$B$14:$B$15,DADOS!K1042,ESCALA!$I$14:$I$15)","v":30}]
[25624,25624,"PATRICIA CRISTIANE DA SILVA TAVARES","VICE-DIRETOR (A) DE ESCOLA","ESTATUTARIO","2022-11-18",30,"2023-11-18","2022-11-30","2023-10-31","25624-44883",{"$f":"G1043-SUMIF(ESCALA!$B$14:$B$15,DADOS!K1043,ESCALA!$I$14:$I$15)","v":30}]
[25624,25624,"PATRICIA CRISTIANE DA SILVA TAVARES","VICE-DIRETOR (A) DE ESCOLA","ESTATUTARIO","2023-11-18",30,"2024-11-18","2023-11-30","2024-10-31","25624-45248",{"$f":"G1044-SUMIF(ESCALA!$B$14:$B$15,DADOS!K1044,ESCALA!$I$14:$I$15)","v":30}]
[25636,25636,"VANDERLI BARBOZA DE SIQUEIRA SALLES","PROFESSOR (A) DE EDUCAÇÃO BASICA","CELETISTA","2022-08-06",30,"2023-08-06","2022-07-31","2023-07-31","25636-44779",{"$f":"G1045-SUMIF(ESCALA!$B$14:$B$15,DADOS!K1045,ESCALA!$I$14:$I$15)","v":30}]
[25636,25636,"VANDERLI BARBOZA DE SIQUEIRA SALLES","PROFESSOR (A) DE EDUCAÇÃO BASICA","CELETISTA","2023-08-06",30,"2024-08-06","2023-07-31","2024-07-31","25636-45144",{"$f":"G1046-SUMIF(ESCALA!$B$14:$B$15,DADOS!K1046,ESCALA!$I$14:$I$15)","v":30}]
[25637,25637,"ADRIANA SANCHES VALENCA","DIRETOR (A) DE ESCOLA","ESTATUTARIO","2022-08-10",30,"2023-08-10","2022-08-31","2023-07-31","25637-44783",{"$f":"G1047-SUMIF(ESCALA!$B$14:$B$15,DADOS!K1047,ESCALA!$I$14:$I$15)","v":30}]
[25637,25637,"ADRIANA SANCHES VALENCA","DIRETOR (A) DE ESCOLA","ESTATUTARIO","2023-08-10",30,"2024-08-10","2023-08-31","2024-07-31","25637-45148",{"$f":"G1048-SUMIF(ESCALA!$B$14:$B$15,DADOS!K1048,ESCALA!$I$14:$I$15)","v":30}]
[25641,25641,"CLAUDIA MARIA RIBEIRO","PROFESSOR (A) DE EDUCACAO INFANTIL","ESTATUTARIO","2022-08-10",30,"2023-08-10","2022-08-31","2023-07-31","25641-44783",{"$f":"G1049-SUMIF(ESCALA!$B$14:$B$15,DADOS!K1049,ESCALA!$I$14:$I$15)","v":30}]
[25641,25641,"CLAUDIA MARIA RIBEIRO","PROFESSOR (A) DE EDUCACAO INFANTIL","ESTATUTARIO","2023-08-10",30,"2024-08-10","2023-08-31","2024-07-31","25641-45148",{"$f":"G1050-SUMIF(ESCALA!$B$14:$B$15,DADOS!K1050,ESCALA!$I$14:$I$15)","v":30}]
[25669,25669,"LILIANE CRISTINA PIMENTA GARCIA","PROFESSOR (A) DE EDUCAÇÃO BÁSICA","CELETISTA","2022-11-08",30,"2023-11-08","2022-10-31","2023-10-31","25669-44873",{"$f":"G1051-SUMIF(ESCALA!$B$14:$B$15,DADOS!K1051,ESCALA!$I$14:$I$15)","v":30}]
[25669,25669,"LILIANE CRISTINA PIMENTA GARCIA","PROFESSOR (A) DE EDUCAÇÃO BÁSICA","CELETISTA","2023-11-08",30,"2024-11-08","2023-10-31","2024-10-31","25669-45238",{"$f":"G1052-SUMIF(ESCALA!$B$14:$B$15,DADOS!K1052,ESCALA!$I$14:$I$15)","v":30}]
[25687,25687,"MARIA CRISTINA TELES MOREIRA DOS SANTOS","PROFESSOR (A) DE EDUCAÇÃO BASICA","CELETISTA","2022-08-17",30,"2023-08-17","2022-07-31","2023-07-31","25687-44790",{"$f":"G1053-SUMIF(ESCALA!$B$14:$B$15,DADOS!K1053,ESCALA!$I$14:$I$15)","v":30}]
[25687,25687,"MARIA CRISTINA TELES MOREIRA DOS SANTOS","PROFESSOR (A) DE EDUCAÇÃO BASICA","CELETISTA","2023-08-17",30,"2024-08-17","2023-07-31","2024-07-31","25687-45155",{"$f":"G1054-SUMIF(ESCALA!$B$14:$B$15,DADOS!K1054,ESCALA!$I$14:$I$15)","v":30}]
[25733,25733,"MILTON FRANCISCO REIS","AUXILIAR OPERACIONAL","ESTATUTARIO","2023-01-14",30,"2024-01-14","2023-01-31","2023-12-31","25733-44940",{"$f":"G1055-SUMIF(ESCALA!$B$14:$B$15,DADOS!K1055,ESCALA!$I$14:$I$15)","v":30}]
[25751,25751,"LUCIANI MARIA FERNANDES","DIRETOR (A) DE ESCOLA","CELETISTA","2022-10-05",30,"2023-10-05","2022-09-30","2023-09-30","25751-44839",{"$f":"G1056-SUMIF(ESCALA!$B$14:$B$15,DADOS!K1056,ESCALA!$I$14:$I$15)","v":30}]
[25751,25751,"LUCIANI MARIA FERNANDES","DIRETOR (A) DE ESCOLA","CELETISTA","2023-10-05",30,"2024-10-05","2023-09-30","2024-09-30","25751-45204",{"$f":"G1057-SUMIF(ESCALA!$B$14:$B$15,DADOS!K1057,ESCALA!$I$14:$I$15)","v":30}]
[25802,25802,"ROSANGELA MARIA ALVES","COZINHEIRO (A)","CELETISTA","2022-10-08",30,"2023-10-08","2022-09-30","2023-09-30","25802-44842",{"$f":"G1058-SUMIF(ESCALA!$B$14:$B$15,DADOS!K1058,ESCALA!$I$14:$I$15)","v":30}]
[25802,25802,"ROSANGELA MARIA ALVES","COZINHEIRO (A)","CELETISTA","2023-10-08",30,"2024-10-08","2023-09-30","2024-09-30","25802-45207",{"$f":"G1059-SUMIF(ESCALA!$B$14:$B$15,DADOS!K1059,ESCALA!$I$14:$I$15)","v":30}]
[25842,25842,"ELIZETE CLEMENTE","COZINHEIRO (A)","CELETISTA","2022-10-21",30,"2023-10-21","2022-09-30","2023-09-30","25842-44855",{"$f":"G1060-SUMIF(ESCALA!$B$14:$B$15,DADOS!K1060,ESCALA!$I$14:$I$15)","v":30}]
[25842,25842,"ELIZETE CLEMENTE","COZINHEIRO (A)","CELETISTA","2023-10-21",30,"2024-10-21","2023-09-30","2024-09-30","25842-45220",{"$f":"G1061-SUMIF(ESCALA!$B$14:$B$15,DADOS!K1061,ESCALA!$I$14:$I$15)","v":30}]
[25849,25849,"NOEMI DE SOUZA","COZINHEIRO (A)","CELETISTA","2022-10-22",30,"2023-10-22","2022-09-30","2023-09-30","25849-44856",{"$f":"G1062-SUMIF(ESCALA!$B$14:$B$15,DADOS!K1062,ESCALA!$I$14:$I$15)","v":30}]
[25849,25849,"NOEMI DE SOUZA","COZINHEIRO (A)","CELETISTA","2023-10-22",30,"2024-10-22","2023-09-30","2024-09-30","25849-45221",{"$f":"G1063-SUMIF(ESCALA!$B$14:$B$15,DADOS!K1063,ESCALA!$I$14:$I$15)","v":30}]
[25852,25852,"ZULEIDE BEZERRA DE SOUZA","COZINHEIRO (A)","CELETISTA","2022-10-25",30,"2023-10-25","2022-09-30","2023-09-30","25852-44859",{"$f":"G1064-SUMIF(ESCALA!$B$14:$B$15,DADOS!K1064,ESCALA!$I$14:$I$15)","v":30}]
[25852,25852,"ZULEIDE BEZERRA DE SOUZA","COZINHEIRO (A)","CELETISTA","2023-10-25",30,"2024-10-25","2023-09-30","2024-09-30","25852-45224",{"$f":"G1065-SUMIF(ESCALA!$B$14:$B$15,DADOS!K1065,ESCALA!$I$14:$I$15)","v":30}]
[25859,25859,"JULIA FIGUEIREDO ALVES DE LIMA","COZINHEIRO (A)","CELETISTA","2022-10-26",30,"2023-10-26","2022-09-30","2023-09-30","25859-44860",{"$f":"G1066-SUMIF(ESCALA!$B$14:$B$15,DADOS!K1066,ESCALA!$I$14:$I$15)","v":30}]
[25859,25859,"JULIA FIGUEIREDO ALVES DE LIMA","COZINHEIRO (A)","CELETISTA","2023-10-26",30,"2024-10-26","2023-09-30","2024-09-30","25859-45225",{"$f":"G1067-SUMIF(ESCALA!$B$14:$B$15,DADOS!K1067,ESCALA!$I$14:$I$15)","v":30}]
[25881,25881,"MARLENE MARIA CERQUEIRA SILVA","COZINHEIRO (A)","CELETISTA","2022-11-03",30,"2023-11-03","2022-10-31","2023-10-31","25881-44868",{"$f":"G1068-SUMIF(ESCALA!$B$14:$B$15,DADOS!K1068,ESCALA!$I$14:$I$15)","v":30}]
[25881,25881,"MARLENE MARIA CERQUEIRA SILVA","COZINHEIRO (A)","CELETISTA","2023-11-03",30,"2024-11-03","2023-10-31","2024-10-31","25881-45233",{"$f":"G1069-SUMIF(ESCALA!$B$14:$B$15,DADOS!K1069,ESCALA!$I$14:$I$15)","v":30}]
[26080,26080,"DEBORA CORREA DA SILVA","PROFESSOR (A) DE EDUCACAO BASICA","ESTATUTARIO","2022-12-16",30,"2023-12-16","2022-12-31","2023-11-30","26080-44911",{"$f":"G1070-SUMIF(ESCALA!$B$14:$B$15,DADOS!K1070,ESCALA!$I$14:$I$15)","v":30}]
[26080,26080,"DEBORA CORREA DA SILVA","PROFESSOR (A) DE EDUCACAO BASICA","ESTATUTARIO","2023-12-16",30,"2024-12-16","2023-12-31","2024-11-30","26080-45276",{"$f":"G1071-SUMIF(ESCALA!$B$14:$B$15,DADOS!K1071,ESCALA!$I$14:$I$15)","v":30}]
[26099,26099,"ROSA HELENA CERVELLIN DE MENDONCA","VICE-DIRETOR (A) DE ESCOLA","CELETISTA","2022-12-21",30,"2023-12-21","2022-11-30","2023-11-30","26099-44916",{"$f":"G1072-SUMIF(ESCALA!$B$14:$B$15,DADOS!K1072,ESCALA!$I$14:$I$15)","v":30}]
[26099,26099,"ROSA HELENA CERVELLIN DE MENDONCA","VICE-DIRETOR (A) DE ESCOLA","CELETISTA","2023-12-21",30,"2024-12-21","2023-11-30","2024-11-30","26099-45281",{"$f":"G1073-SUMIF(ESCALA!$B$14:$B$15,DADOS!K1073,ESCALA!$I$14:$I$15)","v":30}]
[26119,26119,"ADRIANA ALVES CRUZ","PROFESSOR (A) DE EDUCAÇÃO BÁSICA","ESTATUTARIO","2022-12-31",30,"2023-12-31","2022-12-31","2023-11-30","26119-44926",{"$f":"G1074-SUMIF(ESCALA!$B$14:$B$15,DADOS!K1074,ESCALA!$I$14:$I$15)","v":30}]
[26119,26119,"ADRIANA ALVES CRUZ","PROFESSOR (A) DE EDUCAÇÃO BÁSICA","ESTATUTARIO","2023-12-31",30,"2024-12-31","2023-12-31","2024-11-30","26119-45291",{"$f":"G1075-SUMIF(ESCALA!$B$14:$B$15,DADOS!K1075,ESCALA!$I$14:$I$15)","v":30}]
[26125,26125,"ANDREA DE SOUZA MENEZES","PROFESSOR (A) DE EDUCAÇÃO BASICA","CELETISTA","2023-01-01",30,"2024-01-01","2022-12-31","2023-12-31","26125-44927",{"$f":"G1076-SUMIF(ESCALA!$B$14:$B$15,DADOS!K1076,ESCALA!$I$14:$I$15)","v":30}]
[26132,26132,"EDILEUSA VIEIRA MAIA","PROFESSOR (A) DE EDUCAÇÃO BÁSICA","ESTATUTARIO","2022-12-31",30,"2023-12-31","2022-12-31","2023-11-30","26132-44926",{"$f":"G1077-SUMIF(ESCALA!$B$14:$B$15,DADOS!K1077,ESCALA!$I$14:$I$15)","v":30}]
[26132,26132,"EDILEUSA VIEIRA MAIA","PROFESSOR (A) DE EDUCAÇÃO BÁSICA","ESTATUTARIO","2023-12-31",30,"2024-12-31","2023-12-31","2024-11-30","26132-45291",{"$f":"G1078-SUMIF(ESCALA!$B$14:$B$15,DADOS!K1078,ESCALA!$I$14:$I$15)","v":30}]
[26135,26135,"ELIANE CATARINA RIBEIRO OLIVEIRA ","PROFESSOR (A) DE EDUCACAO BASICA","ESTATUTARIO","2023-01-01",30,"2024-01-01","2023-01-31","2023-12-31","26135-44927",{"$f":"G1079-SUMIF(ESCALA!$B$14:$B$15,DADOS!K1079,ESCALA!$I$14:$I$15)","v":30}]
[26157,26157,"MARA REGINA MARQUES CORREA","AUXILIAR OPERACIONAL","CELETISTA","2023-01-06",30,"2024-01-06","2022-12-31","2023-12-31","26157-44932",{"$f":"G1080-SUMIF(ESCALA!$B$14:$B$15,DADOS!K1080,ESCALA!$I$14:$I$15)","v":30}]
[26176,26176,"THAIS HELENA ORSI","PROFESSOR (A) DE EDUCAÇÃO BASICA","CELETISTA","2023-01-01",30,"2024-01-01","2022-12-31","2023-12-31","26176-44927",{"$f":"G1081-SUMIF(ESCALA!$B$14:$B$15,DADOS!K1081,ESCALA!$I$14:$I$15)","v":30}]
[26184,26184,"ANDREA MENDES CORREIA GRASSI","PROFESSOR (A) DE EDUCACAO ESPECIAL","CELETISTA","2023-01-01",30,"2024-01-01","2022-12-31","2023-12-31","26184-44927",{"$f":"G1082-SUMIF(ESCALA!$B$14:$B$15,DADOS!K1082,ESCALA!$I$14:$I$15)","v":30}]
[26187,26187,"CLAUDIA MARIA MARTINS SALVADOR","PROFESSOR (A) DE EDUCAÇÃO BASICA","CELETISTA","2023-01-01",30,"2024-01-01","2022-12-31","2023-12-31","26187-44927",{"$f":"G1083-SUMIF(ESCALA!$B$14:$B$15,DADOS!K1083,ESCALA!$I$14:$I$15)","v":30}]
[26188,26188,"CLEIDE APARECIDA RIOS MALVA","PROFESSOR (A) DE EDUCAÇÃO BASICA","CELETISTA","2023-01-01",30,"2024-01-01","2022-12-31","2023-12-31","26188-44927",{"$f":"G1084-SUMIF(ESCALA!$B$14:$B$15,DADOS!K1084,ESCALA!$I$14:$I$15)","v":30}]
[26207,26207,"ELIANA GUEDES CAMARGO LUPATELLI","PROFESSOR (A) DE EDUCACAO INFANTIL","CELETISTA","2022-07-25",15,"2023-07-25","2022-06-30","2023-06-30","26207-44767",{"$f":"G1085-SUMIF(ESCALA!$B$14:$B$15,DADOS!K1085,ESCALA!$I$14:$I$15)","v":15}]
[26207,26207,"ELIANA GUEDES CAMARGO LUPATELLI","PROFESSOR (A) DE EDUCACAO INFANTIL","CELETISTA","2023-07-25",30,"2024-07-25","2023-06-30","2024-06-30","26207-45132",{"$f":"G1086-SUMIF(ESCALA!$B$14:$B$15,DADOS!K1086,ESCALA!$I$14:$I$15)","v":30}]
[26212,26212,"RENATA SIMEAO DA SILVA","PROFESSOR (A) COORDENADOR (A)  PEDAGOGICO (A)","ESTATUTARIO","2023-01-01",30,"2024-01-01","2023-01-31","2023-12-31","26212-44927",{"$f":"G1087-SUMIF(ESCALA!$B$14:$B$15,DADOS!K1087,ESCALA!$I$14:$I$15)","v":30}]
[26251,26251,"GISELE APARECIDA FARIA ","PROFESSOR (A) DE EDUCACAO BASICA","ESTATUTARIO","2023-01-01",30,"2024-01-01","2023-01-31","2023-12-31","26251-44927",{"$f":"G1088-SUMIF(ESCALA!$B$14:$B$15,DADOS!K1088,ESCALA!$I$14:$I$15)","v":30}]
[26255,26255,"LUCRECIA SOUSA SANTOS ","PROFESSOR (A) DE EDUCAÇÃO BASICA","CELETISTA","2023-01-01",30,"2024-01-01","2022-12-31","2023-12-31","26255-44927",{"$f":"G1089-SUMIF(ESCALA!$B$14:$B$15,DADOS!K1089,ESCALA!$I$14:$I$15)","v":30}]
[26257,26257,"MARLEUSA MOREIRA PACHECO THOME","PROFESSOR (A) DE EDUCACAO BASICA","CELETISTA","2022-01-31",30,"2023-01-31","2021-12-31","2022-12-31","26257-44592",{"$f":"G1090-SUMIF(ESCALA!$B$14:$B$15,DADOS!K1090,ESCALA!$I$14:$I$15)","v":30}]
[{"$f":"IF(L1091=0,\"\",B1091)","v":26257},26257,"MARLEUSA MOREIRA PACHECO THOME","PROFESSOR (A) DE EDUCACAO BASICA","CELETISTA","2023-01-31",30,{"$f":"IF(F1091<=44985,F1091+365,F1091+366)","v":"2024-01-31"},"2022-12-31","2023-12-31",{"$f":"CONCATENATE(B1091,\"-\",F1091)","v":"26257-44957"},{"$f":"G1091-SUMIF(ESCALA!$B$14:$B$15,DADOS!K1091,ESCALA!$I$14:$I$15)","v":30}]
[26263,26263,"REGINA CELIA BERTONI BARBOSA DE OLIVEIRA","PROFESSOR (A) DE EDUCACAO ESPECIAL","CELETISTA","2023-01-01",30,"2024-01-01",{"$f":"IF(E1092=\"ESTATUTARIO\",EOMONTH(F1092,0),EOMONTH(F1092,-1))","v":"2022-12-31"},{"$f":"EOMONTH(F1092,11)","v":"2023-12-31"},"26263-44927",{"$f":"G1092-SUMIF(ESCALA!$B$14:$B$15,DADOS!K1092,ESCALA!$I$14:$I$15)","v":30}]
[26273,26273,"LUCIANA RODRIGUES CREMON","PROFESSOR (A) DE EDUCACAO BASICA","CELETISTA","2023-01-01",30,"2024-01-01","2022-12-31","2023-12-31","26273-44927",{"$f":"G1093-SUMIF(ESCALA!$B$14:$B$15,DADOS!K1093,ESCALA!$I$14:$I$15)","v":30}]
[26286,26286,"CYNTIA THEREZA ZONATO CARAMES ","PROFESSOR (A) DE EDUCACAO INFANTIL","ESTATUTARIO","2022-03-01",30,"2023-03-01","2022-03-31","2023-02-28","26286-44621",{"$f":"G1094-SUMIF(ESCALA!$B$14:$B$15,DADOS!K1094,ESCALA!$I$14:$I$15)","v":30}]
[26286,26286,"CYNTIA THEREZA ZONATO CARAMES ","PROFESSOR (A) DE EDUCACAO INFANTIL","ESTATUTARIO","2023-03-01",30,"2024-03-01","2023-03-31","2024-02-29","26286-44986",{"$f":"G1095-SUMIF(ESCALA!$B$14:$B$15,DADOS!K1095,ESCALA!$I$14:$I$15)","v":30}]
[26303,26303,"EDNA GONCALVES DE CARVALHO ABREU","PROFESSOR (A) DE EDUCACAO BASICA","ESTATUTARIO","2022-06-30",30,"2023-06-30","2022-06-30","2023-05-31","26303-44742",{"$f":"G1096-SUMIF(ESCALA!$B$14:$B$15,DADOS!K1096,ESCALA!$I$14:$I$15)","v":30}]
[26303,26303,"EDNA GONCALVES DE CARVALHO ABREU","PROFESSOR (A) DE EDUCACAO BASICA","ESTATUTARIO","2023-06-30",30,"2024-06-30","2023-06-30","2024-05-31","26303-45107",{"$f":"G1097-SUMIF(ESCALA!$B$14:$B$15,DADOS!K1097,ESCALA!$I$14:$I$15)","v":30}]
[26306,26306,"MIRYAM CRISTINA SICILIANO","PROFESSOR (A) DE EDUCAÇÃO BASICA","CELETISTA","2023-01-01",30,"2024-01-01","2022-12-31","2023-12-31","26306-44927",{"$f":"G1098-SUMIF(ESCALA!$B$14:$B$15,DADOS!K1098,ESCALA!$I$14:$I$15)","v":30}]
[26307,26307,"NARCILEIA FARIAS DOS REIS","PROFESSOR (A) DE EDUCAÇÃO BASICA","CELETISTA","2023-01-01",30,"2024-01-01","2022-12-31","2023-12-31","26307-44927",{"$f":"G1099-SUMIF(ESCALA!$B$14:$B$15,DADOS!K1099,ESCALA!$I$14:$I$15)","v":30}]
[26308,26308,"PATRICIA ELAINE TAPETTI FONSECA","PROFESSOR (A) DE EDUCAÇÃO BÁSICA","ESTATUTARIO","2023-01-01",30,"2024-01-01","2023-01-31","2023-12-31","26308-44927",{"$f":"G1100-SUMIF(ESCALA!$B$14:$B$15,DADOS!K1100,ESCALA!$I$14:$I$15)","v":30}]
[26311,26311,"ROSELI DA SILVA MARTINS","PROFESSOR (A) DE EDUCAÇÃO BÁSICA","CELETISTA","2023-01-01",30,"2024-01-01","2022-12-31","2023-12-31","26311-44927",{"$f":"G1101-SUMIF(ESCALA!$B$14:$B$15,DADOS!K1101,ESCALA!$I$14:$I$15)","v":30}]
[26326,26326,"APARECIDA SOARES RAMOS","COORDENADOR (A) DE PROGRAMAS EDUCACIONAIS","CELETISTA","2023-01-01",30,"2024-01-01","2022-12-31","2023-12-31","26326-44927",{"$f":"G1102-SUMIF(ESCALA!$B$14:$B$15,DADOS!K1102,ESCALA!$I$14:$I$15)","v":30}]
[26332,26332,"ELAINE CRISTINA BORAGINI CEA","COORDENADOR (A) DE PROGRAMAS EDUCACIONAIS","CELETISTA","2022-03-22",15,"2023-03-22","2022-02-28","2023-02-28","26332-44642",{"$f":"G1103-SUMIF(ESCALA!$B$14:$B$15,DADOS!K1103,ESCALA!$I$14:$I$15)","v":15}]
[26332,26332,"ELAINE CRISTINA BORAGINI CEA","COORDENADOR (A) DE PROGRAMAS EDUCACIONAIS","CELETISTA","2023-03-22",30,"2024-03-22","2023-02-28","2024-02-29","26332-45007",{"$f":"G1104-SUMIF(ESCALA!$B$14:$B$15,DADOS!K1104,ESCALA!$I$14:$I$15)","v":30}]
[26333,26333,"ELAINE CRISTINA GARCIA FERREIRA","PROFESSOR (A) DE EDUCACAO BASICA","ESTATUTARIO","2023-01-01",30,"2024-01-01","2023-01-31","2023-12-31","26333-44927",{"$f":"G1105-SUMIF(ESCALA!$B$14:$B$15,DADOS!K1105,ESCALA!$I$14:$I$15)","v":30}]
[26334,26334,"ELENICE PEREIRA DO NASCIMENTO","PROFESSOR (A) DE EDUCAÇÃO BASICA","CELETISTA","2023-01-01",30,"2024-01-01","2022-12-31","2023-12-31","26334-44927",{"$f":"G1106-SUMIF(ESCALA!$B$14:$B$15,DADOS!K1106,ESCALA!$I$14:$I$15)","v":30}]
[26337,26337,"IARA MARIA DA SILVA","PROFESSOR (A) DE EDUCAÇÃO BÁSICA","CELETISTA","2022-10-07",30,"2023-10-07","2022-09-30","2023-09-30","26337-44841",{"$f":"G1107-SUMIF(ESCALA!$B$14:$B$15,DADOS!K1107,ESCALA!$I$14:$I$15)","v":30}]
[26337,26337,"IARA MARIA DA SILVA","PROFESSOR (A) DE EDUCAÇÃO BÁSICA","CELETISTA","2023-10-07",30,"2024-10-07","2023-09-30","2024-09-30","26337-45206",{"$f":"G1108-SUMIF(ESCALA!$B$14:$B$15,DADOS!K1108,ESCALA!$I$14:$I$15)","v":30}]
[26354,26354,"SILVIA MARIA DE LIMA CHARABA","PROFESSOR (A) COORDENADOR (A)  PEDAGOGICO (A)","ESTATUTARIO","2022-02-21",30,"2023-02-21","2022-02-28","2023-01-31","26354-44613",{"$f":"G1109-SUMIF(ESCALA!$B$14:$B$15,DADOS!K1109,ESCALA!$I$14:$I$15)","v":30}]
[26354,26354,"SILVIA MARIA DE LIMA CHARABA","PROFESSOR (A) COORDENADOR (A)  PEDAGOGICO (A)","ESTATUTARIO","2023-02-21",30,"2024-02-21","2023-02-28","2024-01-31","26354-44978",{"$f":"G1110-SUMIF(ESCALA!$B$14:$B$15,DADOS!K1110,ESCALA!$I$14:$I$15)","v":30}]
[26355,26355,"VALDIRENE DE ALMEIDA THOMAZ","PROFESSOR (A) DE EDUCACAO INFANTIL","CELETISTA","2022-02-18",30,"2023-02-18","2022-01-31","2023-01-31","26355-44610",{"$f":"G1111-SUMIF(ESCALA!$B$14:$B$15,DADOS!K1111,ESCALA!$I$14:$I$15)","v":30}]
[26355,26355,"VALDIRENE DE ALMEIDA THOMAZ","PROFESSOR (A) DE EDUCACAO INFANTIL","CELETISTA","2023-02-18",30,"2024-02-18","2023-01-31","2024-01-31","26355-44975",{"$f":"G1112-SUMIF(ESCALA!$B$14:$B$15,DADOS!K1112,ESCALA!$I$14:$I$15)","v":30}]
[26394,26394,"ROSALBA ANDRE BASTIAN","PROFESSOR (A) DE EDUCACAO INFANTIL","CELETISTA","2022-03-01",30,"2023-03-01","2022-02-28","2023-02-28","26394-44621",{"$f":"G1113-SUMIF(ESCALA!$B$14:$B$15,DADOS!K1113,ESCALA!$I$14:$I$15)","v":30}]
[26394,26394,"ROSALBA ANDRE BASTIAN","PROFESSOR (A) DE EDUCACAO INFANTIL","CELETISTA","2023-03-01",30,"2024-03-01","2023-02-28","2024-02-29","26394-44986",{"$f":"G1114-SUMIF(ESCALA!$B$14:$B$15,DADOS!K1114,ESCALA!$I$14:$I$15)","v":30}]
[26405,26405,"ANDREA ALVES MARTINS","PROFESSOR (A) DE EDUCAÇÃO BÁSICA","ESTATUTARIO","2023-01-01",30,"2024-01-01","2023-01-31","2023-12-31","26405-44927",{"$f":"G1115-SUMIF(ESCALA!$B$14:$B$15,DADOS!K1115,ESCALA!$I$14:$I$15)","v":30}]
[26552,26552,"MORGANA SALLOTTI DE LUCCA BORGES","PROFESSOR (A) DE EDUCACAO BASICA","ESTATUTARIO","2023-01-01",30,"2024-01-01","2023-01-31","2023-12-31","26552-44927",{"$f":"G1116-SUMIF(ESCALA!$B$14:$B$15,DADOS!K1116,ESCALA!$I$14:$I$15)","v":30}]
[26554,26554,"ANA CELIA DA SILVA PRUDENTE","PROFESSOR (A) DE EDUCACAO BASICA","CELETISTA","2023-01-01",30,"2024-01-01","2022-12-31","2023-12-31","26554-44927",{"$f":"G1117-SUMIF(ESCALA!$B$14:$B$15,DADOS!K1117,ESCALA!$I$14:$I$15)","v":30}]
[26555,26555,"CAMILA CERQUEIRA DE AUXILIO","COORDENADOR (A) DE PROGRAMAS EDUCACIONAIS","ESTATUTARIO","2022-05-09",30,"2023-05-09","2022-05-31","2023-04-30","26555-44690",{"$f":"G1118-SUMIF(ESCALA!$B$14:$B$15,DADOS!K1118,ESCALA!$I$14:$I$15)","v":30}]
[26555,26555,"CAMILA CERQUEIRA DE AUXILIO","COORDENADOR (A) DE PROGRAMAS EDUCACIONAIS","ESTATUTARIO","2023-05-09",30,"2024-05-09","2023-05-31","2024-04-30","26555-45055",{"$f":"G1119-SUMIF(ESCALA!$B$14:$B$15,DADOS!K1119,ESCALA!$I$14:$I$15)","v":30}]
[26559,26559,"GUIOMAR DA SILVA","PROFESSOR (A) DE EDUCAÇÃO BASICA","CELETISTA","2022-07-04",30,"2023-07-04","2022-06-30","2023-06-30","26559-44746",{"$f":"G1120-SUMIF(ESCALA!$B$14:$B$15,DADOS!K1120,ESCALA!$I$14:$I$15)","v":30}]
[26559,26559,"GUIOMAR DA SILVA","PROFESSOR (A) DE EDUCAÇÃO BASICA","CELETISTA","2023-07-04",30,"2024-07-04","2023-06-30","2024-06-30","26559-45111",{"$f":"G1121-SUMIF(ESCALA!$B$14:$B$15,DADOS!K1121,ESCALA!$I$14:$I$15)","v":30}]
[26560,26560,"MARIA DAS GRACAS SILVA FEIJAO","PROFESSOR (A) DE EDUCAÇÃO BASICA","CELETISTA","2023-01-01",30,"2024-01-01","2022-12-31","2023-12-31","26560-44927",{"$f":"G1122-SUMIF(ESCALA!$B$14:$B$15,DADOS!K1122,ESCALA!$I$14:$I$15)","v":30}]
[26568,26568,"LUCIANA COSTA GOMES DE OLIVEIRA","DIRETOR (A) DE ESCOLA","ESTATUTARIO","2023-01-01",30,"2024-01-01","2023-01-31","2023-12-31","26568-44927",{"$f":"G1123-SUMIF(ESCALA!$B$14:$B$15,DADOS!K1123,ESCALA!$I$14:$I$15)","v":30}]
[26571,26571,"REGINA LARA FERREIRA","PROFESSOR (A) DE EDUCAÇÃO BASICA","CELETISTA","2023-01-01",30,"2024-01-01","2022-12-31","2023-12-31","26571-44927",{"$f":"G1124-SUMIF(ESCALA!$B$14:$B$15,DADOS!K1124,ESCALA!$I$14:$I$15)","v":30}]
[26575,26575,"ANGELA RANGEL DE ALMEIDA","COORDENADOR (A) DE PROGRAMAS EDUCACIONAIS","CELETISTA","2023-05-12",30,"2024-05-12","2023-04-30","2024-04-30","26575-45058",{"$f":"G1125-SUMIF(ESCALA!$B$14:$B$15,DADOS!K1125,ESCALA!$I$14:$I$15)","v":30}]
[26582,26582,"LUCIANA MARIA FERNANDES","PROFESSOR (A) DE EDUCACAO BASICA","CELETISTA","2023-01-01",30,"2024-01-01","2022-12-31","2023-12-31","26582-44927",{"$f":"G1126-SUMIF(ESCALA!$B$14:$B$15,DADOS!K1126,ESCALA!$I$14:$I$15)","v":30}]
[26585,26585,"MARIA CECILIA DE ARAUJO ALEXANDRONI","PROFESSOR (A) DE EDUCACAO BASICA","CELETISTA","2023-01-01",30,"2024-01-01","2022-12-31","2023-12-31","26585-44927",{"$f":"G1127-SUMIF(ESCALA!$B$14:$B$15,DADOS!K1127,ESCALA!$I$14:$I$15)","v":30}]
[26591,26591,"REGINA CELIA RIBEIRO BESSA CARDOSO","PROFESSOR (A) DE EDUCAÇÃO BASICA","CELETISTA","2023-01-01",30,"2024-01-01","2022-12-31","2023-12-31","26591-44927",{"$f":"G1128-SUMIF(ESCALA!$B$14:$B$15,DADOS!K1128,ESCALA!$I$14:$I$15)","v":30}]
[26596,26596,"ADRIANA APARECIDA BONFIM","VICE-DIRETOR (A) DE ESCOLA","CELETISTA","2023-01-01",30,"2024-01-01","2022-12-31","2023-12-31","26596-44927",{"$f":"G1129-SUMIF(ESCALA!$B$14:$B$15,DADOS!K1129,ESCALA!$I$14:$I$15)","v":30}]
[26597,26597,"EVELY GONCALVES DE MEDEIROS ","PROFESSOR (A) DE EDUCACAO BASICA","ESTATUTARIO","2022-05-13",30,"2023-05-13","2022-05-31","2023-04-30","26597-44694",{"$f":"G1130-SUMIF(ESCALA!$B$14:$B$15,DADOS!K1130,ESCALA!$I$14:$I$15)","v":30}]
[26597,26597,"EVELY GONCALVES DE MEDEIROS ","PROFESSOR (A) DE EDUCACAO BASICA","ESTATUTARIO","2023-05-13",30,"2024-05-13","2023-05-31","2024-04-30","26597-45059",{"$f":"G1131-SUMIF(ESCALA!$B$14:$B$15,DADOS!K1131,ESCALA!$I$14:$I$15)","v":30}]
[26607,26607,"ANDREA ARAUJO DA COSTA","PROFESSOR (A) DE EDUCAÇÃO BASICA","CELETISTA","2023-01-01",30,"2024-01-01","2022-12-31","2023-12-31","26607-44927",{"$f":"G1132-SUMIF(ESCALA!$B$14:$B$15,DADOS!K1132,ESCALA!$I$14:$I$15)","v":30}]
[26608,26608,"ELAINE BRAGA CAETANO","PROFESSOR (A) DE EDUCAÇÃO BASICA","CELETISTA","2023-01-01",30,"2024-01-01","2022-12-31","2023-12-31","26608-44927",{"$f":"G1133-SUMIF(ESCALA!$B$14:$B$15,DADOS!K1133,ESCALA!$I$14:$I$15)","v":30}]
[26609,26609,"ELISABETE CAPELOA DOM PEDRO","PSICÓLOGO (A) ESCOLAR","ESTATUTARIO","2022-05-16",10,"2023-05-16","2022-05-31","2023-04-30","26609-44697",{"$f":"G1134-SUMIF(ESCALA!$B$14:$B$15,DADOS!K1134,ESCALA!$I$14:$I$15)","v":10}]
[26609,26609,"ELISABETE CAPELOA DOM PEDRO","PSICÓLOGO (A) ESCOLAR","ESTATUTARIO","2023-05-16",30,"2024-05-16","2023-05-31","2024-04-30","26609-45062",{"$f":"G1135-SUMIF(ESCALA!$B$14:$B$15,DADOS!K1135,ESCALA!$I$14:$I$15)","v":30}]
[26618,26618,"FABIANA FRANCHI","PROFESSOR (A) DE EDUCACAO BASICA","ESTATUTARIO","2023-01-01",30,"2024-01-01","2023-01-31","2023-12-31","26618-44927",{"$f":"G1136-SUMIF(ESCALA!$B$14:$B$15,DADOS!K1136,ESCALA!$I$14:$I$15)","v":30}]
[26622,26622,"MARIA APARECIDA DE SOUZA BIACONI","PROFESSOR (A) DE EDUCAÇÃO BASICA","CELETISTA","2023-01-01",30,"2024-01-01","2022-12-31","2023-12-31","26622-44927",{"$f":"G1137-SUMIF(ESCALA!$B$14:$B$15,DADOS!K1137,ESCALA!$I$14:$I$15)","v":30}]
[26623,26623,"MARLENE DA SILVA ANDRADE","PROFESSOR (A) DE EDUCAÇÃO BÁSICA","CELETISTA","2023-01-01",30,"2024-01-01","2022-12-31","2023-12-31","26623-44927",{"$f":"G1138-SUMIF(ESCALA!$B$14:$B$15,DADOS!K1138,ESCALA!$I$14:$I$15)","v":30}]
[26625,26625,"ROSANGELA ROSA DA SILVA","PROFESSOR (A) DE EDUCAÇÃO BASICA","CELETISTA","2022-12-13",30,"2023-12-13","2022-11-30","2023-11-30","26625-44908",{"$f":"G1139-SUMIF(ESCALA!$B$14:$B$15,DADOS!K1139,ESCALA!$I$14:$I$15)","v":30}]
[26625,26625,"ROSANGELA ROSA DA SILVA","PROFESSOR (A) DE EDUCAÇÃO BASICA","CELETISTA","2023-12-13",30,"2024-12-13","2023-11-30","2024-11-30","26625-45273",{"$f":"G1140-SUMIF(ESCALA!$B$14:$B$15,DADOS!K1140,ESCALA!$I$14:$I$15)","v":30}]
[26626,26626,"ROSELI BEZERRA","PSICOLOGO (A) ESCOLAR","CELETISTA","2022-05-19",20,"2023-05-19","2022-04-30","2023-04-30","26626-44700",{"$f":"G1141-SUMIF(ESCALA!$B$14:$B$15,DADOS!K1141,ESCALA!$I$14:$I$15)","v":20}]
[26626,26626,"ROSELI BEZERRA","PSICOLOGO (A) ESCOLAR","CELETISTA","2023-05-19",30,"2024-05-19","2023-04-30","2024-04-30","26626-45065",{"$f":"G1142-SUMIF(ESCALA!$B$14:$B$15,DADOS!K1142,ESCALA!$I$14:$I$15)","v":30}]
[26638,26638,"SORAIA ESTEVES CAVALCANTE","PROFESSOR (A) DE EDUCAÇÃO BASICA","CELETISTA","2022-05-23",30,"2023-05-23","2022-04-30","2023-04-30","26638-44704",{"$f":"G1143-SUMIF(ESCALA!$B$14:$B$15,DADOS!K1143,ESCALA!$I$14:$I$15)","v":30}]
[26638,26638,"SORAIA ESTEVES CAVALCANTE","PROFESSOR (A) DE EDUCAÇÃO BASICA","CELETISTA","2023-05-23",30,"2024-05-23","2023-04-30","2024-04-30","26638-45069",{"$f":"G1144-SUMIF(ESCALA!$B$14:$B$15,DADOS!K1144,ESCALA!$I$14:$I$15)","v":30}]
[26655,26655,"GRACIA APARECIDA DOS SANTOS TREVISAN","VICE-DIRETOR (A) DE ESCOLA","CELETISTA","2022-05-31",30,"2023-05-31","2022-04-30","2023-04-30","26655-44712",{"$f":"G1145-SUMIF(ESCALA!$B$14:$B$15,DADOS!K1145,ESCALA!$I$14:$I$15)","v":30}]
[26655,26655,"GRACIA APARECIDA DOS SANTOS TREVISAN","VICE-DIRETOR (A) DE ESCOLA","CELETISTA","2023-05-31",30,"2024-05-31","2023-04-30","2024-04-30","26655-45077",{"$f":"G1146-SUMIF(ESCALA!$B$14:$B$15,DADOS!K1146,ESCALA!$I$14:$I$15)","v":30}]
[26673,26673,"ALESSANDRA APARECIDA DE SOUSA","COORDENADOR (A) DE CENTRO EDUCACIONAL","ESTATUTARIO","2023-06-07",30,"2024-06-07","2023-06-30","2024-05-31","26673-45084",{"$f":"G1147-SUMIF(ESCALA!$B$14:$B$15,DADOS!K1147,ESCALA!$I$14:$I$15)","v":30}]
[26682,26682,"NEIDE DE SOUZA FERNANDES","PROFESSOR (A) DE EDUCACAO BASICA","CELETISTA","2022-06-07",30,"2023-06-07","2022-05-31","2023-05-31","26682-44719",{"$f":"G1148-SUMIF(ESCALA!$B$14:$B$15,DADOS!K1148,ESCALA!$I$14:$I$15)","v":30}]
[26682,26682,"NEIDE DE SOUZA FERNANDES","PROFESSOR (A) DE EDUCACAO BASICA","CELETISTA","2023-06-07",30,"2024-06-07","2023-05-31","2024-05-31","26682-45084",{"$f":"G1149-SUMIF(ESCALA!$B$14:$B$15,DADOS!K1149,ESCALA!$I$14:$I$15)","v":30}]
[26701,26701,"JOSE EDSON DA SILVA","DIRETOR (A) DE ESCOLA","ESTATUTARIO","2023-06-15",30,"2024-06-15","2023-06-30","2024-05-31","26701-45092",{"$f":"G1150-SUMIF(ESCALA!$B$14:$B$15,DADOS!K1150,ESCALA!$I$14:$I$15)","v":30}]
[26706,26706,"ROSANGELA APARECIDA DE OLIVEIRA","PROFESSOR (A) DE EDUCACAO BASICA","ESTATUTARIO","2022-06-15",30,"2023-06-15","2022-06-30","2023-05-31","26706-44727",{"$f":"G1151-SUMIF(ESCALA!$B$14:$B$15,DADOS!K1151,ESCALA!$I$14:$I$15)","v":30}]
[26706,26706,"ROSANGELA APARECIDA DE OLIVEIRA","PROFESSOR (A) DE EDUCACAO BASICA","ESTATUTARIO","2023-06-15",30,"2024-06-15","2023-06-30","2024-05-31","26706-45092",{"$f":"G1152-SUMIF(ESCALA!$B$14:$B$15,DADOS!K1152,ESCALA!$I$14:$I$15)","v":30}]
[26778,26778,"SOLANGE MIGUEL DA SILVA SANCHES DIAS","PROFESSOR (A) DE EDUCAÇÃO BASICA","CELETISTA","2022-06-30",30,"2023-06-30","2022-05-31","2023-05-31","26778-44742",{"$f":"G1153-SUMIF(ESCALA!$B$14:$B$15,DADOS!K1153,ESCALA!$I$14:$I$15)","v":30}]
[26778,26778,"SOLANGE MIGUEL DA SILVA SANCHES DIAS","PROFESSOR (A) DE EDUCAÇÃO BASICA","CELETISTA","2023-06-30",30,"2024-06-30","2023-05-31","2024-05-31","26778-45107",{"$f":"G1154-SUMIF(ESCALA!$B$14:$B$15,DADOS!K1154,ESCALA!$I$14:$I$15)","v":30}]
[{"$f":"IF(L1155=0,\"\",B1155)","v":26828},26828,"MARCIA CRISTINA FERNANDES MARQUES","VICE-DIRETOR (A) DE ESCOLA","CELETISTA","2022-07-12",30,{"$f":"IF(F1155<=44985,F1155+365,F1155+366)","v":"2023-07-12"},"2022-06-30","2023-06-30",{"$f":"CONCATENATE(B1155,\"-\",F1155)","v":"26828-44754"},{"$f":"G1155-SUMIF(ESCALA!$B$14:$B$15,DADOS!K1155,ESCALA!$I$14:$I$15)","v":30}]
[26828,26828,"MARCIA CRISTINA FERNANDES MARQUES","VICE-DIRETOR (A) DE ESCOLA","CELETISTA","2023-07-12",30,"2024-07-12",{"$f":"IF(E1156=\"ESTATUTARIO\",EOMONTH(F1156,0),EOMONTH(F1156,-1))","v":"2023-06-30"},{"$f":"EOMONTH(F1156,11)","v":"2024-06-30"},"26828-45119",{"$f":"G1156-SUMIF(ESCALA!$B$14:$B$15,DADOS!K1156,ESCALA!$I$14:$I$15)","v":30}]
[26842,26842,"KATIA REGINA RIO BRANCO","PROFESSOR (A) DE EDUCAÇÃO BÁSICA","CELETISTA","2022-07-14",30,"2023-07-14","2022-06-30","2023-06-30","26842-44756",{"$f":"G1157-SUMIF(ESCALA!$B$14:$B$15,DADOS!K1157,ESCALA!$I$14:$I$15)","v":30}]
[26842,26842,"KATIA REGINA RIO BRANCO","PROFESSOR (A) DE EDUCAÇÃO BÁSICA","CELETISTA","2023-07-14",30,"2024-07-14","2023-06-30","2024-06-30","26842-45121",{"$f":"G1158-SUMIF(ESCALA!$B$14:$B$15,DADOS!K1158,ESCALA!$I$14:$I$15)","v":30}]
[26863,26863,"EDUARDO FRANCISCO DO NASCIMENTO","PROFESSOR (A) DE EDUCACAO ESPECIAL","ESTATUTARIO","2022-07-20",30,"2023-07-20","2022-07-31","2023-06-30","26863-44762",{"$f":"G1159-SUMIF(ESCALA!$B$14:$B$15,DADOS!K1159,ESCALA!$I$14:$I$15)","v":30}]
[26863,26863,"EDUARDO FRANCISCO DO NASCIMENTO","PROFESSOR (A) DE EDUCACAO ESPECIAL","ESTATUTARIO","2023-07-20",30,"2024-07-20","2023-07-31","2024-06-30","26863-45127",{"$f":"G1160-SUMIF(ESCALA!$B$14:$B$15,DADOS!K1160,ESCALA!$I$14:$I$15)","v":30}]
[26906,26906,"JULIANA CRISTINA PINCERNO PINHEIRO","PROFESSOR (A) DE EDUCACAO BASICA","ESTATUTARIO","2022-07-27",15,"2023-07-27","2022-07-31","2023-06-30","26906-44769",{"$f":"G1161-SUMIF(ESCALA!$B$14:$B$15,DADOS!K1161,ESCALA!$I$14:$I$15)","v":15}]
[26906,26906,"JULIANA CRISTINA PINCERNO PINHEIRO","PROFESSOR (A) DE EDUCACAO BASICA","ESTATUTARIO","2023-07-27",30,"2024-07-27","2023-07-31","2024-06-30","26906-45134",{"$f":"G1162-SUMIF(ESCALA!$B$14:$B$15,DADOS!K1162,ESCALA!$I$14:$I$15)","v":30}]
[26924,26924,"AGNEZ APARECIDA MACIEL","PROFESSOR (A) DE EDUCACAO BASICA","ESTATUTARIO","2022-07-29",30,"2023-07-29","2022-07-31","2023-06-30","26924-44771",{"$f":"G1163-SUMIF(ESCALA!$B$14:$B$15,DADOS!K1163,ESCALA!$I$14:$I$15)","v":30}]
[26924,26924,"AGNEZ APARECIDA MACIEL","PROFESSOR (A) DE EDUCACAO BASICA","ESTATUTARIO","2023-07-29",30,"2024-07-29","2023-07-31","2024-06-30","26924-45136",{"$f":"G1164-SUMIF(ESCALA!$B$14:$B$15,DADOS!K1164,ESCALA!$I$14:$I$15)","v":30}]
[27028,27028,"MARIA JACIRA MOREIRA","AGENTE DE DESENVOLVIMENTO INFANTIL","ESTATUTARIO","2022-08-15",30,"2023-08-15","2022-08-31","2023-07-31","27028-44788",{"$f":"G1165-SUMIF(ESCALA!$B$14:$B$15,DADOS!K1165,ESCALA!$I$14:$I$15)","v":30}]
[27028,27028,"MARIA JACIRA MOREIRA","AGENTE DE DESENVOLVIMENTO INFANTIL","ESTATUTARIO","2023-08-15",30,"2024-08-15","2023-08-31","2024-07-31","27028-45153",{"$f":"G1166-SUMIF(ESCALA!$B$14:$B$15,DADOS!K1166,ESCALA!$I$14:$I$15)","v":30}]
[27102,27102,"MARGARIDA AGUIAR COSTA","COZINHEIRO (A)","ESTATUTARIO","2022-02-04",30,"2023-02-04","2022-02-28","2023-01-31","27102-44596",{"$f":"G1167-SUMIF(ESCALA!$B$14:$B$15,DADOS!K1167,ESCALA!$I$14:$I$15)","v":30}]
[27102,27102,"MARGARIDA AGUIAR COSTA","COZINHEIRO (A)","ESTATUTARIO","2023-02-04",30,"2024-02-04","2023-02-28","2024-01-31","27102-44961",{"$f":"G1168-SUMIF(ESCALA!$B$14:$B$15,DADOS!K1168,ESCALA!$I$14:$I$15)","v":30}]
[27153,27153,"MARIA DO CARMO CESAR DOS SANTOS HEGETO","PROFESSOR (A) DE EDUCACAO BASICA","CELETISTA","2022-08-29",30,"2023-08-29","2022-07-31","2023-07-31","27153-44802",{"$f":"G1169-SUMIF(ESCALA!$B$14:$B$15,DADOS!K1169,ESCALA!$I$14:$I$15)","v":30}]
[27153,27153,"MARIA DO CARMO CESAR DOS SANTOS HEGETO","PROFESSOR (A) DE EDUCACAO BASICA","CELETISTA","2023-08-29",30,"2024-08-29","2023-07-31","2024-07-31","27153-45167",{"$f":"G1170-SUMIF(ESCALA!$B$14:$B$15,DADOS!K1170,ESCALA!$I$14:$I$15)","v":30}]
[27282,27282,"KATIA CILENE PASSATORI GAMBOA","AGENTE DE ADMINISTRAÇÃO C","ESTATUTARIO","2022-09-19",15,"2023-09-19","2022-09-30","2023-08-31","27282-44823",{"$f":"G1171-SUMIF(ESCALA!$B$14:$B$15,DADOS!K1171,ESCALA!$I$14:$I$15)","v":15}]
[27282,27282,"KATIA CILENE PASSATORI GAMBOA","AGENTE DE ADMINISTRAÇÃO C","ESTATUTARIO","2023-09-19",30,"2024-09-19","2023-09-30","2024-08-31","27282-45188",{"$f":"G1172-SUMIF(ESCALA!$B$14:$B$15,DADOS!K1172,ESCALA!$I$14:$I$15)","v":30}]
[27331,27331,"ELIANA DE ARRUDA BRANDAO SOUSA","AGENTE DE ADMINISTRAÇÃO C","ESTATUTARIO","2023-01-30",30,"2024-01-30","2023-01-31","2023-12-31","27331-44956",{"$f":"G1173-SUMIF(ESCALA!$B$14:$B$15,DADOS!K1173,ESCALA!$I$14:$I$15)","v":30}]
[27349,27349,"MARA REGINA LAMEIRAS","COZINHEIRO (A)","CELETISTA","2020-10-04",30,"2021-10-04","2020-09-30","2021-09-30","27349-44108",{"$f":"G1174-SUMIF(ESCALA!$B$14:$B$15,DADOS!K1174,ESCALA!$I$14:$I$15)","v":30}]
[27349,27349,"MARA REGINA LAMEIRAS","COZINHEIRO (A)","CELETISTA","2022-10-04",30,"2023-10-04","2022-09-30","2023-09-30","27349-44838",{"$f":"G1175-SUMIF(ESCALA!$B$14:$B$15,DADOS!K1175,ESCALA!$I$14:$I$15)","v":30}]
[27349,27349,"MARA REGINA LAMEIRAS","COZINHEIRO (A)","CELETISTA","2023-10-04",30,"2024-10-04","2023-09-30","2024-09-30","27349-45203",{"$f":"G1176-SUMIF(ESCALA!$B$14:$B$15,DADOS!K1176,ESCALA!$I$14:$I$15)","v":30}]
[27363,27363,"CINTIA APARECIDA CASAGRANDE","CHEFE DE DIVISAO TECNICA","ESTATUTARIO","2022-10-05",30,"2023-10-05","2022-10-31","2023-09-30","27363-44839",{"$f":"G1177-SUMIF(ESCALA!$B$14:$B$15,DADOS!K1177,ESCALA!$I$14:$I$15)","v":30}]
[27363,27363,"CINTIA APARECIDA CASAGRANDE","CHEFE DE DIVISAO TECNICA","ESTATUTARIO","2023-10-05",30,"2024-10-05","2023-10-31","2024-09-30","27363-45204",{"$f":"G1178-SUMIF(ESCALA!$B$14:$B$15,DADOS!K1178,ESCALA!$I$14:$I$15)","v":30}]
[27376,27376,"JAQUELINE MIRANDA SOARES DE NOBREGA","DIRETOR (A) DE ESCOLA","ESTATUTARIO","2022-10-12",30,"2023-10-12","2022-10-31","2023-09-30","27376-44846",{"$f":"G1179-SUMIF(ESCALA!$B$14:$B$15,DADOS!K1179,ESCALA!$I$14:$I$15)","v":30}]
[27376,27376,"JAQUELINE MIRANDA SOARES DE NOBREGA","DIRETOR (A) DE ESCOLA","ESTATUTARIO","2023-10-12",30,"2024-10-12","2023-10-31","2024-09-30","27376-45211",{"$f":"G1180-SUMIF(ESCALA!$B$14:$B$15,DADOS!K1180,ESCALA!$I$14:$I$15)","v":30}]
[27487,27487,"MARIA ALICE BUENO","PROFESSOR (A) DE EDUCACAO BASICA","ESTATUTARIO","2022-11-08",30,"2023-11-08","2022-11-30","2023-10-31","27487-44873",{"$f":"G1181-SUMIF(ESCALA!$B$14:$B$15,DADOS!K1181,ESCALA!$I$14:$I$15)","v":30}]
[27487,27487,"MARIA ALICE BUENO","PROFESSOR (A) DE EDUCACAO BASICA","ESTATUTARIO","2023-11-08",30,"2024-11-08","2023-11-30","2024-10-31","27487-45238",{"$f":"G1182-SUMIF(ESCALA!$B$14:$B$15,DADOS!K1182,ESCALA!$I$14:$I$15)","v":30}]
[27489,27489,"FRANCISCA INACIA DE ALENCAR CARVALHO BARROS","PROFESSOR (A) DE EDUCAÇÃO BASICA","CELETISTA","2022-11-10",30,"2023-11-10","2022-10-31","2023-10-31","27489-44875",{"$f":"G1183-SUMIF(ESCALA!$B$14:$B$15,DADOS!K1183,ESCALA!$I$14:$I$15)","v":30}]
[27489,27489,"FRANCISCA INACIA DE ALENCAR CARVALHO BARROS","PROFESSOR (A) DE EDUCAÇÃO BASICA","CELETISTA","2023-11-10",30,"2024-11-10","2023-10-31","2024-10-31","27489-45240",{"$f":"G1184-SUMIF(ESCALA!$B$14:$B$15,DADOS!K1184,ESCALA!$I$14:$I$15)","v":30}]
[27490,27490,"NEUSA MARIA DE SOUZA","PROFESSOR (A) DE EDUCACAO INFANTIL","CELETISTA","2022-11-10",30,"2023-11-10","2022-10-31","2023-10-31","27490-44875",{"$f":"G1185-SUMIF(ESCALA!$B$14:$B$15,DADOS!K1185,ESCALA!$I$14:$I$15)","v":30}]
[27490,27490,"NEUSA MARIA DE SOUZA","PROFESSOR (A) DE EDUCACAO INFANTIL","CELETISTA","2023-11-10",30,"2024-11-10","2023-10-31","2024-10-31","27490-45240",{"$f":"G1186-SUMIF(ESCALA!$B$14:$B$15,DADOS!K1186,ESCALA!$I$14:$I$15)","v":30}]
[27491,27491,"RITA DE CASSIA DA SILVA SOUZA","PROFESSOR (A) DE EDUCAÇÃO BÁSICA","ESTATUTARIO","2022-11-10",30,"2023-11-10","2022-11-30","2023-10-31","27491-44875",{"$f":"G1187-SUMIF(ESCALA!$B$14:$B$15,DADOS!K1187,ESCALA!$I$14:$I$15)","v":30}]
[27491,27491,"RITA DE CASSIA DA SILVA SOUZA","PROFESSOR (A) DE EDUCAÇÃO BÁSICA","ESTATUTARIO","2023-11-10",30,"2024-11-10","2023-11-30","2024-10-31","27491-45240",{"$f":"G1188-SUMIF(ESCALA!$B$14:$B$15,DADOS!K1188,ESCALA!$I$14:$I$15)","v":30}]
[27492,27492,"VALDIRENE DE ALMEIDA SANTOS","PROFESSOR (A) DE EDUCAÇÃO BASICA","CELETISTA","2022-11-10",30,"2023-11-10","2022-10-31","2023-10-31","27492-44875",{"$f":"G1189-SUMIF(ESCALA!$B$14:$B$15,DADOS!K1189,ESCALA!$I$14:$I$15)","v":30}]
[27492,27492,"VALDIRENE DE ALMEIDA SANTOS","PROFESSOR (A) DE EDUCAÇÃO BASICA","CELETISTA","2023-11-10",30,"2024-11-10","2023-10-31","2024-10-31","27492-45240",{"$f":"G1190-SUMIF(ESCALA!$B$14:$B$15,DADOS!K1190,ESCALA!$I$14:$I$15)","v":30}]
[27688,27688,"CRISTIANE CALDEIRA CARDOSO SEMINATE","PROFESSOR (A) DE EDUCACAO BASICA","ESTATUTARIO","2022-12-31",30,"2023-12-31","2022-12-31","2023-11-30","27688-44926",{"$f":"G1191-SUMIF(ESCALA!$B$14:$B$15,DADOS!K1191,ESCALA!$I$14:$I$15)","v":30}]
[27688,27688,"CRISTIANE CALDEIRA CARDOSO SEMINATE","PROFESSOR (A) DE EDUCACAO BASICA","ESTATUTARIO","2023-12-31",30,"2024-12-31","2023-12-31","2024-11-30","27688-45291",{"$f":"G1192-SUMIF(ESCALA!$B$14:$B$15,DADOS!K1192,ESCALA!$I$14:$I$15)","v":30}]
[27689,27689,"EUSDRA REGINA SAMPAIO LEITE DA SILVA","PROFESSOR (A) DE EDUCACAO BASICA","ESTATUTARIO","2022-12-31",30,"2023-12-31","2022-12-31","2023-11-30","27689-44926",{"$f":"G1193-SUMIF(ESCALA!$B$14:$B$15,DADOS!K1193,ESCALA!$I$14:$I$15)","v":30}]
[27689,27689,"EUSDRA REGINA SAMPAIO LEITE DA SILVA","PROFESSOR (A) DE EDUCACAO BASICA","ESTATUTARIO","2023-12-31",30,"2024-12-31","2023-12-31","2024-11-30","27689-45291",{"$f":"G1194-SUMIF(ESCALA!$B$14:$B$15,DADOS!K1194,ESCALA!$I$14:$I$15)","v":30}]
[27700,27700,"TERESA CLAUDIA VOMERO","PROFESSOR (A) DE EDUCAÇÃO BÁSICA","ESTATUTARIO","2022-12-31",30,"2023-12-31","2022-12-31","2023-11-30","27700-44926",{"$f":"G1195-SUMIF(ESCALA!$B$14:$B$15,DADOS!K1195,ESCALA!$I$14:$I$15)","v":30}]
[27700,27700,"TERESA CLAUDIA VOMERO","PROFESSOR (A) DE EDUCAÇÃO BÁSICA","ESTATUTARIO","2023-12-31",30,"2024-12-31","2023-12-31","2024-11-30","27700-45291",{"$f":"G1196-SUMIF(ESCALA!$B$14:$B$15,DADOS!K1196,ESCALA!$I$14:$I$15)","v":30}]
[27711,27711,"ARIANE BUSSE FILLIETAZ UGEDA","PROFESSOR (A) DE EDUCACAO BASICA","ESTATUTARIO","2023-01-01",30,"2024-01-01","2023-01-31","2023-12-31","27711-44927",{"$f":"G1197-SUMIF(ESCALA!$B$14:$B$15,DADOS!K1197,ESCALA!$I$14:$I$15)","v":30}]
[27712,27712,"DANIELLA FEITOSA DE SOUZA","PROFESSOR (A) DE EDUCAÇÃO BÁSICA","ESTATUTARIO","2022-12-31",30,"2023-12-31","2022-12-31","2023-11-30","27712-44926",{"$f":"G1198-SUMIF(ESCALA!$B$14:$B$15,DADOS!K1198,ESCALA!$I$14:$I$15)","v":30}]
[27712,27712,"DANIELLA FEITOSA DE SOUZA","PROFESSOR (A) DE EDUCAÇÃO BÁSICA","ESTATUTARIO","2023-12-31",30,"2024-12-31","2023-12-31","2024-11-30","27712-45291",{"$f":"G1199-SUMIF(ESCALA!$B$14:$B$15,DADOS!K1199,ESCALA!$I$14:$I$15)","v":30}]
[27717,27717,"ANDREIA CRISTINA DE PAULA CASTANHEIRA","PROFESSOR (A) DE EDUCACAO BASICA","CELETISTA","2022-12-31",30,"2023-12-31","2022-11-30","2023-11-30","27717-44926",{"$f":"G1200-SUMIF(ESCALA!$B$14:$B$15,DADOS!K1200,ESCALA!$I$14:$I$15)","v":30}]
[27717,27717,"ANDREIA CRISTINA DE PAULA CASTANHEIRA","PROFESSOR (A) DE EDUCACAO BASICA","CELETISTA","2023-12-31",30,"2024-12-31","2023-11-30","2024-11-30","27717-45291",{"$f":"G1201-SUMIF(ESCALA!$B$14:$B$15,DADOS!K1201,ESCALA!$I$14:$I$15)","v":30}]
[27721,27721,"MARISA ALVES PEREIRA COUTINHO","PROFESSOR (A) DE EDUCACAO BASICA","ESTATUTARIO","2022-12-31",30,"2023-12-31","2022-12-31","2023-11-30","27721-44926",{"$f":"G1202-SUMIF(ESCALA!$B$14:$B$15,DADOS!K1202,ESCALA!$I$14:$I$15)","v":30}]
[27721,27721,"MARISA ALVES PEREIRA COUTINHO","PROFESSOR (A) DE EDUCACAO BASICA","ESTATUTARIO","2023-12-31",30,"2024-12-31","2023-12-31","2024-11-30","27721-45291",{"$f":"G1203-SUMIF(ESCALA!$B$14:$B$15,DADOS!K1203,ESCALA!$I$14:$I$15)","v":30}]
[27730,27730,"MARINA LOPES CANOBRE","PROFESSOR (A) DE EDUCAÇÃO BÁSICA","CELETISTA","2022-12-08",30,"2023-12-08","2022-11-30","2023-11-30","27730-44903",{"$f":"G1204-SUMIF(ESCALA!$B$14:$B$15,DADOS!K1204,ESCALA!$I$14:$I$15)","v":30}]
[27730,27730,"MARINA LOPES CANOBRE","PROFESSOR (A) DE EDUCAÇÃO BÁSICA","CELETISTA","2023-12-08",30,"2024-12-08","2023-11-30","2024-11-30","27730-45268",{"$f":"G1205-SUMIF(ESCALA!$B$14:$B$15,DADOS!K1205,ESCALA!$I$14:$I$15)","v":30}]
[27731,27731,"REGIANE VANDERLEI","PROFESSOR (A) DE EDUCACAO BASICA","ESTATUTARIO","2022-01-31",30,"2023-01-31","2022-01-31","2022-12-31","27731-44592",{"$f":"G1206-SUMIF(ESCALA!$B$14:$B$15,DADOS!K1206,ESCALA!$I$14:$I$15)","v":30}]
[27731,27731,"REGIANE VANDERLEI","PROFESSOR (A) DE EDUCACAO BASICA","ESTATUTARIO","2023-01-31",30,"2024-01-31","2023-01-31","2023-12-31","27731-44957",{"$f":"G1207-SUMIF(ESCALA!$B$14:$B$15,DADOS!K1207,ESCALA!$I$14:$I$15)","v":30}]
[27737,27737,"ANDREA SALLES OTTONI NERES","PROFESSOR (A) DE EDUCAÇÃO BASICA","CELETISTA","2022-02-01",30,"2023-02-01","2022-01-31","2023-01-31","27737-44593",{"$f":"G1208-SUMIF(ESCALA!$B$14:$B$15,DADOS!K1208,ESCALA!$I$14:$I$15)","v":30}]
[27737,27737,"ANDREA SALLES OTTONI NERES","PROFESSOR (A) DE EDUCAÇÃO BASICA","CELETISTA","2023-02-01",30,"2024-02-01","2023-01-31","2024-01-31","27737-44958",{"$f":"G1209-SUMIF(ESCALA!$B$14:$B$15,DADOS!K1209,ESCALA!$I$14:$I$15)","v":30}]
[27738,27738,"CRISTINA HERNANDEZ FERREIRA","DIRETOR (A) DE ESCOLA","CELETISTA","2022-05-05",15,"2023-05-05","2022-04-30","2023-04-30","27738-44686",{"$f":"G1210-SUMIF(ESCALA!$B$14:$B$15,DADOS!K1210,ESCALA!$I$14:$I$15)","v":15}]
[27738,27738,"CRISTINA HERNANDEZ FERREIRA","DIRETOR (A) DE ESCOLA","CELETISTA","2023-05-05",30,"2024-05-05","2023-04-30","2024-04-30","27738-45051",{"$f":"G1211-SUMIF(ESCALA!$B$14:$B$15,DADOS!K1211,ESCALA!$I$14:$I$15)","v":30}]
[27746,27746,"NEIDE RODRIGUES DE PAIVA","PROFESSOR (A) DE EDUCAÇÃO BASICA","CELETISTA","2022-02-01",30,"2023-02-01","2022-01-31","2023-01-31","27746-44593",{"$f":"G1212-SUMIF(ESCALA!$B$14:$B$15,DADOS!K1212,ESCALA!$I$14:$I$15)","v":30}]
[27746,27746,"NEIDE RODRIGUES DE PAIVA","PROFESSOR (A) DE EDUCAÇÃO BASICA","CELETISTA","2023-02-01",30,"2024-02-01","2023-01-31","2024-01-31","27746-44958",{"$f":"G1213-SUMIF(ESCALA!$B$14:$B$15,DADOS!K1213,ESCALA!$I$14:$I$15)","v":30}]
[27748,27748,"ROSECLEI NEVES MUNHOZ","PROFESSOR (A) DE EDUCAÇÃO BÁSICA","ESTATUTARIO","2022-08-27",30,"2023-08-27","2022-08-31","2023-07-31","27748-44800",{"$f":"G1214-SUMIF(ESCALA!$B$14:$B$15,DADOS!K1214,ESCALA!$I$14:$I$15)","v":30}]
[27748,27748,"ROSECLEI NEVES MUNHOZ","PROFESSOR (A) DE EDUCAÇÃO BÁSICA","ESTATUTARIO","2023-08-27",30,"2024-08-27","2023-08-31","2024-07-31","27748-45165",{"$f":"G1215-SUMIF(ESCALA!$B$14:$B$15,DADOS!K1215,ESCALA!$I$14:$I$15)","v":30}]
[27750,27750,"ARTHUR CEZAR FERREIRA E SILVA","PROFESSOR (A) DE EDUCAÇÃO BASICA","CELETISTA","2022-02-02",30,"2023-02-02","2022-01-31","2023-01-31","27750-44594",{"$f":"G1216-SUMIF(ESCALA!$B$14:$B$15,DADOS!K1216,ESCALA!$I$14:$I$15)","v":30}]
[27750,27750,"ARTHUR CEZAR FERREIRA E SILVA","PROFESSOR (A) DE EDUCAÇÃO BASICA","CELETISTA","2023-02-02",30,"2024-02-02","2023-01-31","2024-01-31","27750-44959",{"$f":"G1217-SUMIF(ESCALA!$B$14:$B$15,DADOS!K1217,ESCALA!$I$14:$I$15)","v":30}]
[27753,27753,"LILIANE DE MELLO","PROFESSOR (A) DE EDUCACAO BASICA","ESTATUTARIO","2022-02-02",30,"2023-02-02","2022-02-28","2023-01-31","27753-44594",{"$f":"G1218-SUMIF(ESCALA!$B$14:$B$15,DADOS!K1218,ESCALA!$I$14:$I$15)","v":30}]
[{"$f":"IF(L1219=0,\"\",B1219)","v":27753},27753,"LILIANE DE MELLO","PROFESSOR (A) DE EDUCACAO BASICA","ESTATUTARIO","2023-02-02",30,{"$f":"IF(F1219<=44985,F1219+365,F1219+366)","v":"2024-02-02"},"2023-02-28","2024-01-31",{"$f":"CONCATENATE(B1219,\"-\",F1219)","v":"27753-44959"},{"$f":"G1219-SUMIF(ESCALA!$B$14:$B$15,DADOS!K1219,ESCALA!$I$14:$I$15)","v":30}]
[27756,27756,"CASSIA ROBERTA CAVALCANTE","PROFESSOR (A) DE EDUCACAO BASICA","ESTATUTARIO","2022-02-03",30,"2023-02-03",{"$f":"IF(E1220=\"ESTATUTARIO\",EOMONTH(F1220,0),EOMONTH(F1220,-1))","v":"2022-02-28"},{"$f":"EOMONTH(F1220,11)","v":"2023-01-31"},"27756-44595",{"$f":"G1220-SUMIF(ESCALA!$B$14:$B$15,DADOS!K1220,ESCALA!$I$14:$I$15)","v":30}]
[27756,27756,"CASSIA ROBERTA CAVALCANTE","PROFESSOR (A) DE EDUCACAO BASICA","ESTATUTARIO","2023-02-03",30,"2024-02-03","2023-02-28","2024-01-31","27756-44960",{"$f":"G1221-SUMIF(ESCALA!$B$14:$B$15,DADOS!K1221,ESCALA!$I$14:$I$15)","v":30}]
[27767,27767,"SANDRA REGINA DE JESUS RABELLO","PROFESSOR (A) DE EDUCAÇÃO BÁSICA","CELETISTA","2022-02-06",30,"2023-02-06","2022-01-31","2023-01-31","27767-44598",{"$f":"G1222-SUMIF(ESCALA!$B$14:$B$15,DADOS!K1222,ESCALA!$I$14:$I$15)","v":30}]
[27767,27767,"SANDRA REGINA DE JESUS RABELLO","PROFESSOR (A) DE EDUCAÇÃO BÁSICA","CELETISTA","2023-02-06",30,"2024-02-06","2023-01-31","2024-01-31","27767-44963",{"$f":"G1223-SUMIF(ESCALA!$B$14:$B$15,DADOS!K1223,ESCALA!$I$14:$I$15)","v":30}]
[27806,27806,"ZENI DE SOUZA TEIXEIRA","DIRETOR (A) DE ESCOLA","CELETISTA","2022-02-21",20,"2023-02-21","2022-01-31","2023-01-31","27806-44613",{"$f":"G1224-SUMIF(ESCALA!$B$14:$B$15,DADOS!K1224,ESCALA!$I$14:$I$15)","v":20}]
[27806,27806,"ZENI DE SOUZA TEIXEIRA","DIRETOR (A) DE ESCOLA","CELETISTA","2023-02-21",30,"2024-02-21","2023-01-31","2024-01-31","27806-44978",{"$f":"G1225-SUMIF(ESCALA!$B$14:$B$15,DADOS!K1225,ESCALA!$I$14:$I$15)","v":30}]
[27817,27817,"JORGE DE SOUZA LIMA","DIRETOR (A) DE ESCOLA","ESTATUTARIO","2022-02-27",15,"2023-02-27","2022-02-28","2023-01-31","27817-44619",{"$f":"G1226-SUMIF(ESCALA!$B$14:$B$15,DADOS!K1226,ESCALA!$I$14:$I$15)","v":15}]
[27817,27817,"JORGE DE SOUZA LIMA","DIRETOR (A) DE ESCOLA","ESTATUTARIO","2023-02-27",30,"2024-02-27","2023-02-28","2024-01-31","27817-44984",{"$f":"G1227-SUMIF(ESCALA!$B$14:$B$15,DADOS!K1227,ESCALA!$I$14:$I$15)","v":30}]
[27838,27838,"MARIA CECILIA JORGE","DIRETOR (A) DE ESCOLA","CELETISTA","2022-03-09",30,"2023-03-09","2022-02-28","2023-02-28","27838-44629",{"$f":"G1228-SUMIF(ESCALA!$B$14:$B$15,DADOS!K1228,ESCALA!$I$14:$I$15)","v":30}]
[27838,27838,"MARIA CECILIA JORGE","DIRETOR (A) DE ESCOLA","CELETISTA","2023-03-09",30,"2024-03-09","2023-02-28","2024-02-29","27838-44994",{"$f":"G1229-SUMIF(ESCALA!$B$14:$B$15,DADOS!K1229,ESCALA!$I$14:$I$15)","v":30}]
[27848,27848,"MARIA APARECIDA PEREIRA DA SILVA CARDOSO","DIRETOR (A) DE ESCOLA","CELETISTA","2022-03-12",15,"2023-03-12","2022-02-28","2023-02-28","27848-44632",{"$f":"G1230-SUMIF(ESCALA!$B$14:$B$15,DADOS!K1230,ESCALA!$I$14:$I$15)","v":15}]
[27848,27848,"MARIA APARECIDA PEREIRA DA SILVA CARDOSO","DIRETOR (A) DE ESCOLA","CELETISTA","2023-03-12",30,"2024-03-12","2023-02-28","2024-02-29","27848-44997",{"$f":"G1231-SUMIF(ESCALA!$B$14:$B$15,DADOS!K1231,ESCALA!$I$14:$I$15)","v":30}]
[27906,27906,"TANIA DA COSTA E SILVA","DIRETOR (A) DE ESCOLA","CELETISTA","2022-03-28",30,"2023-03-28","2022-02-28","2023-02-28","27906-44648",{"$f":"G1232-SUMIF(ESCALA!$B$14:$B$15,DADOS!K1232,ESCALA!$I$14:$I$15)","v":30}]
[27906,27906,"TANIA DA COSTA E SILVA","DIRETOR (A) DE ESCOLA","CELETISTA","2023-03-28",30,"2024-03-28","2023-02-28","2024-02-29","27906-45013",{"$f":"G1233-SUMIF(ESCALA!$B$14:$B$15,DADOS!K1233,ESCALA!$I$14:$I$15)","v":30}]
[27913,27913,"MARCIA DALMAZO","PROFESSOR (A) DE EDUCACAO BASICA","ESTATUTARIO","2022-04-05",30,"2023-04-05","2022-04-30","2023-03-31","27913-44656",{"$f":"G1234-SUMIF(ESCALA!$B$14:$B$15,DADOS!K1234,ESCALA!$I$14:$I$15)","v":30}]
[27913,27913,"MARCIA DALMAZO","PROFESSOR (A) DE EDUCACAO BASICA","ESTATUTARIO","2023-04-05",30,"2024-04-05","2023-04-30","2024-03-31","27913-45021",{"$f":"G1235-SUMIF(ESCALA!$B$14:$B$15,DADOS!K1235,ESCALA!$I$14:$I$15)","v":30}]
[27919,27919,"ELIANE GOMES FERREIRA VALUARTE","PROFESSOR (A) DE EDUCACAO BASICA","ESTATUTARIO","2022-04-09",30,"2023-04-09","2022-04-30","2023-03-31","27919-44660",{"$f":"G1236-SUMIF(ESCALA!$B$14:$B$15,DADOS!K1236,ESCALA!$I$14:$I$15)","v":30}]
[27919,27919,"ELIANE GOMES FERREIRA VALUARTE","PROFESSOR (A) DE EDUCACAO BASICA","ESTATUTARIO","2023-04-09",30,"2024-04-09","2023-04-30","2024-03-31","27919-45025",{"$f":"G1237-SUMIF(ESCALA!$B$14:$B$15,DADOS!K1237,ESCALA!$I$14:$I$15)","v":30}]
[27935,27935,"MARIA MARCIANA CUNHA VIEIRA TORRES","PROFESSOR (A) DE EDUCACAO BASICA","CELETISTA","2022-04-13",30,"2023-04-13","2022-03-31","2023-03-31","27935-44664",{"$f":"G1238-SUMIF(ESCALA!$B$14:$B$15,DADOS!K1238,ESCALA!$I$14:$I$15)","v":30}]
[27935,27935,"MARIA MARCIANA CUNHA VIEIRA TORRES","PROFESSOR (A) DE EDUCACAO BASICA","CELETISTA","2023-04-13",30,"2024-04-13","2023-03-31","2024-03-31","27935-45029",{"$f":"G1239-SUMIF(ESCALA!$B$14:$B$15,DADOS!K1239,ESCALA!$I$14:$I$15)","v":30}]
[27943,27943,"REGIANE DOS SANTOS COSTA","COORDENADOR (A) DE PROGRAMAS EDUCACIONAIS","ESTATUTARIO","2022-04-18",25,"2023-04-18","2022-04-30","2023-03-31","27943-44669",{"$f":"G1240-SUMIF(ESCALA!$B$14:$B$15,DADOS!K1240,ESCALA!$I$14:$I$15)","v":25}]
[27943,27943,"REGIANE DOS SANTOS COSTA","COORDENADOR (A) DE PROGRAMAS EDUCACIONAIS","ESTATUTARIO","2023-04-18",30,"2024-04-18","2023-04-30","2024-03-31","27943-45034",{"$f":"G1241-SUMIF(ESCALA!$B$14:$B$15,DADOS!K1241,ESCALA!$I$14:$I$15)","v":30}]
[27959,27959,"SUELI SOUZA DONATO BABBERG","PROFESSOR (A) DE EDUCACAO INFANTIL","ESTATUTARIO","2022-05-02",30,"2023-05-02","2022-05-31","2023-04-30","27959-44683",{"$f":"G1242-SUMIF(ESCALA!$B$14:$B$15,DADOS!K1242,ESCALA!$I$14:$I$15)","v":30}]
[27959,27959,"SUELI SOUZA DONATO BABBERG","PROFESSOR (A) DE EDUCACAO INFANTIL","ESTATUTARIO","2023-05-02",30,"2024-05-02","2023-05-31","2024-04-30","27959-45048",{"$f":"G1243-SUMIF(ESCALA!$B$14:$B$15,DADOS!K1243,ESCALA!$I$14:$I$15)","v":30}]
[27982,27982,"LUCIA PAES ZOAIS","PROFESSOR (A) DE EDUCACAO BASICA","ESTATUTARIO","2022-05-07",30,"2023-05-07","2022-05-31","2023-04-30","27982-44688",{"$f":"G1244-SUMIF(ESCALA!$B$14:$B$15,DADOS!K1244,ESCALA!$I$14:$I$15)","v":30}]
[27982,27982,"LUCIA PAES ZOAIS","PROFESSOR (A) DE EDUCACAO BASICA","ESTATUTARIO","2023-05-07",30,"2024-05-07","2023-05-31","2024-04-30","27982-45053",{"$f":"G1245-SUMIF(ESCALA!$B$14:$B$15,DADOS!K1245,ESCALA!$I$14:$I$15)","v":30}]
[28008,28008,"SILVIA APARECIDA SOARES PASTOR","PROFESSOR (A) DE EDUCACAO BASICA","ESTATUTARIO","2022-05-11",30,"2023-05-11","2022-05-31","2023-04-30","28008-44692",{"$f":"G1246-SUMIF(ESCALA!$B$14:$B$15,DADOS!K1246,ESCALA!$I$14:$I$15)","v":30}]
[28008,28008,"SILVIA APARECIDA SOARES PASTOR","PROFESSOR (A) DE EDUCACAO BASICA","ESTATUTARIO","2023-05-11",30,"2024-05-11","2023-05-31","2024-04-30","28008-45057",{"$f":"G1247-SUMIF(ESCALA!$B$14:$B$15,DADOS!K1247,ESCALA!$I$14:$I$15)","v":30}]
[28009,28009,"MARIA JOSE TEIXEIRA DUTRA COSTA","PROFESSOR (A) DE EDUCACAO BASICA","ESTATUTARIO","2022-05-11",30,"2023-05-11","2022-05-31","2023-04-30","28009-44692",{"$f":"G1248-SUMIF(ESCALA!$B$14:$B$15,DADOS!K1248,ESCALA!$I$14:$I$15)","v":30}]
[28009,28009,"MARIA JOSE TEIXEIRA DUTRA COSTA","PROFESSOR (A) DE EDUCACAO BASICA","ESTATUTARIO","2023-05-11",30,"2024-05-11","2023-05-31","2024-04-30","28009-45057",{"$f":"G1249-SUMIF(ESCALA!$B$14:$B$15,DADOS!K1249,ESCALA!$I$14:$I$15)","v":30}]
[28010,28010,"SEVERINA ARCELINA DA SILVA","PROFESSOR (A) DE EDUCACAO INFANTIL","ESTATUTARIO","2022-05-15",15,"2023-05-15","2022-05-31","2023-04-30","28010-44696",{"$f":"G1250-SUMIF(ESCALA!$B$14:$B$15,DADOS!K1250,ESCALA!$I$14:$I$15)","v":15}]
[28010,28010,"SEVERINA ARCELINA DA SILVA","PROFESSOR (A) DE EDUCACAO INFANTIL","ESTATUTARIO","2023-05-15",30,"2024-05-15","2023-05-31","2024-04-30","28010-45061",{"$f":"G1251-SUMIF(ESCALA!$B$14:$B$15,DADOS!K1251,ESCALA!$I$14:$I$15)","v":30}]
[28015,28015,"SILVANA RODRIGUES FERNANDES","PROFESSOR (A) DE EDUCACAO INFANTIL","CELETISTA","2022-05-14",30,"2023-05-14","2022-04-30","2023-04-30","28015-44695",{"$f":"G1252-SUMIF(ESCALA!$B$14:$B$15,DADOS!K1252,ESCALA!$I$14:$I$15)","v":30}]
[28015,28015,"SILVANA RODRIGUES FERNANDES","PROFESSOR (A) DE EDUCACAO INFANTIL","CELETISTA","2023-05-14",30,"2024-05-14","2023-04-30","2024-04-30","28015-45060",{"$f":"G1253-SUMIF(ESCALA!$B$14:$B$15,DADOS!K1253,ESCALA!$I$14:$I$15)","v":30}]
[28020,28020,"EDNA ALVES DA SILVA","PROFESSOR (A) DE EDUCACAO INFANTIL","CELETISTA","2022-05-15",30,"2023-05-15","2022-04-30","2023-04-30","28020-44696",{"$f":"G1254-SUMIF(ESCALA!$B$14:$B$15,DADOS!K1254,ESCALA!$I$14:$I$15)","v":30}]
[28020,28020,"EDNA ALVES DA SILVA","PROFESSOR (A) DE EDUCACAO INFANTIL","CELETISTA","2023-05-15",30,"2024-05-15","2023-04-30","2024-04-30","28020-45061",{"$f":"G1255-SUMIF(ESCALA!$B$14:$B$15,DADOS!K1255,ESCALA!$I$14:$I$15)","v":30}]
[28031,28031,"IZABEL BONILHA","PROFESSOR (A) DE EDUCACAO INFANTIL","CELETISTA","2022-05-16",30,"2023-05-16","2022-04-30","2023-04-30","28031-44697",{"$f":"G1256-SUMIF(ESCALA!$B$14:$B$15,DADOS!K1256,ESCALA!$I$14:$I$15)","v":30}]
[28031,28031,"IZABEL BONILHA","PROFESSOR (A) DE EDUCACAO INFANTIL","CELETISTA","2023-05-16",30,"2024-05-16","2023-04-30","2024-04-30","28031-45062",{"$f":"G1257-SUMIF(ESCALA!$B$14:$B$15,DADOS!K1257,ESCALA!$I$14:$I$15)","v":30}]
[28040,28040,"GLAUCIONE DE OLIVEIRA VICENTE","PROFESSOR (A) DE EDUCACAO INFANTIL","ESTATUTARIO","2022-05-24",30,"2023-05-24","2022-05-31","2023-04-30","28040-44705",{"$f":"G1258-SUMIF(ESCALA!$B$14:$B$15,DADOS!K1258,ESCALA!$I$14:$I$15)","v":30}]
[28040,28040,"GLAUCIONE DE OLIVEIRA VICENTE","PROFESSOR (A) DE EDUCACAO INFANTIL","ESTATUTARIO","2023-05-24",30,"2024-05-24","2023-05-31","2024-04-30","28040-45070",{"$f":"G1259-SUMIF(ESCALA!$B$14:$B$15,DADOS!K1259,ESCALA!$I$14:$I$15)","v":30}]
[28043,28043,"MARIA ISABEL DE OLIVEIRA","PROFESSOR (A) DE EDUCACAO INFANTIL","CELETISTA","2022-05-24",30,"2023-05-24","2022-04-30","2023-04-30","28043-44705",{"$f":"G1260-SUMIF(ESCALA!$B$14:$B$15,DADOS!K1260,ESCALA!$I$14:$I$15)","v":30}]
[28043,28043,"MARIA ISABEL DE OLIVEIRA","PROFESSOR (A) DE EDUCACAO INFANTIL","CELETISTA","2023-05-24",30,"2024-05-24","2023-04-30","2024-04-30","28043-45070",{"$f":"G1261-SUMIF(ESCALA!$B$14:$B$15,DADOS!K1261,ESCALA!$I$14:$I$15)","v":30}]
[28064,28064,"CASSIA SANTOS MEDEIROS","PROFESSOR (A) DE EDUCACAO INFANTIL","ESTATUTARIO","2022-06-04",30,"2023-06-04","2022-06-30","2023-05-31","28064-44716",{"$f":"G1262-SUMIF(ESCALA!$B$14:$B$15,DADOS!K1262,ESCALA!$I$14:$I$15)","v":30}]
[28064,28064,"CASSIA SANTOS MEDEIROS","PROFESSOR (A) DE EDUCACAO INFANTIL","ESTATUTARIO","2023-06-04",30,"2024-06-04","2023-06-30","2024-05-31","28064-45081",{"$f":"G1263-SUMIF(ESCALA!$B$14:$B$15,DADOS!K1263,ESCALA!$I$14:$I$15)","v":30}]
[28065,28065,"ADRIANA RAMOS TORRES DE CASTRO","PROFESSOR (A) COORDENADOR (A)  PEDAGOGICO (A)","ESTATUTARIO","2023-01-01",30,"2024-01-01","2023-01-31","2023-12-31","28065-44927",{"$f":"G1264-SUMIF(ESCALA!$B$14:$B$15,DADOS!K1264,ESCALA!$I$14:$I$15)","v":30}]
[28083,28083,"VIVIANE RIBEIRO D ANGELO","DIRETOR (A) DE ESCOLA","ESTATUTARIO","2022-06-18",20,"2023-06-18","2022-06-30","2023-05-31","28083-44730",{"$f":"G1265-SUMIF(ESCALA!$B$14:$B$15,DADOS!K1265,ESCALA!$I$14:$I$15)","v":20}]
[28083,28083,"VIVIANE RIBEIRO D ANGELO","DIRETOR (A) DE ESCOLA","ESTATUTARIO","2023-06-18",30,"2024-06-18","2023-06-30","2024-05-31","28083-45095",{"$f":"G1266-SUMIF(ESCALA!$B$14:$B$15,DADOS!K1266,ESCALA!$I$14:$I$15)","v":30}]
[28087,28087,"MARIA DA ANUNCIACAO BEZERRA","PROFESSOR (A) DE EDUCAÇÃO BASICA","CELETISTA","2023-07-05",30,"2024-07-05","2023-06-30","2024-06-30","28087-45112",{"$f":"G1267-SUMIF(ESCALA!$B$14:$B$15,DADOS!K1267,ESCALA!$I$14:$I$15)","v":30}]
[28090,28090,"CLAUDIA MARIA LEME LIMA","PROFESSOR (A) DE EDUCACAO BASICA","ESTATUTARIO","2022-06-25",30,"2023-06-25","2022-06-30","2023-05-31","28090-44737",{"$f":"G1268-SUMIF(ESCALA!$B$14:$B$15,DADOS!K1268,ESCALA!$I$14:$I$15)","v":30}]
[28090,28090,"CLAUDIA MARIA LEME LIMA","PROFESSOR (A) DE EDUCACAO BASICA","ESTATUTARIO","2023-06-25",30,"2024-06-25","2023-06-30","2024-05-31","28090-45102",{"$f":"G1269-SUMIF(ESCALA!$B$14:$B$15,DADOS!K1269,ESCALA!$I$14:$I$15)","v":30}]
[28092,28092,"ANDREIA GOMES DA COSTA","PROFESSOR (A) DE EDUCAÇÃO BÁSICA","ESTATUTARIO","2022-06-26",30,"2023-06-26","2022-06-30","2023-05-31","28092-44738",{"$f":"G1270-SUMIF(ESCALA!$B$14:$B$15,DADOS!K1270,ESCALA!$I$14:$I$15)","v":30}]
[28092,28092,"ANDREIA GOMES DA COSTA","PROFESSOR (A) DE EDUCAÇÃO BÁSICA","ESTATUTARIO","2023-06-26",30,"2024-06-26","2023-06-30","2024-05-31","28092-45103",{"$f":"G1271-SUMIF(ESCALA!$B$14:$B$15,DADOS!K1271,ESCALA!$I$14:$I$15)","v":30}]
[28141,28141,"PRISCILA KELY DA ROCHA ","COORDENADOR (A) DE PROGRAMAS EDUCACIONAIS","ESTATUTARIO","2023-01-01",30,"2024-01-01","2023-01-31","2023-12-31","28141-44927",{"$f":"G1272-SUMIF(ESCALA!$B$14:$B$15,DADOS!K1272,ESCALA!$I$14:$I$15)","v":30}]
[28149,28149,"DIONE CYNTHIA RIBEIRO","VICE-DIRETOR (A) DE ESCOLA","ESTATUTARIO","2022-07-11",30,"2023-07-11","2022-07-31","2023-06-30","28149-44753",{"$f":"G1273-SUMIF(ESCALA!$B$14:$B$15,DADOS!K1273,ESCALA!$I$14:$I$15)","v":30}]
[28149,28149,"DIONE CYNTHIA RIBEIRO","VICE-DIRETOR (A) DE ESCOLA","ESTATUTARIO","2023-07-11",30,"2024-07-11","2023-07-31","2024-06-30","28149-45118",{"$f":"G1274-SUMIF(ESCALA!$B$14:$B$15,DADOS!K1274,ESCALA!$I$14:$I$15)","v":30}]
[28264,28264,"RENATA LEITE SIMOES","PROFESSOR (A) DE EDUCACAO BASICA","ESTATUTARIO","2022-07-19",30,"2023-07-19","2022-07-31","2023-06-30","28264-44761",{"$f":"G1275-SUMIF(ESCALA!$B$14:$B$15,DADOS!K1275,ESCALA!$I$14:$I$15)","v":30}]
[28264,28264,"RENATA LEITE SIMOES","PROFESSOR (A) DE EDUCACAO BASICA","ESTATUTARIO","2023-07-19",30,"2024-07-19","2023-07-31","2024-06-30","28264-45126",{"$f":"G1276-SUMIF(ESCALA!$B$14:$B$15,DADOS!K1276,ESCALA!$I$14:$I$15)","v":30}]
[28271,28271,"ANDREA BARBOSA PRADO DE BARROS","PROFESSOR (A) DE EDUCACAO BASICA","ESTATUTARIO","2022-07-19",30,"2023-07-19","2022-07-31","2023-06-30","28271-44761",{"$f":"G1277-SUMIF(ESCALA!$B$14:$B$15,DADOS!K1277,ESCALA!$I$14:$I$15)","v":30}]
[28271,28271,"ANDREA BARBOSA PRADO DE BARROS","PROFESSOR (A) DE EDUCACAO BASICA","ESTATUTARIO","2023-07-19",30,"2024-07-19","2023-07-31","2024-06-30","28271-45126",{"$f":"G1278-SUMIF(ESCALA!$B$14:$B$15,DADOS!K1278,ESCALA!$I$14:$I$15)","v":30}]
[28277,28277,"SILMARA SILVA SALES","PROFESSOR (A) DE EDUCAÇÃO BÁSICA","ESTATUTARIO","2022-12-31",30,"2023-12-31","2022-12-31","2023-11-30","28277-44926",{"$f":"G1279-SUMIF(ESCALA!$B$14:$B$15,DADOS!K1279,ESCALA!$I$14:$I$15)","v":30}]
[28277,28277,"SILMARA SILVA SALES","PROFESSOR (A) DE EDUCAÇÃO BÁSICA","ESTATUTARIO","2023-12-31",30,"2024-12-31","2023-12-31","2024-11-30","28277-45291",{"$f":"G1280-SUMIF(ESCALA!$B$14:$B$15,DADOS!K1280,ESCALA!$I$14:$I$15)","v":30}]
[28294,28294,"REGINA ELIZABETH DA SILVA","PROFESSOR (A) DE EDUCAÇÃO BASICA","CELETISTA","2023-04-22",30,"2024-04-22","2023-03-31","2024-03-31","28294-45038",{"$f":"G1281-SUMIF(ESCALA!$B$14:$B$15,DADOS!K1281,ESCALA!$I$14:$I$15)","v":30}]
[28311,28311,"CLAUDILEIA CARVALHO DO PRADO","PROFESSOR (A) DE EDUCACAO INFANTIL","ESTATUTARIO","2022-07-24",15,"2023-07-24","2022-07-31","2023-06-30","28311-44766",{"$f":"G1282-SUMIF(ESCALA!$B$14:$B$15,DADOS!K1282,ESCALA!$I$14:$I$15)","v":15}]
[{"$f":"IF(L1283=0,\"\",B1283)","v":28311},28311,"CLAUDILEIA CARVALHO DO PRADO","PROFESSOR (A) DE EDUCACAO INFANTIL","ESTATUTARIO","2023-07-24",30,{"$f":"IF(F1283<=44985,F1283+365,F1283+366)","v":"2024-07-24"},"2023-07-31","2024-06-30",{"$f":"CONCATENATE(B1283,\"-\",F1283)","v":"28311-45131"},{"$f":"G1283-SUMIF(ESCALA!$B$14:$B$15,DADOS!K1283,ESCALA!$I$14:$I$15)","v":30}]
[28366,28366,"DERCIO GONCALVES DA SILVA","AUXILIAR OPERACIONAL","ESTATUTARIO","2023-07-26",30,"2024-07-26",{"$f":"IF(E1284=\"ESTATUTARIO\",EOMONTH(F1284,0),EOMONTH(F1284,-1))","v":"2023-07-31"},{"$f":"EOMONTH(F1284,11)","v":"2024-06-30"},"28366-45133",{"$f":"G1284-SUMIF(ESCALA!$B$14:$B$15,DADOS!K1284,ESCALA!$I$14:$I$15)","v":30}]
[28436,28436,"EDILENE RIBEIRO BRANDAO MONTEIRO","VICE-DIRETOR (A) DE ESCOLA","ESTATUTARIO","2022-07-31",30,"2023-07-31","2022-07-31","2023-06-30","28436-44773",{"$f":"G1285-SUMIF(ESCALA!$B$14:$B$15,DADOS!K1285,ESCALA!$I$14:$I$15)","v":30}]
[28436,28436,"EDILENE RIBEIRO BRANDAO MONTEIRO","VICE-DIRETOR (A) DE ESCOLA","ESTATUTARIO","2023-07-31",30,"2024-07-31","2023-07-31","2024-06-30","28436-45138",{"$f":"G1286-SUMIF(ESCALA!$B$14:$B$15,DADOS!K1286,ESCALA!$I$14:$I$15)","v":30}]
[28458,28458,"MARCIA MARIA DE LIMA ARDIZZONE","PROFESSOR (A) DE EDUCAÇÃO BASICA","CELETISTA","2022-09-02",30,"2023-09-02","2022-08-31","2023-08-31","28458-44806",{"$f":"G1287-SUMIF(ESCALA!$B$14:$B$15,DADOS!K1287,ESCALA!$I$14:$I$15)","v":30}]
[28458,28458,"MARCIA MARIA DE LIMA ARDIZZONE","PROFESSOR (A) DE EDUCAÇÃO BASICA","CELETISTA","2023-09-02",30,"2024-09-02","2023-08-31","2024-08-31","28458-45171",{"$f":"G1288-SUMIF(ESCALA!$B$14:$B$15,DADOS!K1288,ESCALA!$I$14:$I$15)","v":30}]
[28565,28565,"ALESSANDRA BODOIA ARAUJO","PROFESSOR (A) DE EDUCACAO BASICA","ESTATUTARIO","2022-08-07",30,"2023-08-07","2022-08-31","2023-07-31","28565-44780",{"$f":"G1289-SUMIF(ESCALA!$B$14:$B$15,DADOS!K1289,ESCALA!$I$14:$I$15)","v":30}]
[28565,28565,"ALESSANDRA BODOIA ARAUJO","PROFESSOR (A) DE EDUCACAO BASICA","ESTATUTARIO","2023-08-07",30,"2024-08-07","2023-08-31","2024-07-31","28565-45145",{"$f":"G1290-SUMIF(ESCALA!$B$14:$B$15,DADOS!K1290,ESCALA!$I$14:$I$15)","v":30}]
[28634,28634,"ADENILSON DE SOUZA","CARPINTEIRO (A)","ESTATUTARIO","2023-08-15",30,"2024-08-15","2023-08-31","2024-07-31","28634-45153",{"$f":"G1291-SUMIF(ESCALA!$B$14:$B$15,DADOS!K1291,ESCALA!$I$14:$I$15)","v":30}]
[28650,28650,"ALEXANDRE APARECIDO PEREIRA","CHEFE DE DIVISAO TECNICA","ESTATUTARIO","2023-08-15",30,"2024-08-15","2023-08-31","2024-07-31","28650-45153",{"$f":"G1292-SUMIF(ESCALA!$B$14:$B$15,DADOS!K1292,ESCALA!$I$14:$I$15)","v":30}]
[28677,28677,"FRANCISCO DE LIMA FONSECA","AUXILIAR OPERACIONAL","ESTATUTARIO","2022-08-15",30,"2023-08-15","2022-08-31","2023-07-31","28677-44788",{"$f":"G1293-SUMIF(ESCALA!$B$14:$B$15,DADOS!K1293,ESCALA!$I$14:$I$15)","v":30}]
[28677,28677,"FRANCISCO DE LIMA FONSECA","AUXILIAR OPERACIONAL","ESTATUTARIO","2023-08-15",30,"2024-08-15","2023-08-31","2024-07-31","28677-45153",{"$f":"G1294-SUMIF(ESCALA!$B$14:$B$15,DADOS!K1294,ESCALA!$I$14:$I$15)","v":30}]
[28736,28736,"ARACELY MODESTO MARTINS","AUXILIAR OPERACIONAL","ESTATUTARIO","2022-08-22",15,"2023-08-22","2022-08-31","2023-07-31","28736-44795",{"$f":"G1295-SUMIF(ESCALA!$B$14:$B$15,DADOS!K1295,ESCALA!$I$14:$I$15)","v":15}]
[28736,28736,"ARACELY MODESTO MARTINS","AUXILIAR OPERACIONAL","ESTATUTARIO","2023-08-22",30,"2024-08-22","2023-08-31","2024-07-31","28736-45160",{"$f":"G1296-SUMIF(ESCALA!$B$14:$B$15,DADOS!K1296,ESCALA!$I$14:$I$15)","v":30}]
[28738,28738,"ROSE MONTEIRO DOS SANTOS","COZINHEIRO (A)","ESTATUTARIO","2022-05-01",30,"2023-05-01","2022-05-31","2023-04-30","28738-44682",{"$f":"G1297-SUMIF(ESCALA!$B$14:$B$15,DADOS!K1297,ESCALA!$I$14:$I$15)","v":30}]
[28738,28738,"ROSE MONTEIRO DOS SANTOS","COZINHEIRO (A)","ESTATUTARIO","2023-05-01",30,"2024-05-01","2023-05-31","2024-04-30","28738-45047",{"$f":"G1298-SUMIF(ESCALA!$B$14:$B$15,DADOS!K1298,ESCALA!$I$14:$I$15)","v":30}]
[28765,28765,"DIVANIR FEITOSA DA SILVA","DIRETOR (A) DE ESCOLA","ESTATUTARIO","2022-09-29",15,"2023-09-29","2022-09-30","2023-08-31","28765-44833",{"$f":"G1299-SUMIF(ESCALA!$B$14:$B$15,DADOS!K1299,ESCALA!$I$14:$I$15)","v":15}]
[28765,28765,"DIVANIR FEITOSA DA SILVA","DIRETOR (A) DE ESCOLA","ESTATUTARIO","2023-09-29",30,"2024-09-29","2023-09-30","2024-08-31","28765-45198",{"$f":"G1300-SUMIF(ESCALA!$B$14:$B$15,DADOS!K1300,ESCALA!$I$14:$I$15)","v":30}]
[28767,28767,"JOSE CORREIA DE CARVALHO","ASSISTENTE DE GESTAO ESCOLAR","ESTATUTARIO","2022-09-03",30,"2023-09-03","2022-09-30","2023-08-31","28767-44807",{"$f":"G1301-SUMIF(ESCALA!$B$14:$B$15,DADOS!K1301,ESCALA!$I$14:$I$15)","v":30}]
[28767,28767,"JOSE CORREIA DE CARVALHO","ASSISTENTE DE GESTAO ESCOLAR","ESTATUTARIO","2023-09-03",30,"2024-09-03","2023-09-30","2024-08-31","28767-45172",{"$f":"G1302-SUMIF(ESCALA!$B$14:$B$15,DADOS!K1302,ESCALA!$I$14:$I$15)","v":30}]
[28777,28777,"ROSELAINE CAVALHEIRO DE MORAES","COORDENADOR (A) DE PROGRAMAS EDUCACIONAIS","CELETISTA","2022-09-03",30,"2023-09-03","2022-08-31","2023-08-31","28777-44807",{"$f":"G1303-SUMIF(ESCALA!$B$14:$B$15,DADOS!K1303,ESCALA!$I$14:$I$15)","v":30}]
[28777,28777,"ROSELAINE CAVALHEIRO DE MORAES","COORDENADOR (A) DE PROGRAMAS EDUCACIONAIS","CELETISTA","2023-09-03",30,"2024-09-03","2023-08-31","2024-08-31","28777-45172",{"$f":"G1304-SUMIF(ESCALA!$B$14:$B$15,DADOS!K1304,ESCALA!$I$14:$I$15)","v":30}]
[28788,28788,"CLAUDETH APARECIDA SOUZA FERNANDES","PROFESSOR (A) DE EDUCACAO BASICA","ESTATUTARIO","2022-09-03",30,"2023-09-03","2022-09-30","2023-08-31","28788-44807",{"$f":"G1305-SUMIF(ESCALA!$B$14:$B$15,DADOS!K1305,ESCALA!$I$14:$I$15)","v":30}]
[28788,28788,"CLAUDETH APARECIDA SOUZA FERNANDES","PROFESSOR (A) DE EDUCACAO BASICA","ESTATUTARIO","2023-09-03",30,"2024-09-03","2023-09-30","2024-08-31","28788-45172",{"$f":"G1306-SUMIF(ESCALA!$B$14:$B$15,DADOS!K1306,ESCALA!$I$14:$I$15)","v":30}]
[28799,28799,"SILVIA REGINA SANTOS EMILIANO","PROFESSOR (A) DE EDUCAÇÃO BASICA","CELETISTA","2022-09-03",30,"2023-09-03","2022-08-31","2023-08-31","28799-44807",{"$f":"G1307-SUMIF(ESCALA!$B$14:$B$15,DADOS!K1307,ESCALA!$I$14:$I$15)","v":30}]
[28799,28799,"SILVIA REGINA SANTOS EMILIANO","PROFESSOR (A) DE EDUCAÇÃO BASICA","CELETISTA","2023-09-03",30,"2024-09-03","2023-08-31","2024-08-31","28799-45172",{"$f":"G1308-SUMIF(ESCALA!$B$14:$B$15,DADOS!K1308,ESCALA!$I$14:$I$15)","v":30}]
[28831,28831,"MARCIA SAMPAIO LUZ FURTADO","VICE-DIRETOR (A) DE ESCOLA","ESTATUTARIO","2022-09-03",30,"2023-09-03","2022-09-30","2023-08-31","28831-44807",{"$f":"G1309-SUMIF(ESCALA!$B$14:$B$15,DADOS!K1309,ESCALA!$I$14:$I$15)","v":30}]
[28831,28831,"MARCIA SAMPAIO LUZ FURTADO","VICE-DIRETOR (A) DE ESCOLA","ESTATUTARIO","2023-09-03",30,"2024-09-03","2023-09-30","2024-08-31","28831-45172",{"$f":"G1310-SUMIF(ESCALA!$B$14:$B$15,DADOS!K1310,ESCALA!$I$14:$I$15)","v":30}]
[28893,28893,"JOSE CARLOS DINIZ","ENGENHEIRO (A) CIVIL","CELETISTA","2022-09-24",15,"2023-09-24","2022-08-31","2023-08-31","28893-44828",{"$f":"G1311-SUMIF(ESCALA!$B$14:$B$15,DADOS!K1311,ESCALA!$I$14:$I$15)","v":15}]
[28893,28893,"JOSE CARLOS DINIZ","ENGENHEIRO (A) CIVIL","CELETISTA","2023-09-24",30,"2024-09-24","2023-08-31","2024-08-31","28893-45193",{"$f":"G1312-SUMIF(ESCALA!$B$14:$B$15,DADOS!K1312,ESCALA!$I$14:$I$15)","v":30}]
[29094,29094,"ANTONIETA DE MELO","COORDENADOR (A) DE PROGRAMAS EDUCACIONAIS","ESTATUTARIO","2023-01-01",30,"2024-01-01","2023-01-31","2023-12-31","29094-44927",{"$f":"G1313-SUMIF(ESCALA!$B$14:$B$15,DADOS!K1313,ESCALA!$I$14:$I$15)","v":30}]
[29114,29114,"VALDENE VIEIRA PASSOS","PROFESSOR (A) DE EDUCACAO INFANTIL","CELETISTA","2022-04-13",30,"2023-04-13","2022-03-31","2023-03-31","29114-44664",{"$f":"G1314-SUMIF(ESCALA!$B$14:$B$15,DADOS!K1314,ESCALA!$I$14:$I$15)","v":30}]
[29114,29114,"VALDENE VIEIRA PASSOS","PROFESSOR (A) DE EDUCACAO INFANTIL","CELETISTA","2023-04-13",30,"2024-04-13","2023-03-31","2024-03-31","29114-45029",{"$f":"G1315-SUMIF(ESCALA!$B$14:$B$15,DADOS!K1315,ESCALA!$I$14:$I$15)","v":30}]
[29206,29206,"MARINA FAZIO SIMAO","PROFESSOR (A) DE EDUCACAO BASICA","ESTATUTARIO","2023-01-01",30,"2024-01-01","2023-01-31","2023-12-31","29206-44927",{"$f":"G1316-SUMIF(ESCALA!$B$14:$B$15,DADOS!K1316,ESCALA!$I$14:$I$15)","v":30}]
[29208,29208,"ROSANGELA RODRIGUES DELL ANTONIO MATRONI","PROFESSOR (A) DE EDUCAÇÃO BASICA","CELETISTA","2023-01-01",30,"2024-01-01","2022-12-31","2023-12-31","29208-44927",{"$f":"G1317-SUMIF(ESCALA!$B$14:$B$15,DADOS!K1317,ESCALA!$I$14:$I$15)","v":30}]
[29227,29227,"SOLANGE MARTINS ROJO","COZINHEIRO (A)","ESTATUTARIO","2023-01-01",30,"2024-01-01","2023-01-31","2023-12-31","29227-44927",{"$f":"G1318-SUMIF(ESCALA!$B$14:$B$15,DADOS!K1318,ESCALA!$I$14:$I$15)","v":30}]
[29230,29230,"LUZIA ARAUJO DE ALMEIDA ALVES","COZINHEIRO (A)","ESTATUTARIO","2023-01-01",30,"2024-01-01","2023-01-31","2023-12-31","29230-44927",{"$f":"G1319-SUMIF(ESCALA!$B$14:$B$15,DADOS!K1319,ESCALA!$I$14:$I$15)","v":30}]
[29241,29241,"VICENTINA CELESTINO FERREIRA","COZINHEIRO (A)","CELETISTA","2022-02-11",30,"2023-02-11","2022-01-31","2023-01-31","29241-44603",{"$f":"G1320-SUMIF(ESCALA!$B$14:$B$15,DADOS!K1320,ESCALA!$I$14:$I$15)","v":30}]
[29241,29241,"VICENTINA CELESTINO FERREIRA","COZINHEIRO (A)","CELETISTA","2023-02-11",30,"2024-02-11","2023-01-31","2024-01-31","29241-44968",{"$f":"G1321-SUMIF(ESCALA!$B$14:$B$15,DADOS!K1321,ESCALA!$I$14:$I$15)","v":30}]
[29245,29245,"MARLI DE OLIVEIRA IZIDORO","COZINHEIRO (A)","CELETISTA","2023-01-01",30,"2024-01-01","2022-12-31","2023-12-31","29245-44927",{"$f":"G1322-SUMIF(ESCALA!$B$14:$B$15,DADOS!K1322,ESCALA!$I$14:$I$15)","v":30}]
[29251,29251,"TEREZINHA BISPO DA SILVA","COZINHEIRO (A)","CELETISTA","2023-01-09",30,"2024-01-09","2022-12-31","2023-12-31","29251-44935",{"$f":"G1323-SUMIF(ESCALA!$B$14:$B$15,DADOS!K1323,ESCALA!$I$14:$I$15)","v":30}]
[29256,29256,"EVA KONSSO DIAS","COZINHEIRO (A)","CELETISTA","2022-02-12",30,"2023-02-12","2022-01-31","2023-01-31","29256-44604",{"$f":"G1324-SUMIF(ESCALA!$B$14:$B$15,DADOS!K1324,ESCALA!$I$14:$I$15)","v":30}]
[29256,29256,"EVA KONSSO DIAS","COZINHEIRO (A)","CELETISTA","2023-02-12",30,"2024-02-12","2023-01-31","2024-01-31","29256-44969",{"$f":"G1325-SUMIF(ESCALA!$B$14:$B$15,DADOS!K1325,ESCALA!$I$14:$I$15)","v":30}]
[29259,29259,"VERA LUCIA NASCIMENTO DOS SANTOS","COZINHEIRO (A)","CELETISTA","2023-01-01",30,"2024-01-01","2022-12-31","2023-12-31","29259-44927",{"$f":"G1326-SUMIF(ESCALA!$B$14:$B$15,DADOS!K1326,ESCALA!$I$14:$I$15)","v":30}]
[29268,29268,"SILVIA PINHEIRO DOS SANTOS RODRIGUES","COZINHEIRO (A)","ESTATUTARIO","2022-10-22",30,"2023-10-22","2022-10-31","2023-09-30","29268-44856",{"$f":"G1327-SUMIF(ESCALA!$B$14:$B$15,DADOS!K1327,ESCALA!$I$14:$I$15)","v":30}]
[29268,29268,"SILVIA PINHEIRO DOS SANTOS RODRIGUES","COZINHEIRO (A)","ESTATUTARIO","2023-10-22",30,"2024-10-22","2023-10-31","2024-09-30","29268-45221",{"$f":"G1328-SUMIF(ESCALA!$B$14:$B$15,DADOS!K1328,ESCALA!$I$14:$I$15)","v":30}]
[29269,29269,"ELISABETE CATARINA DE FREITAS MORATORI","PROFESSOR (A) DE EDUCACAO BASICA","CELETISTA","2023-01-01",30,"2024-01-01","2022-12-31","2023-12-31","29269-44927",{"$f":"G1329-SUMIF(ESCALA!$B$14:$B$15,DADOS!K1329,ESCALA!$I$14:$I$15)","v":30}]
[29283,29283,"MARIA LEITE DOS SANTOS PUGLIA","COZINHEIRO (A)","CELETISTA","2023-01-01",30,"2024-01-01","2022-12-31","2023-12-31","29283-44927",{"$f":"G1330-SUMIF(ESCALA!$B$14:$B$15,DADOS!K1330,ESCALA!$I$14:$I$15)","v":30}]
[29292,29292,"IVANILDE ALVES DA SILVA OMODEI","COZINHEIRO (A)","ESTATUTARIO","2022-12-31",30,"2023-12-31","2022-12-31","2023-11-30","29292-44926",{"$f":"G1331-SUMIF(ESCALA!$B$14:$B$15,DADOS!K1331,ESCALA!$I$14:$I$15)","v":30}]
[29292,29292,"IVANILDE ALVES DA SILVA OMODEI","COZINHEIRO (A)","ESTATUTARIO","2023-12-31",30,"2024-12-31","2023-12-31","2024-11-30","29292-45291",{"$f":"G1332-SUMIF(ESCALA!$B$14:$B$15,DADOS!K1332,ESCALA!$I$14:$I$15)","v":30}]
[29307,29307,"MARIA ANTONIA DA SILVA GOMES MARTINS","PROFESSOR (A) COORDENADOR (A)  PEDAGOGICO (A)","ESTATUTARIO","2023-01-01",30,"2024-01-01","2023-01-31","2023-12-31","29307-44927",{"$f":"G1333-SUMIF(ESCALA!$B$14:$B$15,DADOS!K1333,ESCALA!$I$14:$I$15)","v":30}]
[29332,29332,"MARCIA APARECIDA DE CARVALHO","COZINHEIRO (A)","ESTATUTARIO","2022-02-21",30,"2023-02-21","2022-02-28","2023-01-31","29332-44613",{"$f":"G1334-SUMIF(ESCALA!$B$14:$B$15,DADOS!K1334,ESCALA!$I$14:$I$15)","v":30}]
[29332,29332,"MARCIA APARECIDA DE CARVALHO","COZINHEIRO (A)","ESTATUTARIO","2023-02-21",30,"2024-02-21","2023-02-28","2024-01-31","29332-44978",{"$f":"G1335-SUMIF(ESCALA!$B$14:$B$15,DADOS!K1335,ESCALA!$I$14:$I$15)","v":30}]
[29338,29338,"FERNANDA PEREIRA DE CAMPOS LANZILLO","PROFESSOR (A) DE EDUCAÇÃO BÁSICA","ESTATUTARIO","2023-01-01",30,"2024-01-01","2023-01-31","2023-12-31","29338-44927",{"$f":"G1336-SUMIF(ESCALA!$B$14:$B$15,DADOS!K1336,ESCALA!$I$14:$I$15)","v":30}]
[29433,29433,"ELAINE BOVO TAVARES","PROFESSOR (A) DE EDUCACAO BASICA","ESTATUTARIO","2023-01-01",30,"2024-01-01","2023-01-31","2023-12-31","29433-44927",{"$f":"G1337-SUMIF(ESCALA!$B$14:$B$15,DADOS!K1337,ESCALA!$I$14:$I$15)","v":30}]
[29461,29461,"RILVA PINHEIRO DOS SANTOS","PROFESSOR (A) DE EDUCAÇÃO BASICA","CELETISTA","2022-09-04",30,"2023-09-04","2022-08-31","2023-08-31","29461-44808",{"$f":"G1338-SUMIF(ESCALA!$B$14:$B$15,DADOS!K1338,ESCALA!$I$14:$I$15)","v":30}]
[29461,29461,"RILVA PINHEIRO DOS SANTOS","PROFESSOR (A) DE EDUCAÇÃO BASICA","CELETISTA","2023-09-04",30,"2024-09-04","2023-08-31","2024-08-31","29461-45173",{"$f":"G1339-SUMIF(ESCALA!$B$14:$B$15,DADOS!K1339,ESCALA!$I$14:$I$15)","v":30}]
[29465,29465,"MARIA DA GLORIA PALHANO DOS SANTOS","VICE-DIRETOR (A) DE ESCOLA","CELETISTA","2023-01-01",30,"2024-01-01","2022-12-31","2023-12-31","29465-44927",{"$f":"G1340-SUMIF(ESCALA!$B$14:$B$15,DADOS!K1340,ESCALA!$I$14:$I$15)","v":30}]
[29471,29471,"MARIA APARECIDA NUNES SOUSA","PROFESSOR (A) DE EDUCAÇÃO BASICA","CELETISTA","2023-01-01",30,"2024-01-01","2022-12-31","2023-12-31","29471-44927",{"$f":"G1341-SUMIF(ESCALA!$B$14:$B$15,DADOS!K1341,ESCALA!$I$14:$I$15)","v":30}]
[29479,29479,"JAMILE CAVALCANTE JAUHAR SANTOS","COZINHEIRO (A)","ESTATUTARIO","2022-11-05",30,"2023-11-05","2022-11-30","2023-10-31","29479-44870",{"$f":"G1342-SUMIF(ESCALA!$B$14:$B$15,DADOS!K1342,ESCALA!$I$14:$I$15)","v":30}]
[29479,29479,"JAMILE CAVALCANTE JAUHAR SANTOS","COZINHEIRO (A)","ESTATUTARIO","2023-11-05",30,"2024-11-05","2023-11-30","2024-10-31","29479-45235",{"$f":"G1343-SUMIF(ESCALA!$B$14:$B$15,DADOS!K1343,ESCALA!$I$14:$I$15)","v":30}]
[29484,29484,"ELISETE ANISIA PALACIN DE JESUS","PROFESSOR (A) DE EDUCACAO BASICA","ESTATUTARIO","2023-01-01",30,"2024-01-01","2023-01-31","2023-12-31","29484-44927",{"$f":"G1344-SUMIF(ESCALA!$B$14:$B$15,DADOS!K1344,ESCALA!$I$14:$I$15)","v":30}]
[29487,29487,"DENISE BRISAC COELHO","COORDENADOR (A) DE PROGRAMAS EDUCACIONAIS","CELETISTA","2023-01-01",30,"2024-01-01","2022-12-31","2023-12-31","29487-44927",{"$f":"G1345-SUMIF(ESCALA!$B$14:$B$15,DADOS!K1345,ESCALA!$I$14:$I$15)","v":30}]
[29498,29498,"ANGELA MARIA DA SILVA","PROFESSOR (A) DE EDUCAÇÃO BÁSICA","ESTATUTARIO","2022-12-01",30,"2023-12-01","2022-12-31","2023-11-30","29498-44896",{"$f":"G1346-SUMIF(ESCALA!$B$14:$B$15,DADOS!K1346,ESCALA!$I$14:$I$15)","v":30}]
[{"$f":"IF(L1347=0,\"\",B1347)","v":29498},29498,"ANGELA MARIA DA SILVA","PROFESSOR (A) DE EDUCAÇÃO BÁSICA","ESTATUTARIO","2023-12-01",30,{"$f":"IF(F1347<=44985,F1347+365,F1347+366)","v":"2024-12-01"},"2023-12-31","2024-11-30",{"$f":"CONCATENATE(B1347,\"-\",F1347)","v":"29498-45261"},{"$f":"G1347-SUMIF(ESCALA!$B$14:$B$15,DADOS!K1347,ESCALA!$I$14:$I$15)","v":30}]
[29503,29503,"FARAILDES SOUTO DANTAS","PROFESSOR (A) DE EDUCAÇÃO BASICA","CELETISTA","2023-01-01",30,"2024-01-01",{"$f":"IF(E1348=\"ESTATUTARIO\",EOMONTH(F1348,0),EOMONTH(F1348,-1))","v":"2022-12-31"},{"$f":"EOMONTH(F1348,11)","v":"2023-12-31"},"29503-44927",{"$f":"G1348-SUMIF(ESCALA!$B$14:$B$15,DADOS!K1348,ESCALA!$I$14:$I$15)","v":30}]
[29512,29512,"EDINALVA ANTONIO ARAUJO SANTOS","PROFESSOR (A) DE EDUCACAO BASICA","CELETISTA","2023-01-01",30,"2024-01-01","2022-12-31","2023-12-31","29512-44927",{"$f":"G1349-SUMIF(ESCALA!$B$14:$B$15,DADOS!K1349,ESCALA!$I$14:$I$15)","v":30}]
[29513,29513,"SILENE GOBIS VASQUES MEIRA","PROFESSOR (A) DE EDUCAÇÃO BASICA","CELETISTA","2023-01-01",30,"2024-01-01","2022-12-31","2023-12-31","29513-44927",{"$f":"G1350-SUMIF(ESCALA!$B$14:$B$15,DADOS!K1350,ESCALA!$I$14:$I$15)","v":30}]
[29515,29515,"TATIANE REZENDE CORRAL","PROFESSOR (A) DE EDUCAÇÃO BÁSICA","ESTATUTARIO","2022-12-04",30,"2023-12-04","2022-12-31","2023-11-30","29515-44899",{"$f":"G1351-SUMIF(ESCALA!$B$14:$B$15,DADOS!K1351,ESCALA!$I$14:$I$15)","v":30}]
[29515,29515,"TATIANE REZENDE CORRAL","PROFESSOR (A) DE EDUCAÇÃO BÁSICA","ESTATUTARIO","2023-12-04",30,"2024-12-04","2023-12-31","2024-11-30","29515-45264",{"$f":"G1352-SUMIF(ESCALA!$B$14:$B$15,DADOS!K1352,ESCALA!$I$14:$I$15)","v":30}]
[29516,29516,"CINTIA LOPES CANOBRE DANIEL","PROFESSOR (A) DE EDUCAÇÃO BÁSICA","ESTATUTARIO","2023-01-01",30,"2024-01-01","2023-01-31","2023-12-31","29516-44927",{"$f":"G1353-SUMIF(ESCALA!$B$14:$B$15,DADOS!K1353,ESCALA!$I$14:$I$15)","v":30}]
[29519,29519,"FRANCISCA ALVES SILVA","PROFESSOR (A) DE EDUCAÇÃO BASICA","CELETISTA","2023-01-01",30,"2024-01-01","2022-12-31","2023-12-31","29519-44927",{"$f":"G1354-SUMIF(ESCALA!$B$14:$B$15,DADOS!K1354,ESCALA!$I$14:$I$15)","v":30}]
[29522,29522,"CRISTIANE APARECIDA SPINA","PROFESSOR (A) DE EDUCACAO BASICA","ESTATUTARIO","2023-01-01",30,"2024-01-01","2023-01-31","2023-12-31","29522-44927",{"$f":"G1355-SUMIF(ESCALA!$B$14:$B$15,DADOS!K1355,ESCALA!$I$14:$I$15)","v":30}]
[29523,29523,"ADRIANA MIGNONI BRUNO","PROFESSOR (A) DE EDUCAÇÃO BÁSICA","CELETISTA","2023-01-01",30,"2024-01-01","2022-12-31","2023-12-31","29523-44927",{"$f":"G1356-SUMIF(ESCALA!$B$14:$B$15,DADOS!K1356,ESCALA!$I$14:$I$15)","v":30}]
[29527,29527,"PATRICIA LOUZADA","PROFESSOR (A) DE EDUCACAO BASICA","ESTATUTARIO","2023-01-01",30,"2024-01-01","2023-01-31","2023-12-31","29527-44927",{"$f":"G1357-SUMIF(ESCALA!$B$14:$B$15,DADOS!K1357,ESCALA!$I$14:$I$15)","v":30}]
[29530,29530,"ANA PAULA CARDENA AZEVEDO MODESTO","PROFESSOR (A) DE EDUCACAO BASICA","ESTATUTARIO","2023-01-01",30,"2024-01-01","2023-01-31","2023-12-31","29530-44927",{"$f":"G1358-SUMIF(ESCALA!$B$14:$B$15,DADOS!K1358,ESCALA!$I$14:$I$15)","v":30}]
[29531,29531,"HELENA MARIA BARBOZA PECANHA","PROFESSOR (A) DE EDUCAÇÃO BASICA","CELETISTA","2022-04-24",30,"2023-04-24","2022-03-31","2023-03-31","29531-44675",{"$f":"G1359-SUMIF(ESCALA!$B$14:$B$15,DADOS!K1359,ESCALA!$I$14:$I$15)","v":30}]
[29531,29531,"HELENA MARIA BARBOZA PECANHA","PROFESSOR (A) DE EDUCAÇÃO BASICA","CELETISTA","2023-04-24",30,"2024-04-24","2023-03-31","2024-03-31","29531-45040",{"$f":"G1360-SUMIF(ESCALA!$B$14:$B$15,DADOS!K1360,ESCALA!$I$14:$I$15)","v":30}]
[29533,29533,"REGINA VANDERLEI","PROFESSOR (A) DE EDUCACAO BASICA","ESTATUTARIO","2023-01-01",30,"2024-01-01","2023-01-31","2023-12-31","29533-44927",{"$f":"G1361-SUMIF(ESCALA!$B$14:$B$15,DADOS!K1361,ESCALA!$I$14:$I$15)","v":30}]
[29540,29540,"SONIA SANTOS DA PAIXAO DE FREITAS","PROFESSOR (A) DE EDUCACAO BASICA","ESTATUTARIO","2023-01-01",30,"2024-01-01","2023-01-31","2023-12-31","29540-44927",{"$f":"G1362-SUMIF(ESCALA!$B$14:$B$15,DADOS!K1362,ESCALA!$I$14:$I$15)","v":30}]
[29543,29543,"CLENILCE SANTOS AZEVEDO","PROFESSOR (A) DE EDUCAÇÃO BASICA","CELETISTA","2023-01-01",30,"2024-01-01","2022-12-31","2023-12-31","29543-44927",{"$f":"G1363-SUMIF(ESCALA!$B$14:$B$15,DADOS!K1363,ESCALA!$I$14:$I$15)","v":30}]
[29546,29546,"SELMA RODRIGUES SANTANA","PROFESSOR (A) DE EDUCAÇÃO BASICA","CELETISTA","2023-01-01",30,"2024-01-01","2022-12-31","2023-12-31","29546-44927",{"$f":"G1364-SUMIF(ESCALA!$B$14:$B$15,DADOS!K1364,ESCALA!$I$14:$I$15)","v":30}]
[29548,29548,"GICELE APARECIDA QUEIROZ BOTELHOS","PROFESSOR (A) DE EDUCACAO BASICA","ESTATUTARIO","2023-01-01",30,"2024-01-01","2023-01-31","2023-12-31","29548-44927",{"$f":"G1365-SUMIF(ESCALA!$B$14:$B$15,DADOS!K1365,ESCALA!$I$14:$I$15)","v":30}]
[29553,29553,"ANA PAULA RODRIGUES","PROFESSOR (A) COORDENADOR (A)  PEDAGOGICO (A)","ESTATUTARIO","2023-01-01",30,"2024-01-01","2023-01-31","2023-12-31","29553-44927",{"$f":"G1366-SUMIF(ESCALA!$B$14:$B$15,DADOS!K1366,ESCALA!$I$14:$I$15)","v":30}]
[29558,29558,"REGINA APARECIDA NEVES DA SILVA","PROFESSOR (A) DE EDUCACAO BASICA","ESTATUTARIO","2023-01-01",30,"2024-01-01","2023-01-31","2023-12-31","29558-44927",{"$f":"G1367-SUMIF(ESCALA!$B$14:$B$15,DADOS!K1367,ESCALA!$I$14:$I$15)","v":30}]
[29561,29561,"NEIDE COCA COSTA DE SOUZA","PROFESSOR (A) DE EDUCAÇÃO BASICA","CELETISTA","2023-01-01",30,"2024-01-01","2022-12-31","2023-12-31","29561-44927",{"$f":"G1368-SUMIF(ESCALA!$B$14:$B$15,DADOS!K1368,ESCALA!$I$14:$I$15)","v":30}]
[29564,29564,"ROSANGELA DE PAULA VASCO","PROFESSOR (A) DE EDUCACAO BASICA","ESTATUTARIO","2023-01-01",30,"2024-01-01","2023-01-31","2023-12-31","29564-44927",{"$f":"G1369-SUMIF(ESCALA!$B$14:$B$15,DADOS!K1369,ESCALA!$I$14:$I$15)","v":30}]
[29569,29569,"PATRICIA RIBEIRO DA SILVA DE ALENCAR","PROFESSOR (A) DE EDUCACAO BASICA","ESTATUTARIO","2023-01-01",30,"2024-01-01","2023-01-31","2023-12-31","29569-44927",{"$f":"G1370-SUMIF(ESCALA!$B$14:$B$15,DADOS!K1370,ESCALA!$I$14:$I$15)","v":30}]
[29572,29572,"MARIA DE LOURDES DA SILVA","PROFESSOR (A) DE EDUCACAO BASICA","CELETISTA","2023-01-01",30,"2024-01-01","2022-12-31","2023-12-31","29572-44927",{"$f":"G1371-SUMIF(ESCALA!$B$14:$B$15,DADOS!K1371,ESCALA!$I$14:$I$15)","v":30}]
[29576,29576,"LEONOR DA SILVA ARAUJO ","PROFESSOR (A) DE EDUCACAO BASICA","ESTATUTARIO","2022-02-02",30,"2023-02-02","2022-02-28","2023-01-31","29576-44594",{"$f":"G1372-SUMIF(ESCALA!$B$14:$B$15,DADOS!K1372,ESCALA!$I$14:$I$15)","v":30}]
[29576,29576,"LEONOR DA SILVA ARAUJO ","PROFESSOR (A) DE EDUCACAO BASICA","ESTATUTARIO","2023-02-02",30,"2024-02-02","2023-02-28","2024-01-31","29576-44959",{"$f":"G1373-SUMIF(ESCALA!$B$14:$B$15,DADOS!K1373,ESCALA!$I$14:$I$15)","v":30}]
[29577,29577,"JANAINA GOVERTZ LIMA","PROFESSOR (A) DE EDUCACAO BASICA","ESTATUTARIO","2023-01-01",30,"2024-01-01","2023-01-31","2023-12-31","29577-44927",{"$f":"G1374-SUMIF(ESCALA!$B$14:$B$15,DADOS!K1374,ESCALA!$I$14:$I$15)","v":30}]
[29580,29580,"JANETE DOS SANTOS SOUZA","PROFESSOR (A) DE EDUCACAO BASICA","ESTATUTARIO","2023-01-01",30,"2024-01-01","2023-01-31","2023-12-31","29580-44927",{"$f":"G1375-SUMIF(ESCALA!$B$14:$B$15,DADOS!K1375,ESCALA!$I$14:$I$15)","v":30}]
[29584,29584,"LEIDE MARA SALES ROSSI GOULART","PROFESSOR (A) DE EDUCACAO BASICA","ESTATUTARIO","2023-01-01",30,"2024-01-01","2023-01-31","2023-12-31","29584-44927",{"$f":"G1376-SUMIF(ESCALA!$B$14:$B$15,DADOS!K1376,ESCALA!$I$14:$I$15)","v":30}]
[29585,29585,"SORAYA KELLY OTHERO","PROFESSOR (A) DE EDUCACAO BASICA","CELETISTA","2023-01-01",30,"2024-01-01","2022-12-31","2023-12-31","29585-44927",{"$f":"G1377-SUMIF(ESCALA!$B$14:$B$15,DADOS!K1377,ESCALA!$I$14:$I$15)","v":30}]
[29586,29586,"TEREZA REGINA CIRINO","PROFESSOR (A) DE EDUCAÇÃO BASICA","CELETISTA","2023-01-01",30,"2024-01-01","2022-12-31","2023-12-31","29586-44927",{"$f":"G1378-SUMIF(ESCALA!$B$14:$B$15,DADOS!K1378,ESCALA!$I$14:$I$15)","v":30}]
[29589,29589,"ANALI DE CASSIA CREMON OLIVEIRA","PROFESSOR (A) DE EDUCACAO BASICA","CELETISTA","2023-01-01",30,"2024-01-01","2022-12-31","2023-12-31","29589-44927",{"$f":"G1379-SUMIF(ESCALA!$B$14:$B$15,DADOS!K1379,ESCALA!$I$14:$I$15)","v":30}]
[29590,29590,"MARIA APARECIDA BEZERRA DA SILVA","PROFESSOR (A) DE EDUCACAO BASICA","ESTATUTARIO","2023-01-01",30,"2024-01-01","2023-01-31","2023-12-31","29590-44927",{"$f":"G1380-SUMIF(ESCALA!$B$14:$B$15,DADOS!K1380,ESCALA!$I$14:$I$15)","v":30}]
[29591,29591,"IVONE MARIA PINHEIRO DE OLIVEIRA VIEIRA","PROFESSOR (A) DE EDUCACAO BASICA","CELETISTA","2023-01-01",30,"2024-01-01","2022-12-31","2023-12-31","29591-44927",{"$f":"G1381-SUMIF(ESCALA!$B$14:$B$15,DADOS!K1381,ESCALA!$I$14:$I$15)","v":30}]
[29594,29594,"LUCIANA FERREIRA DOS SANTOS TORTORELLA","PROFESSOR (A) DE EDUCACAO BASICA","ESTATUTARIO","2023-01-01",30,"2024-01-01","2023-01-31","2023-12-31","29594-44927",{"$f":"G1382-SUMIF(ESCALA!$B$14:$B$15,DADOS!K1382,ESCALA!$I$14:$I$15)","v":30}]
[29597,29597,"ROBERTA MANTOVANINI VERCOSA LIMA","PROFESSOR (A) DE EDUCAÇÃO BÁSICA","ESTATUTARIO","2023-01-01",30,"2024-01-01","2023-01-31","2023-12-31","29597-44927",{"$f":"G1383-SUMIF(ESCALA!$B$14:$B$15,DADOS!K1383,ESCALA!$I$14:$I$15)","v":30}]
[29598,29598,"GISLAINE MARTINS ALVES","PROFESSOR (A) DE EDUCAÇÃO BÁSICA","ESTATUTARIO","2023-01-01",30,"2024-01-01","2023-01-31","2023-12-31","29598-44927",{"$f":"G1384-SUMIF(ESCALA!$B$14:$B$15,DADOS!K1384,ESCALA!$I$14:$I$15)","v":30}]
[29600,29600,"FRANCISCA ALVES DE LIMA","PROFESSOR (A) DE EDUCAÇÃO BASICA","CELETISTA","2023-01-01",30,"2024-01-01","2022-12-31","2023-12-31","29600-44927",{"$f":"G1385-SUMIF(ESCALA!$B$14:$B$15,DADOS!K1385,ESCALA!$I$14:$I$15)","v":30}]
[29605,29605,"VERA LUCIA DO CARMO","PROFESSOR (A) DE EDUCAÇÃO BASICA","CELETISTA","2023-01-01",30,"2024-01-01","2022-12-31","2023-12-31","29605-44927",{"$f":"G1386-SUMIF(ESCALA!$B$14:$B$15,DADOS!K1386,ESCALA!$I$14:$I$15)","v":30}]
[29610,29610,"VALERIA BUENO BATISTA","PROFESSOR (A) DE EDUCACAO BASICA","ESTATUTARIO","2023-01-01",30,"2024-01-01","2023-01-31","2023-12-31","29610-44927",{"$f":"G1387-SUMIF(ESCALA!$B$14:$B$15,DADOS!K1387,ESCALA!$I$14:$I$15)","v":30}]
[29611,29611,"EVELYN FIGUEIRA DE CARVALHO","PROFESSOR (A) DE EDUCAÇÃO BÁSICA","ESTATUTARIO","2022-10-07",30,"2023-10-07","2022-10-31","2023-09-30","29611-44841",{"$f":"G1388-SUMIF(ESCALA!$B$14:$B$15,DADOS!K1388,ESCALA!$I$14:$I$15)","v":30}]
[29611,29611,"EVELYN FIGUEIRA DE CARVALHO","PROFESSOR (A) DE EDUCAÇÃO BÁSICA","ESTATUTARIO","2023-10-07",30,"2024-10-07","2023-10-31","2024-09-30","29611-45206",{"$f":"G1389-SUMIF(ESCALA!$B$14:$B$15,DADOS!K1389,ESCALA!$I$14:$I$15)","v":30}]
[29612,29612,"ELIANE ELISA DA SILVA","COORDENADOR (A) DE PROGRAMAS EDUCACIONAIS","ESTATUTARIO","2022-11-25",30,"2023-11-25","2022-11-30","2023-10-31","29612-44890",{"$f":"G1390-SUMIF(ESCALA!$B$14:$B$15,DADOS!K1390,ESCALA!$I$14:$I$15)","v":30}]
[29612,29612,"ELIANE ELISA DA SILVA","COORDENADOR (A) DE PROGRAMAS EDUCACIONAIS","ESTATUTARIO","2023-11-25",30,"2024-11-25","2023-11-30","2024-10-31","29612-45255",{"$f":"G1391-SUMIF(ESCALA!$B$14:$B$15,DADOS!K1391,ESCALA!$I$14:$I$15)","v":30}]
[29618,29618,"ALESSANDRA BARBOSA RODRIGUES","PROFESSOR (A) COORDENADOR (A)  PEDAGOGICO (A)","ESTATUTARIO","2023-01-01",30,"2024-01-01","2023-01-31","2023-12-31","29618-44927",{"$f":"G1392-SUMIF(ESCALA!$B$14:$B$15,DADOS!K1392,ESCALA!$I$14:$I$15)","v":30}]
[29619,29619,"RUTE ARAUJO DE OLIVEIRA CHAGAS","PROFESSOR (A) DE EDUCACAO BASICA","ESTATUTARIO","2023-01-01",30,"2024-01-01","2023-01-31","2023-12-31","29619-44927",{"$f":"G1393-SUMIF(ESCALA!$B$14:$B$15,DADOS!K1393,ESCALA!$I$14:$I$15)","v":30}]
[29620,29620,"DANIELA MARIA ESPOSITO","PROFESSOR (A) DE EDUCACAO BASICA","ESTATUTARIO","2022-04-24",30,"2023-04-24","2022-04-30","2023-03-31","29620-44675",{"$f":"G1394-SUMIF(ESCALA!$B$14:$B$15,DADOS!K1394,ESCALA!$I$14:$I$15)","v":30}]
[29620,29620,"DANIELA MARIA ESPOSITO","PROFESSOR (A) DE EDUCACAO BASICA","ESTATUTARIO","2023-04-24",30,"2024-04-24","2023-04-30","2024-03-31","29620-45040",{"$f":"G1395-SUMIF(ESCALA!$B$14:$B$15,DADOS!K1395,ESCALA!$I$14:$I$15)","v":30}]
[29628,29628,"LUCIANA HELENA RADESCA","PROFESSOR (A) DE EDUCAÇÃO BÁSICA","ESTATUTARIO","2023-01-01",30,"2024-01-01","2023-01-31","2023-12-31","29628-44927",{"$f":"G1396-SUMIF(ESCALA!$B$14:$B$15,DADOS!K1396,ESCALA!$I$14:$I$15)","v":30}]
[29631,29631,"DEBORA CAVAGNA MENDONCA","PROFESSOR (A) DE EDUCACAO BASICA","ESTATUTARIO","2023-01-01",30,"2024-01-01","2023-01-31","2023-12-31","29631-44927",{"$f":"G1397-SUMIF(ESCALA!$B$14:$B$15,DADOS!K1397,ESCALA!$I$14:$I$15)","v":30}]
[29634,29634,"LUCIANA GIANDELI MALECKA","DIRETOR (A) DE ESCOLA","ESTATUTARIO","2023-01-01",30,"2024-01-01","2023-01-31","2023-12-31","29634-44927",{"$f":"G1398-SUMIF(ESCALA!$B$14:$B$15,DADOS!K1398,ESCALA!$I$14:$I$15)","v":30}]
[29635,29635,"ANDREIA MARIA VIEIRA","PROFESSOR (A) DE EDUCACAO BASICA","ESTATUTARIO","2023-01-01",30,"2024-01-01","2023-01-31","2023-12-31","29635-44927",{"$f":"G1399-SUMIF(ESCALA!$B$14:$B$15,DADOS!K1399,ESCALA!$I$14:$I$15)","v":30}]
[29637,29637,"SILVANA BACURAU","PROFESSOR (A) DE EDUCACAO BASICA","ESTATUTARIO","2022-09-30",30,"2023-09-30","2022-09-30","2023-08-31","29637-44834",{"$f":"G1400-SUMIF(ESCALA!$B$14:$B$15,DADOS!K1400,ESCALA!$I$14:$I$15)","v":30}]
[29637,29637,"SILVANA BACURAU","PROFESSOR (A) DE EDUCACAO BASICA","ESTATUTARIO","2023-09-30",30,"2024-09-30","2023-09-30","2024-08-31","29637-45199",{"$f":"G1401-SUMIF(ESCALA!$B$14:$B$15,DADOS!K1401,ESCALA!$I$14:$I$15)","v":30}]
[29638,29638,"SILVIA LEA MIRANDA VILLEGAS","PROFESSOR (A) DE EDUCACAO BASICA","ESTATUTARIO","2023-01-01",30,"2024-01-01","2023-01-31","2023-12-31","29638-44927",{"$f":"G1402-SUMIF(ESCALA!$B$14:$B$15,DADOS!K1402,ESCALA!$I$14:$I$15)","v":30}]
[29641,29641,"MARIA APARECIDA DE FARIAS","PROFESSOR (A) DE EDUCAÇÃO BASICA","CELETISTA","2023-01-01",30,"2024-01-01","2022-12-31","2023-12-31","29641-44927",{"$f":"G1403-SUMIF(ESCALA!$B$14:$B$15,DADOS!K1403,ESCALA!$I$14:$I$15)","v":30}]
[29644,29644,"NEDICEIA DE SOUZA SANTOS OLIVEIRA","VICE-DIRETOR (A) DE ESCOLA","ESTATUTARIO","2023-01-01",30,"2024-01-01","2023-01-31","2023-12-31","29644-44927",{"$f":"G1404-SUMIF(ESCALA!$B$14:$B$15,DADOS!K1404,ESCALA!$I$14:$I$15)","v":30}]
[29647,29647,"ENEDINA AFONSO MENDES","PROFESSOR (A) DE EDUCACAO BASICA","ESTATUTARIO","2023-01-01",30,"2024-01-01","2023-01-31","2023-12-31","29647-44927",{"$f":"G1405-SUMIF(ESCALA!$B$14:$B$15,DADOS!K1405,ESCALA!$I$14:$I$15)","v":30}]
[29651,29651,"MARCIA RODRIGUES FERREIRA","PROFESSOR (A) DE EDUCAÇÃO BÁSICA","ESTATUTARIO","2023-01-01",30,"2024-01-01","2023-01-31","2023-12-31","29651-44927",{"$f":"G1406-SUMIF(ESCALA!$B$14:$B$15,DADOS!K1406,ESCALA!$I$14:$I$15)","v":30}]
[29654,29654,"GISLAINE MAGALHAES RODRIGUES","PROFESSOR (A) DE EDUCACAO BASICA","ESTATUTARIO","2023-01-01",30,"2024-01-01","2023-01-31","2023-12-31","29654-44927",{"$f":"G1407-SUMIF(ESCALA!$B$14:$B$15,DADOS!K1407,ESCALA!$I$14:$I$15)","v":30}]
[29656,29656,"ALESSANDRA BIZACO","PROFESSOR (A) DE EDUCACAO BASICA","ESTATUTARIO","2023-01-01",30,"2024-01-01","2023-01-31","2023-12-31","29656-44927",{"$f":"G1408-SUMIF(ESCALA!$B$14:$B$15,DADOS!K1408,ESCALA!$I$14:$I$15)","v":30}]
[29657,29657,"ROSEMEIRE DO NASCIMENTO LOPES ","PROFESSOR (A) DE EDUCACAO BASICA","ESTATUTARIO","2023-01-01",30,"2024-01-01","2023-01-31","2023-12-31","29657-44927",{"$f":"G1409-SUMIF(ESCALA!$B$14:$B$15,DADOS!K1409,ESCALA!$I$14:$I$15)","v":30}]
[29662,29662,"SUELI VITALE SILVEIRA","PROFESSOR (A) DE EDUCACAO BASICA","ESTATUTARIO","2023-01-01",30,"2024-01-01","2023-01-31","2023-12-31","29662-44927",{"$f":"G1410-SUMIF(ESCALA!$B$14:$B$15,DADOS!K1410,ESCALA!$I$14:$I$15)","v":30}]
[{"$f":"IF(L1411=0,\"\",B1411)","v":29664},29664,"CINTIA TEIXEIRA DE LIMA","PROFESSOR (A) DE EDUCAÇÃO BASICA","CELETISTA","2023-01-01",18,{"$f":"IF(F1411<=44985,F1411+365,F1411+366)","v":"2024-01-01"},"2022-12-31","2023-12-31",{"$f":"CONCATENATE(B1411,\"-\",F1411)","v":"29664-44927"},{"$f":"G1411-SUMIF(ESCALA!$B$14:$B$15,DADOS!K1411,ESCALA!$I$14:$I$15)","v":18}]
[29665,29665,"ELISANGELA DE SOUZA MELO","PROFESSOR (A) DE EDUCACAO BASICA","ESTATUTARIO","2023-01-01",30,"2024-01-01",{"$f":"IF(E1412=\"ESTATUTARIO\",EOMONTH(F1412,0),EOMONTH(F1412,-1))","v":"2023-01-31"},{"$f":"EOMONTH(F1412,11)","v":"2023-12-31"},"29665-44927",{"$f":"G1412-SUMIF(ESCALA!$B$14:$B$15,DADOS!K1412,ESCALA!$I$14:$I$15)","v":30}]
[29671,29671,"CATIA REGINA FERREIRA DE ANDRADE","PROFESSOR (A) DE EDUCACAO BASICA","ESTATUTARIO","2023-01-01",30,"2024-01-01","2023-01-31","2023-12-31","29671-44927",{"$f":"G1413-SUMIF(ESCALA!$B$14:$B$15,DADOS!K1413,ESCALA!$I$14:$I$15)","v":30}]
[29673,29673,"APARECIDA ARCARO CUNHA","PROFESSOR (A) DE EDUCAÇÃO BÁSICA","CELETISTA","2022-09-18",30,"2023-09-18","2022-08-31","2023-08-31","29673-44822",{"$f":"G1414-SUMIF(ESCALA!$B$14:$B$15,DADOS!K1414,ESCALA!$I$14:$I$15)","v":30}]
[29673,29673,"APARECIDA ARCARO CUNHA","PROFESSOR (A) DE EDUCAÇÃO BÁSICA","CELETISTA","2023-09-18",30,"2024-09-18","2023-08-31","2024-08-31","29673-45187",{"$f":"G1415-SUMIF(ESCALA!$B$14:$B$15,DADOS!K1415,ESCALA!$I$14:$I$15)","v":30}]
[29674,29674,"SUELY APARECIDA PEREZ GUASTALLE","PROFESSOR (A) COORDENADOR (A)  PEDAGOGICO (A)","ESTATUTARIO","2023-01-01",30,"2024-01-01","2023-01-31","2023-12-31","29674-44927",{"$f":"G1416-SUMIF(ESCALA!$B$14:$B$15,DADOS!K1416,ESCALA!$I$14:$I$15)","v":30}]
[29675,29675,"DELCA MARIA DOS SANTOS","PROFESSOR (A) COORDENADOR (A)  PEDAGOGICO (A)","CELETISTA","2023-01-01",30,"2024-01-01","2022-12-31","2023-12-31","29675-44927",{"$f":"G1417-SUMIF(ESCALA!$B$14:$B$15,DADOS!K1417,ESCALA!$I$14:$I$15)","v":30}]
[29676,29676,"MARIA DE LOURDES DA SILVA BORNATO","PROFESSOR (A) DE EDUCAÇÃO BASICA","CELETISTA","2023-01-01",30,"2024-01-01","2022-12-31","2023-12-31","29676-44927",{"$f":"G1418-SUMIF(ESCALA!$B$14:$B$15,DADOS!K1418,ESCALA!$I$14:$I$15)","v":30}]
[29680,29680,"IARA DE FREITAS","PROFESSOR (A) DE EDUCACAO BASICA","CELETISTA","2023-01-01",30,"2024-01-01","2022-12-31","2023-12-31","29680-44927",{"$f":"G1419-SUMIF(ESCALA!$B$14:$B$15,DADOS!K1419,ESCALA!$I$14:$I$15)","v":30}]
[29681,29681,"ROBERTA BALAN LUZIO","PROFESSOR (A) DE EDUCACAO BASICA","ESTATUTARIO","2023-01-01",30,"2024-01-01","2023-01-31","2023-12-31","29681-44927",{"$f":"G1420-SUMIF(ESCALA!$B$14:$B$15,DADOS!K1420,ESCALA!$I$14:$I$15)","v":30}]
[29682,29682,"ROSICLEIA RODRIGUES DA SILVA","PROFESSOR (A) DE EDUCACAO BASICA","ESTATUTARIO","2023-01-01",30,"2024-01-01","2023-01-31","2023-12-31","29682-44927",{"$f":"G1421-SUMIF(ESCALA!$B$14:$B$15,DADOS!K1421,ESCALA!$I$14:$I$15)","v":30}]
[29684,29684,"DENISE LOPES","COORDENADOR (A) DE PROGRAMAS EDUCACIONAIS","ESTATUTARIO","2022-03-17",20,"2023-03-17","2022-03-31","2023-02-28","29684-44637",{"$f":"G1422-SUMIF(ESCALA!$B$14:$B$15,DADOS!K1422,ESCALA!$I$14:$I$15)","v":20}]
[29684,29684,"DENISE LOPES","COORDENADOR (A) DE PROGRAMAS EDUCACIONAIS","ESTATUTARIO","2023-03-17",30,"2024-03-17","2023-03-31","2024-02-29","29684-45002",{"$f":"G1423-SUMIF(ESCALA!$B$14:$B$15,DADOS!K1423,ESCALA!$I$14:$I$15)","v":30}]
[29687,29687,"ROSANGELA RODRIGUES CAMARGO","PROFESSOR (A) DE EDUCACAO BASICA","ESTATUTARIO","2023-01-01",30,"2024-01-01","2023-01-31","2023-12-31","29687-44927",{"$f":"G1424-SUMIF(ESCALA!$B$14:$B$15,DADOS!K1424,ESCALA!$I$14:$I$15)","v":30}]
[29688,29688,"IVONEIDE ALVES DE ASSIS DA SILVA","PROFESSOR (A) DE EDUCAÇÃO BÁSICA","ESTATUTARIO","2023-01-01",30,"2024-01-01","2023-01-31","2023-12-31","29688-44927",{"$f":"G1425-SUMIF(ESCALA!$B$14:$B$15,DADOS!K1425,ESCALA!$I$14:$I$15)","v":30}]
[29696,29696,"ROSANA DE LOURDES MARQUES","PROFESSOR (A) DE EDUCACAO BASICA","ESTATUTARIO","2023-01-01",30,"2024-01-01","2023-01-31","2023-12-31","29696-44927",{"$f":"G1426-SUMIF(ESCALA!$B$14:$B$15,DADOS!K1426,ESCALA!$I$14:$I$15)","v":30}]
[29700,29700,"MONICA PINHEIRO","DIRETOR (A) DE ESCOLA","ESTATUTARIO","2023-01-01",30,"2024-01-01","2023-01-31","2023-12-31","29700-44927",{"$f":"G1427-SUMIF(ESCALA!$B$14:$B$15,DADOS!K1427,ESCALA!$I$14:$I$15)","v":30}]
[29701,29701,"EDNEI AFONSO MENDES DE SOUZA","PROFESSOR (A) DE EDUCACAO BASICA","ESTATUTARIO","2023-01-01",30,"2024-01-01","2023-01-31","2023-12-31","29701-44927",{"$f":"G1428-SUMIF(ESCALA!$B$14:$B$15,DADOS!K1428,ESCALA!$I$14:$I$15)","v":30}]
[29705,29705,"VANIA GONCALVES DE OLIVEIRA","PROFESSOR (A) COORDENADOR (A)  PEDAGOGICO (A)","ESTATUTARIO","2023-01-01",30,"2024-01-01","2023-01-31","2023-12-31","29705-44927",{"$f":"G1429-SUMIF(ESCALA!$B$14:$B$15,DADOS!K1429,ESCALA!$I$14:$I$15)","v":30}]
[29706,29706,"NERY NICE OSMONDES TRAVASSOS","PROFESSOR (A) DE EDUCACAO BASICA","ESTATUTARIO","2023-01-01",30,"2024-01-01","2023-01-31","2023-12-31","29706-44927",{"$f":"G1430-SUMIF(ESCALA!$B$14:$B$15,DADOS!K1430,ESCALA!$I$14:$I$15)","v":30}]
[29707,29707,"ANDREIA SANTOS OLIVEIRA ROMAO","PROFESSOR (A) DE EDUCACAO BASICA","ESTATUTARIO","2023-01-01",30,"2024-01-01","2023-01-31","2023-12-31","29707-44927",{"$f":"G1431-SUMIF(ESCALA!$B$14:$B$15,DADOS!K1431,ESCALA!$I$14:$I$15)","v":30}]
[29708,29708,"SONIA MARIA DE MORAIS SOARES SANTOS","PROFESSOR (A) DE EDUCACAO BASICA","CELETISTA","2023-01-01",30,"2024-01-01","2022-12-31","2023-12-31","29708-44927",{"$f":"G1432-SUMIF(ESCALA!$B$14:$B$15,DADOS!K1432,ESCALA!$I$14:$I$15)","v":30}]
[29710,29710,"LUZIMARE DA SILVA ARAUJO","PROFESSOR (A) DE EDUCAÇÃO BÁSICA","ESTATUTARIO","2023-01-01",30,"2024-01-01","2023-01-31","2023-12-31","29710-44927",{"$f":"G1433-SUMIF(ESCALA!$B$14:$B$15,DADOS!K1433,ESCALA!$I$14:$I$15)","v":30}]
[29714,29714,"CICERA APARECIDA PAULINO MASCARENHAS","PROFESSOR (A) DE EDUCAÇÃO BASICA","CELETISTA","2022-04-04",30,"2023-04-04","2022-03-31","2023-03-31","29714-44655",{"$f":"G1434-SUMIF(ESCALA!$B$14:$B$15,DADOS!K1434,ESCALA!$I$14:$I$15)","v":30}]
[29714,29714,"CICERA APARECIDA PAULINO MASCARENHAS","PROFESSOR (A) DE EDUCAÇÃO BASICA","CELETISTA","2023-04-04",30,"2024-04-04","2023-03-31","2024-03-31","29714-45020",{"$f":"G1435-SUMIF(ESCALA!$B$14:$B$15,DADOS!K1435,ESCALA!$I$14:$I$15)","v":30}]
[29715,29715,"SOLANGE SOARES DE BRITO","PROFESSOR (A) DE EDUCACAO BASICA","ESTATUTARIO","2023-01-01",30,"2024-01-01","2023-01-31","2023-12-31","29715-44927",{"$f":"G1436-SUMIF(ESCALA!$B$14:$B$15,DADOS!K1436,ESCALA!$I$14:$I$15)","v":30}]
[29716,29716,"CRISTIANE APARECIDA CAVALHEIRO MORATORIO","PROFESSOR (A) DE EDUCAÇÃO BÁSICA","ESTATUTARIO","2022-12-31",30,"2023-12-31","2022-12-31","2023-11-30","29716-44926",{"$f":"G1437-SUMIF(ESCALA!$B$14:$B$15,DADOS!K1437,ESCALA!$I$14:$I$15)","v":30}]
[29716,29716,"CRISTIANE APARECIDA CAVALHEIRO MORATORIO","PROFESSOR (A) DE EDUCAÇÃO BÁSICA","ESTATUTARIO","2023-12-31",30,"2024-12-31","2023-12-31","2024-11-30","29716-45291",{"$f":"G1438-SUMIF(ESCALA!$B$14:$B$15,DADOS!K1438,ESCALA!$I$14:$I$15)","v":30}]
[29719,29719,"NOEMI DA SILVA NASCIMENTO","PROFESSOR (A) DE EDUCACAO BASICA","CELETISTA","2023-01-01",30,"2024-01-01","2022-12-31","2023-12-31","29719-44927",{"$f":"G1439-SUMIF(ESCALA!$B$14:$B$15,DADOS!K1439,ESCALA!$I$14:$I$15)","v":30}]
[29720,29720,"TELMA AMARAL DUARTE","PROFESSOR (A) DE EDUCAÇÃO BASICA","CELETISTA","2023-01-01",30,"2024-01-01","2022-12-31","2023-12-31","29720-44927",{"$f":"G1440-SUMIF(ESCALA!$B$14:$B$15,DADOS!K1440,ESCALA!$I$14:$I$15)","v":30}]
[29722,29722,"MARIA SILEIDE MATIAS DOS SANTOS","PROFESSOR (A) DE EDUCAÇÃO BASICA","CELETISTA","2022-12-14",30,"2023-12-14","2022-11-30","2023-11-30","29722-44909",{"$f":"G1441-SUMIF(ESCALA!$B$14:$B$15,DADOS!K1441,ESCALA!$I$14:$I$15)","v":30}]
[29722,29722,"MARIA SILEIDE MATIAS DOS SANTOS","PROFESSOR (A) DE EDUCAÇÃO BASICA","CELETISTA","2023-12-14",30,"2024-12-14","2023-11-30","2024-11-30","29722-45274",{"$f":"G1442-SUMIF(ESCALA!$B$14:$B$15,DADOS!K1442,ESCALA!$I$14:$I$15)","v":30}]
[29726,29726,"ALINE RIBEIRO SANTOS","PROFESSOR (A) DE EDUCAÇÃO BASICA","CELETISTA","2023-01-01",30,"2024-01-01","2022-12-31","2023-12-31","29726-44927",{"$f":"G1443-SUMIF(ESCALA!$B$14:$B$15,DADOS!K1443,ESCALA!$I$14:$I$15)","v":30}]
[29727,29727,"ANGELICA JEROMIN OLIVEIRA","PROFESSOR (A) DE EDUCACAO BASICA","ESTATUTARIO","2022-12-06",30,"2023-12-06","2022-12-31","2023-11-30","29727-44901",{"$f":"G1444-SUMIF(ESCALA!$B$14:$B$15,DADOS!K1444,ESCALA!$I$14:$I$15)","v":30}]
[29727,29727,"ANGELICA JEROMIN OLIVEIRA","PROFESSOR (A) DE EDUCACAO BASICA","ESTATUTARIO","2023-12-06",30,"2024-12-06","2023-12-31","2024-11-30","29727-45266",{"$f":"G1445-SUMIF(ESCALA!$B$14:$B$15,DADOS!K1445,ESCALA!$I$14:$I$15)","v":30}]
[29730,29730,"MARCILENE DE JESUS ELVIRA ","COORDENADOR (A) DE PROGRAMAS EDUCACIONAIS","ESTATUTARIO","2023-01-01",30,"2024-01-01","2023-01-31","2023-12-31","29730-44927",{"$f":"G1446-SUMIF(ESCALA!$B$14:$B$15,DADOS!K1446,ESCALA!$I$14:$I$15)","v":30}]
[29734,29734,"MARLENE BENEDITO","PROFESSOR (A) DE EDUCAÇÃO BASICA","CELETISTA","2022-12-31",30,"2023-12-31","2022-11-30","2023-11-30","29734-44926",{"$f":"G1447-SUMIF(ESCALA!$B$14:$B$15,DADOS!K1447,ESCALA!$I$14:$I$15)","v":30}]
[29734,29734,"MARLENE BENEDITO","PROFESSOR (A) DE EDUCAÇÃO BASICA","CELETISTA","2023-12-31",30,"2024-12-31","2023-11-30","2024-11-30","29734-45291",{"$f":"G1448-SUMIF(ESCALA!$B$14:$B$15,DADOS!K1448,ESCALA!$I$14:$I$15)","v":30}]
[29736,29736,"LUCIMARY SOARES FERREIRA","PROFESSOR (A) DE EDUCAÇÃO BÁSICA","ESTATUTARIO","2023-01-01",30,"2024-01-01","2023-01-31","2023-12-31","29736-44927",{"$f":"G1449-SUMIF(ESCALA!$B$14:$B$15,DADOS!K1449,ESCALA!$I$14:$I$15)","v":30}]
[29739,29739,"RENATA LIMA DE MORAES","PROFESSOR (A) DE EDUCACAO BASICA","ESTATUTARIO","2023-01-01",30,"2024-01-01","2023-01-31","2023-12-31","29739-44927",{"$f":"G1450-SUMIF(ESCALA!$B$14:$B$15,DADOS!K1450,ESCALA!$I$14:$I$15)","v":30}]
[29741,29741,"LUCIANA GRANATO FERNANDES ZAMBOTTI","PROFESSOR (A) DE EDUCACAO BASICA","ESTATUTARIO","2023-01-03",30,"2024-01-03","2023-01-31","2023-12-31","29741-44929",{"$f":"G1451-SUMIF(ESCALA!$B$14:$B$15,DADOS!K1451,ESCALA!$I$14:$I$15)","v":30}]
[29761,29761,"MARINA FATIMA DOS SANTOS","COZINHEIRO (A)","ESTATUTARIO","2022-05-18",30,"2023-05-18","2022-05-31","2023-04-30","29761-44699",{"$f":"G1452-SUMIF(ESCALA!$B$14:$B$15,DADOS!K1452,ESCALA!$I$14:$I$15)","v":30}]
[29761,29761,"MARINA FATIMA DOS SANTOS","COZINHEIRO (A)","ESTATUTARIO","2023-05-18",30,"2024-05-18","2023-05-31","2024-04-30","29761-45064",{"$f":"G1453-SUMIF(ESCALA!$B$14:$B$15,DADOS!K1453,ESCALA!$I$14:$I$15)","v":30}]
[29762,29762,"VALDIRENE DE JESUS ALVES","PROFESSOR (A) DE EDUCACAO BASICA","ESTATUTARIO","2023-01-01",30,"2024-01-01","2023-01-31","2023-12-31","29762-44927",{"$f":"G1454-SUMIF(ESCALA!$B$14:$B$15,DADOS!K1454,ESCALA!$I$14:$I$15)","v":30}]
[29766,29766,"GILMARA MADUREIRA","PROFESSOR (A) DE EDUCACAO BASICA","ESTATUTARIO","2023-01-01",30,"2024-01-01","2023-01-31","2023-12-31","29766-44927",{"$f":"G1455-SUMIF(ESCALA!$B$14:$B$15,DADOS!K1455,ESCALA!$I$14:$I$15)","v":30}]
[29787,29787,"SIMONE MOREIRA ALVES DO VALE","PROFESSOR (A) DE EDUCACAO BASICA","ESTATUTARIO","2022-05-02",30,"2023-05-02","2022-05-31","2023-04-30","29787-44683",{"$f":"G1456-SUMIF(ESCALA!$B$14:$B$15,DADOS!K1456,ESCALA!$I$14:$I$15)","v":30}]
[29787,29787,"SIMONE MOREIRA ALVES DO VALE","PROFESSOR (A) DE EDUCACAO BASICA","ESTATUTARIO","2023-05-02",30,"2024-05-02","2023-05-31","2024-04-30","29787-45048",{"$f":"G1457-SUMIF(ESCALA!$B$14:$B$15,DADOS!K1457,ESCALA!$I$14:$I$15)","v":30}]
[29796,29796,"JOCY COSME LINO DE LIMA","COZINHEIRO (A)","ESTATUTARIO","2022-05-06",10,"2023-05-06","2022-05-31","2023-04-30","29796-44687",{"$f":"G1458-SUMIF(ESCALA!$B$14:$B$15,DADOS!K1458,ESCALA!$I$14:$I$15)","v":10}]
[29796,29796,"JOCY COSME LINO DE LIMA","COZINHEIRO (A)","ESTATUTARIO","2023-05-06",30,"2024-05-06","2023-05-31","2024-04-30","29796-45052",{"$f":"G1459-SUMIF(ESCALA!$B$14:$B$15,DADOS!K1459,ESCALA!$I$14:$I$15)","v":30}]
[29812,29812,"ADRIANA MORALES SIMOES BENTO","VICE DIRETOR (A) SUBSTITUTO (A)","ESTATUTARIO","2022-05-08",30,"2023-05-08","2022-05-31","2023-04-30","29812-44689",{"$f":"G1460-SUMIF(ESCALA!$B$14:$B$15,DADOS!K1460,ESCALA!$I$14:$I$15)","v":30}]
[29812,29812,"ADRIANA MORALES SIMOES BENTO","VICE DIRETOR (A) SUBSTITUTO (A)","ESTATUTARIO","2023-05-08",30,"2024-05-08","2023-05-31","2024-04-30","29812-45054",{"$f":"G1461-SUMIF(ESCALA!$B$14:$B$15,DADOS!K1461,ESCALA!$I$14:$I$15)","v":30}]
[29815,29815,"MARIA LUZINETE LIRA","COZINHEIRO (A)","ESTATUTARIO","2023-05-08",30,"2024-05-08","2023-05-31","2024-04-30","29815-45054",{"$f":"G1462-SUMIF(ESCALA!$B$14:$B$15,DADOS!K1462,ESCALA!$I$14:$I$15)","v":30}]
[29817,29817,"ADRIANA ALVES DOS REIS LOPES","COZINHEIRO (A)","ESTATUTARIO","2022-05-08",15,"2023-05-08","2022-05-31","2023-04-30","29817-44689",{"$f":"G1463-SUMIF(ESCALA!$B$14:$B$15,DADOS!K1463,ESCALA!$I$14:$I$15)","v":15}]
[29817,29817,"ADRIANA ALVES DOS REIS LOPES","COZINHEIRO (A)","ESTATUTARIO","2023-05-08",30,"2024-05-08","2023-05-31","2024-04-30","29817-45054",{"$f":"G1464-SUMIF(ESCALA!$B$14:$B$15,DADOS!K1464,ESCALA!$I$14:$I$15)","v":30}]
[29822,29822,"ANGELA MARIA DIAS","COZINHEIRO (A)","ESTATUTARIO","2022-05-08",30,"2023-05-08","2022-05-31","2023-04-30","29822-44689",{"$f":"G1465-SUMIF(ESCALA!$B$14:$B$15,DADOS!K1465,ESCALA!$I$14:$I$15)","v":30}]
[29822,29822,"ANGELA MARIA DIAS","COZINHEIRO (A)","ESTATUTARIO","2023-05-08",30,"2024-05-08","2023-05-31","2024-04-30","29822-45054",{"$f":"G1466-SUMIF(ESCALA!$B$14:$B$15,DADOS!K1466,ESCALA!$I$14:$I$15)","v":30}]
[29829,29829,"PATRICIA FABIANA SOARES SANTOS","COZINHEIRO (A)","ESTATUTARIO","2023-01-01",30,"2024-01-01","2023-01-31","2023-12-31","29829-44927",{"$f":"G1467-SUMIF(ESCALA!$B$14:$B$15,DADOS!K1467,ESCALA!$I$14:$I$15)","v":30}]
[29835,29835,"MARIA ELZA DA COSTA","COZINHEIRO (A)","ESTATUTARIO","2022-05-09",30,"2023-05-09","2022-05-31","2023-04-30","29835-44690",{"$f":"G1468-SUMIF(ESCALA!$B$14:$B$15,DADOS!K1468,ESCALA!$I$14:$I$15)","v":30}]
[29835,29835,"MARIA ELZA DA COSTA","COZINHEIRO (A)","ESTATUTARIO","2023-05-09",30,"2024-05-09","2023-05-31","2024-04-30","29835-45055",{"$f":"G1469-SUMIF(ESCALA!$B$14:$B$15,DADOS!K1469,ESCALA!$I$14:$I$15)","v":30}]
[29837,29837,"MARTA LUCIA DOMINGOS","COZINHEIRO (A)","CELETISTA","2022-05-09",30,"2023-05-09","2022-04-30","2023-04-30","29837-44690",{"$f":"G1470-SUMIF(ESCALA!$B$14:$B$15,DADOS!K1470,ESCALA!$I$14:$I$15)","v":30}]
[29837,29837,"MARTA LUCIA DOMINGOS","COZINHEIRO (A)","CELETISTA","2023-05-09",30,"2024-05-09","2023-04-30","2024-04-30","29837-45055",{"$f":"G1471-SUMIF(ESCALA!$B$14:$B$15,DADOS!K1471,ESCALA!$I$14:$I$15)","v":30}]
[29839,29839,"ISABEL CRISTINA PINTO DE LIMA","COZINHEIRO (A)","ESTATUTARIO","2023-01-01",30,"2024-01-01","2023-01-31","2023-12-31","29839-44927",{"$f":"G1472-SUMIF(ESCALA!$B$14:$B$15,DADOS!K1472,ESCALA!$I$14:$I$15)","v":30}]
[29840,29840,"SANDRA SARAIVA FRANCISCO","COZINHEIRO (A)","ESTATUTARIO","2023-01-01",30,"2024-01-01","2023-01-31","2023-12-31","29840-44927",{"$f":"G1473-SUMIF(ESCALA!$B$14:$B$15,DADOS!K1473,ESCALA!$I$14:$I$15)","v":30}]
[29842,29842,"WILMA APARECIDA ACEVEDO","COZINHEIRO (A)","CELETISTA","2022-05-09",30,"2023-05-09","2022-04-30","2023-04-30","29842-44690",{"$f":"G1474-SUMIF(ESCALA!$B$14:$B$15,DADOS!K1474,ESCALA!$I$14:$I$15)","v":30}]
[{"$f":"IF(L1475=0,\"\",B1475)","v":29842},29842,"WILMA APARECIDA ACEVEDO","COZINHEIRO (A)","CELETISTA","2023-05-09",30,{"$f":"IF(F1475<=44985,F1475+365,F1475+366)","v":"2024-05-09"},"2023-04-30","2024-04-30",{"$f":"CONCATENATE(B1475,\"-\",F1475)","v":"29842-45055"},{"$f":"G1475-SUMIF(ESCALA!$B$14:$B$15,DADOS!K1475,ESCALA!$I$14:$I$15)","v":30}]
[29844,29844,"AMELIA NETA MARTINS DOS SANTOS PARRA","COZINHEIRO (A)","ESTATUTARIO","2022-07-12",30,"2023-07-12",{"$f":"IF(E1476=\"ESTATUTARIO\",EOMONTH(F1476,0),EOMONTH(F1476,-1))","v":"2022-07-31"},{"$f":"EOMONTH(F1476,11)","v":"2023-06-30"},"29844-44754",{"$f":"G1476-SUMIF(ESCALA!$B$14:$B$15,DADOS!K1476,ESCALA!$I$14:$I$15)","v":30}]
[29844,29844,"AMELIA NETA MARTINS DOS SANTOS PARRA","COZINHEIRO (A)","ESTATUTARIO","2023-07-12",30,"2024-07-12","2023-07-31","2024-06-30","29844-45119",{"$f":"G1477-SUMIF(ESCALA!$B$14:$B$15,DADOS!K1477,ESCALA!$I$14:$I$15)","v":30}]
[29851,29851,"MONICA DA SILVA FIDEL DE SALES","COZINHEIRO (A)","ESTATUTARIO","2022-12-28",30,"2023-12-28","2022-12-31","2023-11-30","29851-44923",{"$f":"G1478-SUMIF(ESCALA!$B$14:$B$15,DADOS!K1478,ESCALA!$I$14:$I$15)","v":30}]
[29851,29851,"MONICA DA SILVA FIDEL DE SALES","COZINHEIRO (A)","ESTATUTARIO","2023-12-28",30,"2024-12-28","2023-12-31","2024-11-30","29851-45288",{"$f":"G1479-SUMIF(ESCALA!$B$14:$B$15,DADOS!K1479,ESCALA!$I$14:$I$15)","v":30}]
[29863,29863,"ROSELI APARECIDA HECHILA RODRIGUES","COZINHEIRO (A)","ESTATUTARIO","2022-08-30",15,"2023-08-30","2022-08-31","2023-07-31","29863-44803",{"$f":"G1480-SUMIF(ESCALA!$B$14:$B$15,DADOS!K1480,ESCALA!$I$14:$I$15)","v":15}]
[29863,29863,"ROSELI APARECIDA HECHILA RODRIGUES","COZINHEIRO (A)","ESTATUTARIO","2023-08-30",30,"2024-08-30","2023-08-31","2024-07-31","29863-45168",{"$f":"G1481-SUMIF(ESCALA!$B$14:$B$15,DADOS!K1481,ESCALA!$I$14:$I$15)","v":30}]
[29877,29877,"CLAUDIA DE JESUS","COZINHEIRO (A)","ESTATUTARIO","2023-01-01",30,"2024-01-01","2023-01-31","2023-12-31","29877-44927",{"$f":"G1482-SUMIF(ESCALA!$B$14:$B$15,DADOS!K1482,ESCALA!$I$14:$I$15)","v":30}]
[29901,29901,"SONIA MARIA LOPES ARCHANGELO","COZINHEIRO (A)","CELETISTA","2023-01-01",30,"2024-01-01","2022-12-31","2023-12-31","29901-44927",{"$f":"G1483-SUMIF(ESCALA!$B$14:$B$15,DADOS!K1483,ESCALA!$I$14:$I$15)","v":30}]
[29917,29917,"LUCIANA APARECIDA DOS SANTOS MELO","COZINHEIRO (A)","ESTATUTARIO","2023-05-23",30,"2024-05-23","2023-05-31","2024-04-30","29917-45069",{"$f":"G1484-SUMIF(ESCALA!$B$14:$B$15,DADOS!K1484,ESCALA!$I$14:$I$15)","v":30}]
[29991,29991,"ANDREIA ALMEIDA PONTES","AUXILIAR DE COZINHA III","ESTATUTARIO","2022-06-06",5,"2023-06-06","2022-06-30","2023-05-31","29991-44718",{"$f":"G1485-SUMIF(ESCALA!$B$14:$B$15,DADOS!K1485,ESCALA!$I$14:$I$15)","v":5}]
[29991,29991,"ANDREIA ALMEIDA PONTES","AUXILIAR DE COZINHA III","ESTATUTARIO","2023-06-06",30,"2024-06-06","2023-06-30","2024-05-31","29991-45083",{"$f":"G1486-SUMIF(ESCALA!$B$14:$B$15,DADOS!K1486,ESCALA!$I$14:$I$15)","v":30}]
[30001,30001,"SOLANGE LAINO","PROFESSOR (A) DE EDUCACAO BASICA","CELETISTA","2023-01-01",30,"2024-01-01","2022-12-31","2023-12-31","30001-44927",{"$f":"G1487-SUMIF(ESCALA!$B$14:$B$15,DADOS!K1487,ESCALA!$I$14:$I$15)","v":30}]
[30012,30012,"ROSANA APARECIDA FRANCISCO FERREIRA","PROFESSOR (A) DE EDUCACAO BASICA","ESTATUTARIO","2023-01-01",30,"2024-01-01","2023-01-31","2023-12-31","30012-44927",{"$f":"G1488-SUMIF(ESCALA!$B$14:$B$15,DADOS!K1488,ESCALA!$I$14:$I$15)","v":30}]
[30039,30039,"CAROLINA GILLI HADG KARKACHI ROCCO","PROFESSOR (A) DE EDUCACAO BASICA","ESTATUTARIO","2023-01-01",30,"2024-01-01","2023-01-31","2023-12-31","30039-44927",{"$f":"G1489-SUMIF(ESCALA!$B$14:$B$15,DADOS!K1489,ESCALA!$I$14:$I$15)","v":30}]
[30099,30099,"ANA PAULA GONCALVES ALMEIDA","PROFESSOR (A) DE EDUCAÇÃO BÁSICA","ESTATUTARIO","2022-07-01",30,"2023-07-01","2022-07-31","2023-06-30","30099-44743",{"$f":"G1490-SUMIF(ESCALA!$B$14:$B$15,DADOS!K1490,ESCALA!$I$14:$I$15)","v":30}]
[30099,30099,"ANA PAULA GONCALVES ALMEIDA","PROFESSOR (A) DE EDUCAÇÃO BÁSICA","ESTATUTARIO","2023-07-01",30,"2024-07-01","2023-07-31","2024-06-30","30099-45108",{"$f":"G1491-SUMIF(ESCALA!$B$14:$B$15,DADOS!K1491,ESCALA!$I$14:$I$15)","v":30}]
[30109,30109,"SANDRA REGINA GARCIA RIBEIRO PEREIRA","PROFESSOR (A) DE EDUCACAO BASICA","ESTATUTARIO","2022-07-03",30,"2023-07-03","2022-07-31","2023-06-30","30109-44745",{"$f":"G1492-SUMIF(ESCALA!$B$14:$B$15,DADOS!K1492,ESCALA!$I$14:$I$15)","v":30}]
[30109,30109,"SANDRA REGINA GARCIA RIBEIRO PEREIRA","PROFESSOR (A) DE EDUCACAO BASICA","ESTATUTARIO","2023-07-03",30,"2024-07-03","2023-07-31","2024-06-30","30109-45110",{"$f":"G1493-SUMIF(ESCALA!$B$14:$B$15,DADOS!K1493,ESCALA!$I$14:$I$15)","v":30}]
[30132,30132,"MARCIA DE SOUZA PEREIRA","COORDENADOR (A) DE PROGRAMAS EDUCACIONAIS","ESTATUTARIO","2023-04-09",30,"2024-04-09","2023-04-30","2024-03-31","30132-45025",{"$f":"G1494-SUMIF(ESCALA!$B$14:$B$15,DADOS!K1494,ESCALA!$I$14:$I$15)","v":30}]
[30138,30138,"MARIA GERALDA DOS SANTOS OLIVEIRA","PROFESSOR (A) DE EDUCAÇÃO BASICA","CELETISTA","2022-07-09",30,"2023-07-09","2022-06-30","2023-06-30","30138-44751",{"$f":"G1495-SUMIF(ESCALA!$B$14:$B$15,DADOS!K1495,ESCALA!$I$14:$I$15)","v":30}]
[30138,30138,"MARIA GERALDA DOS SANTOS OLIVEIRA","PROFESSOR (A) DE EDUCAÇÃO BASICA","CELETISTA","2023-07-09",30,"2024-07-09","2023-06-30","2024-06-30","30138-45116",{"$f":"G1496-SUMIF(ESCALA!$B$14:$B$15,DADOS!K1496,ESCALA!$I$14:$I$15)","v":30}]
[30141,30141,"RONISETE GUEDES","PROFESSOR (A) DE EDUCACAO BASICA","CELETISTA","2023-01-01",30,"2024-01-01","2022-12-31","2023-12-31","30141-44927",{"$f":"G1497-SUMIF(ESCALA!$B$14:$B$15,DADOS!K1497,ESCALA!$I$14:$I$15)","v":30}]
[30148,30148,"ROSANA BARBOSA","PROFESSOR (A) DE EDUCACAO BASICA","ESTATUTARIO","2022-07-11",30,"2023-07-11","2022-07-31","2023-06-30","30148-44753",{"$f":"G1498-SUMIF(ESCALA!$B$14:$B$15,DADOS!K1498,ESCALA!$I$14:$I$15)","v":30}]
[30148,30148,"ROSANA BARBOSA","PROFESSOR (A) DE EDUCACAO BASICA","ESTATUTARIO","2023-07-11",30,"2024-07-11","2023-07-31","2024-06-30","30148-45118",{"$f":"G1499-SUMIF(ESCALA!$B$14:$B$15,DADOS!K1499,ESCALA!$I$14:$I$15)","v":30}]
[30150,30150,"FRANCISCA BUENO DOS SANTOS","PROFESSOR (A) DE EDUCAÇÃO BASICA","CELETISTA","2022-05-14",30,"2023-05-14","2022-04-30","2023-04-30","30150-44695",{"$f":"G1500-SUMIF(ESCALA!$B$14:$B$15,DADOS!K1500,ESCALA!$I$14:$I$15)","v":30}]
[30150,30150,"FRANCISCA BUENO DOS SANTOS","PROFESSOR (A) DE EDUCAÇÃO BASICA","CELETISTA","2023-05-14",24,"2024-05-14","2023-04-30","2024-04-30","30150-45060",{"$f":"G1501-SUMIF(ESCALA!$B$14:$B$15,DADOS!K1501,ESCALA!$I$14:$I$15)","v":24}]
[30169,30169,"TELMA CORREA DA SILVA DIAS","PROFESSOR (A) DE EDUCAÇÃO BÁSICA","ESTATUTARIO","2022-07-18",30,"2023-07-18","2022-07-31","2023-06-30","30169-44760",{"$f":"G1502-SUMIF(ESCALA!$B$14:$B$15,DADOS!K1502,ESCALA!$I$14:$I$15)","v":30}]
[30169,30169,"TELMA CORREA DA SILVA DIAS","PROFESSOR (A) DE EDUCAÇÃO BÁSICA","ESTATUTARIO","2023-07-18",30,"2024-07-18","2023-07-31","2024-06-30","30169-45125",{"$f":"G1503-SUMIF(ESCALA!$B$14:$B$15,DADOS!K1503,ESCALA!$I$14:$I$15)","v":30}]
[30174,30174,"ROSANGELA PANERARI","PROFESSOR (A) DE EDUCACAO BASICA","ESTATUTARIO","2022-07-22",30,"2023-07-22","2022-07-31","2023-06-30","30174-44764",{"$f":"G1504-SUMIF(ESCALA!$B$14:$B$15,DADOS!K1504,ESCALA!$I$14:$I$15)","v":30}]
[30174,30174,"ROSANGELA PANERARI","PROFESSOR (A) DE EDUCACAO BASICA","ESTATUTARIO","2023-07-22",30,"2024-07-22","2023-07-31","2024-06-30","30174-45129",{"$f":"G1505-SUMIF(ESCALA!$B$14:$B$15,DADOS!K1505,ESCALA!$I$14:$I$15)","v":30}]
[30175,30175,"ANA CRISTINA PINHEIRO","PROFESSOR (A) DE EDUCACAO BASICA","ESTATUTARIO","2022-12-22",30,"2023-12-22","2022-12-31","2023-11-30","30175-44917",{"$f":"G1506-SUMIF(ESCALA!$B$14:$B$15,DADOS!K1506,ESCALA!$I$14:$I$15)","v":30}]
[30175,30175,"ANA CRISTINA PINHEIRO","PROFESSOR (A) DE EDUCACAO BASICA","ESTATUTARIO","2023-12-22",30,"2024-12-22","2023-12-31","2024-11-30","30175-45282",{"$f":"G1507-SUMIF(ESCALA!$B$14:$B$15,DADOS!K1507,ESCALA!$I$14:$I$15)","v":30}]
[30191,30191,"SELMA LOPES DA SILVA","COZINHEIRO (A)","ESTATUTARIO","2022-07-31",15,"2023-07-31","2022-07-31","2023-06-30","30191-44773",{"$f":"G1508-SUMIF(ESCALA!$B$14:$B$15,DADOS!K1508,ESCALA!$I$14:$I$15)","v":15}]
[30191,30191,"SELMA LOPES DA SILVA","COZINHEIRO (A)","ESTATUTARIO","2023-07-31",30,"2024-07-31","2023-07-31","2024-06-30","30191-45138",{"$f":"G1509-SUMIF(ESCALA!$B$14:$B$15,DADOS!K1509,ESCALA!$I$14:$I$15)","v":30}]
[30195,30195,"CARLA MARIA MARCHESI CASTANHEIRA","PROFESSOR (A) DE EDUCACAO ESPECIAL","ESTATUTARIO","2022-08-01",30,"2023-08-01","2022-08-31","2023-07-31","30195-44774",{"$f":"G1510-SUMIF(ESCALA!$B$14:$B$15,DADOS!K1510,ESCALA!$I$14:$I$15)","v":30}]
[30195,30195,"CARLA MARIA MARCHESI CASTANHEIRA","PROFESSOR (A) DE EDUCACAO ESPECIAL","ESTATUTARIO","2023-08-01",30,"2024-08-01","2023-08-31","2024-07-31","30195-45139",{"$f":"G1511-SUMIF(ESCALA!$B$14:$B$15,DADOS!K1511,ESCALA!$I$14:$I$15)","v":30}]
[30228,30228,"SONIA MARIA HOLANDA ALMEIDA RAMOS","COZINHEIRO (A)","ESTATUTARIO","2023-01-01",30,"2024-01-01","2023-01-31","2023-12-31","30228-44927",{"$f":"G1512-SUMIF(ESCALA!$B$14:$B$15,DADOS!K1512,ESCALA!$I$14:$I$15)","v":30}]
[30244,30244,"MARIA DAS GRACAS FRANCA SILVA","PROFESSOR (A) DE EDUCAÇÃO BASICA","CELETISTA","2022-08-12",30,"2023-08-12","2022-07-31","2023-07-31","30244-44785",{"$f":"G1513-SUMIF(ESCALA!$B$14:$B$15,DADOS!K1513,ESCALA!$I$14:$I$15)","v":30}]
[30244,30244,"MARIA DAS GRACAS FRANCA SILVA","PROFESSOR (A) DE EDUCAÇÃO BASICA","CELETISTA","2023-08-12",30,"2024-08-12","2023-07-31","2024-07-31","30244-45150",{"$f":"G1514-SUMIF(ESCALA!$B$14:$B$15,DADOS!K1514,ESCALA!$I$14:$I$15)","v":30}]
[30272,30272,"SIMONE DE BORBA CINTRA","VICE-DIRETOR (A) DE ESCOLA","ESTATUTARIO","2022-08-15",30,"2023-08-15","2022-08-31","2023-07-31","30272-44788",{"$f":"G1515-SUMIF(ESCALA!$B$14:$B$15,DADOS!K1515,ESCALA!$I$14:$I$15)","v":30}]
[30272,30272,"SIMONE DE BORBA CINTRA","VICE-DIRETOR (A) DE ESCOLA","ESTATUTARIO","2023-08-15",30,"2024-08-15","2023-08-31","2024-07-31","30272-45153",{"$f":"G1516-SUMIF(ESCALA!$B$14:$B$15,DADOS!K1516,ESCALA!$I$14:$I$15)","v":30}]
[30301,30301,"LAURICILDA ALVES DE MORAIS","PROFESSOR (A) DE EDUCACAO BASICA","CELETISTA","2022-08-26",30,"2023-08-26","2022-07-31","2023-07-31","30301-44799",{"$f":"G1517-SUMIF(ESCALA!$B$14:$B$15,DADOS!K1517,ESCALA!$I$14:$I$15)","v":30}]
[30301,30301,"LAURICILDA ALVES DE MORAIS","PROFESSOR (A) DE EDUCACAO BASICA","CELETISTA","2023-08-26",30,"2024-08-26","2023-07-31","2024-07-31","30301-45164",{"$f":"G1518-SUMIF(ESCALA!$B$14:$B$15,DADOS!K1518,ESCALA!$I$14:$I$15)","v":30}]
[30308,30308,"ROSANGELA MONTEIRO ALVES DE MORAES","PROFESSOR (A) DE EDUCACAO BASICA","ESTATUTARIO","2022-12-01",30,"2023-12-01","2022-12-31","2023-11-30","30308-44896",{"$f":"G1519-SUMIF(ESCALA!$B$14:$B$15,DADOS!K1519,ESCALA!$I$14:$I$15)","v":30}]
[30308,30308,"ROSANGELA MONTEIRO ALVES DE MORAES","PROFESSOR (A) DE EDUCACAO BASICA","ESTATUTARIO","2023-12-01",30,"2024-12-01","2023-12-31","2024-11-30","30308-45261",{"$f":"G1520-SUMIF(ESCALA!$B$14:$B$15,DADOS!K1520,ESCALA!$I$14:$I$15)","v":30}]
[30315,30315,"SONIA MARIA DE MELO SOARES TEIXEIRA","COZINHEIRO (A)","ESTATUTARIO","2022-08-30",20,"2023-08-30","2022-08-31","2023-07-31","30315-44803",{"$f":"G1521-SUMIF(ESCALA!$B$14:$B$15,DADOS!K1521,ESCALA!$I$14:$I$15)","v":20}]
[30315,30315,"SONIA MARIA DE MELO SOARES TEIXEIRA","COZINHEIRO (A)","ESTATUTARIO","2023-08-30",30,"2024-08-30","2023-08-31","2024-07-31","30315-45168",{"$f":"G1522-SUMIF(ESCALA!$B$14:$B$15,DADOS!K1522,ESCALA!$I$14:$I$15)","v":30}]
[30320,30320,"HELENICE MARTINS GONCALVES","COZINHEIRO (A)","ESTATUTARIO","2022-09-02",30,"2023-09-02","2022-09-30","2023-08-31","30320-44806",{"$f":"G1523-SUMIF(ESCALA!$B$14:$B$15,DADOS!K1523,ESCALA!$I$14:$I$15)","v":30}]
[30320,30320,"HELENICE MARTINS GONCALVES","COZINHEIRO (A)","ESTATUTARIO","2023-09-02",30,"2024-09-02","2023-09-30","2024-08-31","30320-45171",{"$f":"G1524-SUMIF(ESCALA!$B$14:$B$15,DADOS!K1524,ESCALA!$I$14:$I$15)","v":30}]
[30327,30327,"ELIZENDA NEVES BARBOSA","PROFESSOR (A) DE EDUCACAO BASICA","ESTATUTARIO","2022-09-05",30,"2023-09-05","2022-09-30","2023-08-31","30327-44809",{"$f":"G1525-SUMIF(ESCALA!$B$14:$B$15,DADOS!K1525,ESCALA!$I$14:$I$15)","v":30}]
[30327,30327,"ELIZENDA NEVES BARBOSA","PROFESSOR (A) DE EDUCACAO BASICA","ESTATUTARIO","2023-09-05",30,"2024-09-05","2023-09-30","2024-08-31","30327-45174",{"$f":"G1526-SUMIF(ESCALA!$B$14:$B$15,DADOS!K1526,ESCALA!$I$14:$I$15)","v":30}]
[30330,30330,"SONIA CRISTINA SANTOS DANTAS","PROFESSOR (A) DE EDUCACAO BASICA","CELETISTA","2022-09-09",30,"2023-09-09","2022-08-31","2023-08-31","30330-44813",{"$f":"G1527-SUMIF(ESCALA!$B$14:$B$15,DADOS!K1527,ESCALA!$I$14:$I$15)","v":30}]
[30330,30330,"SONIA CRISTINA SANTOS DANTAS","PROFESSOR (A) DE EDUCACAO BASICA","CELETISTA","2023-09-09",30,"2024-09-09","2023-08-31","2024-08-31","30330-45178",{"$f":"G1528-SUMIF(ESCALA!$B$14:$B$15,DADOS!K1528,ESCALA!$I$14:$I$15)","v":30}]
[30331,30331,"ELAINE CRISTINA ABRAO BUENO SAMPAIO","VICE-DIRETOR (A) DE ESCOLA","CELETISTA","2022-09-09",30,"2023-09-09","2022-08-31","2023-08-31","30331-44813",{"$f":"G1529-SUMIF(ESCALA!$B$14:$B$15,DADOS!K1529,ESCALA!$I$14:$I$15)","v":30}]
[30331,30331,"ELAINE CRISTINA ABRAO BUENO SAMPAIO","VICE-DIRETOR (A) DE ESCOLA","CELETISTA","2023-09-09",30,"2024-09-09","2023-08-31","2024-08-31","30331-45178",{"$f":"G1530-SUMIF(ESCALA!$B$14:$B$15,DADOS!K1530,ESCALA!$I$14:$I$15)","v":30}]
[30338,30338,"CRISTIANE JARDIM DOS SANTOS","VICE-DIRETOR (A) DE ESCOLA","CELETISTA","2022-09-10",30,"2023-09-10","2022-08-31","2023-08-31","30338-44814",{"$f":"G1531-SUMIF(ESCALA!$B$14:$B$15,DADOS!K1531,ESCALA!$I$14:$I$15)","v":30}]
[30338,30338,"CRISTIANE JARDIM DOS SANTOS","VICE-DIRETOR (A) DE ESCOLA","CELETISTA","2023-09-10",30,"2024-09-10","2023-08-31","2024-08-31","30338-45179",{"$f":"G1532-SUMIF(ESCALA!$B$14:$B$15,DADOS!K1532,ESCALA!$I$14:$I$15)","v":30}]
[30342,30342,"MARGARET LOUREIRO","VICE-DIRETOR (A) DE ESCOLA","ESTATUTARIO","2023-01-17",30,"2024-01-17","2023-01-31","2023-12-31","30342-44943",{"$f":"G1533-SUMIF(ESCALA!$B$14:$B$15,DADOS!K1533,ESCALA!$I$14:$I$15)","v":30}]
[30358,30358,"EDVANIA MARCIANO DA SILVA","SUPERVISOR (A) ESCOLAR","ESTATUTARIO","2022-09-20",30,"2023-09-20","2022-09-30","2023-08-31","30358-44824",{"$f":"G1534-SUMIF(ESCALA!$B$14:$B$15,DADOS!K1534,ESCALA!$I$14:$I$15)","v":30}]
[30358,30358,"EDVANIA MARCIANO DA SILVA","SUPERVISOR (A) ESCOLAR","ESTATUTARIO","2023-09-20",30,"2024-09-20","2023-09-30","2024-08-31","30358-45189",{"$f":"G1535-SUMIF(ESCALA!$B$14:$B$15,DADOS!K1535,ESCALA!$I$14:$I$15)","v":30}]
[30360,30360,"NIOLANDA DOS SANTOS COSTA","PROFESSOR (A) DE EDUCAÇÃO BASICA","CELETISTA","2022-12-05",30,"2023-12-05","2022-11-30","2023-11-30","30360-44900",{"$f":"G1536-SUMIF(ESCALA!$B$14:$B$15,DADOS!K1536,ESCALA!$I$14:$I$15)","v":30}]
[30360,30360,"NIOLANDA DOS SANTOS COSTA","PROFESSOR (A) DE EDUCAÇÃO BASICA","CELETISTA","2023-12-05",30,"2024-12-05","2023-11-30","2024-11-30","30360-45265",{"$f":"G1537-SUMIF(ESCALA!$B$14:$B$15,DADOS!K1537,ESCALA!$I$14:$I$15)","v":30}]
[30362,30362,"THAIS FERREIRA GARCIA","PROFESSOR (A) DE EDUCACAO BASICA","ESTATUTARIO","2023-11-04",30,"2024-11-04","2023-11-30","2024-10-31","30362-45234",{"$f":"G1538-SUMIF(ESCALA!$B$14:$B$15,DADOS!K1538,ESCALA!$I$14:$I$15)","v":30}]
[{"$f":"IF(L1539=0,\"\",B1539)","v":30363},30363,"ELSY DA SILVA FERNANDES","PROFESSOR (A) DE EDUCAÇÃO BASICA","CELETISTA","2022-09-20",30,{"$f":"IF(F1539<=44985,F1539+365,F1539+366)","v":"2023-09-20"},"2022-08-31","2023-08-31",{"$f":"CONCATENATE(B1539,\"-\",F1539)","v":"30363-44824"},{"$f":"G1539-SUMIF(ESCALA!$B$14:$B$15,DADOS!K1539,ESCALA!$I$14:$I$15)","v":30}]
[30363,30363,"ELSY DA SILVA FERNANDES","PROFESSOR (A) DE EDUCAÇÃO BASICA","CELETISTA","2023-09-20",30,"2024-09-20",{"$f":"IF(E1540=\"ESTATUTARIO\",EOMONTH(F1540,0),EOMONTH(F1540,-1))","v":"2023-08-31"},{"$f":"EOMONTH(F1540,11)","v":"2024-08-31"},"30363-45189",{"$f":"G1540-SUMIF(ESCALA!$B$14:$B$15,DADOS!K1540,ESCALA!$I$14:$I$15)","v":30}]
[30367,30367,"CICERA SHIRLEY RIBEIRO","PROFESSOR (A) DE EDUCAÇÃO BÁSICA","ESTATUTARIO","2022-09-23",30,"2023-09-23","2022-09-30","2023-08-31","30367-44827",{"$f":"G1541-SUMIF(ESCALA!$B$14:$B$15,DADOS!K1541,ESCALA!$I$14:$I$15)","v":30}]
[30367,30367,"CICERA SHIRLEY RIBEIRO","PROFESSOR (A) DE EDUCAÇÃO BÁSICA","ESTATUTARIO","2023-09-23",30,"2024-09-23","2023-09-30","2024-08-31","30367-45192",{"$f":"G1542-SUMIF(ESCALA!$B$14:$B$15,DADOS!K1542,ESCALA!$I$14:$I$15)","v":30}]
[30369,30369,"ANGELA MARIA MONTEIRO COSTA FELIPPE","VICE-DIRETOR (A) DE ESCOLA","CELETISTA","2022-09-23",30,"2023-09-23","2022-08-31","2023-08-31","30369-44827",{"$f":"G1543-SUMIF(ESCALA!$B$14:$B$15,DADOS!K1543,ESCALA!$I$14:$I$15)","v":30}]
[30369,30369,"ANGELA MARIA MONTEIRO COSTA FELIPPE","VICE-DIRETOR (A) DE ESCOLA","CELETISTA","2023-09-23",30,"2024-09-23","2023-08-31","2024-08-31","30369-45192",{"$f":"G1544-SUMIF(ESCALA!$B$14:$B$15,DADOS!K1544,ESCALA!$I$14:$I$15)","v":30}]
[30371,30371,"CONCEICAO DE MARIA BEZERRA SILVA","PROFESSOR (A) DE EDUCACAO BASICA","ESTATUTARIO","2022-09-23",30,"2023-09-23","2022-09-30","2023-08-31","30371-44827",{"$f":"G1545-SUMIF(ESCALA!$B$14:$B$15,DADOS!K1545,ESCALA!$I$14:$I$15)","v":30}]
[30371,30371,"CONCEICAO DE MARIA BEZERRA SILVA","PROFESSOR (A) DE EDUCACAO BASICA","ESTATUTARIO","2023-09-23",30,"2024-09-23","2023-09-30","2024-08-31","30371-45192",{"$f":"G1546-SUMIF(ESCALA!$B$14:$B$15,DADOS!K1546,ESCALA!$I$14:$I$15)","v":30}]
[30376,30376,"DENISE DA SILVA COUTINHO","PROFESSOR (A) DE EDUCACAO BASICA","ESTATUTARIO","2022-09-26",30,"2023-09-26","2022-09-30","2023-08-31","30376-44830",{"$f":"G1547-SUMIF(ESCALA!$B$14:$B$15,DADOS!K1547,ESCALA!$I$14:$I$15)","v":30}]
[30376,30376,"DENISE DA SILVA COUTINHO","PROFESSOR (A) DE EDUCACAO BASICA","ESTATUTARIO","2023-09-26",30,"2024-09-26","2023-09-30","2024-08-31","30376-45195",{"$f":"G1548-SUMIF(ESCALA!$B$14:$B$15,DADOS!K1548,ESCALA!$I$14:$I$15)","v":30}]
[30379,30379,"EVANEIDA AMORIM BATISTA","PROFESSOR (A) DE EDUCAÇÃO BASICA","CELETISTA","2022-09-26",30,"2023-09-26","2022-08-31","2023-08-31","30379-44830",{"$f":"G1549-SUMIF(ESCALA!$B$14:$B$15,DADOS!K1549,ESCALA!$I$14:$I$15)","v":30}]
[30379,30379,"EVANEIDA AMORIM BATISTA","PROFESSOR (A) DE EDUCAÇÃO BASICA","CELETISTA","2023-09-26",30,"2024-09-26","2023-08-31","2024-08-31","30379-45195",{"$f":"G1550-SUMIF(ESCALA!$B$14:$B$15,DADOS!K1550,ESCALA!$I$14:$I$15)","v":30}]
[30381,30381,"RITA DE CASSIA CORREA VERICIO DE ALMEIDA","SUPERVISOR (A) ESCOLAR","ESTATUTARIO","2022-09-26",30,"2023-09-26","2022-09-30","2023-08-31","30381-44830",{"$f":"G1551-SUMIF(ESCALA!$B$14:$B$15,DADOS!K1551,ESCALA!$I$14:$I$15)","v":30}]
[30381,30381,"RITA DE CASSIA CORREA VERICIO DE ALMEIDA","SUPERVISOR (A) ESCOLAR","ESTATUTARIO","2023-09-26",30,"2024-09-26","2023-09-30","2024-08-31","30381-45195",{"$f":"G1552-SUMIF(ESCALA!$B$14:$B$15,DADOS!K1552,ESCALA!$I$14:$I$15)","v":30}]
[30382,30382,"KELLI DAGMA DE SOUZA","PROFESSOR (A) DE EDUCACAO BASICA","ESTATUTARIO","2022-09-26",30,"2023-09-26","2022-09-30","2023-08-31","30382-44830",{"$f":"G1553-SUMIF(ESCALA!$B$14:$B$15,DADOS!K1553,ESCALA!$I$14:$I$15)","v":30}]
[30382,30382,"KELLI DAGMA DE SOUZA","PROFESSOR (A) DE EDUCACAO BASICA","ESTATUTARIO","2023-09-26",30,"2024-09-26","2023-09-30","2024-08-31","30382-45195",{"$f":"G1554-SUMIF(ESCALA!$B$14:$B$15,DADOS!K1554,ESCALA!$I$14:$I$15)","v":30}]
[30383,30383,"MARILENE SILVA COSTA","PROFESSOR (A) DE EDUCAÇÃO BASICA","CELETISTA","2022-09-26",30,"2023-09-26","2022-08-31","2023-08-31","30383-44830",{"$f":"G1555-SUMIF(ESCALA!$B$14:$B$15,DADOS!K1555,ESCALA!$I$14:$I$15)","v":30}]
[30383,30383,"MARILENE SILVA COSTA","PROFESSOR (A) DE EDUCAÇÃO BASICA","CELETISTA","2023-09-26",30,"2024-09-26","2023-08-31","2024-08-31","30383-45195",{"$f":"G1556-SUMIF(ESCALA!$B$14:$B$15,DADOS!K1556,ESCALA!$I$14:$I$15)","v":30}]
[30385,30385,"ZELIA DIAS DAS VIRGENS KUBOTA","PROFESSOR (A) DE EDUCAÇÃO BASICA","CELETISTA","2022-09-27",30,"2023-09-27","2022-08-31","2023-08-31","30385-44831",{"$f":"G1557-SUMIF(ESCALA!$B$14:$B$15,DADOS!K1557,ESCALA!$I$14:$I$15)","v":30}]
[30385,30385,"ZELIA DIAS DAS VIRGENS KUBOTA","PROFESSOR (A) DE EDUCAÇÃO BASICA","CELETISTA","2023-09-27",30,"2024-09-27","2023-08-31","2024-08-31","30385-45196",{"$f":"G1558-SUMIF(ESCALA!$B$14:$B$15,DADOS!K1558,ESCALA!$I$14:$I$15)","v":30}]
[30387,30387,"WANDA MIRANDA","PROFESSOR (A) DE EDUCAÇÃO BASICA","CELETISTA","2022-09-27",30,"2023-09-27","2022-08-31","2023-08-31","30387-44831",{"$f":"G1559-SUMIF(ESCALA!$B$14:$B$15,DADOS!K1559,ESCALA!$I$14:$I$15)","v":30}]
[30387,30387,"WANDA MIRANDA","PROFESSOR (A) DE EDUCAÇÃO BASICA","CELETISTA","2023-09-27",30,"2024-09-27","2023-08-31","2024-08-31","30387-45196",{"$f":"G1560-SUMIF(ESCALA!$B$14:$B$15,DADOS!K1560,ESCALA!$I$14:$I$15)","v":30}]
[30391,30391,"RENATA RODRIGUES DE CARVALHO LIMA","PROFESSOR (A) DE EDUCACAO BASICA","CELETISTA","2022-09-27",30,"2023-09-27","2022-08-31","2023-08-31","30391-44831",{"$f":"G1561-SUMIF(ESCALA!$B$14:$B$15,DADOS!K1561,ESCALA!$I$14:$I$15)","v":30}]
[30391,30391,"RENATA RODRIGUES DE CARVALHO LIMA","PROFESSOR (A) DE EDUCACAO BASICA","CELETISTA","2023-09-27",30,"2024-09-27","2023-08-31","2024-08-31","30391-45196",{"$f":"G1562-SUMIF(ESCALA!$B$14:$B$15,DADOS!K1562,ESCALA!$I$14:$I$15)","v":30}]
[30396,30396,"ROSANA DE FATIMA ROMERO BONONI","PROFESSOR (A) DE EDUCAÇÃO BASICA","CELETISTA","2022-09-30",30,"2023-09-30","2022-08-31","2023-08-31","30396-44834",{"$f":"G1563-SUMIF(ESCALA!$B$14:$B$15,DADOS!K1563,ESCALA!$I$14:$I$15)","v":30}]
[30396,30396,"ROSANA DE FATIMA ROMERO BONONI","PROFESSOR (A) DE EDUCAÇÃO BASICA","CELETISTA","2023-09-30",30,"2024-09-30","2023-08-31","2024-08-31","30396-45199",{"$f":"G1564-SUMIF(ESCALA!$B$14:$B$15,DADOS!K1564,ESCALA!$I$14:$I$15)","v":30}]
[30402,30402,"VIVIANI GUAGLIONI SILVA","PROFESSOR (A) DE EDUCAÇÃO BÁSICA","ESTATUTARIO","2023-01-01",30,"2024-01-01","2023-01-31","2023-12-31","30402-44927",{"$f":"G1565-SUMIF(ESCALA!$B$14:$B$15,DADOS!K1565,ESCALA!$I$14:$I$15)","v":30}]
[30415,30415,"TEREZINHA FONSECA DE RESENDE CAMERINI","PROFESSOR (A) DE EDUCACAO BASICA","ESTATUTARIO","2022-10-15",30,"2023-10-15","2022-10-31","2023-09-30","30415-44849",{"$f":"G1566-SUMIF(ESCALA!$B$14:$B$15,DADOS!K1566,ESCALA!$I$14:$I$15)","v":30}]
[30415,30415,"TEREZINHA FONSECA DE RESENDE CAMERINI","PROFESSOR (A) DE EDUCACAO BASICA","ESTATUTARIO","2023-10-15",30,"2024-10-15","2023-10-31","2024-09-30","30415-45214",{"$f":"G1567-SUMIF(ESCALA!$B$14:$B$15,DADOS!K1567,ESCALA!$I$14:$I$15)","v":30}]
[30429,30429,"ELISANGELA CAVALCANTE","PROFESSOR (A) DE EDUCACAO BASICA","ESTATUTARIO","2022-10-22",30,"2023-10-22","2022-10-31","2023-09-30","30429-44856",{"$f":"G1568-SUMIF(ESCALA!$B$14:$B$15,DADOS!K1568,ESCALA!$I$14:$I$15)","v":30}]
[30429,30429,"ELISANGELA CAVALCANTE","PROFESSOR (A) DE EDUCACAO BASICA","ESTATUTARIO","2023-10-22",30,"2024-10-22","2023-10-31","2024-09-30","30429-45221",{"$f":"G1569-SUMIF(ESCALA!$B$14:$B$15,DADOS!K1569,ESCALA!$I$14:$I$15)","v":30}]
[30431,30431,"ROSINEIDE REGINALDO BEZERRA","PROFESSOR (A) DE EDUCACAO BASICA","ESTATUTARIO","2022-05-17",30,"2023-05-17","2022-05-31","2023-04-30","30431-44698",{"$f":"G1570-SUMIF(ESCALA!$B$14:$B$15,DADOS!K1570,ESCALA!$I$14:$I$15)","v":30}]
[30431,30431,"ROSINEIDE REGINALDO BEZERRA","PROFESSOR (A) DE EDUCACAO BASICA","ESTATUTARIO","2023-05-17",30,"2024-05-17","2023-05-31","2024-04-30","30431-45063",{"$f":"G1571-SUMIF(ESCALA!$B$14:$B$15,DADOS!K1571,ESCALA!$I$14:$I$15)","v":30}]
[30437,30437,"DEBORA CRISTINA JOAZEIRO","PROFESSOR (A) DE EDUCACAO BASICA","ESTATUTARIO","2022-10-25",30,"2023-10-25","2022-10-31","2023-09-30","30437-44859",{"$f":"G1572-SUMIF(ESCALA!$B$14:$B$15,DADOS!K1572,ESCALA!$I$14:$I$15)","v":30}]
[30437,30437,"DEBORA CRISTINA JOAZEIRO","PROFESSOR (A) DE EDUCACAO BASICA","ESTATUTARIO","2023-10-25",30,"2024-10-25","2023-10-31","2024-09-30","30437-45224",{"$f":"G1573-SUMIF(ESCALA!$B$14:$B$15,DADOS!K1573,ESCALA!$I$14:$I$15)","v":30}]
[30443,30443,"DEISE LUCIA MARTINS DE NOVAIS","PROFESSOR (A) DE EDUCAÇÃO BÁSICA","CELETISTA","2022-11-04",30,"2023-11-04","2022-10-31","2023-10-31","30443-44869",{"$f":"G1574-SUMIF(ESCALA!$B$14:$B$15,DADOS!K1574,ESCALA!$I$14:$I$15)","v":30}]
[30443,30443,"DEISE LUCIA MARTINS DE NOVAIS","PROFESSOR (A) DE EDUCAÇÃO BÁSICA","CELETISTA","2023-11-04",30,"2024-11-04","2023-10-31","2024-10-31","30443-45234",{"$f":"G1575-SUMIF(ESCALA!$B$14:$B$15,DADOS!K1575,ESCALA!$I$14:$I$15)","v":30}]
[30576,30576,"VIVIANE VALENCIO BIDOY","NUTRICIONISTA","ESTATUTARIO","2022-12-16",30,"2023-12-16","2022-12-31","2023-11-30","30576-44911",{"$f":"G1576-SUMIF(ESCALA!$B$14:$B$15,DADOS!K1576,ESCALA!$I$14:$I$15)","v":30}]
[30576,30576,"VIVIANE VALENCIO BIDOY","NUTRICIONISTA","ESTATUTARIO","2023-12-16",30,"2024-12-16","2023-12-31","2024-11-30","30576-45276",{"$f":"G1577-SUMIF(ESCALA!$B$14:$B$15,DADOS!K1577,ESCALA!$I$14:$I$15)","v":30}]
[30681,30681,"LILIAN RENATA DA SILVA","PROFESSOR (A) DE EDUCACAO BASICA","ESTATUTARIO","2023-01-01",30,"2024-01-01","2023-01-31","2023-12-31","30681-44927",{"$f":"G1578-SUMIF(ESCALA!$B$14:$B$15,DADOS!K1578,ESCALA!$I$14:$I$15)","v":30}]
[30709,30709,"IRANI GARCIA ERNANDES","PROFESSOR (A) DE EDUCACAO BASICA","CELETISTA","2023-01-01",30,"2024-01-01","2022-12-31","2023-12-31","30709-44927",{"$f":"G1579-SUMIF(ESCALA!$B$14:$B$15,DADOS!K1579,ESCALA!$I$14:$I$15)","v":30}]
[30742,30742,"VIVIANE CRISTINA LEIVA DA ROCHA","PROFESSOR (A) DE EDUCACAO BASICA","ESTATUTARIO","2022-08-22",30,"2023-08-22","2022-08-31","2023-07-31","30742-44795",{"$f":"G1580-SUMIF(ESCALA!$B$14:$B$15,DADOS!K1580,ESCALA!$I$14:$I$15)","v":30}]
[30742,30742,"VIVIANE CRISTINA LEIVA DA ROCHA","PROFESSOR (A) DE EDUCACAO BASICA","ESTATUTARIO","2023-08-22",30,"2024-08-22","2023-08-31","2024-07-31","30742-45160",{"$f":"G1581-SUMIF(ESCALA!$B$14:$B$15,DADOS!K1581,ESCALA!$I$14:$I$15)","v":30}]
[30861,30861,"ROSEMARA RIBEIRO SANTOS","PROFESSOR (A) DE EDUCAÇÃO BÁSICA","CELETISTA","2023-01-01",30,"2024-01-01","2022-12-31","2023-12-31","30861-44927",{"$f":"G1582-SUMIF(ESCALA!$B$14:$B$15,DADOS!K1582,ESCALA!$I$14:$I$15)","v":30}]
[30865,30865,"VANUSA RIBEIRO DOS SANTOS","PROFESSOR (A) COORDENADOR (A)  PEDAGOGICO (A)","ESTATUTARIO","2023-01-01",30,"2024-01-01","2023-01-31","2023-12-31","30865-44927",{"$f":"G1583-SUMIF(ESCALA!$B$14:$B$15,DADOS!K1583,ESCALA!$I$14:$I$15)","v":30}]
[30866,30866,"RITA LACERDA DANIEL SUGIGAN","PROFESSOR (A) DE EDUCACAO BASICA","ESTATUTARIO","2023-01-01",30,"2024-01-01","2023-01-31","2023-12-31","30866-44927",{"$f":"G1584-SUMIF(ESCALA!$B$14:$B$15,DADOS!K1584,ESCALA!$I$14:$I$15)","v":30}]
[30867,30867,"ROSELI ALVES DOS SANTOS","PROFESSOR (A) DE EDUCACAO BASICA","ESTATUTARIO","2023-01-01",30,"2024-01-01","2023-01-31","2023-12-31","30867-44927",{"$f":"G1585-SUMIF(ESCALA!$B$14:$B$15,DADOS!K1585,ESCALA!$I$14:$I$15)","v":30}]
[30869,30869,"FATIMA APARECIDA DE SOUZA BRITO","PROFESSOR (A) DE EDUCACAO BASICA","ESTATUTARIO","2022-09-30",30,"2023-09-30","2022-09-30","2023-08-31","30869-44834",{"$f":"G1586-SUMIF(ESCALA!$B$14:$B$15,DADOS!K1586,ESCALA!$I$14:$I$15)","v":30}]
[30869,30869,"FATIMA APARECIDA DE SOUZA BRITO","PROFESSOR (A) DE EDUCACAO BASICA","ESTATUTARIO","2023-09-30",30,"2024-09-30","2023-09-30","2024-08-31","30869-45199",{"$f":"G1587-SUMIF(ESCALA!$B$14:$B$15,DADOS!K1587,ESCALA!$I$14:$I$15)","v":30}]
[30871,30871,"MARISA DOS SANTOS MICHESKI","PROFESSOR (A) DE EDUCACAO BASICA","CELETISTA","2023-01-01",30,"2024-01-01","2022-12-31","2023-12-31","30871-44927",{"$f":"G1588-SUMIF(ESCALA!$B$14:$B$15,DADOS!K1588,ESCALA!$I$14:$I$15)","v":30}]
[30873,30873,"MARCIA APARECIDA ALVES DOMINGUES","PROFESSOR (A) DE EDUCAÇÃO BASICA","CELETISTA","2022-04-26",30,"2023-04-26","2022-03-31","2023-03-31","30873-44677",{"$f":"G1589-SUMIF(ESCALA!$B$14:$B$15,DADOS!K1589,ESCALA!$I$14:$I$15)","v":30}]
[30873,30873,"MARCIA APARECIDA ALVES DOMINGUES","PROFESSOR (A) DE EDUCAÇÃO BASICA","CELETISTA","2023-04-26",30,"2024-04-26","2023-03-31","2024-03-31","30873-45042",{"$f":"G1590-SUMIF(ESCALA!$B$14:$B$15,DADOS!K1590,ESCALA!$I$14:$I$15)","v":30}]
[30874,30874,"TANIA FERREIRA LIMA","PROFESSOR (A) DE EDUCAÇÃO BÁSICA","ESTATUTARIO","2023-01-01",30,"2024-01-01","2023-01-31","2023-12-31","30874-44927",{"$f":"G1591-SUMIF(ESCALA!$B$14:$B$15,DADOS!K1591,ESCALA!$I$14:$I$15)","v":30}]
[30876,30876,"ALEXANDRA DE MELO SOUZA SILVA","PROFESSOR (A) DE EDUCACAO BASICA","ESTATUTARIO","2023-01-01",30,"2024-01-01","2023-01-31","2023-12-31","30876-44927",{"$f":"G1592-SUMIF(ESCALA!$B$14:$B$15,DADOS!K1592,ESCALA!$I$14:$I$15)","v":30}]
[30881,30881,"SILVANA GAVIOLLI BOMFIM","PROFESSOR (A) DE EDUCACAO BASICA","ESTATUTARIO","2023-01-01",30,"2024-01-01","2023-01-31","2023-12-31","30881-44927",{"$f":"G1593-SUMIF(ESCALA!$B$14:$B$15,DADOS!K1593,ESCALA!$I$14:$I$15)","v":30}]
[30882,30882,"SONIA SILVA BOTE","PROFESSOR (A) DE EDUCAÇÃO BASICA","CELETISTA","2023-01-01",30,"2024-01-01","2022-12-31","2023-12-31","30882-44927",{"$f":"G1594-SUMIF(ESCALA!$B$14:$B$15,DADOS!K1594,ESCALA!$I$14:$I$15)","v":30}]
[30883,30883,"LISANDRI SANCHES PADOVAN","PROFESSOR (A) DE EDUCAÇÃO BÁSICA","ESTATUTARIO","2023-01-01",30,"2024-01-01","2023-01-31","2023-12-31","30883-44927",{"$f":"G1595-SUMIF(ESCALA!$B$14:$B$15,DADOS!K1595,ESCALA!$I$14:$I$15)","v":30}]
[30885,30885,"CRISTIANE DALILA AFONSO","PROFESSOR (A) DE EDUCAÇÃO BÁSICA","ESTATUTARIO","2022-02-16",30,"2023-02-16","2022-02-28","2023-01-31","30885-44608",{"$f":"G1596-SUMIF(ESCALA!$B$14:$B$15,DADOS!K1596,ESCALA!$I$14:$I$15)","v":30}]
[30885,30885,"CRISTIANE DALILA AFONSO","PROFESSOR (A) DE EDUCAÇÃO BÁSICA","ESTATUTARIO","2023-02-16",30,"2024-02-16","2023-02-28","2024-01-31","30885-44973",{"$f":"G1597-SUMIF(ESCALA!$B$14:$B$15,DADOS!K1597,ESCALA!$I$14:$I$15)","v":30}]
[30890,30890,"MARGARETH RANGEL LOPES DE ALMEIDA","PROFESSOR (A) DE EDUCAÇÃO BÁSICA","ESTATUTARIO","2023-01-01",30,"2024-01-01","2023-01-31","2023-12-31","30890-44927",{"$f":"G1598-SUMIF(ESCALA!$B$14:$B$15,DADOS!K1598,ESCALA!$I$14:$I$15)","v":30}]
[30893,30893,"MARIA DE FATIMA MARQUES DE FREITAS SILVA","PROFESSOR (A) DE EDUCAÇÃO BASICA","CELETISTA","2023-01-01",30,"2024-01-01","2022-12-31","2023-12-31","30893-44927",{"$f":"G1599-SUMIF(ESCALA!$B$14:$B$15,DADOS!K1599,ESCALA!$I$14:$I$15)","v":30}]
[30894,30894,"EDILEUZA VIEIRA DA SILVA DE SOUZA","PROFESSOR (A) DE EDUCACAO BASICA","ESTATUTARIO","2023-01-01",30,"2024-01-01","2023-01-31","2023-12-31","30894-44927",{"$f":"G1600-SUMIF(ESCALA!$B$14:$B$15,DADOS!K1600,ESCALA!$I$14:$I$15)","v":30}]
[30896,30896,"JOZANA CARLA SOARES BOMFIM","VICE-DIRETOR (A) DE ESCOLA","ESTATUTARIO","2023-01-01",30,"2024-01-01","2023-01-31","2023-12-31","30896-44927",{"$f":"G1601-SUMIF(ESCALA!$B$14:$B$15,DADOS!K1601,ESCALA!$I$14:$I$15)","v":30}]
[30901,30901,"LUZILEIA TAMANDARE MURICY","PROFESSOR (A) DE EDUCACAO BASICA","ESTATUTARIO","2023-01-01",30,"2024-01-01","2023-01-31","2023-12-31","30901-44927",{"$f":"G1602-SUMIF(ESCALA!$B$14:$B$15,DADOS!K1602,ESCALA!$I$14:$I$15)","v":30}]
[{"$f":"IF(L1603=0,\"\",B1603)","v":30902},30902,"DYLENE AKIYAMA SAPORITO FABIANO","PROFESSOR (A) DE EDUCAÇÃO BÁSICA","ESTATUTARIO","2023-01-01",30,{"$f":"IF(F1603<=44985,F1603+365,F1603+366)","v":"2024-01-01"},"2023-01-31","2023-12-31",{"$f":"CONCATENATE(B1603,\"-\",F1603)","v":"30902-44927"},{"$f":"G1603-SUMIF(ESCALA!$B$14:$B$15,DADOS!K1603,ESCALA!$I$14:$I$15)","v":30}]
[30903,30903,"MARLUCIA MARTINS GALDINO","PROFESSOR (A) DE EDUCAÇÃO BASICA","CELETISTA","2022-04-09",30,"2023-04-09",{"$f":"IF(E1604=\"ESTATUTARIO\",EOMONTH(F1604,0),EOMONTH(F1604,-1))","v":"2022-03-31"},{"$f":"EOMONTH(F1604,11)","v":"2023-03-31"},"30903-44660",{"$f":"G1604-SUMIF(ESCALA!$B$14:$B$15,DADOS!K1604,ESCALA!$I$14:$I$15)","v":30}]
[30903,30903,"MARLUCIA MARTINS GALDINO","PROFESSOR (A) DE EDUCAÇÃO BASICA","CELETISTA","2023-04-09",30,"2024-04-09","2023-03-31","2024-03-31","30903-45025",{"$f":"G1605-SUMIF(ESCALA!$B$14:$B$15,DADOS!K1605,ESCALA!$I$14:$I$15)","v":30}]
[30904,30904,"LENI FERREIRA FREITAS","SUPERVISOR (A) ESCOLAR","ESTATUTARIO","2023-01-01",30,"2024-01-01","2023-01-31","2023-12-31","30904-44927",{"$f":"G1606-SUMIF(ESCALA!$B$14:$B$15,DADOS!K1606,ESCALA!$I$14:$I$15)","v":30}]
[30905,30905,"MARIA SILVETE LUCAS ALVES","PROFESSOR (A) DE EDUCACAO BASICA","CELETISTA","2023-01-01",30,"2024-01-01","2022-12-31","2023-12-31","30905-44927",{"$f":"G1607-SUMIF(ESCALA!$B$14:$B$15,DADOS!K1607,ESCALA!$I$14:$I$15)","v":30}]
[30906,30906,"GISELE GONZALEZ SOUZA","PROFESSOR (A) DE EDUCACAO BASICA","ESTATUTARIO","2023-01-01",30,"2024-01-01","2023-01-31","2023-12-31","30906-44927",{"$f":"G1608-SUMIF(ESCALA!$B$14:$B$15,DADOS!K1608,ESCALA!$I$14:$I$15)","v":30}]
[30907,30907,"MARIA DA PENHA CORREA DELFINO","PROFESSOR (A) DE EDUCACAO BASICA","CELETISTA","2023-01-01",30,"2024-01-01","2022-12-31","2023-12-31","30907-44927",{"$f":"G1609-SUMIF(ESCALA!$B$14:$B$15,DADOS!K1609,ESCALA!$I$14:$I$15)","v":30}]
[30908,30908,"MONICA APARECIDA ALVES DA SILVA","PROFESSOR (A) DE EDUCACAO BASICA","ESTATUTARIO","2023-01-01",30,"2024-01-01","2023-01-31","2023-12-31","30908-44927",{"$f":"G1610-SUMIF(ESCALA!$B$14:$B$15,DADOS!K1610,ESCALA!$I$14:$I$15)","v":30}]
[30917,30917,"LUCIA HELENA KAISER PEREIRA CARNEIRO","PROFESSOR (A) DE EDUCACAO BASICA","ESTATUTARIO","2023-01-01",30,"2024-01-01","2023-01-31","2023-12-31","30917-44927",{"$f":"G1611-SUMIF(ESCALA!$B$14:$B$15,DADOS!K1611,ESCALA!$I$14:$I$15)","v":30}]
[30919,30919,"ELISANGELA CABRAL DA SILVA","PROFESSOR (A) DE EDUCACAO BASICA","ESTATUTARIO","2023-01-01",30,"2024-01-01","2023-01-31","2023-12-31","30919-44927",{"$f":"G1612-SUMIF(ESCALA!$B$14:$B$15,DADOS!K1612,ESCALA!$I$14:$I$15)","v":30}]
[30920,30920,"REGILENE DE LIMA MARQUES","PROFESSOR (A) DE EDUCACAO BASICA","ESTATUTARIO","2023-01-01",30,"2024-01-01","2023-01-31","2023-12-31","30920-44927",{"$f":"G1613-SUMIF(ESCALA!$B$14:$B$15,DADOS!K1613,ESCALA!$I$14:$I$15)","v":30}]
[30921,30921,"ELIANE DOS SANTOS DO NASCIMENTO","PROFESSOR (A) DE EDUCACAO BASICA","ESTATUTARIO","2023-01-01",30,"2024-01-01","2023-01-31","2023-12-31","30921-44927",{"$f":"G1614-SUMIF(ESCALA!$B$14:$B$15,DADOS!K1614,ESCALA!$I$14:$I$15)","v":30}]
[30923,30923,"MIRIAM APARECIDA MARQUES DE CAMPOS","VICE-DIRETOR (A) DE ESCOLA","ESTATUTARIO","2023-01-01",30,"2024-01-01","2023-01-31","2023-12-31","30923-44927",{"$f":"G1615-SUMIF(ESCALA!$B$14:$B$15,DADOS!K1615,ESCALA!$I$14:$I$15)","v":30}]
[30924,30924,"MARCIA REGINA DE ARAUJO","PROFESSOR (A) DE EDUCAÇÃO BÁSICA","ESTATUTARIO","2023-01-01",30,"2024-01-01","2023-01-31","2023-12-31","30924-44927",{"$f":"G1616-SUMIF(ESCALA!$B$14:$B$15,DADOS!K1616,ESCALA!$I$14:$I$15)","v":30}]
[30926,30926,"ROSANA POMPEO DA SILVA","PROFESSOR (A) DE EDUCAÇÃO BÁSICA","ESTATUTARIO","2022-12-31",30,"2023-12-31","2022-12-31","2023-11-30","30926-44926",{"$f":"G1617-SUMIF(ESCALA!$B$14:$B$15,DADOS!K1617,ESCALA!$I$14:$I$15)","v":30}]
[30926,30926,"ROSANA POMPEO DA SILVA","PROFESSOR (A) DE EDUCAÇÃO BÁSICA","ESTATUTARIO","2023-12-31",30,"2024-12-31","2023-12-31","2024-11-30","30926-45291",{"$f":"G1618-SUMIF(ESCALA!$B$14:$B$15,DADOS!K1618,ESCALA!$I$14:$I$15)","v":30}]
[30928,30928,"ELISANGELA GOMES DA SILVA","PROFESSOR (A) DE EDUCACAO BASICA","ESTATUTARIO","2023-01-01",30,"2024-01-01","2023-01-31","2023-12-31","30928-44927",{"$f":"G1619-SUMIF(ESCALA!$B$14:$B$15,DADOS!K1619,ESCALA!$I$14:$I$15)","v":30}]
[30930,30930,"FLAVIA CRISTINA BELLO CARDOSO","PROFESSOR (A) DE EDUCACAO BASICA","ESTATUTARIO","2023-01-01",30,"2024-01-01","2023-01-31","2023-12-31","30930-44927",{"$f":"G1620-SUMIF(ESCALA!$B$14:$B$15,DADOS!K1620,ESCALA!$I$14:$I$15)","v":30}]
[30932,30932,"ANA LUCIA PEREIRA SANTOS DE LIMA","PROFESSOR (A) DE EDUCAÇÃO BÁSICA","ESTATUTARIO","2023-01-01",30,"2024-01-01","2023-01-31","2023-12-31","30932-44927",{"$f":"G1621-SUMIF(ESCALA!$B$14:$B$15,DADOS!K1621,ESCALA!$I$14:$I$15)","v":30}]
[30935,30935,"MARTA CAVICCHIOLI PLACA ALVES","PROFESSOR (A) DE EDUCAÇÃO BASICA","CELETISTA","2023-01-01",30,"2024-01-01","2022-12-31","2023-12-31","30935-44927",{"$f":"G1622-SUMIF(ESCALA!$B$14:$B$15,DADOS!K1622,ESCALA!$I$14:$I$15)","v":30}]
[30936,30936,"CLAUDIA GLORIA FLORIANO DOS SANTOS","PROFESSOR (A) DE EDUCACAO BASICA","ESTATUTARIO","2023-01-01",30,"2024-01-01","2023-01-31","2023-12-31","30936-44927",{"$f":"G1623-SUMIF(ESCALA!$B$14:$B$15,DADOS!K1623,ESCALA!$I$14:$I$15)","v":30}]
[30941,30941,"MARIA DA CONCEICAO DOMINGOS DE SOUZA","PROFESSOR (A) DE EDUCAÇÃO BASICA","CELETISTA","2023-01-01",30,"2024-01-01","2022-12-31","2023-12-31","30941-44927",{"$f":"G1624-SUMIF(ESCALA!$B$14:$B$15,DADOS!K1624,ESCALA!$I$14:$I$15)","v":30}]
[30944,30944,"CLAUDIA BADIALI SANTANA","PROFESSOR (A) DE EDUCACAO BASICA","ESTATUTARIO","2023-01-01",30,"2024-01-01","2023-01-31","2023-12-31","30944-44927",{"$f":"G1625-SUMIF(ESCALA!$B$14:$B$15,DADOS!K1625,ESCALA!$I$14:$I$15)","v":30}]
[30945,30945,"EDNA DE SOUZA","PROFESSOR (A) DE EDUCAÇÃO BASICA","CELETISTA","2023-01-01",30,"2024-01-01","2022-12-31","2023-12-31","30945-44927",{"$f":"G1626-SUMIF(ESCALA!$B$14:$B$15,DADOS!K1626,ESCALA!$I$14:$I$15)","v":30}]
[30948,30948,"SORAIA CRISTINA GRANADO MOYA","PROFESSOR (A) DE EDUCAÇÃO BASICA","CELETISTA","2023-01-01",30,"2024-01-01","2022-12-31","2023-12-31","30948-44927",{"$f":"G1627-SUMIF(ESCALA!$B$14:$B$15,DADOS!K1627,ESCALA!$I$14:$I$15)","v":30}]
[30950,30950,"ADRIANA ARAUJO LIMA ANSELMO","VICE-DIRETOR (A) DE ESCOLA","ESTATUTARIO","2023-01-01",30,"2024-01-01","2023-01-31","2023-12-31","30950-44927",{"$f":"G1628-SUMIF(ESCALA!$B$14:$B$15,DADOS!K1628,ESCALA!$I$14:$I$15)","v":30}]
[30951,30951,"MARTA MARIA MACEDO","PROFESSOR (A) DE EDUCACAO BASICA","CELETISTA","2023-01-01",30,"2024-01-01","2022-12-31","2023-12-31","30951-44927",{"$f":"G1629-SUMIF(ESCALA!$B$14:$B$15,DADOS!K1629,ESCALA!$I$14:$I$15)","v":30}]
[30952,30952,"DEBORA ARRUDA JACO","PROFESSOR (A) DE EDUCACAO BASICA","ESTATUTARIO","2023-01-01",30,"2024-01-01","2023-01-31","2023-12-31","30952-44927",{"$f":"G1630-SUMIF(ESCALA!$B$14:$B$15,DADOS!K1630,ESCALA!$I$14:$I$15)","v":30}]
[30960,30960,"MONICA RAMOS DE SOUZA SANTOS","PROFESSOR (A) DE EDUCACAO BASICA","ESTATUTARIO","2023-01-01",30,"2024-01-01","2023-01-31","2023-12-31","30960-44927",{"$f":"G1631-SUMIF(ESCALA!$B$14:$B$15,DADOS!K1631,ESCALA!$I$14:$I$15)","v":30}]
[30961,30961,"MARIA ISABEL COSTA RODRIGUES","PROFESSOR (A) DE EDUCAÇÃO BASICA","CELETISTA","2023-01-01",30,"2024-01-01","2022-12-31","2023-12-31","30961-44927",{"$f":"G1632-SUMIF(ESCALA!$B$14:$B$15,DADOS!K1632,ESCALA!$I$14:$I$15)","v":30}]
[30964,30964,"VIVIANE DE OLIVEIRA NUNES","PROFESSOR (A) COORDENADOR (A)  PEDAGOGICO (A)","ESTATUTARIO","2023-01-01",30,"2024-01-01","2023-01-31","2023-12-31","30964-44927",{"$f":"G1633-SUMIF(ESCALA!$B$14:$B$15,DADOS!K1633,ESCALA!$I$14:$I$15)","v":30}]
[30965,30965,"KELCI GOMES DA SILVA","PROFESSOR (A) DE EDUCAÇÃO BÁSICA","ESTATUTARIO","2023-01-01",30,"2024-01-01","2023-01-31","2023-12-31","30965-44927",{"$f":"G1634-SUMIF(ESCALA!$B$14:$B$15,DADOS!K1634,ESCALA!$I$14:$I$15)","v":30}]
[30966,30966,"VALERIA BRUNELLI ALVES DA SILVA","PROFESSOR (A) DE EDUCAÇÃO BÁSICA","ESTATUTARIO","2023-01-01",30,"2024-01-01","2023-01-31","2023-12-31","30966-44927",{"$f":"G1635-SUMIF(ESCALA!$B$14:$B$15,DADOS!K1635,ESCALA!$I$14:$I$15)","v":30}]
[30968,30968,"RITA DE CASSIA MELLO ALVES","PROFESSOR (A) DE EDUCACAO BASICA","ESTATUTARIO","2023-01-01",30,"2024-01-01","2023-01-31","2023-12-31","30968-44927",{"$f":"G1636-SUMIF(ESCALA!$B$14:$B$15,DADOS!K1636,ESCALA!$I$14:$I$15)","v":30}]
[30970,30970,"SUZI ALVES DE OLIVEIRA CALVO","PROFESSOR (A) DE EDUCACAO BASICA","ESTATUTARIO","2023-01-01",30,"2024-01-01","2023-01-31","2023-12-31","30970-44927",{"$f":"G1637-SUMIF(ESCALA!$B$14:$B$15,DADOS!K1637,ESCALA!$I$14:$I$15)","v":30}]
[30971,30971,"ANA ROSA PANNOCCHIA SILVA","PROFESSOR (A) DE EDUCACAO BASICA","ESTATUTARIO","2023-01-01",30,"2024-01-01","2023-01-31","2023-12-31","30971-44927",{"$f":"G1638-SUMIF(ESCALA!$B$14:$B$15,DADOS!K1638,ESCALA!$I$14:$I$15)","v":30}]
[30974,30974,"GRACIANA BILECKI FERREIRA REZENDE","PROFESSOR (A) DE EDUCACAO BASICA","CELETISTA","2023-01-01",30,"2024-01-01","2022-12-31","2023-12-31","30974-44927",{"$f":"G1639-SUMIF(ESCALA!$B$14:$B$15,DADOS!K1639,ESCALA!$I$14:$I$15)","v":30}]
[30975,30975,"JOSEFA MARIA ALVES DA SILVA","PROFESSOR (A) DE EDUCAÇÃO BASICA","CELETISTA","2023-01-01",30,"2024-01-01","2022-12-31","2023-12-31","30975-44927",{"$f":"G1640-SUMIF(ESCALA!$B$14:$B$15,DADOS!K1640,ESCALA!$I$14:$I$15)","v":30}]
[30980,30980,"MIRIAM DA SILVA","PROFESSOR (A) DE EDUCACAO BASICA","ESTATUTARIO","2023-01-01",30,"2024-01-01","2023-01-31","2023-12-31","30980-44927",{"$f":"G1641-SUMIF(ESCALA!$B$14:$B$15,DADOS!K1641,ESCALA!$I$14:$I$15)","v":30}]
[30982,30982,"TATIANA CARRASCO MOREIRA","PROFESSOR (A) DE EDUCACAO BASICA","ESTATUTARIO","2023-01-01",30,"2024-01-01","2023-01-31","2023-12-31","30982-44927",{"$f":"G1642-SUMIF(ESCALA!$B$14:$B$15,DADOS!K1642,ESCALA!$I$14:$I$15)","v":30}]
[30984,30984,"ELISETE APARECIDA PINTO DA SILVA ","PROFESSOR (A) DE EDUCAÇÃO BASICA","CELETISTA","2023-01-01",30,"2024-01-01","2022-12-31","2023-12-31","30984-44927",{"$f":"G1643-SUMIF(ESCALA!$B$14:$B$15,DADOS!K1643,ESCALA!$I$14:$I$15)","v":30}]
[30985,30985,"DIRCE DE MORAES SENA MOREIRA","PROFESSOR (A) DE EDUCACAO BASICA","ESTATUTARIO","2023-01-01",30,"2024-01-01","2023-01-31","2023-12-31","30985-44927",{"$f":"G1644-SUMIF(ESCALA!$B$14:$B$15,DADOS!K1644,ESCALA!$I$14:$I$15)","v":30}]
[30989,30989,"LUCIANA MARIA VIEIRA NUNES","PROFESSOR (A) DE EDUCACAO BASICA","ESTATUTARIO","2023-01-01",30,"2024-01-01","2023-01-31","2023-12-31","30989-44927",{"$f":"G1645-SUMIF(ESCALA!$B$14:$B$15,DADOS!K1645,ESCALA!$I$14:$I$15)","v":30}]
[30991,30991,"MARIA DA GLORIA DE JESUS BARBOSA","PROFESSOR (A) DE EDUCAÇÃO BASICA","CELETISTA","2023-01-01",30,"2024-01-01","2022-12-31","2023-12-31","30991-44927",{"$f":"G1646-SUMIF(ESCALA!$B$14:$B$15,DADOS!K1646,ESCALA!$I$14:$I$15)","v":30}]
[30992,30992,"CAMILA POZI BALDUQUE EMER","PROFESSOR (A) DE EDUCACAO BASICA","ESTATUTARIO","2023-01-01",30,"2024-01-01","2023-01-31","2023-12-31","30992-44927",{"$f":"G1647-SUMIF(ESCALA!$B$14:$B$15,DADOS!K1647,ESCALA!$I$14:$I$15)","v":30}]
[30993,30993,"ROSENEIDE APARECIDA PEDROZO","PROFESSOR (A) DE EDUCAÇÃO BASICA","CELETISTA","2023-01-01",30,"2024-01-01","2022-12-31","2023-12-31","30993-44927",{"$f":"G1648-SUMIF(ESCALA!$B$14:$B$15,DADOS!K1648,ESCALA!$I$14:$I$15)","v":30}]
[30994,30994,"JOSEFA PEREIRA LOPES DE SOUSA","DIRETOR (A) DE ESCOLA","CELETISTA","2022-10-04",30,"2023-10-04","2022-09-30","2023-09-30","30994-44838",{"$f":"G1649-SUMIF(ESCALA!$B$14:$B$15,DADOS!K1649,ESCALA!$I$14:$I$15)","v":30}]
[30994,30994,"JOSEFA PEREIRA LOPES DE SOUSA","DIRETOR (A) DE ESCOLA","CELETISTA","2023-10-04",30,"2024-10-04","2023-09-30","2024-09-30","30994-45203",{"$f":"G1650-SUMIF(ESCALA!$B$14:$B$15,DADOS!K1650,ESCALA!$I$14:$I$15)","v":30}]
[30996,30996,"ANA PAULA DE ANDRADE SILVA","PROFESSOR (A) DE EDUCACAO BASICA","ESTATUTARIO","2023-01-01",30,"2024-01-01","2023-01-31","2023-12-31","30996-44927",{"$f":"G1651-SUMIF(ESCALA!$B$14:$B$15,DADOS!K1651,ESCALA!$I$14:$I$15)","v":30}]
[30998,30998,"ANA LUCIA RODRIGUES MARCONDES","PROFESSOR (A) DE EDUCACAO BASICA","ESTATUTARIO","2023-01-01",30,"2024-01-01","2023-01-31","2023-12-31","30998-44927",{"$f":"G1652-SUMIF(ESCALA!$B$14:$B$15,DADOS!K1652,ESCALA!$I$14:$I$15)","v":30}]
[31000,31000,"INES APARECIDA FRANCO DE MATOS","COORDENADOR (A) DE PROGRAMAS EDUCACIONAIS","CELETISTA","2023-01-01",30,"2024-01-01","2022-12-31","2023-12-31","31000-44927",{"$f":"G1653-SUMIF(ESCALA!$B$14:$B$15,DADOS!K1653,ESCALA!$I$14:$I$15)","v":30}]
[31001,31001,"SILVANA TERESINHA SECATO BRITO","PROFESSOR (A) DE EDUCACAO BASICA","ESTATUTARIO","2023-01-01",30,"2024-01-01","2023-01-31","2023-12-31","31001-44927",{"$f":"G1654-SUMIF(ESCALA!$B$14:$B$15,DADOS!K1654,ESCALA!$I$14:$I$15)","v":30}]
[31002,31002,"ANA BELA NEVES DA MATA DOS SANTOS","PROFESSOR (A) DE EDUCAÇÃO BÁSICA","CELETISTA","2023-01-01",30,"2024-01-01","2022-12-31","2023-12-31","31002-44927",{"$f":"G1655-SUMIF(ESCALA!$B$14:$B$15,DADOS!K1655,ESCALA!$I$14:$I$15)","v":30}]
[31003,31003,"MEIRE DOS SANTOS THEODORO","PROFESSOR (A) DE EDUCACAO BASICA","ESTATUTARIO","2023-01-01",30,"2024-01-01","2023-01-31","2023-12-31","31003-44927",{"$f":"G1656-SUMIF(ESCALA!$B$14:$B$15,DADOS!K1656,ESCALA!$I$14:$I$15)","v":30}]
[31009,31009,"RUTH APOLINARIO DA SILVA","PROFESSOR (A) DE EDUCACAO BASICA","ESTATUTARIO","2023-01-01",30,"2024-01-01","2023-01-31","2023-12-31","31009-44927",{"$f":"G1657-SUMIF(ESCALA!$B$14:$B$15,DADOS!K1657,ESCALA!$I$14:$I$15)","v":30}]
[31010,31010,"MARIA JOSE RONQUE CASTANHEIRO","PROFESSOR (A) DE EDUCACAO BASICA","CELETISTA","2022-12-23",30,"2023-12-23","2022-11-30","2023-11-30","31010-44918",{"$f":"G1658-SUMIF(ESCALA!$B$14:$B$15,DADOS!K1658,ESCALA!$I$14:$I$15)","v":30}]
[31010,31010,"MARIA JOSE RONQUE CASTANHEIRO","PROFESSOR (A) DE EDUCACAO BASICA","CELETISTA","2023-12-23",30,"2024-12-23","2023-11-30","2024-11-30","31010-45283",{"$f":"G1659-SUMIF(ESCALA!$B$14:$B$15,DADOS!K1659,ESCALA!$I$14:$I$15)","v":30}]
[31012,31012,"MONICA REGINA TEIXEIRA DE MELO NASCIMENTO","PROFESSOR (A) DE EDUCACAO BASICA","ESTATUTARIO","2023-01-01",30,"2024-01-01","2023-01-31","2023-12-31","31012-44927",{"$f":"G1660-SUMIF(ESCALA!$B$14:$B$15,DADOS!K1660,ESCALA!$I$14:$I$15)","v":30}]
[31016,31016,"MARIA APARECIDA SEVERINO DOS SANTOS","COORDENADOR (A) DE PROGRAMAS EDUCACIONAIS","CELETISTA","2023-01-01",30,"2024-01-01","2022-12-31","2023-12-31","31016-44927",{"$f":"G1661-SUMIF(ESCALA!$B$14:$B$15,DADOS!K1661,ESCALA!$I$14:$I$15)","v":30}]
[31020,31020,"MIRIAM ALVES PEREIRA","PROFESSOR (A) DE EDUCAÇÃO BASICA","CELETISTA","2023-01-01",30,"2024-01-01","2022-12-31","2023-12-31","31020-44927",{"$f":"G1662-SUMIF(ESCALA!$B$14:$B$15,DADOS!K1662,ESCALA!$I$14:$I$15)","v":30}]
[31021,31021,"SERGIO MARCELINO JUNIOR","COORDENADOR (A) DE PROGRAMAS EDUCACIONAIS","ESTATUTARIO","2022-06-02",30,"2023-06-02","2022-06-30","2023-05-31","31021-44714",{"$f":"G1663-SUMIF(ESCALA!$B$14:$B$15,DADOS!K1663,ESCALA!$I$14:$I$15)","v":30}]
[31021,31021,"SERGIO MARCELINO JUNIOR","COORDENADOR (A) DE PROGRAMAS EDUCACIONAIS","ESTATUTARIO","2023-06-02",30,"2024-06-02","2023-06-30","2024-05-31","31021-45079",{"$f":"G1664-SUMIF(ESCALA!$B$14:$B$15,DADOS!K1664,ESCALA!$I$14:$I$15)","v":30}]
[31022,31022,"ELIANA MATIAS DOS SANTOS","PROFESSOR (A) DE EDUCAÇÃO BASICA","CELETISTA","2023-01-01",30,"2024-01-01","2022-12-31","2023-12-31","31022-44927",{"$f":"G1665-SUMIF(ESCALA!$B$14:$B$15,DADOS!K1665,ESCALA!$I$14:$I$15)","v":30}]
[31025,31025,"ROSANGELA APARECIDA DEL BUSSO DE FREITAS","PROFESSOR (A) DE EDUCACAO BASICA","CELETISTA","2023-01-01",30,"2024-01-01","2022-12-31","2023-12-31","31025-44927",{"$f":"G1666-SUMIF(ESCALA!$B$14:$B$15,DADOS!K1666,ESCALA!$I$14:$I$15)","v":30}]
[{"$f":"IF(L1667=0,\"\",B1667)","v":31027},31027,"ROSANIA MARIA DE ARAUJO ALMEIDA","PROFESSOR (A) DE EDUCACAO BASICA","ESTATUTARIO","2023-01-01",30,{"$f":"IF(F1667<=44985,F1667+365,F1667+366)","v":"2024-01-01"},"2023-01-31","2023-12-31",{"$f":"CONCATENATE(B1667,\"-\",F1667)","v":"31027-44927"},{"$f":"G1667-SUMIF(ESCALA!$B$14:$B$15,DADOS!K1667,ESCALA!$I$14:$I$15)","v":30}]
[31034,31034,"ADRIANA NERSESSIAN DEYRMENDJIAN","DIRETOR (A) DE ESCOLA","ESTATUTARIO","2023-01-01",30,"2024-01-01",{"$f":"IF(E1668=\"ESTATUTARIO\",EOMONTH(F1668,0),EOMONTH(F1668,-1))","v":"2023-01-31"},{"$f":"EOMONTH(F1668,11)","v":"2023-12-31"},"31034-44927",{"$f":"G1668-SUMIF(ESCALA!$B$14:$B$15,DADOS!K1668,ESCALA!$I$14:$I$15)","v":30}]
[31112,31112,"MONICA APARECIDA JOSEFIK CELESTINO","AGENTE DE DESENVOLVIMENTO INFANTIL","CELETISTA","2022-04-22",15,"2023-04-22","2022-03-31","2023-03-31","31112-44673",{"$f":"G1669-SUMIF(ESCALA!$B$14:$B$15,DADOS!K1669,ESCALA!$I$14:$I$15)","v":15}]
[31112,31112,"MONICA APARECIDA JOSEFIK CELESTINO","AGENTE DE DESENVOLVIMENTO INFANTIL","CELETISTA","2023-04-22",30,"2024-04-22","2023-03-31","2024-03-31","31112-45038",{"$f":"G1670-SUMIF(ESCALA!$B$14:$B$15,DADOS!K1670,ESCALA!$I$14:$I$15)","v":30}]
[31113,31113,"ANA LICIA RODRIGUES SOUZA ARAUJO","PROFESSOR (A) DE EDUCACAO BASICA","ESTATUTARIO","2022-04-22",30,"2023-04-22","2022-04-30","2023-03-31","31113-44673",{"$f":"G1671-SUMIF(ESCALA!$B$14:$B$15,DADOS!K1671,ESCALA!$I$14:$I$15)","v":30}]
[31113,31113,"ANA LICIA RODRIGUES SOUZA ARAUJO","PROFESSOR (A) DE EDUCACAO BASICA","ESTATUTARIO","2023-04-22",30,"2024-04-22","2023-04-30","2024-03-31","31113-45038",{"$f":"G1672-SUMIF(ESCALA!$B$14:$B$15,DADOS!K1672,ESCALA!$I$14:$I$15)","v":30}]
[31118,31118,"ANDRESSA MARIA DE JESUS","PROFESSOR (A) DE EDUCACAO INFANTIL","ESTATUTARIO","2022-07-12",30,"2023-07-12","2022-07-31","2023-06-30","31118-44754",{"$f":"G1673-SUMIF(ESCALA!$B$14:$B$15,DADOS!K1673,ESCALA!$I$14:$I$15)","v":30}]
[31118,31118,"ANDRESSA MARIA DE JESUS","PROFESSOR (A) DE EDUCACAO INFANTIL","ESTATUTARIO","2023-07-12",30,"2024-07-12","2023-07-31","2024-06-30","31118-45119",{"$f":"G1674-SUMIF(ESCALA!$B$14:$B$15,DADOS!K1674,ESCALA!$I$14:$I$15)","v":30}]
[31121,31121,"KELI CRISTINA MARCOS","PROFESSOR (A) DE EDUCACAO INFANTIL","ESTATUTARIO","2022-04-22",30,"2023-04-22","2022-04-30","2023-03-31","31121-44673",{"$f":"G1675-SUMIF(ESCALA!$B$14:$B$15,DADOS!K1675,ESCALA!$I$14:$I$15)","v":30}]
[31121,31121,"KELI CRISTINA MARCOS","PROFESSOR (A) DE EDUCACAO INFANTIL","ESTATUTARIO","2023-04-22",30,"2024-04-22","2023-04-30","2024-03-31","31121-45038",{"$f":"G1676-SUMIF(ESCALA!$B$14:$B$15,DADOS!K1676,ESCALA!$I$14:$I$15)","v":30}]
[31125,31125,"NANCI CAMBRAIA PENIDO","PROFESSOR (A) DE EDUCACAO INFANTIL","ESTATUTARIO","2022-04-22",30,"2023-04-22","2022-04-30","2023-03-31","31125-44673",{"$f":"G1677-SUMIF(ESCALA!$B$14:$B$15,DADOS!K1677,ESCALA!$I$14:$I$15)","v":30}]
[31125,31125,"NANCI CAMBRAIA PENIDO","PROFESSOR (A) DE EDUCACAO INFANTIL","ESTATUTARIO","2023-04-22",30,"2024-04-22","2023-04-30","2024-03-31","31125-45038",{"$f":"G1678-SUMIF(ESCALA!$B$14:$B$15,DADOS!K1678,ESCALA!$I$14:$I$15)","v":30}]
[31131,31131,"LUANA ROSA DE SOUZA CANO REBOUCAS","PROFESSOR (A) COORDENADOR (A)  PEDAGOGICO (A)","ESTATUTARIO","2022-04-22",30,"2023-04-22","2022-04-30","2023-03-31","31131-44673",{"$f":"G1679-SUMIF(ESCALA!$B$14:$B$15,DADOS!K1679,ESCALA!$I$14:$I$15)","v":30}]
[31131,31131,"LUANA ROSA DE SOUZA CANO REBOUCAS","PROFESSOR (A) COORDENADOR (A)  PEDAGOGICO (A)","ESTATUTARIO","2023-04-22",30,"2024-04-22","2023-04-30","2024-03-31","31131-45038",{"$f":"G1680-SUMIF(ESCALA!$B$14:$B$15,DADOS!K1680,ESCALA!$I$14:$I$15)","v":30}]
[31132,31132,"MARIA HELENA PINTO","PROFESSOR (A) DE EDUCAÇÃO BÁSICA","ESTATUTARIO","2022-04-22",30,"2023-04-22","2022-04-30","2023-03-31","31132-44673",{"$f":"G1681-SUMIF(ESCALA!$B$14:$B$15,DADOS!K1681,ESCALA!$I$14:$I$15)","v":30}]
[31132,31132,"MARIA HELENA PINTO","PROFESSOR (A) DE EDUCAÇÃO BÁSICA","ESTATUTARIO","2023-04-22",30,"2024-04-22","2023-04-30","2024-03-31","31132-45038",{"$f":"G1682-SUMIF(ESCALA!$B$14:$B$15,DADOS!K1682,ESCALA!$I$14:$I$15)","v":30}]
[31140,31140,"ESPEDITO FERREIRA DA SILVA","AUXILIAR OPERACIONAL","CELETISTA","2023-04-22",30,"2024-04-22","2023-03-31","2024-03-31","31140-45038",{"$f":"G1683-SUMIF(ESCALA!$B$14:$B$15,DADOS!K1683,ESCALA!$I$14:$I$15)","v":30}]
[31142,31142,"CAROLINA CARVALHO MONTEIRO FIGUEIREDO","PROFESSOR (A) DE EDUCACAO BASICA","ESTATUTARIO","2023-01-01",30,"2024-01-01","2023-01-31","2023-12-31","31142-44927",{"$f":"G1684-SUMIF(ESCALA!$B$14:$B$15,DADOS!K1684,ESCALA!$I$14:$I$15)","v":30}]
[31148,31148,"VANESSA LEMES DA SILVA","ASSISTENTE DE GESTAO ESCOLAR","ESTATUTARIO","2022-04-23",30,"2023-04-23","2022-04-30","2023-03-31","31148-44674",{"$f":"G1685-SUMIF(ESCALA!$B$14:$B$15,DADOS!K1685,ESCALA!$I$14:$I$15)","v":30}]
[31148,31148,"VANESSA LEMES DA SILVA","ASSISTENTE DE GESTAO ESCOLAR","ESTATUTARIO","2023-04-23",30,"2024-04-23","2023-04-30","2024-03-31","31148-45039",{"$f":"G1686-SUMIF(ESCALA!$B$14:$B$15,DADOS!K1686,ESCALA!$I$14:$I$15)","v":30}]
[31149,31149,"IOLITA CARDOSO JONES","PROFESSOR (A) DE EDUCAÇÃO BÁSICA","ESTATUTARIO","2022-04-23",30,"2023-04-23","2022-04-30","2023-03-31","31149-44674",{"$f":"G1687-SUMIF(ESCALA!$B$14:$B$15,DADOS!K1687,ESCALA!$I$14:$I$15)","v":30}]
[31149,31149,"IOLITA CARDOSO JONES","PROFESSOR (A) DE EDUCAÇÃO BÁSICA","ESTATUTARIO","2023-04-23",30,"2024-04-23","2023-04-30","2024-03-31","31149-45039",{"$f":"G1688-SUMIF(ESCALA!$B$14:$B$15,DADOS!K1688,ESCALA!$I$14:$I$15)","v":30}]
[31154,31154,"CLEIBER REIS CASTRO","PROFESSOR (A) DE EDUCACAO INFANTIL","ESTATUTARIO","2022-04-23",30,"2023-04-23","2022-04-30","2023-03-31","31154-44674",{"$f":"G1689-SUMIF(ESCALA!$B$14:$B$15,DADOS!K1689,ESCALA!$I$14:$I$15)","v":30}]
[31154,31154,"CLEIBER REIS CASTRO","PROFESSOR (A) DE EDUCACAO INFANTIL","ESTATUTARIO","2023-04-23",30,"2024-04-23","2023-04-30","2024-03-31","31154-45039",{"$f":"G1690-SUMIF(ESCALA!$B$14:$B$15,DADOS!K1690,ESCALA!$I$14:$I$15)","v":30}]
[31155,31155,"ANASTACIA SANTOS DE SOUZA","PROFESSOR (A) DE EDUCAÇÃO BÁSICA","ESTATUTARIO","2022-04-23",30,"2023-04-23","2022-04-30","2023-03-31","31155-44674",{"$f":"G1691-SUMIF(ESCALA!$B$14:$B$15,DADOS!K1691,ESCALA!$I$14:$I$15)","v":30}]
[31155,31155,"ANASTACIA SANTOS DE SOUZA","PROFESSOR (A) DE EDUCAÇÃO BÁSICA","ESTATUTARIO","2023-04-23",30,"2024-04-23","2023-04-30","2024-03-31","31155-45039",{"$f":"G1692-SUMIF(ESCALA!$B$14:$B$15,DADOS!K1692,ESCALA!$I$14:$I$15)","v":30}]
[31176,31176,"ROSIMERE DE LIMA FERREIRA","PROFESSOR (A) DE EDUCACAO BASICA","ESTATUTARIO","2022-04-25",30,"2023-04-25","2022-04-30","2023-03-31","31176-44676",{"$f":"G1693-SUMIF(ESCALA!$B$14:$B$15,DADOS!K1693,ESCALA!$I$14:$I$15)","v":30}]
[31176,31176,"ROSIMERE DE LIMA FERREIRA","PROFESSOR (A) DE EDUCACAO BASICA","ESTATUTARIO","2023-04-25",30,"2024-04-25","2023-04-30","2024-03-31","31176-45041",{"$f":"G1694-SUMIF(ESCALA!$B$14:$B$15,DADOS!K1694,ESCALA!$I$14:$I$15)","v":30}]
[31188,31188,"RAIMUNDA MIRTES DE LIMA","PROFESSOR (A) DE EDUCAÇÃO BASICA","CELETISTA","2023-01-01",30,"2024-01-01","2022-12-31","2023-12-31","31188-44927",{"$f":"G1695-SUMIF(ESCALA!$B$14:$B$15,DADOS!K1695,ESCALA!$I$14:$I$15)","v":30}]
[31190,31190,"LUCINEIDE VIANA GALIZA","PROFESSOR (A) DE EDUCACAO BASICA","ESTATUTARIO","2023-01-01",30,"2024-01-01","2023-01-31","2023-12-31","31190-44927",{"$f":"G1696-SUMIF(ESCALA!$B$14:$B$15,DADOS!K1696,ESCALA!$I$14:$I$15)","v":30}]
[31194,31194,"ERICA CLARINDA IUSI","PROFESSOR (A) DE EDUCAÇÃO BÁSICA","ESTATUTARIO","2023-01-01",30,"2024-01-01","2023-01-31","2023-12-31","31194-44927",{"$f":"G1697-SUMIF(ESCALA!$B$14:$B$15,DADOS!K1697,ESCALA!$I$14:$I$15)","v":30}]
[31197,31197,"EVELYN MESQUITA RIZK","PROFESSOR (A) DE EDUCACAO BASICA","ESTATUTARIO","2023-01-01",30,"2024-01-01","2023-01-31","2023-12-31","31197-44927",{"$f":"G1698-SUMIF(ESCALA!$B$14:$B$15,DADOS!K1698,ESCALA!$I$14:$I$15)","v":30}]
[31200,31200,"ANA MARIA LEITE DA SILVA SANTOS","PROFESSOR (A) DE EDUCAÇÃO BÁSICA","ESTATUTARIO","2023-01-01",30,"2024-01-01","2023-01-31","2023-12-31","31200-44927",{"$f":"G1699-SUMIF(ESCALA!$B$14:$B$15,DADOS!K1699,ESCALA!$I$14:$I$15)","v":30}]
[31202,31202,"MARIA ELIZABETE COTTA DOS SANTOS","PROFESSOR (A) DE EDUCAÇÃO BASICA","CELETISTA","2023-01-01",30,"2024-01-01","2022-12-31","2023-12-31","31202-44927",{"$f":"G1700-SUMIF(ESCALA!$B$14:$B$15,DADOS!K1700,ESCALA!$I$14:$I$15)","v":30}]
[31223,31223,"ANA LUIZA CHAVES MARIANI","PROFESSOR (A) DE EDUCAÇÃO BÁSICA","ESTATUTARIO","2022-05-07",30,"2023-05-07","2022-05-31","2023-04-30","31223-44688",{"$f":"G1701-SUMIF(ESCALA!$B$14:$B$15,DADOS!K1701,ESCALA!$I$14:$I$15)","v":30}]
[31223,31223,"ANA LUIZA CHAVES MARIANI","PROFESSOR (A) DE EDUCAÇÃO BÁSICA","ESTATUTARIO","2023-05-07",30,"2024-05-07","2023-05-31","2024-04-30","31223-45053",{"$f":"G1702-SUMIF(ESCALA!$B$14:$B$15,DADOS!K1702,ESCALA!$I$14:$I$15)","v":30}]
[31225,31225,"CLEUSA RITA RODRIGUES BRANCO","PROFESSOR (A) DE EDUCAÇÃO BASICA","CELETISTA","2022-05-07",30,"2023-05-07","2022-04-30","2023-04-30","31225-44688",{"$f":"G1703-SUMIF(ESCALA!$B$14:$B$15,DADOS!K1703,ESCALA!$I$14:$I$15)","v":30}]
[31225,31225,"CLEUSA RITA RODRIGUES BRANCO","PROFESSOR (A) DE EDUCAÇÃO BASICA","CELETISTA","2023-05-07",30,"2024-05-07","2023-04-30","2024-04-30","31225-45053",{"$f":"G1704-SUMIF(ESCALA!$B$14:$B$15,DADOS!K1704,ESCALA!$I$14:$I$15)","v":30}]
[31227,31227,"TANIA ALVES PAGANO FEITOSA","PROFESSOR (A) DE EDUCAÇÃO BASICA","CELETISTA","2022-05-07",30,"2023-05-07","2022-04-30","2023-04-30","31227-44688",{"$f":"G1705-SUMIF(ESCALA!$B$14:$B$15,DADOS!K1705,ESCALA!$I$14:$I$15)","v":30}]
[31227,31227,"TANIA ALVES PAGANO FEITOSA","PROFESSOR (A) DE EDUCAÇÃO BASICA","CELETISTA","2023-05-07",30,"2024-05-07","2023-04-30","2024-04-30","31227-45053",{"$f":"G1706-SUMIF(ESCALA!$B$14:$B$15,DADOS!K1706,ESCALA!$I$14:$I$15)","v":30}]
[31232,31232,"CLEMILDES GONCALVES DE SOUZA FERREIRA","PROFESSOR (A) DE EDUCACAO BASICA","ESTATUTARIO","2022-05-07",30,"2023-05-07","2022-05-31","2023-04-30","31232-44688",{"$f":"G1707-SUMIF(ESCALA!$B$14:$B$15,DADOS!K1707,ESCALA!$I$14:$I$15)","v":30}]
[31232,31232,"CLEMILDES GONCALVES DE SOUZA FERREIRA","PROFESSOR (A) DE EDUCACAO BASICA","ESTATUTARIO","2023-05-07",30,"2024-05-07","2023-05-31","2024-04-30","31232-45053",{"$f":"G1708-SUMIF(ESCALA!$B$14:$B$15,DADOS!K1708,ESCALA!$I$14:$I$15)","v":30}]
[31242,31242,"CRISTIANE MONTEZE CASCARDO","PROFESSOR (A) DE EDUCACAO BASICA","ESTATUTARIO","2022-05-07",30,"2023-05-07","2022-05-31","2023-04-30","31242-44688",{"$f":"G1709-SUMIF(ESCALA!$B$14:$B$15,DADOS!K1709,ESCALA!$I$14:$I$15)","v":30}]
[31242,31242,"CRISTIANE MONTEZE CASCARDO","PROFESSOR (A) DE EDUCACAO BASICA","ESTATUTARIO","2023-05-07",30,"2024-05-07","2023-05-31","2024-04-30","31242-45053",{"$f":"G1710-SUMIF(ESCALA!$B$14:$B$15,DADOS!K1710,ESCALA!$I$14:$I$15)","v":30}]
[31248,31248,"ANA PAULA REIS FELIX PIRES","CHEFE DE DIVISAO TECNICA","ESTATUTARIO","2023-01-01",30,"2024-01-01","2023-01-31","2023-12-31","31248-44927",{"$f":"G1711-SUMIF(ESCALA!$B$14:$B$15,DADOS!K1711,ESCALA!$I$14:$I$15)","v":30}]
[31249,31249,"KETILI CAVICHIOLI SHIMODA","PROFESSOR (A) DE EDUCACAO BASICA","ESTATUTARIO","2022-05-07",30,"2023-05-07","2022-05-31","2023-04-30","31249-44688",{"$f":"G1712-SUMIF(ESCALA!$B$14:$B$15,DADOS!K1712,ESCALA!$I$14:$I$15)","v":30}]
[31249,31249,"KETILI CAVICHIOLI SHIMODA","PROFESSOR (A) DE EDUCACAO BASICA","ESTATUTARIO","2023-05-07",30,"2024-05-07","2023-05-31","2024-04-30","31249-45053",{"$f":"G1713-SUMIF(ESCALA!$B$14:$B$15,DADOS!K1713,ESCALA!$I$14:$I$15)","v":30}]
[31251,31251,"FABIANA BISKOSKI MORAES DE PAULA","VICE-DIRETOR (A) DE ESCOLA","ESTATUTARIO","2023-01-01",30,"2024-01-01","2023-01-31","2023-12-31","31251-44927",{"$f":"G1714-SUMIF(ESCALA!$B$14:$B$15,DADOS!K1714,ESCALA!$I$14:$I$15)","v":30}]
[31252,31252,"LILIAN MANZARO TAVARES DE LIMA","COORDENADOR (A) DE PROGRAMAS EDUCACIONAIS","ESTATUTARIO","2022-05-07",30,"2023-05-07","2022-05-31","2023-04-30","31252-44688",{"$f":"G1715-SUMIF(ESCALA!$B$14:$B$15,DADOS!K1715,ESCALA!$I$14:$I$15)","v":30}]
[31252,31252,"LILIAN MANZARO TAVARES DE LIMA","COORDENADOR (A) DE PROGRAMAS EDUCACIONAIS","ESTATUTARIO","2023-05-07",30,"2024-05-07","2023-05-31","2024-04-30","31252-45053",{"$f":"G1716-SUMIF(ESCALA!$B$14:$B$15,DADOS!K1716,ESCALA!$I$14:$I$15)","v":30}]
[31253,31253,"JAIR GOMES DE OLIVEIRA","AGENTE DE DESENVOLVIMENTO INFANTIL","ESTATUTARIO","2023-05-07",30,"2024-05-07","2023-05-31","2024-04-30","31253-45053",{"$f":"G1717-SUMIF(ESCALA!$B$14:$B$15,DADOS!K1717,ESCALA!$I$14:$I$15)","v":30}]
[31254,31254,"CARLEIDE MARIA CARVALHO DE ALENCAR","PROFESSOR (A) DE EDUCAÇÃO BÁSICA","CELETISTA","2022-05-07",30,"2023-05-07","2022-04-30","2023-04-30","31254-44688",{"$f":"G1718-SUMIF(ESCALA!$B$14:$B$15,DADOS!K1718,ESCALA!$I$14:$I$15)","v":30}]
[31254,31254,"CARLEIDE MARIA CARVALHO DE ALENCAR","PROFESSOR (A) DE EDUCAÇÃO BÁSICA","CELETISTA","2023-05-07",30,"2024-05-07","2023-04-30","2024-04-30","31254-45053",{"$f":"G1719-SUMIF(ESCALA!$B$14:$B$15,DADOS!K1719,ESCALA!$I$14:$I$15)","v":30}]
[31255,31255,"VANESSA LIDIANE DOMICIANO BEZERRA","PROFESSOR (A) DE EDUCACAO BASICA","ESTATUTARIO","2022-05-07",30,"2023-05-07","2022-05-31","2023-04-30","31255-44688",{"$f":"G1720-SUMIF(ESCALA!$B$14:$B$15,DADOS!K1720,ESCALA!$I$14:$I$15)","v":30}]
[31255,31255,"VANESSA LIDIANE DOMICIANO BEZERRA","PROFESSOR (A) DE EDUCACAO BASICA","ESTATUTARIO","2023-05-07",30,"2024-05-07","2023-05-31","2024-04-30","31255-45053",{"$f":"G1721-SUMIF(ESCALA!$B$14:$B$15,DADOS!K1721,ESCALA!$I$14:$I$15)","v":30}]
[31294,31294,"ZILMA MARIA DE JESUS","PROFESSOR (A) DE EDUCACAO BASICA","ESTATUTARIO","2022-05-27",30,"2023-05-27","2022-05-31","2023-04-30","31294-44708",{"$f":"G1722-SUMIF(ESCALA!$B$14:$B$15,DADOS!K1722,ESCALA!$I$14:$I$15)","v":30}]
[31294,31294,"ZILMA MARIA DE JESUS","PROFESSOR (A) DE EDUCACAO BASICA","ESTATUTARIO","2023-05-27",30,"2024-05-27","2023-05-31","2024-04-30","31294-45073",{"$f":"G1723-SUMIF(ESCALA!$B$14:$B$15,DADOS!K1723,ESCALA!$I$14:$I$15)","v":30}]
[31308,31308,"ERIKA DOS SANTOS SILVA","PROFESSOR (A) DE EDUCACAO BASICA","ESTATUTARIO","2022-06-03",30,"2023-06-03","2022-06-30","2023-05-31","31308-44715",{"$f":"G1724-SUMIF(ESCALA!$B$14:$B$15,DADOS!K1724,ESCALA!$I$14:$I$15)","v":30}]
[31308,31308,"ERIKA DOS SANTOS SILVA","PROFESSOR (A) DE EDUCACAO BASICA","ESTATUTARIO","2023-06-03",30,"2024-06-03","2023-06-30","2024-05-31","31308-45080",{"$f":"G1725-SUMIF(ESCALA!$B$14:$B$15,DADOS!K1725,ESCALA!$I$14:$I$15)","v":30}]
[31323,31323,"SONIA SANTOS DA COSTA BELLO","PROFESSOR (A) DE EDUCACAO BASICA","ESTATUTARIO","2023-01-01",30,"2024-01-01","2023-01-31","2023-12-31","31323-44927",{"$f":"G1726-SUMIF(ESCALA!$B$14:$B$15,DADOS!K1726,ESCALA!$I$14:$I$15)","v":30}]
[31327,31327,"CLAUDIA PEREIRA DO CARMO GUEDES","PROFESSOR (A) DE EDUCAÇÃO BASICA","CELETISTA","2023-01-01",30,"2024-01-01","2022-12-31","2023-12-31","31327-44927",{"$f":"G1727-SUMIF(ESCALA!$B$14:$B$15,DADOS!K1727,ESCALA!$I$14:$I$15)","v":30}]
[31330,31330,"ROSELY LOPES COLLARES TREVISAN","PROFESSOR (A) DE EDUCACAO BASICA","CELETISTA","2023-01-01",30,"2024-01-01","2022-12-31","2023-12-31","31330-44927",{"$f":"G1728-SUMIF(ESCALA!$B$14:$B$15,DADOS!K1728,ESCALA!$I$14:$I$15)","v":30}]
[31331,31331,"IRINA CARVALHO KOURY","PROFESSOR (A) DE EDUCACAO BASICA","ESTATUTARIO","2023-01-01",30,"2024-01-01","2023-01-31","2023-12-31","31331-44927",{"$f":"G1729-SUMIF(ESCALA!$B$14:$B$15,DADOS!K1729,ESCALA!$I$14:$I$15)","v":30}]
[31332,31332,"EDINEIDE MARIA DE MELO SAMPAIO","PROFESSOR (A) DE EDUCACAO BASICA","ESTATUTARIO","2023-01-01",30,"2024-01-01","2023-01-31","2023-12-31","31332-44927",{"$f":"G1730-SUMIF(ESCALA!$B$14:$B$15,DADOS!K1730,ESCALA!$I$14:$I$15)","v":30}]
[{"$f":"IF(L1731=0,\"\",B1731)","v":31335},31335,"ADRIANA MARTINS GARCIA","PROFESSOR (A) DE EDUCAÇÃO BÁSICA","ESTATUTARIO","2023-01-01",30,{"$f":"IF(F1731<=44985,F1731+365,F1731+366)","v":"2024-01-01"},"2023-01-31","2023-12-31",{"$f":"CONCATENATE(B1731,\"-\",F1731)","v":"31335-44927"},{"$f":"G1731-SUMIF(ESCALA!$B$14:$B$15,DADOS!K1731,ESCALA!$I$14:$I$15)","v":30}]
[31342,31342,"LIZANDRA MARA DE BARROS DOMINGOS","PROFESSOR (A) DE EDUCACAO BASICA","CELETISTA","2023-01-01",30,"2024-01-01",{"$f":"IF(E1732=\"ESTATUTARIO\",EOMONTH(F1732,0),EOMONTH(F1732,-1))","v":"2022-12-31"},{"$f":"EOMONTH(F1732,11)","v":"2023-12-31"},"31342-44927",{"$f":"G1732-SUMIF(ESCALA!$B$14:$B$15,DADOS!K1732,ESCALA!$I$14:$I$15)","v":30}]
[31343,31343,"SILVANA APARECIDA RIBEIRO DE ANDRADE","PROFESSOR (A) DE EDUCACAO BASICA","ESTATUTARIO","2023-01-01",30,"2024-01-01","2023-01-31","2023-12-31","31343-44927",{"$f":"G1733-SUMIF(ESCALA!$B$14:$B$15,DADOS!K1733,ESCALA!$I$14:$I$15)","v":30}]
[31344,31344,"VIRGINIA RODRIGUES FERNANDES OLIVEIRA","PROFESSOR (A) DE EDUCACAO BASICA","ESTATUTARIO","2022-06-06",30,"2023-06-06","2022-06-30","2023-05-31","31344-44718",{"$f":"G1734-SUMIF(ESCALA!$B$14:$B$15,DADOS!K1734,ESCALA!$I$14:$I$15)","v":30}]
[31344,31344,"VIRGINIA RODRIGUES FERNANDES OLIVEIRA","PROFESSOR (A) DE EDUCACAO BASICA","ESTATUTARIO","2023-06-06",30,"2024-06-06","2023-06-30","2024-05-31","31344-45083",{"$f":"G1735-SUMIF(ESCALA!$B$14:$B$15,DADOS!K1735,ESCALA!$I$14:$I$15)","v":30}]
[31345,31345,"ROSANA PUSSU DOS SANTOS","PROFESSOR (A) DE EDUCACAO BASICA","ESTATUTARIO","2023-01-01",30,"2024-01-01","2023-01-31","2023-12-31","31345-44927",{"$f":"G1736-SUMIF(ESCALA!$B$14:$B$15,DADOS!K1736,ESCALA!$I$14:$I$15)","v":30}]
[31347,31347,"IZAQUEU RITA DE PAULA","PROFESSOR (A) DE EDUCACAO BASICA","ESTATUTARIO","2023-01-01",30,"2024-01-01","2023-01-31","2023-12-31","31347-44927",{"$f":"G1737-SUMIF(ESCALA!$B$14:$B$15,DADOS!K1737,ESCALA!$I$14:$I$15)","v":30}]
[31351,31351,"ROSELY BRANDAO","PROFESSOR (A) DE EDUCAÇÃO BÁSICA","ESTATUTARIO","2023-01-01",30,"2024-01-01","2023-01-31","2023-12-31","31351-44927",{"$f":"G1738-SUMIF(ESCALA!$B$14:$B$15,DADOS!K1738,ESCALA!$I$14:$I$15)","v":30}]
[31353,31353,"SHEILA TAVARES DE SOUSA","PROFESSOR (A) DE EDUCACAO BASICA","ESTATUTARIO","2023-01-01",30,"2024-01-01","2023-01-31","2023-12-31","31353-44927",{"$f":"G1739-SUMIF(ESCALA!$B$14:$B$15,DADOS!K1739,ESCALA!$I$14:$I$15)","v":30}]
[31358,31358,"MARIA EDINEUZA ANDRADE BEZERRA ","PROFESSOR (A) DE EDUCACAO BASICA","ESTATUTARIO","2023-01-01",30,"2024-01-01","2023-01-31","2023-12-31","31358-44927",{"$f":"G1740-SUMIF(ESCALA!$B$14:$B$15,DADOS!K1740,ESCALA!$I$14:$I$15)","v":30}]
[31359,31359,"SOLANGE CARDOZO TIETZ","PROFESSOR (A) DE EDUCAÇÃO BÁSICA","ESTATUTARIO","2023-01-01",30,"2024-01-01","2023-01-31","2023-12-31","31359-44927",{"$f":"G1741-SUMIF(ESCALA!$B$14:$B$15,DADOS!K1741,ESCALA!$I$14:$I$15)","v":30}]
[31360,31360,"ELIANE CRISTINA XAVIER CHAVES","PROFESSOR (A) DE EDUCACAO BASICA","ESTATUTARIO","2023-01-01",30,"2024-01-01","2023-01-31","2023-12-31","31360-44927",{"$f":"G1742-SUMIF(ESCALA!$B$14:$B$15,DADOS!K1742,ESCALA!$I$14:$I$15)","v":30}]
[31363,31363,"RAQUEL DE PAULA NUNES DA SILVA","PROFESSOR (A) DE EDUCACAO BASICA","ESTATUTARIO","2023-01-01",30,"2024-01-01","2023-01-31","2023-12-31","31363-44927",{"$f":"G1743-SUMIF(ESCALA!$B$14:$B$15,DADOS!K1743,ESCALA!$I$14:$I$15)","v":30}]
[31364,31364,"ROSEMEIRE DA SILVA OLIVEIRA","VICE DIRETOR (A) SUBSTITUTO (A)","ESTATUTARIO","2023-01-01",30,"2024-01-01","2023-01-31","2023-12-31","31364-44927",{"$f":"G1744-SUMIF(ESCALA!$B$14:$B$15,DADOS!K1744,ESCALA!$I$14:$I$15)","v":30}]
[31366,31366,"VALERIA VIEIRA DA COSTA","PROFESSOR (A) DE EDUCACAO BASICA","ESTATUTARIO","2023-01-01",30,"2024-01-01","2023-01-31","2023-12-31","31366-44927",{"$f":"G1745-SUMIF(ESCALA!$B$14:$B$15,DADOS!K1745,ESCALA!$I$14:$I$15)","v":30}]
[31369,31369,"KATIA SILENE PEREIRA DE ALMEIDA","PROFESSOR (A) DE EDUCACAO BASICA","ESTATUTARIO","2023-01-01",30,"2024-01-01","2023-01-31","2023-12-31","31369-44927",{"$f":"G1746-SUMIF(ESCALA!$B$14:$B$15,DADOS!K1746,ESCALA!$I$14:$I$15)","v":30}]
[31371,31371,"LOURDES PEREIRA DE CARVALHO","PROFESSOR (A) DE EDUCACAO BASICA","CELETISTA","2023-08-10",30,"2024-08-10","2023-07-31","2024-07-31","31371-45148",{"$f":"G1747-SUMIF(ESCALA!$B$14:$B$15,DADOS!K1747,ESCALA!$I$14:$I$15)","v":30}]
[31376,31376,"HOZANA BEZERRA DE VASCONCELOS","PROFESSOR (A) DE EDUCACAO BASICA","ESTATUTARIO","2023-01-01",30,"2024-01-01","2023-01-31","2023-12-31","31376-44927",{"$f":"G1748-SUMIF(ESCALA!$B$14:$B$15,DADOS!K1748,ESCALA!$I$14:$I$15)","v":30}]
[31378,31378,"JANETE APARECIDA FERREIRA RODRIGUES NAVERO","PROFESSOR (A) DE EDUCACAO BASICA","ESTATUTARIO","2023-01-01",30,"2024-01-01","2023-01-31","2023-12-31","31378-44927",{"$f":"G1749-SUMIF(ESCALA!$B$14:$B$15,DADOS!K1749,ESCALA!$I$14:$I$15)","v":30}]
[31382,31382,"SILVANA ANDRIOLLI CASEIRO","PROFESSOR (A) DE EDUCACAO BASICA","ESTATUTARIO","2023-01-01",30,"2024-01-01","2023-01-31","2023-12-31","31382-44927",{"$f":"G1750-SUMIF(ESCALA!$B$14:$B$15,DADOS!K1750,ESCALA!$I$14:$I$15)","v":30}]
[31383,31383,"SUELY SILVA NUNES","PROFESSOR (A) DE EDUCAÇÃO BASICA","CELETISTA","2023-01-01",30,"2024-01-01","2022-12-31","2023-12-31","31383-44927",{"$f":"G1751-SUMIF(ESCALA!$B$14:$B$15,DADOS!K1751,ESCALA!$I$14:$I$15)","v":30}]
[31384,31384,"MARIA INES GOMES RIBEIRO","VICE-DIRETOR (A) DE ESCOLA","ESTATUTARIO","2023-01-01",30,"2024-01-01","2023-01-31","2023-12-31","31384-44927",{"$f":"G1752-SUMIF(ESCALA!$B$14:$B$15,DADOS!K1752,ESCALA!$I$14:$I$15)","v":30}]
[31385,31385,"LUSINETE ZACARIAS OLIVEIRA DA SILVA","PROFESSOR (A) DE EDUCACAO BASICA","ESTATUTARIO","2023-01-01",30,"2024-01-01","2023-01-31","2023-12-31","31385-44927",{"$f":"G1753-SUMIF(ESCALA!$B$14:$B$15,DADOS!K1753,ESCALA!$I$14:$I$15)","v":30}]
[31386,31386,"LUZIA APARECIDA CERCONI","COORDENADOR (A) DE PROGRAMAS EDUCACIONAIS","CELETISTA","2023-01-01",30,"2024-01-01","2022-12-31","2023-12-31","31386-44927",{"$f":"G1754-SUMIF(ESCALA!$B$14:$B$15,DADOS!K1754,ESCALA!$I$14:$I$15)","v":30}]
[31389,31389,"ORANI GONCALVES CAMPOS","PROFESSOR (A) COORDENADOR (A)  PEDAGOGICO (A)","ESTATUTARIO","2023-01-01",30,"2024-01-01","2023-01-31","2023-12-31","31389-44927",{"$f":"G1755-SUMIF(ESCALA!$B$14:$B$15,DADOS!K1755,ESCALA!$I$14:$I$15)","v":30}]
[31392,31392,"ROSANGELA RODRIGUES MARAFON","PROFESSOR (A) DE EDUCACAO BASICA","ESTATUTARIO","2023-01-01",30,"2024-01-01","2023-01-31","2023-12-31","31392-44927",{"$f":"G1756-SUMIF(ESCALA!$B$14:$B$15,DADOS!K1756,ESCALA!$I$14:$I$15)","v":30}]
[31394,31394,"KEILA CRISTINA DE SOUZA LEMOS","PROFESSOR (A) DE EDUCACAO BASICA","ESTATUTARIO","2023-01-01",30,"2024-01-01","2023-01-31","2023-12-31","31394-44927",{"$f":"G1757-SUMIF(ESCALA!$B$14:$B$15,DADOS!K1757,ESCALA!$I$14:$I$15)","v":30}]
[31395,31395,"ELISABETH APARECIDA FRUTUOSO","PROFESSOR (A) DE EDUCAÇÃO BASICA","CELETISTA","2023-01-01",30,"2024-01-01","2022-12-31","2023-12-31","31395-44927",{"$f":"G1758-SUMIF(ESCALA!$B$14:$B$15,DADOS!K1758,ESCALA!$I$14:$I$15)","v":30}]
[31396,31396,"CLAUDIA MARIA DA PAZ SANTOS","PROFESSOR (A) DE EDUCAÇÃO BÁSICA","ESTATUTARIO","2023-01-01",30,"2024-01-01","2023-01-31","2023-12-31","31396-44927",{"$f":"G1759-SUMIF(ESCALA!$B$14:$B$15,DADOS!K1759,ESCALA!$I$14:$I$15)","v":30}]
[31398,31398,"ELISANGELA PEREIRA DE OLIVEIRA BELAI","PROFESSOR (A) DE EDUCAÇÃO BASICA","CELETISTA","2023-01-01",30,"2024-01-01","2022-12-31","2023-12-31","31398-44927",{"$f":"G1760-SUMIF(ESCALA!$B$14:$B$15,DADOS!K1760,ESCALA!$I$14:$I$15)","v":30}]
[31399,31399,"ANTONIA ALBERTINA DA SILVA DANTAS DE OLIVEIRA","PROFESSOR (A) DE EDUCAÇÃO BASICA","CELETISTA","2023-01-01",30,"2024-01-01","2022-12-31","2023-12-31","31399-44927",{"$f":"G1761-SUMIF(ESCALA!$B$14:$B$15,DADOS!K1761,ESCALA!$I$14:$I$15)","v":30}]
[31402,31402,"IVONE DE OLIVEIRA SILVA","PROFESSOR (A) DE EDUCAÇÃO BASICA","CELETISTA","2022-06-13",30,"2023-06-13","2022-05-31","2023-05-31","31402-44725",{"$f":"G1762-SUMIF(ESCALA!$B$14:$B$15,DADOS!K1762,ESCALA!$I$14:$I$15)","v":30}]
[31402,31402,"IVONE DE OLIVEIRA SILVA","PROFESSOR (A) DE EDUCAÇÃO BASICA","CELETISTA","2023-06-13",30,"2024-06-13","2023-05-31","2024-05-31","31402-45090",{"$f":"G1763-SUMIF(ESCALA!$B$14:$B$15,DADOS!K1763,ESCALA!$I$14:$I$15)","v":30}]
[31405,31405,"ENILDE DUARTE DA MOTA","PROFESSOR (A) DE EDUCAÇÃO BÁSICA","ESTATUTARIO","2023-01-01",30,"2024-01-01","2023-01-31","2023-12-31","31405-44927",{"$f":"G1764-SUMIF(ESCALA!$B$14:$B$15,DADOS!K1764,ESCALA!$I$14:$I$15)","v":30}]
[31407,31407,"ROSA MARIA DOS SANTOS BORGES","PROFESSOR (A) DE EDUCACAO BASICA","CELETISTA","2023-01-01",30,"2024-01-01","2022-12-31","2023-12-31","31407-44927",{"$f":"G1765-SUMIF(ESCALA!$B$14:$B$15,DADOS!K1765,ESCALA!$I$14:$I$15)","v":30}]
[31411,31411,"FERNANDA DOS PASSOS CICERO","PROFESSOR (A) DE EDUCACAO BASICA","ESTATUTARIO","2023-01-01",30,"2024-01-01","2023-01-31","2023-12-31","31411-44927",{"$f":"G1766-SUMIF(ESCALA!$B$14:$B$15,DADOS!K1766,ESCALA!$I$14:$I$15)","v":30}]
[31413,31413,"ANDREA ALVES DA SILVA","PROFESSOR (A) DE EDUCACAO BASICA","ESTATUTARIO","2023-01-01",30,"2024-01-01","2023-01-31","2023-12-31","31413-44927",{"$f":"G1767-SUMIF(ESCALA!$B$14:$B$15,DADOS!K1767,ESCALA!$I$14:$I$15)","v":30}]
[31415,31415,"SILVIA TEIXEIRA DANTAS BARBOZA","PROFESSOR (A) DE EDUCAÇÃO BÁSICA","ESTATUTARIO","2023-01-01",30,"2024-01-01","2023-01-31","2023-12-31","31415-44927",{"$f":"G1768-SUMIF(ESCALA!$B$14:$B$15,DADOS!K1768,ESCALA!$I$14:$I$15)","v":30}]
[31416,31416,"ELIANA CONCEICAO RODRIGUES DA SILVA","PROFESSOR (A) DE EDUCACAO BASICA","ESTATUTARIO","2022-06-13",30,"2023-06-13","2022-06-30","2023-05-31","31416-44725",{"$f":"G1769-SUMIF(ESCALA!$B$14:$B$15,DADOS!K1769,ESCALA!$I$14:$I$15)","v":30}]
[31416,31416,"ELIANA CONCEICAO RODRIGUES DA SILVA","PROFESSOR (A) DE EDUCACAO BASICA","ESTATUTARIO","2023-06-13",30,"2024-06-13","2023-06-30","2024-05-31","31416-45090",{"$f":"G1770-SUMIF(ESCALA!$B$14:$B$15,DADOS!K1770,ESCALA!$I$14:$I$15)","v":30}]
[31417,31417,"ANDREIA APARECIDA MORETTINI","PROFESSOR (A) DE EDUCACAO BASICA","ESTATUTARIO","2023-01-01",30,"2024-01-01","2023-01-31","2023-12-31","31417-44927",{"$f":"G1771-SUMIF(ESCALA!$B$14:$B$15,DADOS!K1771,ESCALA!$I$14:$I$15)","v":30}]
[31420,31420,"MARCIA MARIA LIMA DO NASCIMENTO","PROFESSOR (A) DE EDUCACAO BASICA","ESTATUTARIO","2023-01-01",30,"2024-01-01","2023-01-31","2023-12-31","31420-44927",{"$f":"G1772-SUMIF(ESCALA!$B$14:$B$15,DADOS!K1772,ESCALA!$I$14:$I$15)","v":30}]
[31421,31421,"ROSIMEIRE FERREIRA LUCENA SANTOS","PROFESSOR (A) DE EDUCAÇÃO BASICA","CELETISTA","2023-01-01",30,"2024-01-01","2022-12-31","2023-12-31","31421-44927",{"$f":"G1773-SUMIF(ESCALA!$B$14:$B$15,DADOS!K1773,ESCALA!$I$14:$I$15)","v":30}]
[31422,31422,"CAMILA LUCIANA ESCOBAR COSTA SIQUEIRA","VICE-DIRETOR (A) DE ESCOLA","ESTATUTARIO","2023-01-01",30,"2024-01-01","2023-01-31","2023-12-31","31422-44927",{"$f":"G1774-SUMIF(ESCALA!$B$14:$B$15,DADOS!K1774,ESCALA!$I$14:$I$15)","v":30}]
[31424,31424,"SARA NOVAES DE OLIVEIRA","PROFESSOR (A) DE EDUCACAO BASICA","ESTATUTARIO","2023-01-01",30,"2024-01-01","2023-01-31","2023-12-31","31424-44927",{"$f":"G1775-SUMIF(ESCALA!$B$14:$B$15,DADOS!K1775,ESCALA!$I$14:$I$15)","v":30}]
[31427,31427,"ANA MARIA TAVARES DA SILVA","PROFESSOR (A) DE EDUCACAO BASICA","CELETISTA","2022-12-19",30,"2023-12-19","2022-11-30","2023-11-30","31427-44914",{"$f":"G1776-SUMIF(ESCALA!$B$14:$B$15,DADOS!K1776,ESCALA!$I$14:$I$15)","v":30}]
[31427,31427,"ANA MARIA TAVARES DA SILVA","PROFESSOR (A) DE EDUCACAO BASICA","CELETISTA","2023-12-19",30,"2024-12-19","2023-11-30","2024-11-30","31427-45279",{"$f":"G1777-SUMIF(ESCALA!$B$14:$B$15,DADOS!K1777,ESCALA!$I$14:$I$15)","v":30}]
[31429,31429,"SORAIA CARVALHO DE ANDRADE","VICE-DIRETOR (A) DE ESCOLA","ESTATUTARIO","2022-06-16",10,"2023-06-16","2022-06-30","2023-05-31","31429-44728",{"$f":"G1778-SUMIF(ESCALA!$B$14:$B$15,DADOS!K1778,ESCALA!$I$14:$I$15)","v":10}]
[31429,31429,"SORAIA CARVALHO DE ANDRADE","VICE-DIRETOR (A) DE ESCOLA","ESTATUTARIO","2023-06-16",30,"2024-06-16","2023-06-30","2024-05-31","31429-45093",{"$f":"G1779-SUMIF(ESCALA!$B$14:$B$15,DADOS!K1779,ESCALA!$I$14:$I$15)","v":30}]
[31430,31430,"VALQUIRIA SILVA SAMPAIO","PROFESSOR (A) DE EDUCACAO BASICA","ESTATUTARIO","2023-01-01",30,"2024-01-01","2023-01-31","2023-12-31","31430-44927",{"$f":"G1780-SUMIF(ESCALA!$B$14:$B$15,DADOS!K1780,ESCALA!$I$14:$I$15)","v":30}]
[31431,31431,"ANDREA APARECIDA DOMINGOS ALVES","PROFESSOR (A) DE EDUCAÇÃO BÁSICA","ESTATUTARIO","2023-01-01",30,"2024-01-01","2023-01-31","2023-12-31","31431-44927",{"$f":"G1781-SUMIF(ESCALA!$B$14:$B$15,DADOS!K1781,ESCALA!$I$14:$I$15)","v":30}]
[31433,31433,"MARLY GOBBIS DOLIVAL","PROFESSOR (A) DE EDUCACAO BASICA","ESTATUTARIO","2023-01-01",30,"2024-01-01","2023-01-31","2023-12-31","31433-44927",{"$f":"G1782-SUMIF(ESCALA!$B$14:$B$15,DADOS!K1782,ESCALA!$I$14:$I$15)","v":30}]
[31437,31437,"MARIA EDINETE MARTINS DE LIMA","PROFESSOR (A) DE EDUCACAO BASICA","CELETISTA","2023-01-01",30,"2024-01-01","2022-12-31","2023-12-31","31437-44927",{"$f":"G1783-SUMIF(ESCALA!$B$14:$B$15,DADOS!K1783,ESCALA!$I$14:$I$15)","v":30}]
[31440,31440,"CASSIA MARIA GARCIA BISPO","PROFESSOR (A) DE EDUCAÇÃO BASICA","CELETISTA","2023-01-01",30,"2024-01-01","2022-12-31","2023-12-31","31440-44927",{"$f":"G1784-SUMIF(ESCALA!$B$14:$B$15,DADOS!K1784,ESCALA!$I$14:$I$15)","v":30}]
[31441,31441,"VALERIA CARMEM FONSECA SILVA","PROFESSOR (A) DE EDUCAÇÃO BÁSICA","ESTATUTARIO","2023-01-01",30,"2024-01-01","2023-01-31","2023-12-31","31441-44927",{"$f":"G1785-SUMIF(ESCALA!$B$14:$B$15,DADOS!K1785,ESCALA!$I$14:$I$15)","v":30}]
[31442,31442,"SONIA MARIA MORENO PEREIRA ","PROFESSOR (A) DE EDUCACAO BASICA","ESTATUTARIO","2023-01-01",30,"2024-01-01","2023-01-31","2023-12-31","31442-44927",{"$f":"G1786-SUMIF(ESCALA!$B$14:$B$15,DADOS!K1786,ESCALA!$I$14:$I$15)","v":30}]
[31445,31445,"JOSE VALDEMAR LIMA","CHEFE DE SECAO TECNICA","ESTATUTARIO","2023-06-17",30,"2024-06-17","2023-06-30","2024-05-31","31445-45094",{"$f":"G1787-SUMIF(ESCALA!$B$14:$B$15,DADOS!K1787,ESCALA!$I$14:$I$15)","v":30}]
[31446,31446,"MARIA IMACULADA FERNANDES","PROFESSOR (A) DE EDUCAÇÃO BASICA","CELETISTA","2023-01-01",30,"2024-01-01","2022-12-31","2023-12-31","31446-44927",{"$f":"G1788-SUMIF(ESCALA!$B$14:$B$15,DADOS!K1788,ESCALA!$I$14:$I$15)","v":30}]
[31453,31453,"SOLANGE VARELA DOS SANTOS","PROFESSOR (A) DE EDUCACAO BASICA","ESTATUTARIO","2023-01-01",30,"2024-01-01","2023-01-31","2023-12-31","31453-44927",{"$f":"G1789-SUMIF(ESCALA!$B$14:$B$15,DADOS!K1789,ESCALA!$I$14:$I$15)","v":30}]
[31456,31456,"SEVERINA FERREIRA BRANDAO","PROFESSOR (A) DE EDUCACAO BASICA","CELETISTA","2022-02-25",24,"2023-02-25","2022-01-31","2023-01-31","31456-44617",{"$f":"G1790-SUMIF(ESCALA!$B$14:$B$15,DADOS!K1790,ESCALA!$I$14:$I$15)","v":24}]
[31456,31456,"SEVERINA FERREIRA BRANDAO","PROFESSOR (A) DE EDUCACAO BASICA","CELETISTA","2023-02-25",30,"2024-02-25","2023-01-31","2024-01-31","31456-44982",{"$f":"G1791-SUMIF(ESCALA!$B$14:$B$15,DADOS!K1791,ESCALA!$I$14:$I$15)","v":30}]
[31457,31457,"SILMARA APARECIDA DE MORAES TUDISCO","PROFESSOR (A) DE EDUCAÇÃO BÁSICA","ESTATUTARIO","2023-01-01",30,"2024-01-01","2023-01-31","2023-12-31","31457-44927",{"$f":"G1792-SUMIF(ESCALA!$B$14:$B$15,DADOS!K1792,ESCALA!$I$14:$I$15)","v":30}]
[31459,31459,"DENISE ALVES CARVALHO TEIXEIRA","PROFESSOR (A) DE EDUCACAO BASICA","CELETISTA","2022-06-18",30,"2023-06-18","2022-05-31","2023-05-31","31459-44730",{"$f":"G1793-SUMIF(ESCALA!$B$14:$B$15,DADOS!K1793,ESCALA!$I$14:$I$15)","v":30}]
[31459,31459,"DENISE ALVES CARVALHO TEIXEIRA","PROFESSOR (A) DE EDUCACAO BASICA","CELETISTA","2023-06-18",30,"2024-06-18","2023-05-31","2024-05-31","31459-45095",{"$f":"G1794-SUMIF(ESCALA!$B$14:$B$15,DADOS!K1794,ESCALA!$I$14:$I$15)","v":30}]
[{"$f":"IF(L1795=0,\"\",B1795)","v":31460},31460,"CRISTIANE SIMOES VIDEIRA","PROFESSOR (A) DE EDUCACAO BASICA","ESTATUTARIO","2023-01-01",30,{"$f":"IF(F1795<=44985,F1795+365,F1795+366)","v":"2024-01-01"},"2023-01-31","2023-12-31",{"$f":"CONCATENATE(B1795,\"-\",F1795)","v":"31460-44927"},{"$f":"G1795-SUMIF(ESCALA!$B$14:$B$15,DADOS!K1795,ESCALA!$I$14:$I$15)","v":30}]
[31461,31461,"ANDREA ROSA DA SILVA LIMA","PROFESSOR (A) DE EDUCAÇÃO BÁSICA","ESTATUTARIO","2023-01-01",30,"2024-01-01",{"$f":"IF(E1796=\"ESTATUTARIO\",EOMONTH(F1796,0),EOMONTH(F1796,-1))","v":"2023-01-31"},{"$f":"EOMONTH(F1796,11)","v":"2023-12-31"},"31461-44927",{"$f":"G1796-SUMIF(ESCALA!$B$14:$B$15,DADOS!K1796,ESCALA!$I$14:$I$15)","v":30}]
[31464,31464,"SANDRA VALERIA SANTOS SIQUEIRA","PROFESSOR (A) DE EDUCAÇÃO BÁSICA","ESTATUTARIO","2023-01-01",30,"2024-01-01","2023-01-31","2023-12-31","31464-44927",{"$f":"G1797-SUMIF(ESCALA!$B$14:$B$15,DADOS!K1797,ESCALA!$I$14:$I$15)","v":30}]
[31466,31466,"MARCIA VALERIA AMATE","VICE-DIRETOR (A) DE ESCOLA","CELETISTA","2023-01-01",30,"2024-01-01","2022-12-31","2023-12-31","31466-44927",{"$f":"G1798-SUMIF(ESCALA!$B$14:$B$15,DADOS!K1798,ESCALA!$I$14:$I$15)","v":30}]
[31467,31467,"INEIDE DOS SANTOS LEITE RODRIGUES","PROFESSOR (A) DE EDUCAÇÃO BASICA","CELETISTA","2023-01-01",30,"2024-01-01","2022-12-31","2023-12-31","31467-44927",{"$f":"G1799-SUMIF(ESCALA!$B$14:$B$15,DADOS!K1799,ESCALA!$I$14:$I$15)","v":30}]
[31469,31469,"AMANDA CAMARGO","COORDENADOR (A) DE PROGRAMAS EDUCACIONAIS","ESTATUTARIO","2023-01-01",30,"2024-01-01","2023-01-31","2023-12-31","31469-44927",{"$f":"G1800-SUMIF(ESCALA!$B$14:$B$15,DADOS!K1800,ESCALA!$I$14:$I$15)","v":30}]
[31471,31471,"MARIA DAS GRACAS FERREIRA DAS NEVES","PROFESSOR (A) DE EDUCAÇÃO BÁSICA","CELETISTA","2023-01-01",30,"2024-01-01","2022-12-31","2023-12-31","31471-44927",{"$f":"G1801-SUMIF(ESCALA!$B$14:$B$15,DADOS!K1801,ESCALA!$I$14:$I$15)","v":30}]
[31472,31472,"TATIANE KLEMESK CANDIDO","PROFESSOR (A) DE EDUCACAO BASICA","ESTATUTARIO","2023-01-01",30,"2024-01-01","2023-01-31","2023-12-31","31472-44927",{"$f":"G1802-SUMIF(ESCALA!$B$14:$B$15,DADOS!K1802,ESCALA!$I$14:$I$15)","v":30}]
[31478,31478,"ELZA FLORENCIO DE AZEVEDO","PROFESSOR (A) DE EDUCACAO BASICA","ESTATUTARIO","2023-01-01",30,"2024-01-01","2023-01-31","2023-12-31","31478-44927",{"$f":"G1803-SUMIF(ESCALA!$B$14:$B$15,DADOS!K1803,ESCALA!$I$14:$I$15)","v":30}]
[31481,31481,"ROMILDA CUSTODIA DA SILVA","PROFESSOR (A) DE EDUCACAO BASICA","ESTATUTARIO","2023-01-01",30,"2024-01-01","2023-01-31","2023-12-31","31481-44927",{"$f":"G1804-SUMIF(ESCALA!$B$14:$B$15,DADOS!K1804,ESCALA!$I$14:$I$15)","v":30}]
[31482,31482,"GREICE LOPES CLEMENTE","VICE-DIRETOR (A) DE ESCOLA","ESTATUTARIO","2023-01-01",30,"2024-01-01","2023-01-31","2023-12-31","31482-44927",{"$f":"G1805-SUMIF(ESCALA!$B$14:$B$15,DADOS!K1805,ESCALA!$I$14:$I$15)","v":30}]
[31483,31483,"MARIA JOSEMIR XAVIER COELHOSO","PROFESSOR (A) DE EDUCAÇÃO BÁSICA","ESTATUTARIO","2023-01-01",30,"2024-01-01","2023-01-31","2023-12-31","31483-44927",{"$f":"G1806-SUMIF(ESCALA!$B$14:$B$15,DADOS!K1806,ESCALA!$I$14:$I$15)","v":30}]
[31488,31488,"FRANCISCA MARIA NOGUEIRA AVANZO","PROFESSOR (A) DE EDUCACAO BASICA","ESTATUTARIO","2023-01-01",30,"2024-01-01","2023-01-31","2023-12-31","31488-44927",{"$f":"G1807-SUMIF(ESCALA!$B$14:$B$15,DADOS!K1807,ESCALA!$I$14:$I$15)","v":30}]
[31494,31494,"ANA PAULA PATRICIO RIBERTI","PROFESSOR (A) COORDENADOR (A)  PEDAGOGICO (A)","CELETISTA","2023-01-01",30,"2024-01-01","2022-12-31","2023-12-31","31494-44927",{"$f":"G1808-SUMIF(ESCALA!$B$14:$B$15,DADOS!K1808,ESCALA!$I$14:$I$15)","v":30}]
[31496,31496,"NILZA DO CARMO GERALDO","PROFESSOR (A) DE EDUCACAO BASICA","ESTATUTARIO","2023-01-01",30,"2024-01-01","2023-01-31","2023-12-31","31496-44927",{"$f":"G1809-SUMIF(ESCALA!$B$14:$B$15,DADOS!K1809,ESCALA!$I$14:$I$15)","v":30}]
[31497,31497,"ADALGISA VIEIRA DA CRUZ","PROFESSOR (A) DE EDUCACAO BASICA","ESTATUTARIO","2023-01-01",30,"2024-01-01","2023-01-31","2023-12-31","31497-44927",{"$f":"G1810-SUMIF(ESCALA!$B$14:$B$15,DADOS!K1810,ESCALA!$I$14:$I$15)","v":30}]
[31499,31499,"LUCIMARA BENICIA DE LIMA","PROFESSOR (A) DE EDUCACAO BASICA","ESTATUTARIO","2023-01-01",30,"2024-01-01","2023-01-31","2023-12-31","31499-44927",{"$f":"G1811-SUMIF(ESCALA!$B$14:$B$15,DADOS!K1811,ESCALA!$I$14:$I$15)","v":30}]
[31501,31501,"ALICE MARIA LIMA ROCHA","PROFESSOR (A) DE EDUCAÇÃO BÁSICA","CELETISTA","2023-01-01",30,"2024-01-01","2022-12-31","2023-12-31","31501-44927",{"$f":"G1812-SUMIF(ESCALA!$B$14:$B$15,DADOS!K1812,ESCALA!$I$14:$I$15)","v":30}]
[31503,31503,"ROBERTA MARQUES DA LUZ FELIX","PROFESSOR (A) COORDENADOR (A)  PEDAGOGICO (A)","ESTATUTARIO","2023-01-01",30,"2024-01-01","2023-01-31","2023-12-31","31503-44927",{"$f":"G1813-SUMIF(ESCALA!$B$14:$B$15,DADOS!K1813,ESCALA!$I$14:$I$15)","v":30}]
[31505,31505,"FLORIPES VENTUROLI","PROFESSOR (A) DE EDUCAÇÃO BASICA","CELETISTA","2023-01-01",30,"2024-01-01","2022-12-31","2023-12-31","31505-44927",{"$f":"G1814-SUMIF(ESCALA!$B$14:$B$15,DADOS!K1814,ESCALA!$I$14:$I$15)","v":30}]
[31510,31510,"SANDRA DE MORAES OSAKO","PROFESSOR (A) DE EDUCAÇÃO BÁSICA","ESTATUTARIO","2023-01-01",30,"2024-01-01","2023-01-31","2023-12-31","31510-44927",{"$f":"G1815-SUMIF(ESCALA!$B$14:$B$15,DADOS!K1815,ESCALA!$I$14:$I$15)","v":30}]
[31518,31518,"SILVIA CRISTINA CONTI","PROFESSOR (A) DE EDUCAÇÃO BÁSICA","CELETISTA","2023-01-01",30,"2024-01-01","2022-12-31","2023-12-31","31518-44927",{"$f":"G1816-SUMIF(ESCALA!$B$14:$B$15,DADOS!K1816,ESCALA!$I$14:$I$15)","v":30}]
[31519,31519,"CLAUDIA TORRES FERREIRA INAZAKI","PROFESSOR (A) DE EDUCACAO BASICA","ESTATUTARIO","2023-01-01",30,"2024-01-01","2023-01-31","2023-12-31","31519-44927",{"$f":"G1817-SUMIF(ESCALA!$B$14:$B$15,DADOS!K1817,ESCALA!$I$14:$I$15)","v":30}]
[31548,31548,"ROSIMEIRE URIAS DE SOUZA","PROFESSOR (A) DE EDUCACAO BASICA","CELETISTA","2023-01-01",30,"2024-01-01","2022-12-31","2023-12-31","31548-44927",{"$f":"G1818-SUMIF(ESCALA!$B$14:$B$15,DADOS!K1818,ESCALA!$I$14:$I$15)","v":30}]
[31583,31583,"JOAO PAULO ALVES FLORENCIO","CHEFE DE DIVISAO TECNICA","ESTATUTARIO","2023-07-10",30,"2024-07-10","2023-07-31","2024-06-30","31583-45117",{"$f":"G1819-SUMIF(ESCALA!$B$14:$B$15,DADOS!K1819,ESCALA!$I$14:$I$15)","v":30}]
[31586,31586,"ELAINE LACERDA FEGERT","PROFESSOR (A) DE EDUCACAO BASICA","ESTATUTARIO","2023-01-01",30,"2024-01-01","2023-01-31","2023-12-31","31586-44927",{"$f":"G1820-SUMIF(ESCALA!$B$14:$B$15,DADOS!K1820,ESCALA!$I$14:$I$15)","v":30}]
[31650,31650,"ERICA VAES DOS SANTOS","AUXILIAR OPERACIONAL","ESTATUTARIO","2023-07-30",30,"2024-07-30","2023-07-31","2024-06-30","31650-45137",{"$f":"G1821-SUMIF(ESCALA!$B$14:$B$15,DADOS!K1821,ESCALA!$I$14:$I$15)","v":30}]
[31698,31698,"RENATA FERNANDES","PROFESSOR (A) DE EDUCACAO BASICA","ESTATUTARIO","2022-08-12",30,"2023-08-12","2022-08-31","2023-07-31","31698-44785",{"$f":"G1822-SUMIF(ESCALA!$B$14:$B$15,DADOS!K1822,ESCALA!$I$14:$I$15)","v":30}]
[31698,31698,"RENATA FERNANDES","PROFESSOR (A) DE EDUCACAO BASICA","ESTATUTARIO","2023-08-12",30,"2024-08-12","2023-08-31","2024-07-31","31698-45150",{"$f":"G1823-SUMIF(ESCALA!$B$14:$B$15,DADOS!K1823,ESCALA!$I$14:$I$15)","v":30}]
[31699,31699,"ANA MARIA LIPI DE CAMARGO","PROFESSOR (A) DE EDUCAÇÃO BÁSICA","ESTATUTARIO","2023-01-01",30,"2024-01-01","2023-01-31","2023-12-31","31699-44927",{"$f":"G1824-SUMIF(ESCALA!$B$14:$B$15,DADOS!K1824,ESCALA!$I$14:$I$15)","v":30}]
[31703,31703,"JOSIANE CORREIA DE SOUSA","PROFESSOR (A) DE EDUCACAO BASICA","ESTATUTARIO","2022-08-12",30,"2023-08-12","2022-08-31","2023-07-31","31703-44785",{"$f":"G1825-SUMIF(ESCALA!$B$14:$B$15,DADOS!K1825,ESCALA!$I$14:$I$15)","v":30}]
[31703,31703,"JOSIANE CORREIA DE SOUSA","PROFESSOR (A) DE EDUCACAO BASICA","ESTATUTARIO","2023-08-12",30,"2024-08-12","2023-08-31","2024-07-31","31703-45150",{"$f":"G1826-SUMIF(ESCALA!$B$14:$B$15,DADOS!K1826,ESCALA!$I$14:$I$15)","v":30}]
[31704,31704,"LUIZA ELENA TOLEDO BROTERIO","VICE-DIRETOR (A) DE ESCOLA","ESTATUTARIO","2022-08-12",30,"2023-08-12","2022-08-31","2023-07-31","31704-44785",{"$f":"G1827-SUMIF(ESCALA!$B$14:$B$15,DADOS!K1827,ESCALA!$I$14:$I$15)","v":30}]
[31704,31704,"LUIZA ELENA TOLEDO BROTERIO","VICE-DIRETOR (A) DE ESCOLA","ESTATUTARIO","2023-08-12",30,"2024-08-12","2023-08-31","2024-07-31","31704-45150",{"$f":"G1828-SUMIF(ESCALA!$B$14:$B$15,DADOS!K1828,ESCALA!$I$14:$I$15)","v":30}]
[31708,31708,"SUELI TEIXEIRA","PROFESSOR (A) DE EDUCACAO BASICA","ESTATUTARIO","2022-08-12",30,"2023-08-12","2022-08-31","2023-07-31","31708-44785",{"$f":"G1829-SUMIF(ESCALA!$B$14:$B$15,DADOS!K1829,ESCALA!$I$14:$I$15)","v":30}]
[31708,31708,"SUELI TEIXEIRA","PROFESSOR (A) DE EDUCACAO BASICA","ESTATUTARIO","2023-08-12",30,"2024-08-12","2023-08-31","2024-07-31","31708-45150",{"$f":"G1830-SUMIF(ESCALA!$B$14:$B$15,DADOS!K1830,ESCALA!$I$14:$I$15)","v":30}]
[31713,31713,"LUZITANIA MURICY FERREIRA DE SOUSA","PROFESSOR (A) DE EDUCACAO BASICA","ESTATUTARIO","2022-09-12",30,"2023-09-12","2022-09-30","2023-08-31","31713-44816",{"$f":"G1831-SUMIF(ESCALA!$B$14:$B$15,DADOS!K1831,ESCALA!$I$14:$I$15)","v":30}]
[31713,31713,"LUZITANIA MURICY FERREIRA DE SOUSA","PROFESSOR (A) DE EDUCACAO BASICA","ESTATUTARIO","2023-09-12",30,"2024-09-12","2023-09-30","2024-08-31","31713-45181",{"$f":"G1832-SUMIF(ESCALA!$B$14:$B$15,DADOS!K1832,ESCALA!$I$14:$I$15)","v":30}]
[31715,31715,"TARCILA CIRIACO GOMES","COORDENADOR (A) DE PROGRAMAS EDUCACIONAIS","ESTATUTARIO","2023-01-01",30,"2024-01-01","2023-01-31","2023-12-31","31715-44927",{"$f":"G1833-SUMIF(ESCALA!$B$14:$B$15,DADOS!K1833,ESCALA!$I$14:$I$15)","v":30}]
[31717,31717,"CRISTIANE MARIA GROTTA PELLIZZON","PROFESSOR (A) DE EDUCACAO BASICA","ESTATUTARIO","2022-10-05",30,"2023-10-05","2022-10-31","2023-09-30","31717-44839",{"$f":"G1834-SUMIF(ESCALA!$B$14:$B$15,DADOS!K1834,ESCALA!$I$14:$I$15)","v":30}]
[31717,31717,"CRISTIANE MARIA GROTTA PELLIZZON","PROFESSOR (A) DE EDUCACAO BASICA","ESTATUTARIO","2023-10-05",30,"2024-10-05","2023-10-31","2024-09-30","31717-45204",{"$f":"G1835-SUMIF(ESCALA!$B$14:$B$15,DADOS!K1835,ESCALA!$I$14:$I$15)","v":30}]
[31728,31728,"ZILEIDE PEREIRA DE SENA","PROFESSOR (A) DE EDUCAÇÃO BASICA","CELETISTA","2023-01-01",30,"2024-01-01","2022-12-31","2023-12-31","31728-44927",{"$f":"G1836-SUMIF(ESCALA!$B$14:$B$15,DADOS!K1836,ESCALA!$I$14:$I$15)","v":30}]
[31730,31730,"TERESA CRISTINA PEREIRA SILVA IQUEDA","PROFESSOR (A) DE EDUCACAO BASICA","CELETISTA","2023-01-01",30,"2024-01-01","2022-12-31","2023-12-31","31730-44927",{"$f":"G1837-SUMIF(ESCALA!$B$14:$B$15,DADOS!K1837,ESCALA!$I$14:$I$15)","v":30}]
[31740,31740,"MARISTER MANDUCA FERREIRA","PROFESSOR (A) DE EDUCACAO BASICA","CELETISTA","2023-01-01",30,"2024-01-01","2022-12-31","2023-12-31","31740-44927",{"$f":"G1838-SUMIF(ESCALA!$B$14:$B$15,DADOS!K1838,ESCALA!$I$14:$I$15)","v":30}]
[31741,31741,"JULIANA MARIA BAGGIO","PROFESSOR (A) DE EDUCACAO BASICA","ESTATUTARIO","2023-01-01",30,"2024-01-01","2023-01-31","2023-12-31","31741-44927",{"$f":"G1839-SUMIF(ESCALA!$B$14:$B$15,DADOS!K1839,ESCALA!$I$14:$I$15)","v":30}]
[31781,31781,"EDNA DE JESUS GIMENES","PROFESSOR (A) DE EDUCAÇÃO BÁSICA","ESTATUTARIO","2022-08-29",30,"2023-08-29","2022-08-31","2023-07-31","31781-44802",{"$f":"G1840-SUMIF(ESCALA!$B$14:$B$15,DADOS!K1840,ESCALA!$I$14:$I$15)","v":30}]
[31781,31781,"EDNA DE JESUS GIMENES","PROFESSOR (A) DE EDUCAÇÃO BÁSICA","ESTATUTARIO","2023-08-29",30,"2024-08-29","2023-08-31","2024-07-31","31781-45167",{"$f":"G1841-SUMIF(ESCALA!$B$14:$B$15,DADOS!K1841,ESCALA!$I$14:$I$15)","v":30}]
[31855,31855,"CLAUDOMIRO BATISTA DE AQUINO","ASSISTENTE DE GESTAO ESCOLAR","ESTATUTARIO","2023-09-22",30,"2024-09-22","2023-09-30","2024-08-31","31855-45191",{"$f":"G1842-SUMIF(ESCALA!$B$14:$B$15,DADOS!K1842,ESCALA!$I$14:$I$15)","v":30}]
[31861,31861,"LUCIANA ARANTES AMICCI","ASSISTENTE DE GESTAO ESCOLAR","ESTATUTARIO","2022-09-26",30,"2023-09-26","2022-09-30","2023-08-31","31861-44830",{"$f":"G1843-SUMIF(ESCALA!$B$14:$B$15,DADOS!K1843,ESCALA!$I$14:$I$15)","v":30}]
[31861,31861,"LUCIANA ARANTES AMICCI","ASSISTENTE DE GESTAO ESCOLAR","ESTATUTARIO","2023-09-26",30,"2024-09-26","2023-09-30","2024-08-31","31861-45195",{"$f":"G1844-SUMIF(ESCALA!$B$14:$B$15,DADOS!K1844,ESCALA!$I$14:$I$15)","v":30}]
[31863,31863,"ANDREIA SILVIA DE ARAUJO FACHINI","VICE-DIRETOR (A) DE ESCOLA","ESTATUTARIO","2022-09-29",30,"2023-09-29","2022-09-30","2023-08-31","31863-44833",{"$f":"G1845-SUMIF(ESCALA!$B$14:$B$15,DADOS!K1845,ESCALA!$I$14:$I$15)","v":30}]
[31863,31863,"ANDREIA SILVIA DE ARAUJO FACHINI","VICE-DIRETOR (A) DE ESCOLA","ESTATUTARIO","2023-09-29",30,"2024-09-29","2023-09-30","2024-08-31","31863-45198",{"$f":"G1846-SUMIF(ESCALA!$B$14:$B$15,DADOS!K1846,ESCALA!$I$14:$I$15)","v":30}]
[31864,31864,"GREICE KELLY FERREIRA PIMENTA","PROFESSOR (A) DE EDUCACAO INFANTIL","ESTATUTARIO","2022-09-29",30,"2023-09-29","2022-09-30","2023-08-31","31864-44833",{"$f":"G1847-SUMIF(ESCALA!$B$14:$B$15,DADOS!K1847,ESCALA!$I$14:$I$15)","v":30}]
[31864,31864,"GREICE KELLY FERREIRA PIMENTA","PROFESSOR (A) DE EDUCACAO INFANTIL","ESTATUTARIO","2023-09-29",30,"2024-09-29","2023-09-30","2024-08-31","31864-45198",{"$f":"G1848-SUMIF(ESCALA!$B$14:$B$15,DADOS!K1848,ESCALA!$I$14:$I$15)","v":30}]
[31867,31867,"MARCELO RODRIGO DA SILVA GUIMARAES RODRIGUES","AGENTE DE DESENVOLVIMENTO INFANTIL","ESTATUTARIO","2022-12-14",30,"2023-12-14","2022-12-31","2023-11-30","31867-44909",{"$f":"G1849-SUMIF(ESCALA!$B$14:$B$15,DADOS!K1849,ESCALA!$I$14:$I$15)","v":30}]
[31867,31867,"MARCELO RODRIGO DA SILVA GUIMARAES RODRIGUES","AGENTE DE DESENVOLVIMENTO INFANTIL","ESTATUTARIO","2023-12-14",30,"2024-12-14","2023-12-31","2024-11-30","31867-45274",{"$f":"G1850-SUMIF(ESCALA!$B$14:$B$15,DADOS!K1850,ESCALA!$I$14:$I$15)","v":30}]
[31869,31869,"ADRIANA DE OLIVEIRA GARCEZ BIASOTTO","PROFESSOR (A) DE EDUCACAO BASICA","ESTATUTARIO","2022-09-29",30,"2023-09-29","2022-09-30","2023-08-31","31869-44833",{"$f":"G1851-SUMIF(ESCALA!$B$14:$B$15,DADOS!K1851,ESCALA!$I$14:$I$15)","v":30}]
[31869,31869,"ADRIANA DE OLIVEIRA GARCEZ BIASOTTO","PROFESSOR (A) DE EDUCACAO BASICA","ESTATUTARIO","2023-09-29",30,"2024-09-29","2023-09-30","2024-08-31","31869-45198",{"$f":"G1852-SUMIF(ESCALA!$B$14:$B$15,DADOS!K1852,ESCALA!$I$14:$I$15)","v":30}]
[31870,31870,"FLAVIA NUNES RIBEIRO SOUZA","DIRETOR (A) DE ESCOLA","ESTATUTARIO","2022-09-29",30,"2023-09-29","2022-09-30","2023-08-31","31870-44833",{"$f":"G1853-SUMIF(ESCALA!$B$14:$B$15,DADOS!K1853,ESCALA!$I$14:$I$15)","v":30}]
[31870,31870,"FLAVIA NUNES RIBEIRO SOUZA","DIRETOR (A) DE ESCOLA","ESTATUTARIO","2023-09-29",30,"2024-09-29","2023-09-30","2024-08-31","31870-45198",{"$f":"G1854-SUMIF(ESCALA!$B$14:$B$15,DADOS!K1854,ESCALA!$I$14:$I$15)","v":30}]
[31871,31871,"JANICE KARCK SANTIAGO","PROFESSOR (A) DE EDUCACAO INFANTIL","ESTATUTARIO","2022-09-29",30,"2023-09-29","2022-09-30","2023-08-31","31871-44833",{"$f":"G1855-SUMIF(ESCALA!$B$14:$B$15,DADOS!K1855,ESCALA!$I$14:$I$15)","v":30}]
[31871,31871,"JANICE KARCK SANTIAGO","PROFESSOR (A) DE EDUCACAO INFANTIL","ESTATUTARIO","2023-09-29",30,"2024-09-29","2023-09-30","2024-08-31","31871-45198",{"$f":"G1856-SUMIF(ESCALA!$B$14:$B$15,DADOS!K1856,ESCALA!$I$14:$I$15)","v":30}]
[31873,31873,"CRISTINA RODRIGUES DE SOUZA SANTOS","ASSISTENTE DE GESTAO ESCOLAR","ESTATUTARIO","2023-09-29",30,"2024-09-29","2023-09-30","2024-08-31","31873-45198",{"$f":"G1857-SUMIF(ESCALA!$B$14:$B$15,DADOS!K1857,ESCALA!$I$14:$I$15)","v":30}]
[31876,31876,"MARIA DO SOCORRO GUERRA BASTOS","PROFESSOR (A) DE EDUCACAO INFANTIL","ESTATUTARIO","2022-09-29",30,"2023-09-29","2022-09-30","2023-08-31","31876-44833",{"$f":"G1858-SUMIF(ESCALA!$B$14:$B$15,DADOS!K1858,ESCALA!$I$14:$I$15)","v":30}]
[{"$f":"IF(L1859=0,\"\",B1859)","v":31876},31876,"MARIA DO SOCORRO GUERRA BASTOS","PROFESSOR (A) DE EDUCACAO INFANTIL","ESTATUTARIO","2023-09-29",30,{"$f":"IF(F1859<=44985,F1859+365,F1859+366)","v":"2024-09-29"},"2023-09-30","2024-08-31",{"$f":"CONCATENATE(B1859,\"-\",F1859)","v":"31876-45198"},{"$f":"G1859-SUMIF(ESCALA!$B$14:$B$15,DADOS!K1859,ESCALA!$I$14:$I$15)","v":30}]
[31879,31879,"SUELI APARECIDA CORDEIRO","PROFESSOR (A) DE EDUCACAO INFANTIL","CELETISTA","2022-09-30",30,"2023-09-30",{"$f":"IF(E1860=\"ESTATUTARIO\",EOMONTH(F1860,0),EOMONTH(F1860,-1))","v":"2022-08-31"},{"$f":"EOMONTH(F1860,11)","v":"2023-08-31"},"31879-44834",{"$f":"G1860-SUMIF(ESCALA!$B$14:$B$15,DADOS!K1860,ESCALA!$I$14:$I$15)","v":30}]
[31879,31879,"SUELI APARECIDA CORDEIRO","PROFESSOR (A) DE EDUCACAO INFANTIL","CELETISTA","2023-09-30",30,"2024-09-30","2023-08-31","2024-08-31","31879-45199",{"$f":"G1861-SUMIF(ESCALA!$B$14:$B$15,DADOS!K1861,ESCALA!$I$14:$I$15)","v":30}]
[31894,31894,"FERNANDA RAVELLI CAVALCANTE NAVARRO","PROFESSOR (A) DE EDUCACAO BASICA","ESTATUTARIO","2023-01-01",30,"2024-01-01","2023-01-31","2023-12-31","31894-44927",{"$f":"G1862-SUMIF(ESCALA!$B$14:$B$15,DADOS!K1862,ESCALA!$I$14:$I$15)","v":30}]
[31897,31897,"REGIANE MORALES DE BARROS","PROFESSOR (A) DE EDUCAÇÃO BÁSICA","CELETISTA","2023-01-01",30,"2024-01-01","2022-12-31","2023-12-31","31897-44927",{"$f":"G1863-SUMIF(ESCALA!$B$14:$B$15,DADOS!K1863,ESCALA!$I$14:$I$15)","v":30}]
[31902,31902,"MARIA DA GLORIA GOMES","PROFESSOR (A) DE EDUCACAO INFANTIL","ESTATUTARIO","2022-10-03",30,"2023-10-03","2022-10-31","2023-09-30","31902-44837",{"$f":"G1864-SUMIF(ESCALA!$B$14:$B$15,DADOS!K1864,ESCALA!$I$14:$I$15)","v":30}]
[31902,31902,"MARIA DA GLORIA GOMES","PROFESSOR (A) DE EDUCACAO INFANTIL","ESTATUTARIO","2023-10-03",30,"2024-10-03","2023-10-31","2024-09-30","31902-45202",{"$f":"G1865-SUMIF(ESCALA!$B$14:$B$15,DADOS!K1865,ESCALA!$I$14:$I$15)","v":30}]
[31917,31917,"MARIA DA CONCEICAO DE ANDRADE PINTO","PROFESSOR (A) COORDENADOR (A)  PEDAGOGICO (A)","CELETISTA","2022-10-08",30,"2023-10-08","2022-09-30","2023-09-30","31917-44842",{"$f":"G1866-SUMIF(ESCALA!$B$14:$B$15,DADOS!K1866,ESCALA!$I$14:$I$15)","v":30}]
[31917,31917,"MARIA DA CONCEICAO DE ANDRADE PINTO","PROFESSOR (A) COORDENADOR (A)  PEDAGOGICO (A)","CELETISTA","2023-10-08",30,"2024-10-08","2023-09-30","2024-09-30","31917-45207",{"$f":"G1867-SUMIF(ESCALA!$B$14:$B$15,DADOS!K1867,ESCALA!$I$14:$I$15)","v":30}]
[31919,31919,"MARIA JOSE FERREIRA SILVA","PROFESSOR (A) DE EDUCACAO INFANTIL","CELETISTA","2022-10-08",30,"2023-10-08","2022-09-30","2023-09-30","31919-44842",{"$f":"G1868-SUMIF(ESCALA!$B$14:$B$15,DADOS!K1868,ESCALA!$I$14:$I$15)","v":30}]
[31919,31919,"MARIA JOSE FERREIRA SILVA","PROFESSOR (A) DE EDUCACAO INFANTIL","CELETISTA","2023-10-08",30,"2024-10-08","2023-09-30","2024-09-30","31919-45207",{"$f":"G1869-SUMIF(ESCALA!$B$14:$B$15,DADOS!K1869,ESCALA!$I$14:$I$15)","v":30}]
[31932,31932,"CELIA MARIA FERNANDES DOS SANTOS","PROFESSOR (A) DE EDUCACAO INFANTIL","ESTATUTARIO","2022-10-10",30,"2023-10-10","2022-10-31","2023-09-30","31932-44844",{"$f":"G1870-SUMIF(ESCALA!$B$14:$B$15,DADOS!K1870,ESCALA!$I$14:$I$15)","v":30}]
[31932,31932,"CELIA MARIA FERNANDES DOS SANTOS","PROFESSOR (A) DE EDUCACAO INFANTIL","ESTATUTARIO","2023-10-10",30,"2024-10-10","2023-10-31","2024-09-30","31932-45209",{"$f":"G1871-SUMIF(ESCALA!$B$14:$B$15,DADOS!K1871,ESCALA!$I$14:$I$15)","v":30}]
[31934,31934,"MARIA ZILDA DE SOUZA FONSECA","PROFESSOR (A) DE EDUCACAO BASICA","ESTATUTARIO","2023-01-01",30,"2024-01-01","2023-01-31","2023-12-31","31934-44927",{"$f":"G1872-SUMIF(ESCALA!$B$14:$B$15,DADOS!K1872,ESCALA!$I$14:$I$15)","v":30}]
[31941,31941,"CLEIDE NEVES DA SILVA SANTOS","PROFESSOR (A) DE EDUCAÇÃO BÁSICA","ESTATUTARIO","2023-01-01",30,"2024-01-01","2023-01-31","2023-12-31","31941-44927",{"$f":"G1873-SUMIF(ESCALA!$B$14:$B$15,DADOS!K1873,ESCALA!$I$14:$I$15)","v":30}]
[31948,31948,"ROSANA RODRIGUES DA SILVA","PROFESSOR (A) DE EDUCAÇÃO BÁSICA","CELETISTA","2023-01-01",30,"2024-01-01","2022-12-31","2023-12-31","31948-44927",{"$f":"G1874-SUMIF(ESCALA!$B$14:$B$15,DADOS!K1874,ESCALA!$I$14:$I$15)","v":30}]
[31980,31980,"MARIA DE LOURDES MENEZES ","PROFESSOR (A) DE EDUCACAO BASICA","ESTATUTARIO","2022-10-20",30,"2023-10-20","2022-10-31","2023-09-30","31980-44854",{"$f":"G1875-SUMIF(ESCALA!$B$14:$B$15,DADOS!K1875,ESCALA!$I$14:$I$15)","v":30}]
[31980,31980,"MARIA DE LOURDES MENEZES ","PROFESSOR (A) DE EDUCACAO BASICA","ESTATUTARIO","2023-10-20",30,"2024-10-20","2023-10-31","2024-09-30","31980-45219",{"$f":"G1876-SUMIF(ESCALA!$B$14:$B$15,DADOS!K1876,ESCALA!$I$14:$I$15)","v":30}]
[31981,31981,"PATRICIA RODRIGUES DE FARIA","PROFESSOR (A) DE EDUCACAO INFANTIL","ESTATUTARIO","2022-10-20",30,"2023-10-20","2022-10-31","2023-09-30","31981-44854",{"$f":"G1877-SUMIF(ESCALA!$B$14:$B$15,DADOS!K1877,ESCALA!$I$14:$I$15)","v":30}]
[31981,31981,"PATRICIA RODRIGUES DE FARIA","PROFESSOR (A) DE EDUCACAO INFANTIL","ESTATUTARIO","2023-10-20",30,"2024-10-20","2023-10-31","2024-09-30","31981-45219",{"$f":"G1878-SUMIF(ESCALA!$B$14:$B$15,DADOS!K1878,ESCALA!$I$14:$I$15)","v":30}]
[31982,31982,"LUCIANA CRISTINA PEREIRA FONSECA","PROFESSOR (A) COORDENADOR (A)  PEDAGOGICO (A)","ESTATUTARIO","2022-10-20",30,"2023-10-20","2022-10-31","2023-09-30","31982-44854",{"$f":"G1879-SUMIF(ESCALA!$B$14:$B$15,DADOS!K1879,ESCALA!$I$14:$I$15)","v":30}]
[31982,31982,"LUCIANA CRISTINA PEREIRA FONSECA","PROFESSOR (A) COORDENADOR (A)  PEDAGOGICO (A)","ESTATUTARIO","2023-10-20",30,"2024-10-20","2023-10-31","2024-09-30","31982-45219",{"$f":"G1880-SUMIF(ESCALA!$B$14:$B$15,DADOS!K1880,ESCALA!$I$14:$I$15)","v":30}]
[31984,31984,"MARCIA REGINA DE OLIVEIRA ROCHA","PROFESSOR (A) COORDENADOR (A)  PEDAGOGICO (A)","ESTATUTARIO","2022-10-20",30,"2023-10-20","2022-10-31","2023-09-30","31984-44854",{"$f":"G1881-SUMIF(ESCALA!$B$14:$B$15,DADOS!K1881,ESCALA!$I$14:$I$15)","v":30}]
[31984,31984,"MARCIA REGINA DE OLIVEIRA ROCHA","PROFESSOR (A) COORDENADOR (A)  PEDAGOGICO (A)","ESTATUTARIO","2023-10-20",30,"2024-10-20","2023-10-31","2024-09-30","31984-45219",{"$f":"G1882-SUMIF(ESCALA!$B$14:$B$15,DADOS!K1882,ESCALA!$I$14:$I$15)","v":30}]
[31986,31986,"JENELICE OLIVEIRA AMORIM","PROFESSOR (A) DE EDUCACAO INFANTIL","ESTATUTARIO","2022-10-20",30,"2023-10-20","2022-10-31","2023-09-30","31986-44854",{"$f":"G1883-SUMIF(ESCALA!$B$14:$B$15,DADOS!K1883,ESCALA!$I$14:$I$15)","v":30}]
[31986,31986,"JENELICE OLIVEIRA AMORIM","PROFESSOR (A) DE EDUCACAO INFANTIL","ESTATUTARIO","2023-10-20",30,"2024-10-20","2023-10-31","2024-09-30","31986-45219",{"$f":"G1884-SUMIF(ESCALA!$B$14:$B$15,DADOS!K1884,ESCALA!$I$14:$I$15)","v":30}]
[31987,31987,"CAROLINA MOREIRA MENDONCA ROCHA","PROFESSOR (A) DE EDUCACAO INFANTIL","ESTATUTARIO","2022-10-20",30,"2023-10-20","2022-10-31","2023-09-30","31987-44854",{"$f":"G1885-SUMIF(ESCALA!$B$14:$B$15,DADOS!K1885,ESCALA!$I$14:$I$15)","v":30}]
[31987,31987,"CAROLINA MOREIRA MENDONCA ROCHA","PROFESSOR (A) DE EDUCACAO INFANTIL","ESTATUTARIO","2023-10-20",30,"2024-10-20","2023-10-31","2024-09-30","31987-45219",{"$f":"G1886-SUMIF(ESCALA!$B$14:$B$15,DADOS!K1886,ESCALA!$I$14:$I$15)","v":30}]
[31996,31996,"MARIA NEUSA PEDROSO DE SOUSA","PROFESSOR (A) DE EDUCACAO INFANTIL","ESTATUTARIO","2022-10-20",30,"2023-10-20","2022-10-31","2023-09-30","31996-44854",{"$f":"G1887-SUMIF(ESCALA!$B$14:$B$15,DADOS!K1887,ESCALA!$I$14:$I$15)","v":30}]
[31996,31996,"MARIA NEUSA PEDROSO DE SOUSA","PROFESSOR (A) DE EDUCACAO INFANTIL","ESTATUTARIO","2023-10-20",30,"2024-10-20","2023-10-31","2024-09-30","31996-45219",{"$f":"G1888-SUMIF(ESCALA!$B$14:$B$15,DADOS!K1888,ESCALA!$I$14:$I$15)","v":30}]
[32002,32002,"THAIS THOMAZ DOS SANTOS","PROFESSOR (A) COORDENADOR (A)  PEDAGOGICO (A)","ESTATUTARIO","2022-10-20",30,"2023-10-20","2022-10-31","2023-09-30","32002-44854",{"$f":"G1889-SUMIF(ESCALA!$B$14:$B$15,DADOS!K1889,ESCALA!$I$14:$I$15)","v":30}]
[32002,32002,"THAIS THOMAZ DOS SANTOS","PROFESSOR (A) COORDENADOR (A)  PEDAGOGICO (A)","ESTATUTARIO","2023-10-20",30,"2024-10-20","2023-10-31","2024-09-30","32002-45219",{"$f":"G1890-SUMIF(ESCALA!$B$14:$B$15,DADOS!K1890,ESCALA!$I$14:$I$15)","v":30}]
[32003,32003,"ELZA MARIA DE LOURENZI MOLINA","VICE DIRETOR (A) SUBSTITUTO (A)","CELETISTA","2022-10-20",30,"2023-10-20","2022-09-30","2023-09-30","32003-44854",{"$f":"G1891-SUMIF(ESCALA!$B$14:$B$15,DADOS!K1891,ESCALA!$I$14:$I$15)","v":30}]
[32003,32003,"ELZA MARIA DE LOURENZI MOLINA","VICE DIRETOR (A) SUBSTITUTO (A)","CELETISTA","2023-10-20",30,"2024-10-20","2023-09-30","2024-09-30","32003-45219",{"$f":"G1892-SUMIF(ESCALA!$B$14:$B$15,DADOS!K1892,ESCALA!$I$14:$I$15)","v":30}]
[32005,32005,"LETICIA MUNIZ MAGALHAES DA CUNHA","COORDENADOR (A) DE PROGRAMAS EDUCACIONAIS","ESTATUTARIO","2022-10-18",30,"2023-10-18","2022-10-31","2023-09-30","32005-44852",{"$f":"G1893-SUMIF(ESCALA!$B$14:$B$15,DADOS!K1893,ESCALA!$I$14:$I$15)","v":30}]
[32005,32005,"LETICIA MUNIZ MAGALHAES DA CUNHA","COORDENADOR (A) DE PROGRAMAS EDUCACIONAIS","ESTATUTARIO","2023-10-18",30,"2024-10-18","2023-10-31","2024-09-30","32005-45217",{"$f":"G1894-SUMIF(ESCALA!$B$14:$B$15,DADOS!K1894,ESCALA!$I$14:$I$15)","v":30}]
[32012,32012,"DARLENE APARECIDA DA SILVA","PROFESSOR (A) DE EDUCACAO INFANTIL","ESTATUTARIO","2022-10-20",30,"2023-10-20","2022-10-31","2023-09-30","32012-44854",{"$f":"G1895-SUMIF(ESCALA!$B$14:$B$15,DADOS!K1895,ESCALA!$I$14:$I$15)","v":30}]
[32012,32012,"DARLENE APARECIDA DA SILVA","PROFESSOR (A) DE EDUCACAO INFANTIL","ESTATUTARIO","2023-10-20",30,"2024-10-20","2023-10-31","2024-09-30","32012-45219",{"$f":"G1896-SUMIF(ESCALA!$B$14:$B$15,DADOS!K1896,ESCALA!$I$14:$I$15)","v":30}]
[32045,32045,"ADRIANA DOS SANTOS PAES","CHEFE DE SECAO TECNICA","ESTATUTARIO","2022-10-28",30,"2023-10-28","2022-10-31","2023-09-30","32045-44862",{"$f":"G1897-SUMIF(ESCALA!$B$14:$B$15,DADOS!K1897,ESCALA!$I$14:$I$15)","v":30}]
[32045,32045,"ADRIANA DOS SANTOS PAES","CHEFE DE SECAO TECNICA","ESTATUTARIO","2023-10-28",30,"2024-10-28","2023-10-31","2024-09-30","32045-45227",{"$f":"G1898-SUMIF(ESCALA!$B$14:$B$15,DADOS!K1898,ESCALA!$I$14:$I$15)","v":30}]
[32054,32054,"EDILENE DOS REIS NUNES","PROFESSOR (A) DE EDUCACAO INFANTIL","ESTATUTARIO","2022-04-24",30,"2023-04-24","2022-04-30","2023-03-31","32054-44675",{"$f":"G1899-SUMIF(ESCALA!$B$14:$B$15,DADOS!K1899,ESCALA!$I$14:$I$15)","v":30}]
[32054,32054,"EDILENE DOS REIS NUNES","PROFESSOR (A) DE EDUCACAO INFANTIL","ESTATUTARIO","2023-04-24",30,"2024-04-24","2023-04-30","2024-03-31","32054-45040",{"$f":"G1900-SUMIF(ESCALA!$B$14:$B$15,DADOS!K1900,ESCALA!$I$14:$I$15)","v":30}]
[32059,32059,"GISELE PRISCINOTTO DE MORAES BRAGA","PROFESSOR (A) DE EDUCACAO BASICA","ESTATUTARIO","2022-10-29",30,"2023-10-29","2022-10-31","2023-09-30","32059-44863",{"$f":"G1901-SUMIF(ESCALA!$B$14:$B$15,DADOS!K1901,ESCALA!$I$14:$I$15)","v":30}]
[32059,32059,"GISELE PRISCINOTTO DE MORAES BRAGA","PROFESSOR (A) DE EDUCACAO BASICA","ESTATUTARIO","2023-10-29",30,"2024-10-29","2023-10-31","2024-09-30","32059-45228",{"$f":"G1902-SUMIF(ESCALA!$B$14:$B$15,DADOS!K1902,ESCALA!$I$14:$I$15)","v":30}]
[32072,32072,"LUCIANE SCUSSEL DUARTE LIMA","CHEFE DE SECAO ADMINISTRATIVA","ESTATUTARIO","2022-11-03",20,"2023-11-03","2022-11-30","2023-10-31","32072-44868",{"$f":"G1903-SUMIF(ESCALA!$B$14:$B$15,DADOS!K1903,ESCALA!$I$14:$I$15)","v":20}]
[32072,32072,"LUCIANE SCUSSEL DUARTE LIMA","CHEFE DE SECAO ADMINISTRATIVA","ESTATUTARIO","2023-11-03",30,"2024-11-03","2023-11-30","2024-10-31","32072-45233",{"$f":"G1904-SUMIF(ESCALA!$B$14:$B$15,DADOS!K1904,ESCALA!$I$14:$I$15)","v":30}]
[32074,32074,"GILVACI TAVARES DE SOUZA","COORDENADOR (A) DE PROGRAMAS EDUCACIONAIS","ESTATUTARIO","2022-11-03",30,"2023-11-03","2022-11-30","2023-10-31","32074-44868",{"$f":"G1905-SUMIF(ESCALA!$B$14:$B$15,DADOS!K1905,ESCALA!$I$14:$I$15)","v":30}]
[32074,32074,"GILVACI TAVARES DE SOUZA","COORDENADOR (A) DE PROGRAMAS EDUCACIONAIS","ESTATUTARIO","2023-11-03",30,"2024-11-03","2023-11-30","2024-10-31","32074-45233",{"$f":"G1906-SUMIF(ESCALA!$B$14:$B$15,DADOS!K1906,ESCALA!$I$14:$I$15)","v":30}]
[32084,32084,"REGINALDA FRANCISCA MARTINS","VICE DIRETOR (A) SUBSTITUTO (A)","ESTATUTARIO","2022-11-05",30,"2023-11-05","2022-11-30","2023-10-31","32084-44870",{"$f":"G1907-SUMIF(ESCALA!$B$14:$B$15,DADOS!K1907,ESCALA!$I$14:$I$15)","v":30}]
[32084,32084,"REGINALDA FRANCISCA MARTINS","VICE DIRETOR (A) SUBSTITUTO (A)","ESTATUTARIO","2023-11-05",30,"2024-11-05","2023-11-30","2024-10-31","32084-45235",{"$f":"G1908-SUMIF(ESCALA!$B$14:$B$15,DADOS!K1908,ESCALA!$I$14:$I$15)","v":30}]
[32132,32132,"ELISANGELA CAMPOS SERVILHA","ASSISTENTE DE GESTAO ESCOLAR","ESTATUTARIO","2022-11-27",30,"2023-11-27","2022-11-30","2023-10-31","32132-44892",{"$f":"G1909-SUMIF(ESCALA!$B$14:$B$15,DADOS!K1909,ESCALA!$I$14:$I$15)","v":30}]
[32132,32132,"ELISANGELA CAMPOS SERVILHA","ASSISTENTE DE GESTAO ESCOLAR","ESTATUTARIO","2023-11-27",30,"2024-11-27","2023-11-30","2024-10-31","32132-45257",{"$f":"G1910-SUMIF(ESCALA!$B$14:$B$15,DADOS!K1910,ESCALA!$I$14:$I$15)","v":30}]
[32133,32133,"ANA MARIA BATISTA RIBEIRO","PROFESSOR (A) DE EDUCACAO INFANTIL","ESTATUTARIO","2022-12-01",30,"2023-12-01","2022-12-31","2023-11-30","32133-44896",{"$f":"G1911-SUMIF(ESCALA!$B$14:$B$15,DADOS!K1911,ESCALA!$I$14:$I$15)","v":30}]
[32133,32133,"ANA MARIA BATISTA RIBEIRO","PROFESSOR (A) DE EDUCACAO INFANTIL","ESTATUTARIO","2023-12-01",30,"2024-12-01","2023-12-31","2024-11-30","32133-45261",{"$f":"G1912-SUMIF(ESCALA!$B$14:$B$15,DADOS!K1912,ESCALA!$I$14:$I$15)","v":30}]
[32165,32165,"ESTELA MARIA CEMINALDO DE SOUSA","PROFESSOR (A) DE EDUCAÇÃO BÁSICA","ESTATUTARIO","2022-12-12",30,"2023-12-12","2022-12-31","2023-11-30","32165-44907",{"$f":"G1913-SUMIF(ESCALA!$B$14:$B$15,DADOS!K1913,ESCALA!$I$14:$I$15)","v":30}]
[32165,32165,"ESTELA MARIA CEMINALDO DE SOUSA","PROFESSOR (A) DE EDUCAÇÃO BÁSICA","ESTATUTARIO","2023-12-12",30,"2024-12-12","2023-12-31","2024-11-30","32165-45272",{"$f":"G1914-SUMIF(ESCALA!$B$14:$B$15,DADOS!K1914,ESCALA!$I$14:$I$15)","v":30}]
[32215,32215,"KAREN SILVIA DIAS FRADE ESTANQUIERE","PROFESSOR (A) DE EDUCACAO BASICA","ESTATUTARIO","2023-01-01",30,"2024-01-01","2023-01-31","2023-12-31","32215-44927",{"$f":"G1915-SUMIF(ESCALA!$B$14:$B$15,DADOS!K1915,ESCALA!$I$14:$I$15)","v":30}]
[32219,32219,"SANDRA REGINA DE OLIVEIRA","COORDENADOR (A) DE PROGRAMAS EDUCACIONAIS","CELETISTA","2023-01-01",30,"2024-01-01","2022-12-31","2023-12-31","32219-44927",{"$f":"G1916-SUMIF(ESCALA!$B$14:$B$15,DADOS!K1916,ESCALA!$I$14:$I$15)","v":30}]
[32237,32237,"ARLENE ROCHA LUCAS DE OLIVEIRA","PROFESSOR (A) DE EDUCAÇÃO BASICA","CELETISTA","2023-01-01",30,"2024-01-01","2022-12-31","2023-12-31","32237-44927",{"$f":"G1917-SUMIF(ESCALA!$B$14:$B$15,DADOS!K1917,ESCALA!$I$14:$I$15)","v":30}]
[32241,32241,"FATIMA APARECIDA ZAMPOLO DA SILVA","VICE-DIRETOR (A) DE ESCOLA","CELETISTA","2023-01-01",30,"2024-01-01","2022-12-31","2023-12-31","32241-44927",{"$f":"G1918-SUMIF(ESCALA!$B$14:$B$15,DADOS!K1918,ESCALA!$I$14:$I$15)","v":30}]
[32242,32242,"MARIA GENAINA DE ALMEIDA RIBEIRO REDER","DIRETOR (A) DE ESCOLA","CELETISTA","2022-07-28",30,"2023-07-28","2022-06-30","2023-06-30","32242-44770",{"$f":"G1919-SUMIF(ESCALA!$B$14:$B$15,DADOS!K1919,ESCALA!$I$14:$I$15)","v":30}]
[32242,32242,"MARIA GENAINA DE ALMEIDA RIBEIRO REDER","DIRETOR (A) DE ESCOLA","CELETISTA","2023-07-28",30,"2024-07-28","2023-06-30","2024-06-30","32242-45135",{"$f":"G1920-SUMIF(ESCALA!$B$14:$B$15,DADOS!K1920,ESCALA!$I$14:$I$15)","v":30}]
[32325,32325,"VANESSA FREITAS DE ANDRADE","PROFESSOR (A) DE EDUCAÇÃO BÁSICA","ESTATUTARIO","2023-01-01",30,"2024-01-01","2023-01-31","2023-12-31","32325-44927",{"$f":"G1921-SUMIF(ESCALA!$B$14:$B$15,DADOS!K1921,ESCALA!$I$14:$I$15)","v":30}]
[32336,32336,"FABIANA TORRES FREIRE","PROFESSOR (A) DE EDUCACAO BASICA","ESTATUTARIO","2023-01-01",30,"2024-01-01","2023-01-31","2023-12-31","32336-44927",{"$f":"G1922-SUMIF(ESCALA!$B$14:$B$15,DADOS!K1922,ESCALA!$I$14:$I$15)","v":30}]
[{"$f":"IF(L1923=0,\"\",B1923)","v":32337},32337,"ELAINE PEREIRA DA SILVA","PROFESSOR (A) DE EDUCACAO BASICA","ESTATUTARIO","2023-01-01",30,{"$f":"IF(F1923<=44985,F1923+365,F1923+366)","v":"2024-01-01"},"2023-01-31","2023-12-31",{"$f":"CONCATENATE(B1923,\"-\",F1923)","v":"32337-44927"},{"$f":"G1923-SUMIF(ESCALA!$B$14:$B$15,DADOS!K1923,ESCALA!$I$14:$I$15)","v":30}]
[32349,32349,"CINTIA DOMINGUES DE OLIVEIRA MATOS","VICE-DIRETOR (A) DE ESCOLA","ESTATUTARIO","2023-01-01",30,"2024-01-01",{"$f":"IF(E1924=\"ESTATUTARIO\",EOMONTH(F1924,0),EOMONTH(F1924,-1))","v":"2023-01-31"},{"$f":"EOMONTH(F1924,11)","v":"2023-12-31"},"32349-44927",{"$f":"G1924-SUMIF(ESCALA!$B$14:$B$15,DADOS!K1924,ESCALA!$I$14:$I$15)","v":30}]
[32352,32352,"KATIA REGINA FARINA","PROFESSOR (A) DE EDUCAÇÃO BASICA","CELETISTA","2023-01-01",30,"2024-01-01","2022-12-31","2023-12-31","32352-44927",{"$f":"G1925-SUMIF(ESCALA!$B$14:$B$15,DADOS!K1925,ESCALA!$I$14:$I$15)","v":30}]
[32353,32353,"LETICIA TENORIO DE JESUS","PROFESSOR (A) DE EDUCAÇÃO BÁSICA","CELETISTA","2023-01-01",30,"2024-01-01","2022-12-31","2023-12-31","32353-44927",{"$f":"G1926-SUMIF(ESCALA!$B$14:$B$15,DADOS!K1926,ESCALA!$I$14:$I$15)","v":30}]
[32354,32354,"ROSEMEIRE DE ALMEIDA VITORINO ","PROFESSOR (A) DE EDUCAÇÃO BÁSICA","ESTATUTARIO","2023-01-01",30,"2024-01-01","2023-01-31","2023-12-31","32354-44927",{"$f":"G1927-SUMIF(ESCALA!$B$14:$B$15,DADOS!K1927,ESCALA!$I$14:$I$15)","v":30}]
[32357,32357,"NEDI SOARES DOURADO DE MEIRELES","PROFESSOR (A) DE EDUCAÇÃO BASICA","CELETISTA","2023-01-01",30,"2024-01-01","2022-12-31","2023-12-31","32357-44927",{"$f":"G1928-SUMIF(ESCALA!$B$14:$B$15,DADOS!K1928,ESCALA!$I$14:$I$15)","v":30}]
[32364,32364,"MARCIA DE OLIVEIRA MALDONADO","PROFESSOR (A) DE EDUCACAO BASICA","ESTATUTARIO","2023-01-01",30,"2024-01-01","2023-01-31","2023-12-31","32364-44927",{"$f":"G1929-SUMIF(ESCALA!$B$14:$B$15,DADOS!K1929,ESCALA!$I$14:$I$15)","v":30}]
[32369,32369,"CLEUSA MARIA GRANEIRO","COORDENADOR (A) DE PROGRAMAS EDUCACIONAIS","ESTATUTARIO","2022-07-24",30,"2023-07-24","2022-07-31","2023-06-30","32369-44766",{"$f":"G1930-SUMIF(ESCALA!$B$14:$B$15,DADOS!K1930,ESCALA!$I$14:$I$15)","v":30}]
[32369,32369,"CLEUSA MARIA GRANEIRO","COORDENADOR (A) DE PROGRAMAS EDUCACIONAIS","ESTATUTARIO","2023-07-24",30,"2024-07-24","2023-07-31","2024-06-30","32369-45131",{"$f":"G1931-SUMIF(ESCALA!$B$14:$B$15,DADOS!K1931,ESCALA!$I$14:$I$15)","v":30}]
[32376,32376,"SUSANA BATISTA ROCHA","PROFESSOR (A) DE EDUCACAO BASICA","ESTATUTARIO","2023-01-01",30,"2024-01-01","2023-01-31","2023-12-31","32376-44927",{"$f":"G1932-SUMIF(ESCALA!$B$14:$B$15,DADOS!K1932,ESCALA!$I$14:$I$15)","v":30}]
[32378,32378,"CINTHIA BADIALI SANTANA FARIAS","PROFESSOR (A) DE EDUCACAO BASICA","ESTATUTARIO","2023-01-01",30,"2024-01-01","2023-01-31","2023-12-31","32378-44927",{"$f":"G1933-SUMIF(ESCALA!$B$14:$B$15,DADOS!K1933,ESCALA!$I$14:$I$15)","v":30}]
[32380,32380,"MEIRE DE SIQUEIRA KRAUSE","PROFESSOR (A) DE EDUCACAO BASICA","ESTATUTARIO","2023-01-01",30,"2024-01-01","2023-01-31","2023-12-31","32380-44927",{"$f":"G1934-SUMIF(ESCALA!$B$14:$B$15,DADOS!K1934,ESCALA!$I$14:$I$15)","v":30}]
[32381,32381,"ROSE VIEIRA","PROFESSOR (A) DE EDUCAÇÃO BÁSICA","ESTATUTARIO","2023-01-01",30,"2024-01-01","2023-01-31","2023-12-31","32381-44927",{"$f":"G1935-SUMIF(ESCALA!$B$14:$B$15,DADOS!K1935,ESCALA!$I$14:$I$15)","v":30}]
[32382,32382,"TATIANA REIS DE CARVALHO","PROFESSOR (A) DE EDUCACAO BASICA","ESTATUTARIO","2023-01-01",30,"2024-01-01","2023-01-31","2023-12-31","32382-44927",{"$f":"G1936-SUMIF(ESCALA!$B$14:$B$15,DADOS!K1936,ESCALA!$I$14:$I$15)","v":30}]
[32383,32383,"MARCIA CRISTINA DA SILVA MARIANO","VICE DIRETOR (A) SUBSTITUTO (A)","ESTATUTARIO","2023-01-01",30,"2024-01-01","2023-01-31","2023-12-31","32383-44927",{"$f":"G1937-SUMIF(ESCALA!$B$14:$B$15,DADOS!K1937,ESCALA!$I$14:$I$15)","v":30}]
[32384,32384,"CAROLINA COSTA LEANDRO FERREIRA","DIRETOR (A) DE ESCOLA","ESTATUTARIO","2023-01-01",30,"2024-01-01","2023-01-31","2023-12-31","32384-44927",{"$f":"G1938-SUMIF(ESCALA!$B$14:$B$15,DADOS!K1938,ESCALA!$I$14:$I$15)","v":30}]
[32392,32392,"ROSA DA ENCARNACAO DOS SANTOS SEICA SPINA","PROFESSOR (A) DE EDUCACAO BASICA","ESTATUTARIO","2023-01-01",30,"2024-01-01","2023-01-31","2023-12-31","32392-44927",{"$f":"G1939-SUMIF(ESCALA!$B$14:$B$15,DADOS!K1939,ESCALA!$I$14:$I$15)","v":30}]
[32393,32393,"MORIZA SUZIM DE SOUZA","PROFESSOR (A) DE EDUCACAO BASICA","ESTATUTARIO","2023-01-01",30,"2024-01-01","2023-01-31","2023-12-31","32393-44927",{"$f":"G1940-SUMIF(ESCALA!$B$14:$B$15,DADOS!K1940,ESCALA!$I$14:$I$15)","v":30}]
[32406,32406,"ELIANA DE SOUZA GOMES MATOS","VICE-DIRETOR (A) DE ESCOLA","ESTATUTARIO","2023-01-01",30,"2024-01-01","2023-01-31","2023-12-31","32406-44927",{"$f":"G1941-SUMIF(ESCALA!$B$14:$B$15,DADOS!K1941,ESCALA!$I$14:$I$15)","v":30}]
[32412,32412,"LUCIENE SILVA ARAUJO","PROFESSOR (A) DE EDUCACAO BASICA","ESTATUTARIO","2023-01-01",30,"2024-01-01","2023-01-31","2023-12-31","32412-44927",{"$f":"G1942-SUMIF(ESCALA!$B$14:$B$15,DADOS!K1942,ESCALA!$I$14:$I$15)","v":30}]
[32413,32413,"CLAUDIO ALVES DEMETRIO","DIRETOR (A) DE ESCOLA","ESTATUTARIO","2023-01-01",30,"2024-01-01","2023-01-31","2023-12-31","32413-44927",{"$f":"G1943-SUMIF(ESCALA!$B$14:$B$15,DADOS!K1943,ESCALA!$I$14:$I$15)","v":30}]
[32425,32425,"VILMA DA SILVA","PROFESSOR (A) DE EDUCACAO BASICA","CELETISTA","2023-01-01",30,"2024-01-01","2022-12-31","2023-12-31","32425-44927",{"$f":"G1944-SUMIF(ESCALA!$B$14:$B$15,DADOS!K1944,ESCALA!$I$14:$I$15)","v":30}]
[32473,32473,"ANA CLAUDIA DOS SANTOS FARIA","PROFESSOR (A) DE EDUCAÇÃO BÁSICA","ESTATUTARIO","2023-01-01",30,"2024-01-01","2023-01-31","2023-12-31","32473-44927",{"$f":"G1945-SUMIF(ESCALA!$B$14:$B$15,DADOS!K1945,ESCALA!$I$14:$I$15)","v":30}]
[32480,32480,"APARECIDA BARBOSA DA SILVA","PROFESSOR (A) DE EDUCAÇÃO BÁSICA","ESTATUTARIO","2023-01-01",30,"2024-01-01","2023-01-31","2023-12-31","32480-44927",{"$f":"G1946-SUMIF(ESCALA!$B$14:$B$15,DADOS!K1946,ESCALA!$I$14:$I$15)","v":30}]
[32481,32481,"MARILENE RESENDE CARDOSO","PROFESSOR (A) DE EDUCACAO INFANTIL","ESTATUTARIO","2022-03-19",30,"2023-03-19","2022-03-31","2023-02-28","32481-44639",{"$f":"G1947-SUMIF(ESCALA!$B$14:$B$15,DADOS!K1947,ESCALA!$I$14:$I$15)","v":30}]
[32481,32481,"MARILENE RESENDE CARDOSO","PROFESSOR (A) DE EDUCACAO INFANTIL","ESTATUTARIO","2023-03-19",30,"2024-03-19","2023-03-31","2024-02-29","32481-45004",{"$f":"G1948-SUMIF(ESCALA!$B$14:$B$15,DADOS!K1948,ESCALA!$I$14:$I$15)","v":30}]
[32485,32485,"RENATA APARECIDA MARIOT","PROFESSOR (A) DE EDUCACAO INFANTIL","ESTATUTARIO","2022-03-19",30,"2023-03-19","2022-03-31","2023-02-28","32485-44639",{"$f":"G1949-SUMIF(ESCALA!$B$14:$B$15,DADOS!K1949,ESCALA!$I$14:$I$15)","v":30}]
[32485,32485,"RENATA APARECIDA MARIOT","PROFESSOR (A) DE EDUCACAO INFANTIL","ESTATUTARIO","2023-03-19",30,"2024-03-19","2023-03-31","2024-02-29","32485-45004",{"$f":"G1950-SUMIF(ESCALA!$B$14:$B$15,DADOS!K1950,ESCALA!$I$14:$I$15)","v":30}]
[32487,32487,"RENATA BORGES DE MELO","PROFESSOR (A) DE EDUCACAO INFANTIL","ESTATUTARIO","2022-03-19",30,"2023-03-19","2022-03-31","2023-02-28","32487-44639",{"$f":"G1951-SUMIF(ESCALA!$B$14:$B$15,DADOS!K1951,ESCALA!$I$14:$I$15)","v":30}]
[32487,32487,"RENATA BORGES DE MELO","PROFESSOR (A) DE EDUCACAO INFANTIL","ESTATUTARIO","2023-03-19",30,"2024-03-19","2023-03-31","2024-02-29","32487-45004",{"$f":"G1952-SUMIF(ESCALA!$B$14:$B$15,DADOS!K1952,ESCALA!$I$14:$I$15)","v":30}]
[32489,32489,"LUCIENE SILVA ROCHA","PROFESSOR (A) DE EDUCACAO BASICA","ESTATUTARIO","2023-01-01",30,"2024-01-01","2023-01-31","2023-12-31","32489-44927",{"$f":"G1953-SUMIF(ESCALA!$B$14:$B$15,DADOS!K1953,ESCALA!$I$14:$I$15)","v":30}]
[32490,32490,"ANA CRISTINA AMADEU PINHO","PROFESSOR (A) DE EDUCACAO BASICA","ESTATUTARIO","2023-01-01",30,"2024-01-01","2023-01-31","2023-12-31","32490-44927",{"$f":"G1954-SUMIF(ESCALA!$B$14:$B$15,DADOS!K1954,ESCALA!$I$14:$I$15)","v":30}]
[32493,32493,"GABRIELA NUNES DE ARAUJO","PROFESSOR (A) DE EDUCACAO INFANTIL","ESTATUTARIO","2022-03-19",30,"2023-03-19","2022-03-31","2023-02-28","32493-44639",{"$f":"G1955-SUMIF(ESCALA!$B$14:$B$15,DADOS!K1955,ESCALA!$I$14:$I$15)","v":30}]
[32493,32493,"GABRIELA NUNES DE ARAUJO","PROFESSOR (A) DE EDUCACAO INFANTIL","ESTATUTARIO","2023-03-19",30,"2024-03-19","2023-03-31","2024-02-29","32493-45004",{"$f":"G1956-SUMIF(ESCALA!$B$14:$B$15,DADOS!K1956,ESCALA!$I$14:$I$15)","v":30}]
[32494,32494,"ANALICE RODRIGUES CASSADORI CARVALHO DE SOUZA","PROFESSOR (A) DE EDUCAÇÃO BÁSICA","ESTATUTARIO","2023-01-01",30,"2024-01-01","2023-01-31","2023-12-31","32494-44927",{"$f":"G1957-SUMIF(ESCALA!$B$14:$B$15,DADOS!K1957,ESCALA!$I$14:$I$15)","v":30}]
[32495,32495,"ALICE DOS SANTOS BELES TAVARES","PROFESSOR (A) DE EDUCACAO INFANTIL","ESTATUTARIO","2022-03-19",30,"2023-03-19","2022-03-31","2023-02-28","32495-44639",{"$f":"G1958-SUMIF(ESCALA!$B$14:$B$15,DADOS!K1958,ESCALA!$I$14:$I$15)","v":30}]
[32495,32495,"ALICE DOS SANTOS BELES TAVARES","PROFESSOR (A) DE EDUCACAO INFANTIL","ESTATUTARIO","2023-03-19",30,"2024-03-19","2023-03-31","2024-02-29","32495-45004",{"$f":"G1959-SUMIF(ESCALA!$B$14:$B$15,DADOS!K1959,ESCALA!$I$14:$I$15)","v":30}]
[32496,32496,"ADRIANA DA COSTA NUNES","PROFESSOR (A) DE EDUCAÇÃO BÁSICA","ESTATUTARIO","2023-01-01",30,"2024-01-01","2023-01-31","2023-12-31","32496-44927",{"$f":"G1960-SUMIF(ESCALA!$B$14:$B$15,DADOS!K1960,ESCALA!$I$14:$I$15)","v":30}]
[32502,32502,"SUSANA ELIZABETE LOPES LEMES","PROFESSOR (A) DE EDUCACAO INFANTIL","ESTATUTARIO","2022-03-19",30,"2023-03-19","2022-03-31","2023-02-28","32502-44639",{"$f":"G1961-SUMIF(ESCALA!$B$14:$B$15,DADOS!K1961,ESCALA!$I$14:$I$15)","v":30}]
[32502,32502,"SUSANA ELIZABETE LOPES LEMES","PROFESSOR (A) DE EDUCACAO INFANTIL","ESTATUTARIO","2023-03-19",30,"2024-03-19","2023-03-31","2024-02-29","32502-45004",{"$f":"G1962-SUMIF(ESCALA!$B$14:$B$15,DADOS!K1962,ESCALA!$I$14:$I$15)","v":30}]
[32503,32503,"PATRICIA LANDOLFO NABARRO","PROFESSOR (A) DE EDUCACAO BASICA","ESTATUTARIO","2022-03-19",30,"2023-03-19","2022-03-31","2023-02-28","32503-44639",{"$f":"G1963-SUMIF(ESCALA!$B$14:$B$15,DADOS!K1963,ESCALA!$I$14:$I$15)","v":30}]
[32503,32503,"PATRICIA LANDOLFO NABARRO","PROFESSOR (A) DE EDUCACAO BASICA","ESTATUTARIO","2023-03-19",30,"2024-03-19","2023-03-31","2024-02-29","32503-45004",{"$f":"G1964-SUMIF(ESCALA!$B$14:$B$15,DADOS!K1964,ESCALA!$I$14:$I$15)","v":30}]
[32505,32505,"LIGIA MARIA VIEIRA DA COSTA MATOS","PROFESSOR (A) DE EDUCACAO INFANTIL","ESTATUTARIO","2022-03-19",30,"2023-03-19","2022-03-31","2023-02-28","32505-44639",{"$f":"G1965-SUMIF(ESCALA!$B$14:$B$15,DADOS!K1965,ESCALA!$I$14:$I$15)","v":30}]
[32505,32505,"LIGIA MARIA VIEIRA DA COSTA MATOS","PROFESSOR (A) DE EDUCACAO INFANTIL","ESTATUTARIO","2023-03-19",30,"2024-03-19","2023-03-31","2024-02-29","32505-45004",{"$f":"G1966-SUMIF(ESCALA!$B$14:$B$15,DADOS!K1966,ESCALA!$I$14:$I$15)","v":30}]
[32514,32514,"LUCIA APARECIDA ALVES DOS SANTOS SOUZA","PROFESSOR (A) DE EDUCACAO BASICA","ESTATUTARIO","2023-01-01",30,"2024-01-01","2023-01-31","2023-12-31","32514-44927",{"$f":"G1967-SUMIF(ESCALA!$B$14:$B$15,DADOS!K1967,ESCALA!$I$14:$I$15)","v":30}]
[32524,32524,"URSULA ANDREA PIAI FREITAS","PROFESSOR (A) DE EDUCACAO BASICA","ESTATUTARIO","2022-03-23",30,"2023-03-23","2022-03-31","2023-02-28","32524-44643",{"$f":"G1968-SUMIF(ESCALA!$B$14:$B$15,DADOS!K1968,ESCALA!$I$14:$I$15)","v":30}]
[32524,32524,"URSULA ANDREA PIAI FREITAS","PROFESSOR (A) DE EDUCACAO BASICA","ESTATUTARIO","2023-03-23",30,"2024-03-23","2023-03-31","2024-02-29","32524-45008",{"$f":"G1969-SUMIF(ESCALA!$B$14:$B$15,DADOS!K1969,ESCALA!$I$14:$I$15)","v":30}]
[32559,32559,"SANDRO MARIANO","MOTORISTA","ESTATUTARIO","2022-03-26",30,"2023-03-26","2022-03-31","2023-02-28","32559-44646",{"$f":"G1970-SUMIF(ESCALA!$B$14:$B$15,DADOS!K1970,ESCALA!$I$14:$I$15)","v":30}]
[32559,32559,"SANDRO MARIANO","MOTORISTA","ESTATUTARIO","2023-03-26",30,"2024-03-26","2023-03-31","2024-02-29","32559-45011",{"$f":"G1971-SUMIF(ESCALA!$B$14:$B$15,DADOS!K1971,ESCALA!$I$14:$I$15)","v":30}]
[32571,32571,"JOSEFA MARIA VIANA DA CUNHA","COZINHEIRO (A)","ESTATUTARIO","2023-01-01",30,"2024-01-01","2023-01-31","2023-12-31","32571-44927",{"$f":"G1972-SUMIF(ESCALA!$B$14:$B$15,DADOS!K1972,ESCALA!$I$14:$I$15)","v":30}]
[32573,32573,"FLAVIA DE CARVALHO ALCANTARA","COZINHEIRO (A)","ESTATUTARIO","2023-01-01",30,"2024-01-01","2023-01-31","2023-12-31","32573-44927",{"$f":"G1973-SUMIF(ESCALA!$B$14:$B$15,DADOS!K1973,ESCALA!$I$14:$I$15)","v":30}]
[32580,32580,"PATRICIA DOMINGUES DA SILVA","COZINHEIRO (A)","ESTATUTARIO","2023-01-01",30,"2024-01-01","2023-01-31","2023-12-31","32580-44927",{"$f":"G1974-SUMIF(ESCALA!$B$14:$B$15,DADOS!K1974,ESCALA!$I$14:$I$15)","v":30}]
[32582,32582,"ANDREA APARECIDA DE SOUZA SILVA","COZINHEIRO (A)","ESTATUTARIO","2023-01-01",30,"2024-01-01","2023-01-31","2023-12-31","32582-44927",{"$f":"G1975-SUMIF(ESCALA!$B$14:$B$15,DADOS!K1975,ESCALA!$I$14:$I$15)","v":30}]
[32587,32587,"MARIA PUREZA DA SILVA MIRANDA","COZINHEIRO (A)","ESTATUTARIO","2023-01-01",30,"2024-01-01","2023-01-31","2023-12-31","32587-44927",{"$f":"G1976-SUMIF(ESCALA!$B$14:$B$15,DADOS!K1976,ESCALA!$I$14:$I$15)","v":30}]
[32598,32598,"ROSINEIDE MARIA DA SILVA","COZINHEIRO (A)","ESTATUTARIO","2023-02-28",30,"2024-02-28","2023-02-28","2024-01-31","32598-44985",{"$f":"G1977-SUMIF(ESCALA!$B$14:$B$15,DADOS!K1977,ESCALA!$I$14:$I$15)","v":30}]
[32613,32613,"VICENTE FERREIRA LIRA","CHEFE DE SECAO TECNICA","ESTATUTARIO","2023-04-03",30,"2024-04-03","2023-04-30","2024-03-31","32613-45019",{"$f":"G1978-SUMIF(ESCALA!$B$14:$B$15,DADOS!K1978,ESCALA!$I$14:$I$15)","v":30}]
[32615,32615,"SONIA APARECIDA GUASELLI PISSINATO","COZINHEIRO (A)","ESTATUTARIO","2023-01-01",30,"2024-01-01","2023-01-31","2023-12-31","32615-44927",{"$f":"G1979-SUMIF(ESCALA!$B$14:$B$15,DADOS!K1979,ESCALA!$I$14:$I$15)","v":30}]
[32621,32621,"LENICE SERAFIM DOS SANTOS MAIELLO","COZINHEIRO (A)","ESTATUTARIO","2023-01-01",30,"2024-01-01","2023-01-31","2023-12-31","32621-44927",{"$f":"G1980-SUMIF(ESCALA!$B$14:$B$15,DADOS!K1980,ESCALA!$I$14:$I$15)","v":30}]
[32623,32623,"RENATA ALVES DE OLIVEIRA PIO","PROFESSOR (A) DE EDUCACAO INFANTIL","ESTATUTARIO","2022-04-06",30,"2023-04-06","2022-04-30","2023-03-31","32623-44657",{"$f":"G1981-SUMIF(ESCALA!$B$14:$B$15,DADOS!K1981,ESCALA!$I$14:$I$15)","v":30}]
[32623,32623,"RENATA ALVES DE OLIVEIRA PIO","PROFESSOR (A) DE EDUCACAO INFANTIL","ESTATUTARIO","2023-04-06",30,"2024-04-06","2023-04-30","2024-03-31","32623-45022",{"$f":"G1982-SUMIF(ESCALA!$B$14:$B$15,DADOS!K1982,ESCALA!$I$14:$I$15)","v":30}]
[32630,32630,"LUIS ADENILSON DE MEDEIROS SANTOS","CHEFE DE SECAO TECNICA","ESTATUTARIO","2023-04-07",30,"2024-04-07","2023-04-30","2024-03-31","32630-45023",{"$f":"G1983-SUMIF(ESCALA!$B$14:$B$15,DADOS!K1983,ESCALA!$I$14:$I$15)","v":30}]
[32640,32640,"CINTIA APARECIDA FERREIRA","PROFESSOR (A) DE EDUCACAO INFANTIL","ESTATUTARIO","2022-04-08",30,"2023-04-08","2022-04-30","2023-03-31","32640-44659",{"$f":"G1984-SUMIF(ESCALA!$B$14:$B$15,DADOS!K1984,ESCALA!$I$14:$I$15)","v":30}]
[32640,32640,"CINTIA APARECIDA FERREIRA","PROFESSOR (A) DE EDUCACAO INFANTIL","ESTATUTARIO","2023-04-08",30,"2024-04-08","2023-04-30","2024-03-31","32640-45024",{"$f":"G1985-SUMIF(ESCALA!$B$14:$B$15,DADOS!K1985,ESCALA!$I$14:$I$15)","v":30}]
[32641,32641,"NEUSA GOMES DE MELO","PROFESSOR (A) DE EDUCACAO INFANTIL","ESTATUTARIO","2022-04-08",30,"2023-04-08","2022-04-30","2023-03-31","32641-44659",{"$f":"G1986-SUMIF(ESCALA!$B$14:$B$15,DADOS!K1986,ESCALA!$I$14:$I$15)","v":30}]
[{"$f":"IF(L1987=0,\"\",B1987)","v":32641},32641,"NEUSA GOMES DE MELO","PROFESSOR (A) DE EDUCACAO INFANTIL","ESTATUTARIO","2023-04-08",30,{"$f":"IF(F1987<=44985,F1987+365,F1987+366)","v":"2024-04-08"},"2023-04-30","2024-03-31",{"$f":"CONCATENATE(B1987,\"-\",F1987)","v":"32641-45024"},{"$f":"G1987-SUMIF(ESCALA!$B$14:$B$15,DADOS!K1987,ESCALA!$I$14:$I$15)","v":30}]
[32650,32650,"APARECIDA DE OLIVEIRA DUTRA","COZINHEIRO (A)","ESTATUTARIO","2022-09-25",30,"2023-09-25",{"$f":"IF(E1988=\"ESTATUTARIO\",EOMONTH(F1988,0),EOMONTH(F1988,-1))","v":"2022-09-30"},{"$f":"EOMONTH(F1988,11)","v":"2023-08-31"},"32650-44829",{"$f":"G1988-SUMIF(ESCALA!$B$14:$B$15,DADOS!K1988,ESCALA!$I$14:$I$15)","v":30}]
[32650,32650,"APARECIDA DE OLIVEIRA DUTRA","COZINHEIRO (A)","ESTATUTARIO","2023-09-25",30,"2024-09-25","2023-09-30","2024-08-31","32650-45194",{"$f":"G1989-SUMIF(ESCALA!$B$14:$B$15,DADOS!K1989,ESCALA!$I$14:$I$15)","v":30}]
[32657,32657,"RITA DE CASSIA CARDOSO","DIRETOR (A) DE ESCOLA","ESTATUTARIO","2023-01-01",30,"2024-01-01","2023-01-31","2023-12-31","32657-44927",{"$f":"G1990-SUMIF(ESCALA!$B$14:$B$15,DADOS!K1990,ESCALA!$I$14:$I$15)","v":30}]
[32668,32668,"NATAN FERREIRA","PROFESSOR (A) DE EDUCAÇÃO BÁSICA","ESTATUTARIO","2023-01-01",30,"2024-01-01","2023-01-31","2023-12-31","32668-44927",{"$f":"G1991-SUMIF(ESCALA!$B$14:$B$15,DADOS!K1991,ESCALA!$I$14:$I$15)","v":30}]
[32681,32681,"DAYSE APARECIDA DOS SANTOS","PROFESSOR (A) DE EDUCACAO BASICA","ESTATUTARIO","2023-01-01",30,"2024-01-01","2023-01-31","2023-12-31","32681-44927",{"$f":"G1992-SUMIF(ESCALA!$B$14:$B$15,DADOS!K1992,ESCALA!$I$14:$I$15)","v":30}]
[32682,32682,"ANA PAULA NASCIMENTO NEIVA SERAFIM","PROFESSOR (A) DE EDUCACAO BASICA","ESTATUTARIO","2023-01-01",30,"2024-01-01","2023-01-31","2023-12-31","32682-44927",{"$f":"G1993-SUMIF(ESCALA!$B$14:$B$15,DADOS!K1993,ESCALA!$I$14:$I$15)","v":30}]
[32686,32686,"MARIA LUZIA DE GOIS SILVA","PROFESSOR (A) DE EDUCAÇÃO BÁSICA","ESTATUTARIO","2023-01-01",30,"2024-01-01","2023-01-31","2023-12-31","32686-44927",{"$f":"G1994-SUMIF(ESCALA!$B$14:$B$15,DADOS!K1994,ESCALA!$I$14:$I$15)","v":30}]
[32717,32717,"CYNTHIA DE MENDONCA EMIDIO MARCONDES","PROFESSOR (A) DE EDUCAÇÃO BÁSICA","ESTATUTARIO","2022-04-23",30,"2023-04-23","2022-04-30","2023-03-31","32717-44674",{"$f":"G1995-SUMIF(ESCALA!$B$14:$B$15,DADOS!K1995,ESCALA!$I$14:$I$15)","v":30}]
[32717,32717,"CYNTHIA DE MENDONCA EMIDIO MARCONDES","PROFESSOR (A) DE EDUCAÇÃO BÁSICA","ESTATUTARIO","2023-04-23",30,"2024-04-23","2023-04-30","2024-03-31","32717-45039",{"$f":"G1996-SUMIF(ESCALA!$B$14:$B$15,DADOS!K1996,ESCALA!$I$14:$I$15)","v":30}]
[32719,32719,"VERA LUCIA BRAGA SANT ANA","PROFESSOR (A) DE EDUCACAO INFANTIL","CELETISTA","2022-04-23",30,"2023-04-23","2022-03-31","2023-03-31","32719-44674",{"$f":"G1997-SUMIF(ESCALA!$B$14:$B$15,DADOS!K1997,ESCALA!$I$14:$I$15)","v":30}]
[32719,32719,"VERA LUCIA BRAGA SANT ANA","PROFESSOR (A) DE EDUCACAO INFANTIL","CELETISTA","2023-04-23",30,"2024-04-23","2023-03-31","2024-03-31","32719-45039",{"$f":"G1998-SUMIF(ESCALA!$B$14:$B$15,DADOS!K1998,ESCALA!$I$14:$I$15)","v":30}]
[32722,32722,"JOSICLEIDE PAIVA SANTOS DOS PASSOS","PROFESSOR (A) DE EDUCACAO INFANTIL","ESTATUTARIO","2022-04-23",30,"2023-04-23","2022-04-30","2023-03-31","32722-44674",{"$f":"G1999-SUMIF(ESCALA!$B$14:$B$15,DADOS!K1999,ESCALA!$I$14:$I$15)","v":30}]
[32722,32722,"JOSICLEIDE PAIVA SANTOS DOS PASSOS","PROFESSOR (A) DE EDUCACAO INFANTIL","ESTATUTARIO","2023-04-23",30,"2024-04-23","2023-04-30","2024-03-31","32722-45039",{"$f":"G2000-SUMIF(ESCALA!$B$14:$B$15,DADOS!K2000,ESCALA!$I$14:$I$15)","v":30}]
[32773,32773,"MEIRE FATIMA SAVIAN","PROFESSOR (A) DE EDUCACAO BASICA","ESTATUTARIO","2023-01-01",30,"2024-01-01","2023-01-31","2023-12-31","32773-44927",{"$f":"G2009-SUMIF(ESCALA!$B$14:$B$15,DADOS!K2009,ESCALA!$I$14:$I$15)","v":30}]
[32788,32788,"LEANDRA LEA DA SILVA","PROFESSOR (A) DE EDUCAÇÃO BÁSICA","ESTATUTARIO","2023-04-29",30,"2024-04-29","2023-04-30","2024-03-31","32788-45045",{"$f":"G2016-SUMIF(ESCALA!$B$14:$B$15,DADOS!K2016,ESCALA!$I$14:$I$15)","v":30}]
[32834,32834,"CRISTINA APARECIDA DE SOUSA","PROFESSOR (A) DE EDUCACAO BASICA","ESTATUTARIO","2023-01-01",30,"2024-01-01","2023-01-31","2023-12-31","32834-44927",{"$f":"G2031-SUMIF(ESCALA!$B$14:$B$15,DADOS!K2031,ESCALA!$I$14:$I$15)","v":30}]
[32965,32965,"NOELISE FAUSTINO","PROFESSOR (A) DE EDUCAÇÃO BASICA","CELETISTA","2023-01-01",30,"2024-01-01","2022-12-31","2023-12-31","32965-44927",{"$f":"G2050-SUMIF(ESCALA!$B$14:$B$15,DADOS!K2050,ESCALA!$I$14:$I$15)","v":30}]
[33012,33012,"NADIR APARECIDA DE ABREU PASSOS","PROFESSOR (A) DE EDUCACAO BASICA","ESTATUTARIO","2023-01-01",30,"2024-01-01","2023-01-31","2023-12-31","33012-44927",{"$f":"G2058-SUMIF(ESCALA!$B$14:$B$15,DADOS!K2058,ESCALA!$I$14:$I$15)","v":30}]
[33041,33041,"FERNANDA OLIVEIRA DA SILVA ","PROFESSOR (A) DE EDUCACAO BASICA","ESTATUTARIO","2022-12-04",30,"2023-12-04","2022-12-31","2023-11-30","33041-44899",{"$f":"G2079-SUMIF(ESCALA!$B$14:$B$15,DADOS!K2079,ESCALA!$I$14:$I$15)","v":30}]
[33047,33047,"DEJANIRA MARIA PACHECO","COZINHEIRO (A)","CELETISTA","2023-01-01",30,"2024-01-01","2022-12-31","2023-12-31","33047-44927",{"$f":"G2084-SUMIF(ESCALA!$B$14:$B$15,DADOS!K2084,ESCALA!$I$14:$I$15)","v":30}]
[33073,33073,"MARIA DE LOURDES CASTANHEIRA OLIVARES","PROFESSOR (A) DE EDUCAÇÃO BÁSICA","CELETISTA","2023-01-01",30,"2024-01-01","2022-12-31","2023-12-31","33073-44927",{"$f":"G2099-SUMIF(ESCALA!$B$14:$B$15,DADOS!K2099,ESCALA!$I$14:$I$15)","v":30}]
[33144,33144,"ANNA CAROLINA ROSSETO FREIRE","PROFESSOR (A) DE EDUCACAO BASICA","ESTATUTARIO","2023-01-01",30,"2024-01-01","2023-01-31","2023-12-31","33144-44927",{"$f":"G2120-SUMIF(ESCALA!$B$14:$B$15,DADOS!K2120,ESCALA!$I$14:$I$15)","v":30}]
[33176,33176,"ADRIANA MARTINS DE AQUINO","PROFESSOR (A) DE EDUCAÇÃO BÁSICA","ESTATUTARIO","2023-01-01",30,"2024-01-01","2023-01-31","2023-12-31","33176-44927",{"$f":"G2132-SUMIF(ESCALA!$B$14:$B$15,DADOS!K2132,ESCALA!$I$14:$I$15)","v":30}]
[33274,33274,"ROSANGELA CAMPOS DELL ORTO","PROFESSOR (A) DE EDUCAÇÃO BÁSICA","CELETISTA","2023-12-31",30,"2024-12-31","2023-11-30","2024-11-30","33274-45291",{"$f":"G2147-SUMIF(ESCALA!$B$14:$B$15,DADOS!K2147,ESCALA!$I$14:$I$15)","v":30}]
[33423,33423,"SUELI PEREIRA DE SOUZA","PROFESSOR (A) DE EDUCAÇÃO BASICA","CELETISTA","2023-01-01",30,"2024-01-01","2022-12-31","2023-12-31","33423-44927",{"$f":"G2152-SUMIF(ESCALA!$B$14:$B$15,DADOS!K2152,ESCALA!$I$14:$I$15)","v":30}]
[33467,33467,"ANA FLAVIA RODRIGUES FABRICIO","VICE-DIRETOR (A) DE ESCOLA","ESTATUTARIO","2023-09-09",30,"2024-09-09","2023-09-30","2024-08-31","33467-45178",{"$f":"G2173-SUMIF(ESCALA!$B$14:$B$15,DADOS!K2173,ESCALA!$I$14:$I$15)","v":30}]
[33487,33487,"PAULO CARLOS PEREIRA DOS SANTOS","PROFESSOR (A) DE EDUCACAO INFANTIL","ESTATUTARIO","2023-09-18",30,"2024-09-18","2023-09-30","2024-08-31","33487-45187",{"$f":"G2181-SUMIF(ESCALA!$B$14:$B$15,DADOS!K2181,ESCALA!$I$14:$I$15)","v":30}]
[33632,33632,"MARIA EUNICE ALVES","COZINHEIRO (A)","ESTATUTARIO","2022-11-25",30,"2023-11-25","2022-11-30","2023-10-31","33632-44890",{"$f":"G2200-SUMIF(ESCALA!$B$14:$B$15,DADOS!K2200,ESCALA!$I$14:$I$15)","v":30}]
[33761,33761,"FABIANA RIBEIRO OLIVEIRA LOVATO","PROFESSOR (A) DE EDUCACAO INFANTIL","ESTATUTARIO","2023-04-14",30,"2024-04-14","2023-04-30","2024-03-31","33761-45030",{"$f":"G2215-SUMIF(ESCALA!$B$14:$B$15,DADOS!K2215,ESCALA!$I$14:$I$15)","v":30}]
[33771,33771,"IRLEI APARECIDA GRASSI LEITE","COORDENADOR (A) DE PROGRAMAS EDUCACIONAIS","CELETISTA","2023-01-26",30,"2024-01-26","2022-12-31","2023-12-31","33771-44952",{"$f":"G2222-SUMIF(ESCALA!$B$14:$B$15,DADOS!K2222,ESCALA!$I$14:$I$15)","v":30}]
[33800,33800,"KATIA OLIVEIRA DA SILVA","PROFESSOR (A) DE EDUCACAO INFANTIL","ESTATUTARIO","2022-12-31",30,"2023-12-31","2022-12-31","2023-11-30","33800-44926",{"$f":"G2234-SUMIF(ESCALA!$B$14:$B$15,DADOS!K2234,ESCALA!$I$14:$I$15)","v":30}]
[33830,33830,"IRACEMA SOARES PIAZENT CONCEICAO","PROFESSOR (A) DE EDUCAÇÃO BÁSICA","ESTATUTARIO","2023-01-01",30,"2024-01-01","2023-01-31","2023-12-31","33830-44927",{"$f":"G2249-SUMIF(ESCALA!$B$14:$B$15,DADOS!K2249,ESCALA!$I$14:$I$15)","v":30}]
[33850,33850,"LUCIANA MENDES DAS NEVES","PROFESSOR (A) DE EDUCACAO INFANTIL","ESTATUTARIO","2023-02-08",30,"2024-02-08","2023-02-28","2024-01-31","33850-44965",{"$f":"G2268-SUMIF(ESCALA!$B$14:$B$15,DADOS!K2268,ESCALA!$I$14:$I$15)","v":30}]
[33883,33883,"ELIAS DA CONCEICAO GOMES JUNIOR","PROFESSOR (A) COORDENADOR (A)  PEDAGOGICO (A)","ESTATUTARIO","2023-01-01",30,"2024-01-01","2023-01-31","2023-12-31","33883-44927",{"$f":"G2288-SUMIF(ESCALA!$B$14:$B$15,DADOS!K2288,ESCALA!$I$14:$I$15)","v":30}]
[33902,33902,"SANDRA MARIA MORAIS","AGENTE DE DESENVOLVIMENTO INFANTIL","ESTATUTARIO","2023-02-10",30,"2024-02-10","2023-02-28","2024-01-31","33902-44967",{"$f":"G2301-SUMIF(ESCALA!$B$14:$B$15,DADOS!K2301,ESCALA!$I$14:$I$15)","v":30}]
[33925,33925,"CRISTIANE SALES MANTOVANI","PROFESSOR (A) DE EDUCACAO BASICA","ESTATUTARIO","2023-01-01",30,"2024-01-01","2023-01-31","2023-12-31","33925-44927",{"$f":"G2316-SUMIF(ESCALA!$B$14:$B$15,DADOS!K2316,ESCALA!$I$14:$I$15)","v":30}]
[33926,33926,"ELISANGELA MARQUES DA ROCHA AGUIAR","PROFESSOR (A) DE EDUCACAO BASICA","ESTATUTARIO","2022-02-11",30,"2023-02-11","2022-02-28","2023-01-31","33926-44603",{"$f":"G2317-SUMIF(ESCALA!$B$14:$B$15,DADOS!K2317,ESCALA!$I$14:$I$15)","v":30}]
[33976,33976,"ANDERSON MACEDO MALVA","PROFESSOR (A) DE EDUCACAO BASICA","ESTATUTARIO","2023-02-15",30,"2024-02-15","2023-02-28","2024-01-31","33976-44972",{"$f":"G2337-SUMIF(ESCALA!$B$14:$B$15,DADOS!K2337,ESCALA!$I$14:$I$15)","v":30}]
[34004,34004,"DIOGENES SEVERINO DOS SANTOS","PROFESSOR (A) DE EDUCACAO BASICA","ESTATUTARIO","2023-01-01",30,"2024-01-01","2023-01-31","2023-12-31","34004-44927",{"$f":"G2350-SUMIF(ESCALA!$B$14:$B$15,DADOS!K2350,ESCALA!$I$14:$I$15)","v":30}]
[34027,34027,"ADRIANA DE SOUZA MENDONCA","PROFESSOR (A) DE EDUCAÇÃO BÁSICA","ESTATUTARIO","2023-01-01",30,"2024-01-01","2023-01-31","2023-12-31","34027-44927",{"$f":"G2365-SUMIF(ESCALA!$B$14:$B$15,DADOS!K2365,ESCALA!$I$14:$I$15)","v":30}]
[34064,34064,"ELOISA MARIA DE OLIVEIRA","PROFESSOR (A) DE EDUCACAO BASICA","ESTATUTARIO","2022-02-19",30,"2023-02-19","2022-02-28","2023-01-31","34064-44611",{"$f":"G2384-SUMIF(ESCALA!$B$14:$B$15,DADOS!K2384,ESCALA!$I$14:$I$15)","v":30}]
[34075,34075,"DANIELA LOPES MARTINS","PROFESSOR (A) DE EDUCAÇÃO BÁSICA","ESTATUTARIO","2023-01-01",30,"2024-01-01","2023-01-31","2023-12-31","34075-44927",{"$f":"G2390-SUMIF(ESCALA!$B$14:$B$15,DADOS!K2390,ESCALA!$I$14:$I$15)","v":30}]
[34099,34099,"CELSO PAULINO","MOTORISTA","CELETISTA","2022-02-25",30,"2023-02-25","2022-01-31","2023-01-31","34099-44617",{"$f":"G2403-SUMIF(ESCALA!$B$14:$B$15,DADOS!K2403,ESCALA!$I$14:$I$15)","v":30}]
[34117,34117,"LUCINEIDE DA SILVA DIOGO","PROFESSOR (A) DE EDUCACAO INFANTIL","ESTATUTARIO","2022-02-28",30,"2023-02-28","2022-02-28","2023-01-31","34117-44620",{"$f":"G2418-SUMIF(ESCALA!$B$14:$B$15,DADOS!K2418,ESCALA!$I$14:$I$15)","v":30}]
[34134,34134,"SANDRA CRISTINA MAGALHAES DA SILVA","PROFESSOR (A) DE EDUCACAO INFANTIL","ESTATUTARIO","2023-02-28",30,"2024-02-28","2023-02-28","2024-01-31","34134-44985",{"$f":"G2433-SUMIF(ESCALA!$B$14:$B$15,DADOS!K2433,ESCALA!$I$14:$I$15)","v":30}]
[34170,34170,"ANDREA REGINA ASSAD BRANDAO","PROFESSOR (A) DE EDUCACAO BASICA","ESTATUTARIO","2023-01-01",30,"2024-01-01","2023-01-31","2023-12-31","34170-44927",{"$f":"G2452-SUMIF(ESCALA!$B$14:$B$15,DADOS!K2452,ESCALA!$I$14:$I$15)","v":30}]
[34198,34198,"CRISTIANE APARECIDA MARCONDES","PROFESSOR (A) COORDENADOR (A)  PEDAGOGICO (A)","ESTATUTARIO","2023-01-01",30,"2024-01-01","2023-01-31","2023-12-31","34198-44927",{"$f":"G2466-SUMIF(ESCALA!$B$14:$B$15,DADOS!K2466,ESCALA!$I$14:$I$15)","v":30}]
[34231,34231,"IVONETE IRACI DA SILVA","PROFESSOR (A) DE EDUCACAO INFANTIL","ESTATUTARIO","2022-03-02",30,"2023-03-02","2022-03-31","2023-02-28","34231-44622",{"$f":"G2481-SUMIF(ESCALA!$B$14:$B$15,DADOS!K2481,ESCALA!$I$14:$I$15)","v":30}]
[34239,34239,"SANDRA CAVALCANTE COSTA RODRIGUES","PROFESSOR (A) DE EDUCACAO INFANTIL","ESTATUTARIO","2022-03-02",30,"2023-03-02","2022-03-31","2023-02-28","34239-44622",{"$f":"G2486-SUMIF(ESCALA!$B$14:$B$15,DADOS!K2486,ESCALA!$I$14:$I$15)","v":30}]
[34267,34267,"MARIA APARECIDA FERREIRA SANTOS","PROFESSOR (A) DE EDUCACAO INFANTIL","ESTATUTARIO","2023-03-04",30,"2024-03-04","2023-03-31","2024-02-29","34267-44989",{"$f":"G2505-SUMIF(ESCALA!$B$14:$B$15,DADOS!K2505,ESCALA!$I$14:$I$15)","v":30}]
[34285,34285,"CINTIA GONCALVES BORGES","PROFESSOR (A) DE EDUCACAO INFANTIL","ESTATUTARIO","2022-03-07",30,"2023-03-07","2022-03-31","2023-02-28","34285-44627",{"$f":"G2519-SUMIF(ESCALA!$B$14:$B$15,DADOS!K2519,ESCALA!$I$14:$I$15)","v":30}]
[34315,34315,"CRISTIANE YOSHISHIRO","PROFESSOR (A) DE EDUCACAO INFANTIL","ESTATUTARIO","2022-03-09",30,"2023-03-09","2022-03-31","2023-02-28","34315-44629",{"$f":"G2534-SUMIF(ESCALA!$B$14:$B$15,DADOS!K2534,ESCALA!$I$14:$I$15)","v":30}]
[34332,34332,"SILVIA APARECIDA DA SILVA","AGENTE DE DESENVOLVIMENTO INFANTIL","ESTATUTARIO","2023-10-03",30,"2024-10-03","2023-10-31","2024-09-30","34332-45202",{"$f":"G2549-SUMIF(ESCALA!$B$14:$B$15,DADOS!K2549,ESCALA!$I$14:$I$15)","v":30}]
[34335,34335,"VIVIANE DE SIQUEIRA INACIO DUARTE COSTA","PROFESSOR (A) DE EDUCACAO INFANTIL","ESTATUTARIO","2023-03-09",30,"2024-03-09","2023-03-31","2024-02-29","34335-44994",{"$f":"G2554-SUMIF(ESCALA!$B$14:$B$15,DADOS!K2554,ESCALA!$I$14:$I$15)","v":30}]
[34347,34347,"VANIA FERREIRA DE LIMA MACHADO","PROFESSOR (A) DE EDUCACAO INFANTIL","ESTATUTARIO","2022-03-10",30,"2023-03-10","2022-03-31","2023-02-28","34347-44630",{"$f":"G2568-SUMIF(ESCALA!$B$14:$B$15,DADOS!K2568,ESCALA!$I$14:$I$15)","v":30}]
[34375,34375,"REGINA LUCIA SILVA SOUSA","PROFESSOR (A) DE EDUCACAO INFANTIL","ESTATUTARIO","2022-03-15",30,"2023-03-15","2022-03-31","2023-02-28","34375-44635",{"$f":"G2587-SUMIF(ESCALA!$B$14:$B$15,DADOS!K2587,ESCALA!$I$14:$I$15)","v":30}]
[34402,34402,"JOANA D ARC DA SILVA","PROFESSOR (A) DE EDUCACAO INFANTIL","ESTATUTARIO","2023-03-18",30,"2024-03-18","2023-03-31","2024-02-29","34402-45003",{"$f":"G2602-SUMIF(ESCALA!$B$14:$B$15,DADOS!K2602,ESCALA!$I$14:$I$15)","v":30}]
[34410,34410,"SUELI DE CARVALHO DE OLIVEIRA","PROFESSOR (A) DE EDUCACAO BASICA","CELETISTA","2023-01-01",30,"2024-01-01","2022-12-31","2023-12-31","34410-44927",{"$f":"G2607-SUMIF(ESCALA!$B$14:$B$15,DADOS!K2607,ESCALA!$I$14:$I$15)","v":30}]
[34423,34423,"GISLAINE APARECIDA MOREIRA GONCALVES","PROFESSOR (A) DE EDUCACAO INFANTIL","ESTATUTARIO","2023-03-22",30,"2024-03-22","2023-03-31","2024-02-29","34423-45007",{"$f":"G2621-SUMIF(ESCALA!$B$14:$B$15,DADOS!K2621,ESCALA!$I$14:$I$15)","v":30}]
[34477,34477,"ADRIANA FERMINA TORRES","PROFESSOR (A) DE EDUCACAO INFANTIL","ESTATUTARIO","2023-04-04",30,"2024-04-04","2023-04-30","2024-03-31","34477-45020",{"$f":"G2636-SUMIF(ESCALA!$B$14:$B$15,DADOS!K2636,ESCALA!$I$14:$I$15)","v":30}]
[34515,34515,"JOANA PAULA GONCALVES NASCIMENTO","PROFESSOR (A) DE EDUCACAO INFANTIL","ESTATUTARIO","2022-04-12",30,"2023-04-12","2022-04-30","2023-03-31","34515-44663",{"$f":"G2651-SUMIF(ESCALA!$B$14:$B$15,DADOS!K2651,ESCALA!$I$14:$I$15)","v":30}]
[34570,34570,"JOSELICE ANDRADE DE OLIVEIRA ","PROFESSOR (A) DE EDUCAÇÃO BÁSICA","CELETISTA","2023-01-01",30,"2024-01-01","2022-12-31","2023-12-31","34570-44927",{"$f":"G2669-SUMIF(ESCALA!$B$14:$B$15,DADOS!K2669,ESCALA!$I$14:$I$15)","v":30}]
[34614,34614,"SANDRO TOSHIHARU YOSHIDA","MOTORISTA","ESTATUTARIO","2023-04-27",30,"2024-04-27","2023-04-30","2024-03-31","34614-45043",{"$f":"G2684-SUMIF(ESCALA!$B$14:$B$15,DADOS!K2684,ESCALA!$I$14:$I$15)","v":30}]
[34639,34639,"FABIANA LOPES RODRIGUES","PROFESSOR (A) COORDENADOR (A)  PEDAGOGICO (A)","ESTATUTARIO","2023-01-01",30,"2024-01-01","2023-01-31","2023-12-31","34639-44927",{"$f":"G2689-SUMIF(ESCALA!$B$14:$B$15,DADOS!K2689,ESCALA!$I$14:$I$15)","v":30}]
[34669,34669,"MARIA JOSE DA FONSECA VALE","PROFESSOR (A) DE EDUCACAO INFANTIL","CELETISTA","2023-05-03",30,"2024-05-03","2023-04-30","2024-04-30","34669-45049",{"$f":"G2704-SUMIF(ESCALA!$B$14:$B$15,DADOS!K2704,ESCALA!$I$14:$I$15)","v":30}]
[34752,34752,"DAVI PEREIRA SILVA","CHEFE DE SECAO TECNICA","ESTATUTARIO","2023-05-10",30,"2024-05-10","2023-05-31","2024-04-30","34752-45056",{"$f":"G2722-SUMIF(ESCALA!$B$14:$B$15,DADOS!K2722,ESCALA!$I$14:$I$15)","v":30}]
[34795,34795,"ROSA MARIA DA SILVA VIEIRA","COZINHEIRO (A)","ESTATUTARIO","2023-06-04",30,"2024-06-04","2023-06-30","2024-05-31","34795-45081",{"$f":"G2737-SUMIF(ESCALA!$B$14:$B$15,DADOS!K2737,ESCALA!$I$14:$I$15)","v":30}]
[34851,34851,"NELSON RODRIGUES SAPIENZA","ANALISTA DE TECNOLOGIA DA INFORMACAO","ESTATUTARIO","2023-05-13",30,"2024-05-13","2023-05-31","2024-04-30","34851-45059",{"$f":"G2752-SUMIF(ESCALA!$B$14:$B$15,DADOS!K2752,ESCALA!$I$14:$I$15)","v":30}]
[34876,34876,"PALADIA BRUNA KNOLL OLIVEIRA ROCHA","PROFESSOR (A) DE EDUCAÇÃO BÁSICA","ESTATUTARIO","2023-05-16",30,"2024-05-16","2023-05-31","2024-04-30","34876-45062",{"$f":"G2757-SUMIF(ESCALA!$B$14:$B$15,DADOS!K2757,ESCALA!$I$14:$I$15)","v":30}]
[34982,34982,"JOSE AUGUSTO LISBOA","PROFESSOR (A) DE EDUCACAO BASICA","CELETISTA","2022-02-23",30,"2023-02-23","2022-01-31","2023-01-31","34982-44615",{"$f":"G2771-SUMIF(ESCALA!$B$14:$B$15,DADOS!K2771,ESCALA!$I$14:$I$15)","v":30}]
[35035,35035,"ISANIA MACEDO PAUSA","VICE-DIRETOR (A) DE ESCOLA","ESTATUTARIO","2023-01-01",30,"2024-01-01","2023-01-31","2023-12-31","35035-44927",{"$f":"G2786-SUMIF(ESCALA!$B$14:$B$15,DADOS!K2786,ESCALA!$I$14:$I$15)","v":30}]
[35148,35148,"ELIENE MOREIRA DA COSTA","PROFESSOR (A) COORDENADOR (A)  PEDAGOGICO (A)","ESTATUTARIO","2023-06-15",30,"2024-06-15","2023-06-30","2024-05-31","35148-45092",{"$f":"G2805-SUMIF(ESCALA!$B$14:$B$15,DADOS!K2805,ESCALA!$I$14:$I$15)","v":30}]
[35193,35193,"GERALDA MARIA DOS SANTOS","PROFESSOR (A) DE EDUCACAO INFANTIL","CELETISTA","2022-06-17",30,"2023-06-17",{"$f":"IF(E2820=\"ESTATUTARIO\",EOMONTH(F2820,0),EOMONTH(F2820,-1))","v":"2022-05-31"},{"$f":"EOMONTH(F2820,11)","v":"2023-05-31"},"35193-44729",{"$f":"G2820-SUMIF(ESCALA!$B$14:$B$15,DADOS!K2820,ESCALA!$I$14:$I$15)","v":30}]
[35240,35240,"MAURO RODRIGUES","CHEFE DE SECAO TECNICA","ESTATUTARIO","2023-06-21",30,"2024-06-21","2023-06-30","2024-05-31","35240-45098",{"$f":"G2837-SUMIF(ESCALA!$B$14:$B$15,DADOS!K2837,ESCALA!$I$14:$I$15)","v":30}]
[35243,35243,"ANDREIA RODRIGUES MARTINS","PROFESSOR (A) DE EDUCACAO INFANTIL","ESTATUTARIO","2022-06-21",30,"2023-06-21","2022-06-30","2023-05-31","35243-44733",{"$f":"G2839-SUMIF(ESCALA!$B$14:$B$15,DADOS!K2839,ESCALA!$I$14:$I$15)","v":30}]
[35265,35265,"ROSEMEIRE FADUTI","PROFESSOR (A) DE EDUCACAO INFANTIL","ESTATUTARIO","2023-06-22",30,"2024-06-22","2023-06-30","2024-05-31","35265-45099",{"$f":"G2854-SUMIF(ESCALA!$B$14:$B$15,DADOS!K2854,ESCALA!$I$14:$I$15)","v":30}]
[35297,35297,"ANDREA SOARES ALBERGARIA MOLINA","COORDENADOR (A) DE PROGRAMAS EDUCACIONAIS","CELETISTA","2023-01-01",30,"2024-01-01","2022-12-31","2023-12-31","35297-44927",{"$f":"G2873-SUMIF(ESCALA!$B$14:$B$15,DADOS!K2873,ESCALA!$I$14:$I$15)","v":30}]
[35317,35317,"ALMERICE BARBOSA DA SILVA","PROFESSOR (A) DE EDUCAÇÃO BÁSICA","ESTATUTARIO","2023-01-01",30,"2024-01-01","2023-01-31","2023-12-31","35317-44927",{"$f":"G2886-SUMIF(ESCALA!$B$14:$B$15,DADOS!K2886,ESCALA!$I$14:$I$15)","v":30}]
[35358,35358,"ELAINE ROMERO FELIPPE DOS SANTOS","CHEFE DE DIVISAO ADMINISTRATIVA","ESTATUTARIO","2023-07-31",30,"2024-07-31","2023-07-31","2024-06-30","35358-45138",{"$f":"G2902-SUMIF(ESCALA!$B$14:$B$15,DADOS!K2902,ESCALA!$I$14:$I$15)","v":30}]
[35389,35389,"DENISE FERRARI","ASSISTENTE DE GESTÃO ESCOLAR","CELETISTA","2023-01-16",30,"2024-01-16","2022-12-31","2023-12-31","35389-44942",{"$f":"G2921-SUMIF(ESCALA!$B$14:$B$15,DADOS!K2921,ESCALA!$I$14:$I$15)","v":30}]
[35390,35390,"SIMONE CRISTIANE SEIVA DOS SANTOS","PROFESSOR (A) DE EDUCACAO BASICA","ESTATUTARIO","2023-01-01",30,"2024-01-01","2023-01-31","2023-12-31","35390-44927",{"$f":"G2922-SUMIF(ESCALA!$B$14:$B$15,DADOS!K2922,ESCALA!$I$14:$I$15)","v":30}]
[35431,35431,"ELIZANGELA RODRIGUES","PROFESSOR (A) DE EDUCAÇÃO BÁSICA","ESTATUTARIO","2022-10-29",30,"2023-10-29","2022-10-31","2023-09-30","35431-44863",{"$f":"G2939-SUMIF(ESCALA!$B$14:$B$15,DADOS!K2939,ESCALA!$I$14:$I$15)","v":30}]
[35451,35451,"MARIA HELENA FRANCISCO","PROFESSOR (A) DE EDUCACAO BASICA","ESTATUTARIO","2023-07-05",30,"2024-07-05","2023-07-31","2024-06-30","35451-45112",{"$f":"G2955-SUMIF(ESCALA!$B$14:$B$15,DADOS!K2955,ESCALA!$I$14:$I$15)","v":30}]
[35520,35520,"CLAUDIANE MARIA DE JESUS","PROFESSOR (A) DE EDUCAÇÃO BÁSICA","ESTATUTARIO","2023-01-01",30,"2024-01-01","2023-01-31","2023-12-31","35520-44927",{"$f":"G2970-SUMIF(ESCALA!$B$14:$B$15,DADOS!K2970,ESCALA!$I$14:$I$15)","v":30}]
[35601,35601,"MARIVALDA PINHEIRO REIS COSTA","COZINHEIRO (A)","CELETISTA","2022-07-29",30,"2023-07-29","2022-06-30","2023-06-30","35601-44771",{"$f":"G2989-SUMIF(ESCALA!$B$14:$B$15,DADOS!K2989,ESCALA!$I$14:$I$15)","v":30}]
[35731,35731,"LUCIANA ALVES NEPOMUCENO DOS SANTOS","AUXILIAR DE COZINHA III","ESTATUTARIO","2023-08-15",30,"2024-08-15","2023-08-31","2024-07-31","35731-45153",{"$f":"G3001-SUMIF(ESCALA!$B$14:$B$15,DADOS!K3001,ESCALA!$I$14:$I$15)","v":30}]
[35769,35769,"JOSE DO SOCORRO PEREIRA DA CRUZ","SUPERVISÃO DE SETOR","ESTATUTARIO","2022-08-17",30,"2023-08-17","2022-08-31","2023-07-31","35769-44790",{"$f":"G3004-SUMIF(ESCALA!$B$14:$B$15,DADOS!K3004,ESCALA!$I$14:$I$15)","v":30}]
[36158,36158,"ANDRESSA CARLA DA SILVA REIS","PROFESSOR (A) COORDENADOR (A)  PEDAGOGICO (A)","ESTATUTARIO","2023-01-01",30,"2024-01-01","2023-01-31","2023-12-31","36158-44927",{"$f":"G3023-SUMIF(ESCALA!$B$14:$B$15,DADOS!K3023,ESCALA!$I$14:$I$15)","v":30}]
[36186,36186,"ROSELY MENEZES","COZINHEIRO (A)","CELETISTA","2023-01-30",30,"2024-01-30","2022-12-31","2023-12-31","36186-44956",{"$f":"G3038-SUMIF(ESCALA!$B$14:$B$15,DADOS!K3038,ESCALA!$I$14:$I$15)","v":30}]
[36219,36219,"MARISANGELA GROSSI LOURENCO","PROFESSOR (A) DE EDUCACAO BASICA","ESTATUTARIO","2023-01-01",30,"2024-01-01","2023-01-31","2023-12-31","36219-44927",{"$f":"G3050-SUMIF(ESCALA!$B$14:$B$15,DADOS!K3050,ESCALA!$I$14:$I$15)","v":30}]
[36241,36241,"GILEUSA MACEDO DE ANDRADE","COZINHEIRO (A)","ESTATUTARIO","2022-08-20",30,"2023-08-20","2022-08-31","2023-07-31","36241-44793",{"$f":"G3071-SUMIF(ESCALA!$B$14:$B$15,DADOS!K3071,ESCALA!$I$14:$I$15)","v":30}]
[36268,36268,"JOSINETE NERES DE SOUZA","COZINHEIRO (A)","ESTATUTARIO","2023-01-31",30,"2024-01-31","2023-01-31","2023-12-31","36268-44957",{"$f":"G3086-SUMIF(ESCALA!$B$14:$B$15,DADOS!K3086,ESCALA!$I$14:$I$15)","v":30}]
[36272,36272,"SHEILA GONCALVES PEREIRA","PROFESSOR (A) DE EDUCAÇÃO BÁSICA","ESTATUTARIO","2023-01-01",30,"2024-01-01","2023-01-31","2023-12-31","36272-44927",{"$f":"G3091-SUMIF(ESCALA!$B$14:$B$15,DADOS!K3091,ESCALA!$I$14:$I$15)","v":30}]
[36288,36288,"CINTIA NICACIO DA ROCHA SILVA","PROFESSOR (A) DE EDUCAÇÃO BÁSICA","ESTATUTARIO","2023-01-01",30,"2024-01-01","2023-01-31","2023-12-31","36288-44927",{"$f":"G3103-SUMIF(ESCALA!$B$14:$B$15,DADOS!K3103,ESCALA!$I$14:$I$15)","v":30}]
[36306,36306,"ADRIANA ELIAS DA SILVA","PROFESSOR (A) DE EDUCACAO BASICA","ESTATUTARIO","2023-12-06",30,"2024-12-06","2023-12-31","2024-11-30","36306-45266",{"$f":"G3120-SUMIF(ESCALA!$B$14:$B$15,DADOS!K3120,ESCALA!$I$14:$I$15)","v":30}]
[{"$f":"IF(L3139=0,\"\",B3139)","v":36347},36347,"MARLI MARLENE BUCKER","COZINHEIRO (A)","ESTATUTARIO","2023-02-17",30,{"$f":"IF(F3139<=44985,F3139+365,F3139+366)","v":"2024-02-17"},"2023-02-28","2024-01-31",{"$f":"CONCATENATE(B3139,\"-\",F3139)","v":"36347-44974"},{"$f":"G3139-SUMIF(ESCALA!$B$14:$B$15,DADOS!K3139,ESCALA!$I$14:$I$15)","v":30}]
[36384,36384,"VICENTINA DIAS","PROFESSOR (A) DE EDUCACAO BASICA","CELETISTA","2023-01-01",30,"2024-01-01","2022-12-31","2023-12-31","36384-44927",{"$f":"G3154-SUMIF(ESCALA!$B$14:$B$15,DADOS!K3154,ESCALA!$I$14:$I$15)","v":30}]
[36490,36490,"MARIA JOSE SILVA DOS SANTOS","PROFESSOR (A) DE EDUCAÇÃO BÁSICA","ESTATUTARIO","2023-01-01",30,"2024-01-01","2023-01-31","2023-12-31","36490-44927",{"$f":"G3165-SUMIF(ESCALA!$B$14:$B$15,DADOS!K3165,ESCALA!$I$14:$I$15)","v":30}]
[36701,36701,"VALDINEIA JOANA DIAS","PROFESSOR (A) DE EDUCACAO BASICA","ESTATUTARIO","2023-01-01",30,"2024-01-01","2023-01-31","2023-12-31","36701-44927",{"$f":"G3173-SUMIF(ESCALA!$B$14:$B$15,DADOS!K3173,ESCALA!$I$14:$I$15)","v":30}]
[36713,36713,"ROBERTO ANTONIO DA SILVEIRA","AGENTE DE DESENVOLVIMENTO INFANTIL","ESTATUTARIO","2022-04-06",30,"2023-04-06","2022-04-30","2023-03-31","36713-44657",{"$f":"G3188-SUMIF(ESCALA!$B$14:$B$15,DADOS!K3188,ESCALA!$I$14:$I$15)","v":30}]
[36736,36736,"ALVISMAR FERREIRA DOS SANTOS","AGENTE DE DESENVOLVIMENTO INFANTIL","ESTATUTARIO","2023-04-05",30,"2024-04-05","2023-04-30","2024-03-31","36736-45021",{"$f":"G3207-SUMIF(ESCALA!$B$14:$B$15,DADOS!K3207,ESCALA!$I$14:$I$15)","v":30}]
[36792,36792,"VANDA APARECIDA DOS SANTOS","PROFESSOR (A) DE EDUCACAO INFANTIL","ESTATUTARIO","2022-04-18",30,"2023-04-18","2022-04-30","2023-03-31","36792-44669",{"$f":"G3218-SUMIF(ESCALA!$B$14:$B$15,DADOS!K3218,ESCALA!$I$14:$I$15)","v":30}]
[36817,36817,"ANA PAULA HERRERA","PROFESSOR (A) DE EDUCACAO INFANTIL","ESTATUTARIO","2023-05-03",30,"2024-05-03","2023-05-31","2024-04-30","36817-45049",{"$f":"G3236-SUMIF(ESCALA!$B$14:$B$15,DADOS!K3236,ESCALA!$I$14:$I$15)","v":30}]
[36821,36821,"CLESIA SANTOS","PROFESSOR (A) DE EDUCACAO BASICA","ESTATUTARIO","2022-04-18",30,"2023-04-18","2022-04-30","2023-03-31","36821-44669",{"$f":"G3241-SUMIF(ESCALA!$B$14:$B$15,DADOS!K3241,ESCALA!$I$14:$I$15)","v":30}]
[36840,36840,"JOELMA ALBERTINA DA SILVA","COZINHEIRO (A)","ESTATUTARIO","2022-04-27",30,"2023-04-27","2022-04-30","2023-03-31","36840-44678",{"$f":"G3256-SUMIF(ESCALA!$B$14:$B$15,DADOS!K3256,ESCALA!$I$14:$I$15)","v":30}]
[{"$f":"IF(L3267=0,\"\",B3267)","v":36850},36850,"FABIANA FRANCELINO ALBINO DE SOUZA","PROFESSOR (A) DE EDUCACAO INFANTIL","ESTATUTARIO","2023-04-18",30,{"$f":"IF(F3267<=44985,F3267+365,F3267+366)","v":"2024-04-18"},"2023-04-30","2024-03-31",{"$f":"CONCATENATE(B3267,\"-\",F3267)","v":"36850-45034"},{"$f":"G3267-SUMIF(ESCALA!$B$14:$B$15,DADOS!K3267,ESCALA!$I$14:$I$15)","v":30}]
[37248,37248,"EUFRASIA PEREIRA ROCHA OLIVEIRA","DIRETOR (A) DE ESCOLA","ESTATUTARIO","2022-12-13",30,"2023-12-13","2022-12-31","2023-11-30","37248-44908",{"$f":"G3289-SUMIF(ESCALA!$B$14:$B$15,DADOS!K3289,ESCALA!$I$14:$I$15)","v":30}]
[37410,37410,"JULIANA DA SILVA OLIVEIRA PAIXAO","PROFESSOR (A) COORDENADOR (A)  PEDAGOGICO (A)","ESTATUTARIO","2023-07-03",30,"2024-07-03","2023-07-31","2024-06-30","37410-45110",{"$f":"G3304-SUMIF(ESCALA!$B$14:$B$15,DADOS!K3304,ESCALA!$I$14:$I$15)","v":30}]
[37476,37476,"GRASIELY BRAGA CAMPOS COSTA","PROFESSOR (A) DE EDUCACAO INFANTIL","ESTATUTARIO","2022-08-04",30,"2023-08-04","2022-08-31","2023-07-31","37476-44777",{"$f":"G3309-SUMIF(ESCALA!$B$14:$B$15,DADOS!K3309,ESCALA!$I$14:$I$15)","v":30}]
[37999,37999,"SILVANA SALETE SARTORI","COZINHEIRO (A)","ESTATUTARIO","2023-02-04",30,"2024-02-04","2023-02-28","2024-01-31","37999-44961",{"$f":"G3333-SUMIF(ESCALA!$B$14:$B$15,DADOS!K3333,ESCALA!$I$14:$I$15)","v":30}]
[38069,38069,"DEBORA ROMAN SAMPAIO","PROFESSOR (A) DE EDUCACAO INFANTIL","ESTATUTARIO","2022-02-15",30,"2023-02-15","2022-02-28","2023-01-31","38069-44607",{"$f":"G3342-SUMIF(ESCALA!$B$14:$B$15,DADOS!K3342,ESCALA!$I$14:$I$15)","v":30}]
[38122,38122,"MARIS ESMENIA DA SILVA PAVAN","PROFESSOR (A) DE EDUCACAO BASICA","ESTATUTARIO","2023-01-01",30,"2024-01-01","2023-01-31","2023-12-31","38122-44927",{"$f":"G3357-SUMIF(ESCALA!$B$14:$B$15,DADOS!K3357,ESCALA!$I$14:$I$15)","v":30}]
[38140,38140,"MARIA CRISTINA CHACON ","PROFESSOR (A) DE EDUCAÇÃO BASICA","CELETISTA","2023-01-01",30,"2024-01-01","2022-12-31","2023-12-31","38140-44927",{"$f":"G3372-SUMIF(ESCALA!$B$14:$B$15,DADOS!K3372,ESCALA!$I$14:$I$15)","v":30}]
[38154,38154,"LUCILA DE JESUS FERNANDES NOGUEIRA DRUGOVICH","PROFESSOR (A) DE EDUCAÇÃO BASICA","CELETISTA","2023-01-01",30,"2024-01-01","2022-12-31","2023-12-31","38154-44927",{"$f":"G3382-SUMIF(ESCALA!$B$14:$B$15,DADOS!K3382,ESCALA!$I$14:$I$15)","v":30}]
[38164,38164,"MARIA DA JUDA SOUZA GUIMARAES","PROFESSOR (A) DE EDUCACAO BASICA","ESTATUTARIO","2023-01-01",30,"2024-01-01","2023-01-31","2023-12-31","38164-44927",{"$f":"G3391-SUMIF(ESCALA!$B$14:$B$15,DADOS!K3391,ESCALA!$I$14:$I$15)","v":30}]
[38211,38211,"MARCIA CELESTE SANTANA REIS ","COZINHEIRO (A)","ESTATUTARIO","2023-03-07",30,"2024-03-07","2023-03-31","2024-02-29","38211-44992",{"$f":"G3406-SUMIF(ESCALA!$B$14:$B$15,DADOS!K3406,ESCALA!$I$14:$I$15)","v":30}]
[38236,38236,"MARINALVA RODRIGUES DA SILVA ROSSI","PROFESSOR (A) DE EDUCACAO BASICA","ESTATUTARIO","2023-01-01",30,"2024-01-01","2023-01-31","2023-12-31","38236-44927",{"$f":"G3425-SUMIF(ESCALA!$B$14:$B$15,DADOS!K3425,ESCALA!$I$14:$I$15)","v":30}]
[38252,38252,"VIRGINIA BROZIO DE CARVALHO","COZINHEIRO (A)","ESTATUTARIO","2022-04-26",30,"2023-04-26","2022-04-30","2023-03-31","38252-44677",{"$f":"G3435-SUMIF(ESCALA!$B$14:$B$15,DADOS!K3435,ESCALA!$I$14:$I$15)","v":30}]
[38264,38264,"LILIAN LIMA DE MELO","PROFESSOR (A) DE EDUCACAO INFANTIL","ESTATUTARIO","2023-03-19",30,"2024-03-19","2023-03-31","2024-02-29","38264-45004",{"$f":"G3444-SUMIF(ESCALA!$B$14:$B$15,DADOS!K3444,ESCALA!$I$14:$I$15)","v":30}]
[{"$f":"IF(L3459=0,\"\",B3459)","v":38273},38273,"PATRICIA MOREIRA DE SOUZA GOMES","PROFESSOR (A) DE EDUCACAO INFANTIL","ESTATUTARIO","2022-03-20",30,{"$f":"IF(F3459<=44985,F3459+365,F3459+366)","v":"2023-03-20"},"2022-03-31","2023-02-28",{"$f":"CONCATENATE(B3459,\"-\",F3459)","v":"38273-44640"},{"$f":"G3459-SUMIF(ESCALA!$B$14:$B$15,DADOS!K3459,ESCALA!$I$14:$I$15)","v":30}]
[38283,38283,"CLAUDIA APARECIDA MAGALHAES","PROFESSOR (A) DE EDUCACAO INFANTIL","CELETISTA","2023-03-21",30,"2024-03-21","2023-02-28","2024-02-29","38283-45006",{"$f":"G3474-SUMIF(ESCALA!$B$14:$B$15,DADOS!K3474,ESCALA!$I$14:$I$15)","v":30}]
[38324,38324,"MARIANA DO PRADO","VICE-DIRETOR (A) DE ESCOLA","ESTATUTARIO","2022-05-02",30,"2023-05-02","2022-05-31","2023-04-30","38324-44683",{"$f":"G3497-SUMIF(ESCALA!$B$14:$B$15,DADOS!K3497,ESCALA!$I$14:$I$15)","v":30}]
[38352,38352,"VANESSA SILVA COSTA DAMACENO","PROFESSOR (A) DE EDUCACAO INFANTIL","ESTATUTARIO","2022-03-30",30,"2023-03-30","2022-03-31","2023-02-28","38352-44650",{"$f":"G3507-SUMIF(ESCALA!$B$14:$B$15,DADOS!K3507,ESCALA!$I$14:$I$15)","v":30}]
[38483,38483,"MARIA HELENA FERNANDES FRANCA","PROFESSOR (A) DE EDUCACAO BASICA","ESTATUTARIO","2023-01-01",30,"2024-01-01","2023-01-31","2023-12-31","38483-44927",{"$f":"G3526-SUMIF(ESCALA!$B$14:$B$15,DADOS!K3526,ESCALA!$I$14:$I$15)","v":30}]
[38485,38485,"JULIANA AGUIAR VILAS BOAS DE MELO","PROFESSOR (A) DE EDUCACAO BASICA","ESTATUTARIO","2023-01-01",30,"2024-01-01","2023-01-31","2023-12-31","38485-44927",{"$f":"G3527-SUMIF(ESCALA!$B$14:$B$15,DADOS!K3527,ESCALA!$I$14:$I$15)","v":30}]
[38555,38555,"SIMONE DANTAS DA LUZ GOMES","PROFESSOR (A) DE EDUCACAO BASICA","ESTATUTARIO","2023-01-01",30,"2024-01-01","2023-01-31","2023-12-31","38555-44927",{"$f":"G3550-SUMIF(ESCALA!$B$14:$B$15,DADOS!K3550,ESCALA!$I$14:$I$15)","v":30}]
[38651,38651,"RAIMUNDO NONATO LEITAO BEZERRA","AUXILIAR OPERACIONAL","ESTATUTARIO","2023-05-06",30,"2024-05-06","2023-05-31","2024-04-30","38651-45052",{"$f":"G3560-SUMIF(ESCALA!$B$14:$B$15,DADOS!K3560,ESCALA!$I$14:$I$15)","v":30}]
[38738,38738,"DANIELLE SOARES PASTOR BORGES DE MELO","PROFESSOR (A) DE EDUCACAO BASICA","ESTATUTARIO","2023-05-02",30,"2024-05-02","2023-05-31","2024-04-30","38738-45048",{"$f":"G3575-SUMIF(ESCALA!$B$14:$B$15,DADOS!K3575,ESCALA!$I$14:$I$15)","v":30}]
[38758,38758,"VANESSA MOLERO DA MATA CIRILLO FREITAS","PROFESSOR (A) DE EDUCACAO BASICA","ESTATUTARIO","2022-12-02",30,"2023-12-02","2022-12-31","2023-11-30","38758-44897",{"$f":"G3590-SUMIF(ESCALA!$B$14:$B$15,DADOS!K3590,ESCALA!$I$14:$I$15)","v":30}]
[38798,38798,"GABRIELA BARROS DE SOUZA","PROFESSOR (A) DE EDUCACAO BASICA","ESTATUTARIO","2023-01-01",30,"2024-01-01","2023-01-31","2023-12-31","38798-44927",{"$f":"G3599-SUMIF(ESCALA!$B$14:$B$15,DADOS!K3599,ESCALA!$I$14:$I$15)","v":30}]
[38898,38898,"ANA CANDIDA STENICO DE OLIVEIRA","PROFESSOR (A) DE EDUCAÇÃO BÁSICA","ESTATUTARIO","2023-06-25",30,"2024-06-25","2023-06-30","2024-05-31","38898-45102",{"$f":"G3609-SUMIF(ESCALA!$B$14:$B$15,DADOS!K3609,ESCALA!$I$14:$I$15)","v":30}]
[38987,38987,"MARIA IONE DE OLIVEIRA MENDONCA","PROFESSOR (A) DE EDUCACAO INFANTIL","ESTATUTARIO","2022-09-27",30,"2023-09-27","2022-09-30","2023-08-31","38987-44831",{"$f":"G3628-SUMIF(ESCALA!$B$14:$B$15,DADOS!K3628,ESCALA!$I$14:$I$15)","v":30}]
[39032,39032,"MONICA ANDRADE SANTOS DE MIRANDA","PROFESSOR (A) DE EDUCACAO BASICA","ESTATUTARIO","2023-07-25",30,"2024-07-25","2023-07-31","2024-06-30","39032-45132",{"$f":"G3643-SUMIF(ESCALA!$B$14:$B$15,DADOS!K3643,ESCALA!$I$14:$I$15)","v":30}]
[39099,39099,"JOSELIA CHAVES DOS SANTOS","PROFESSOR (A) DE EDUCACAO BASICA","ESTATUTARIO","2023-08-02",30,"2024-08-02",{"$f":"IF(E3652=\"ESTATUTARIO\",EOMONTH(F3652,0),EOMONTH(F3652,-1))","v":"2023-08-31"},{"$f":"EOMONTH(F3652,11)","v":"2024-07-31"},"39099-45140",{"$f":"G3652-SUMIF(ESCALA!$B$14:$B$15,DADOS!K3652,ESCALA!$I$14:$I$15)","v":30}]
[39285,39285,"ANA LUCIA OLIMPIO DE OLIVEIRA ALVES","COZINHEIRO (A)","ESTATUTARIO","2022-10-23",30,"2023-10-23","2022-10-31","2023-09-30","39285-44857",{"$f":"G3676-SUMIF(ESCALA!$B$14:$B$15,DADOS!K3676,ESCALA!$I$14:$I$15)","v":30}]
[39351,39351,"ROSANA RODINI","PROFESSOR (A) DE EDUCACAO BASICA","CELETISTA","2023-01-01",30,"2024-01-01","2022-12-31","2023-12-31","39351-44927",{"$f":"G3691-SUMIF(ESCALA!$B$14:$B$15,DADOS!K3691,ESCALA!$I$14:$I$15)","v":30}]
[39362,39362,"CRISTIANE BARBOSA DE MELLO BENEVIDES","PROFESSOR (A) DE EDUCACAO INFANTIL","ESTATUTARIO","2022-11-07",30,"2023-11-07","2022-11-30","2023-10-31","39362-44872",{"$f":"G3692-SUMIF(ESCALA!$B$14:$B$15,DADOS!K3692,ESCALA!$I$14:$I$15)","v":30}]
[39480,39480,"NORMA CONCEICAO FREIRE PALOTA","COZINHEIRO (A)","ESTATUTARIO","2022-11-07",30,"2023-11-07","2022-11-30","2023-10-31","39480-44872",{"$f":"G3714-SUMIF(ESCALA!$B$14:$B$15,DADOS!K3714,ESCALA!$I$14:$I$15)","v":30}]
[39576,39576,"ANDREZZA MOCCHI DO PRADO LIMA","PROFESSOR (A) COORDENADOR (A)  PEDAGOGICO (A)","ESTATUTARIO","2022-12-06",30,"2023-12-06","2022-12-31","2023-11-30","39576-44901",{"$f":"G3725-SUMIF(ESCALA!$B$14:$B$15,DADOS!K3725,ESCALA!$I$14:$I$15)","v":30}]
[39766,39766,"SONIA MARIA DOS SANTOS","PROFESSOR (A) DE EDUCACAO INFANTIL","ESTATUTARIO","2022-02-12",30,"2023-02-12","2022-02-28","2023-01-31","39766-44604",{"$f":"G3744-SUMIF(ESCALA!$B$14:$B$15,DADOS!K3744,ESCALA!$I$14:$I$15)","v":30}]
[39803,39803,"FABIANA ARCHANJO CASTELLO PEREIRA","PROFESSOR (A) DE EDUCAÇÃO BÁSICA","ESTATUTARIO","2023-01-01",30,"2024-01-01","2023-01-31","2023-12-31","39803-44927",{"$f":"G3759-SUMIF(ESCALA!$B$14:$B$15,DADOS!K3759,ESCALA!$I$14:$I$15)","v":30}]
[39870,39870,"SILVIA CANDIDA NOGUEIRA LOPES","VICE-DIRETOR (A) DE ESCOLA","ESTATUTARIO","2022-03-08",30,"2023-03-08","2022-03-31","2023-02-28","39870-44628",{"$f":"G3767-SUMIF(ESCALA!$B$14:$B$15,DADOS!K3767,ESCALA!$I$14:$I$15)","v":30}]
[39952,39952,"HERICA LEITE DA SILVA","PROFESSOR (A) DE EDUCACAO INFANTIL","ESTATUTARIO","2022-04-10",30,"2023-04-10","2022-04-30","2023-03-31","39952-44661",{"$f":"G3778-SUMIF(ESCALA!$B$14:$B$15,DADOS!K3778,ESCALA!$I$14:$I$15)","v":30}]
[39994,39994,"MARGARETE APARECIDA DE MORAES DEROZA WENCESLAU","COZINHEIRO (A)","ESTATUTARIO","2023-03-27",30,"2024-03-27","2023-03-31","2024-02-29","39994-45012",{"$f":"G3793-SUMIF(ESCALA!$B$14:$B$15,DADOS!K3793,ESCALA!$I$14:$I$15)","v":30}]
[40050,40050,"SERGIO ANDREJAUSKAS FERREIRA DA SILVA","PROFESSOR (A) DE EDUCACAO BASICA","ESTATUTARIO","2023-01-01",30,"2024-01-01","2023-01-31","2023-12-31","40050-44927",{"$f":"G3812-SUMIF(ESCALA!$B$14:$B$15,DADOS!K3812,ESCALA!$I$14:$I$15)","v":30}]
[40090,40090,"MARCIA MARIA BORGES VELOSO SILVA","PROFESSOR (A) DE EDUCACAO BASICA","ESTATUTARIO","2023-01-01",30,"2024-01-01","2023-01-31","2023-12-31","40090-44927",{"$f":"G3816-SUMIF(ESCALA!$B$14:$B$15,DADOS!K3816,ESCALA!$I$14:$I$15)","v":30}]
[40269,40269,"GISLEINE DEHN ARAUJO","COZINHEIRO (A)","ESTATUTARIO","2022-05-17",30,"2023-05-17","2022-05-31","2023-04-30","40269-44698",{"$f":"G3841-SUMIF(ESCALA!$B$14:$B$15,DADOS!K3841,ESCALA!$I$14:$I$15)","v":30}]
[40276,40276,"SILVIA SANTOS MUNIZ","PROFESSOR (A) DE EDUCACAO INFANTIL","ESTATUTARIO","2022-05-20",30,"2023-05-20","2022-05-31","2023-04-30","40276-44701",{"$f":"G3846-SUMIF(ESCALA!$B$14:$B$15,DADOS!K3846,ESCALA!$I$14:$I$15)","v":30}]
[40415,40415,"JOSE SEBASTIAO LOURENCO","PROFESSOR (A) DE EDUCACAO BASICA","ESTATUTARIO","2023-12-31",30,"2024-12-31","2023-12-31","2024-11-30","40415-45291",{"$f":"G3861-SUMIF(ESCALA!$B$14:$B$15,DADOS!K3861,ESCALA!$I$14:$I$15)","v":30}]
[40594,40594,"GISELLE MUNIZ ANTUNES","PROFESSOR (A) DE EDUCACAO BASICA","ESTATUTARIO","2023-01-01",30,"2024-01-01","2023-01-31","2023-12-31","40594-44927",{"$f":"G3882-SUMIF(ESCALA!$B$14:$B$15,DADOS!K3882,ESCALA!$I$14:$I$15)","v":30}]
[40748,40748,"SONIA ALVES DOS SANTOS","PROFESSOR (A) DE EDUCAÇÃO BÁSICA","ESTATUTARIO","2023-01-01",30,"2024-01-01","2023-01-31","2023-12-31","40748-44927",{"$f":"G3894-SUMIF(ESCALA!$B$14:$B$15,DADOS!K3894,ESCALA!$I$14:$I$15)","v":30}]
[40801,40801,"KATHELLEN ANNE SOLANO","PROFESSOR (A) DE EDUCACAO BASICA","ESTATUTARIO","2023-01-01",30,"2024-01-01","2023-01-31","2023-12-31","40801-44927",{"$f":"G3909-SUMIF(ESCALA!$B$14:$B$15,DADOS!K3909,ESCALA!$I$14:$I$15)","v":30}]
[40946,40946,"ARETUZA DE SOUZA PIRES","PROFESSOR (A) DE EDUCACAO BASICA","ESTATUTARIO","2023-01-01",30,"2024-01-01","2023-01-31","2023-12-31","40946-44927",{"$f":"G3914-SUMIF(ESCALA!$B$14:$B$15,DADOS!K3914,ESCALA!$I$14:$I$15)","v":30}]
[41045,41045,"ROZILDA DE SOUZA","COZINHEIRO (A)","ESTATUTARIO","2023-09-23",30,"2024-09-23","2023-09-30","2024-08-31","41045-45192",{"$f":"G3931-SUMIF(ESCALA!$B$14:$B$15,DADOS!K3931,ESCALA!$I$14:$I$15)","v":30}]
[41203,41203,"NEILA JERONIMO DA SILVA","PROFESSOR (A) DE EDUCACAO INFANTIL","ESTATUTARIO","2023-12-10",30,"2024-12-10","2023-12-31","2024-11-30","41203-45270",{"$f":"G3943-SUMIF(ESCALA!$B$14:$B$15,DADOS!K3943,ESCALA!$I$14:$I$15)","v":30}]
[41335,41335,"LUCIANA MARQUES DE AZEVEDO","COORDENADOR (A) DE PROGRAMAS EDUCACIONAIS","ESTATUTARIO","2023-10-22",30,"2024-10-22","2023-10-31","2024-09-30","41335-45221",{"$f":"G3962-SUMIF(ESCALA!$B$14:$B$15,DADOS!K3962,ESCALA!$I$14:$I$15)","v":30}]
[41359,41359,"SABRINA DOS SANTOS CASIMIRO","PROFESSOR (A) DE EDUCACAO INFANTIL","ESTATUTARIO","2022-10-22",30,"2023-10-22","2022-10-31","2023-09-30","41359-44856",{"$f":"G3977-SUMIF(ESCALA!$B$14:$B$15,DADOS!K3977,ESCALA!$I$14:$I$15)","v":30}]
[41383,41383,"VANDA SILVA ARAUJO MARIANO","PROFESSOR (A) DE EDUCACAO INFANTIL","ESTATUTARIO","2022-10-22",30,"2023-10-22","2022-10-31","2023-09-30","41383-44856",{"$f":"G3993-SUMIF(ESCALA!$B$14:$B$15,DADOS!K3993,ESCALA!$I$14:$I$15)","v":30}]
[41384,41384,"VANESSA DE SOUZA RODRIGUES","PROFESSOR (A) DE EDUCACAO BASICA","ESTATUTARIO","2023-10-22",30,"2024-10-22","2023-10-31","2024-09-30","41384-45221",{"$f":"G3996-SUMIF(ESCALA!$B$14:$B$15,DADOS!K3996,ESCALA!$I$14:$I$15)","v":30}]
[41407,41407,"MARCOS JOSE DA ROSA","PROFESSOR (A) COORDENADOR (A)  PEDAGOGICO (A)","ESTATUTARIO","2022-10-31",30,"2023-10-31","2022-10-31","2023-09-30","41407-44865",{"$f":"G4011-SUMIF(ESCALA!$B$14:$B$15,DADOS!K4011,ESCALA!$I$14:$I$15)","v":30}]
[41434,41434,"MARIA IZILDA CORREA ALVES","PROFESSOR (A) DE EDUCAÇÃO BÁSICA","ESTATUTARIO","2023-10-31",30,"2024-10-31","2023-10-31","2024-09-30","41434-45230",{"$f":"G4030-SUMIF(ESCALA!$B$14:$B$15,DADOS!K4030,ESCALA!$I$14:$I$15)","v":30}]
[41470,41470,"CRISTIANE DE SANTANA MATOS","PROFESSOR (A) DE EDUCACAO BASICA","ESTATUTARIO","2022-11-26",30,"2023-11-26","2022-11-30","2023-10-31","41470-44891",{"$f":"G4046-SUMIF(ESCALA!$B$14:$B$15,DADOS!K4046,ESCALA!$I$14:$I$15)","v":30}]
[41533,41533,"CAMILA INOCENCIO PACHECO","PROFESSOR (A) DE EDUCAÇÃO BÁSICA","ESTATUTARIO","2022-12-02",30,"2023-12-02","2022-12-31","2023-11-30","41533-44897",{"$f":"G4059-SUMIF(ESCALA!$B$14:$B$15,DADOS!K4059,ESCALA!$I$14:$I$15)","v":30}]
[41551,41551,"JULIANA DE OLIVEIRA CORDEIRO ARAUJO","PROFESSOR (A) DE EDUCACAO INFANTIL","ESTATUTARIO","2023-12-04",30,"2024-12-04","2023-12-31","2024-11-30","41551-45264",{"$f":"G4064-SUMIF(ESCALA!$B$14:$B$15,DADOS!K4064,ESCALA!$I$14:$I$15)","v":30}]
[41969,41969,"ANA PAULA ARAUJO RIBEIRO","PROFESSOR (A) DE EDUCACAO INFANTIL","ESTATUTARIO","2023-01-27",30,"2024-01-27","2023-01-31","2023-12-31","41969-44953",{"$f":"G4079-SUMIF(ESCALA!$B$14:$B$15,DADOS!K4079,ESCALA!$I$14:$I$15)","v":30}]
[41995,41995,"ELINEISE RODRIGUES DE ARAUJO MENDES","PROFESSOR (A) DE EDUCACAO INFANTIL","ESTATUTARIO","2023-12-31",30,"2024-12-31","2023-12-31","2024-11-30","41995-45291",{"$f":"G4095-SUMIF(ESCALA!$B$14:$B$15,DADOS!K4095,ESCALA!$I$14:$I$15)","v":30}]
[42015,42015,"CLEIDE ZAVATINI","PROFESSOR (A) DE EDUCACAO INFANTIL","ESTATUTARIO","2023-01-27",30,"2024-01-27","2023-01-31","2023-12-31","42015-44953",{"$f":"G4112-SUMIF(ESCALA!$B$14:$B$15,DADOS!K4112,ESCALA!$I$14:$I$15)","v":30}]
[42035,42035,"SUELY DA SILVA PIRES CELIO","PROFESSOR (A) DE EDUCACAO INFANTIL","ESTATUTARIO","2023-01-27",30,"2024-01-27","2023-01-31","2023-12-31","42035-44953",{"$f":"G4127-SUMIF(ESCALA!$B$14:$B$15,DADOS!K4127,ESCALA!$I$14:$I$15)","v":30}]
[42041,42041,"FLAVIA BETINE DOS SANTOS","PROFESSOR (A) DE EDUCACAO INFANTIL","ESTATUTARIO","2023-01-27",30,"2024-01-27","2023-01-31","2023-12-31","42041-44953",{"$f":"G4132-SUMIF(ESCALA!$B$14:$B$15,DADOS!K4132,ESCALA!$I$14:$I$15)","v":30}]
[42074,42074,"MARGARIDA BATISTA","PROFESSOR (A) DE EDUCACAO INFANTIL","ESTATUTARIO","2023-01-27",30,"2024-01-27","2023-01-31","2023-12-31","42074-44953",{"$f":"G4148-SUMIF(ESCALA!$B$14:$B$15,DADOS!K4148,ESCALA!$I$14:$I$15)","v":30}]
[42112,42112,"ELLEN CRISTINA SILVA NUNES","PROFESSOR (A) COORDENADOR (A)  PEDAGOGICO (A)","ESTATUTARIO","2023-01-01",30,"2024-01-01","2023-01-31","2023-12-31","42112-44927",{"$f":"G4161-SUMIF(ESCALA!$B$14:$B$15,DADOS!K4161,ESCALA!$I$14:$I$15)","v":30}]
[42159,42159,"NORA NEI RAMOS DE OLIVEIRA VIEIRA","PROFESSOR (A) COORDENADOR (A)  PEDAGOGICO (A)","CELETISTA","2023-01-27",30,"2024-01-27","2022-12-31","2023-12-31","42159-44953",{"$f":"G4180-SUMIF(ESCALA!$B$14:$B$15,DADOS!K4180,ESCALA!$I$14:$I$15)","v":30}]
[42197,42197,"VIVIAN DE OLIVEIRA ALBERTI","PROFESSOR (A) DE EDUCACAO INFANTIL","ESTATUTARIO","2023-01-27",30,"2024-01-27","2023-01-31","2023-12-31","42197-44953",{"$f":"G4195-SUMIF(ESCALA!$B$14:$B$15,DADOS!K4195,ESCALA!$I$14:$I$15)","v":30}]
[42293,42293,"TIAGO TEIXEIRA DE SOUSA","COORDENADOR (A) DE PROGRAMAS EDUCACIONAIS","ESTATUTARIO","2023-01-01",30,"2024-01-01","2023-01-31","2023-12-31","42293-44927",{"$f":"G4210-SUMIF(ESCALA!$B$14:$B$15,DADOS!K4210,ESCALA!$I$14:$I$15)","v":30}]
[42297,42297,"SIMONE PINHEIRO","COZINHEIRO (A)","CELETISTA","2023-02-19",30,"2024-02-19","2023-01-31","2024-01-31","42297-44976",{"$f":"G4214-SUMIF(ESCALA!$B$14:$B$15,DADOS!K4214,ESCALA!$I$14:$I$15)","v":30}]
[42319,42319,"BERENICE MARIA DE SOUSA","PROFESSOR (A) DE EDUCACAO INFANTIL","CELETISTA","2022-02-24",30,"2023-02-24","2022-01-31","2023-01-31","42319-44616",{"$f":"G4229-SUMIF(ESCALA!$B$14:$B$15,DADOS!K4229,ESCALA!$I$14:$I$15)","v":30}]
[42372,42372,"ADRIANA ROLIN DE MORAES FERNANDES","COORDENADOR (A) DE PROGRAMAS EDUCACIONAIS","ESTATUTARIO","2023-01-01",30,"2024-01-01","2023-01-31","2023-12-31","42372-44927",{"$f":"G4248-SUMIF(ESCALA!$B$14:$B$15,DADOS!K4248,ESCALA!$I$14:$I$15)","v":30}]
[42402,42402,"WANDA DA CRUZ BERTAO EHRENBERG MURBACH","PROFESSOR (A) DE EDUCAÇÃO BASICA","CELETISTA","2022-11-08",30,"2023-11-08","2022-10-31","2023-10-31","42402-44873",{"$f":"G4263-SUMIF(ESCALA!$B$14:$B$15,DADOS!K4263,ESCALA!$I$14:$I$15)","v":30}]
[42426,42426,"ROSEMEIRE BEZERRA VIEIRA SOARES","PROFESSOR (A) DE EDUCAÇÃO BÁSICA","ESTATUTARIO","2023-03-26",30,"2024-03-26","2023-03-31","2024-02-29","42426-45011",{"$f":"G4281-SUMIF(ESCALA!$B$14:$B$15,DADOS!K4281,ESCALA!$I$14:$I$15)","v":30}]
[42460,42460,"GISSA VILELA SOUZA DE JESUS","PROFESSOR (A) DE EDUCACAO BASICA","ESTATUTARIO","2023-01-01",30,"2024-01-01","2023-01-31","2023-12-31","42460-44927",{"$f":"G4296-SUMIF(ESCALA!$B$14:$B$15,DADOS!K4296,ESCALA!$I$14:$I$15)","v":30}]
[42463,42463,"SUZEL CRISTINA CURDULINO MENDONCA","PROFESSOR (A) DE EDUCAÇÃO BÁSICA","ESTATUTARIO","2023-01-01",30,"2024-01-01","2023-01-31","2023-12-31","42463-44927",{"$f":"G4297-SUMIF(ESCALA!$B$14:$B$15,DADOS!K4297,ESCALA!$I$14:$I$15)","v":30}]
[42555,42555,"ELISEU ALEXANDRE DOS SANTOS","CHEFE DE SECAO ADMINISTRATIVA","ESTATUTARIO","2023-04-14",30,"2024-04-14","2023-04-30","2024-03-31","42555-45030",{"$f":"G4312-SUMIF(ESCALA!$B$14:$B$15,DADOS!K4312,ESCALA!$I$14:$I$15)","v":30}]
[42620,42620,"MARIA DO CARMO RODRIGUES DE OLIVEIRA","PROFESSOR (A) DE EDUCACAO INFANTIL","ESTATUTARIO","2022-04-21",30,"2023-04-21","2022-04-30","2023-03-31","42620-44672",{"$f":"G4330-SUMIF(ESCALA!$B$14:$B$15,DADOS!K4330,ESCALA!$I$14:$I$15)","v":30}]
[42631,42631,"FABIANA DUARTE MARTINS","PROFESSOR (A) DE EDUCACAO INFANTIL","ESTATUTARIO","2022-04-21",30,"2023-04-21","2022-04-30","2023-03-31","42631-44672",{"$f":"G4345-SUMIF(ESCALA!$B$14:$B$15,DADOS!K4345,ESCALA!$I$14:$I$15)","v":30}]
[42663,42663,"MARGARETE APARECIDA LEME","PROFESSOR (A) DE EDUCACAO INFANTIL","ESTATUTARIO","2022-04-21",30,"2023-04-21","2022-04-30","2023-03-31","42663-44672",{"$f":"G4364-SUMIF(ESCALA!$B$14:$B$15,DADOS!K4364,ESCALA!$I$14:$I$15)","v":30}]
[42709,42709,"ERIKA DE OLIVEIRA SILVA","PROFESSOR (A) DE EDUCACAO BASICA","ESTATUTARIO","2023-01-01",30,"2024-01-01","2023-01-31","2023-12-31","42709-44927",{"$f":"G4378-SUMIF(ESCALA!$B$14:$B$15,DADOS!K4378,ESCALA!$I$14:$I$15)","v":30}]
[42733,42733,"GIULIANA ALVES CORDEIRO","PROFESSOR (A) DE EDUCACAO BASICA","ESTATUTARIO","2023-01-01",30,"2024-01-01","2023-01-31","2023-12-31","42733-44927",{"$f":"G4383-SUMIF(ESCALA!$B$14:$B$15,DADOS!K4383,ESCALA!$I$14:$I$15)","v":30}]
[42793,42793,"DURVALINA OLIVEIRA DE ARAGAO","PROFESSOR (A) DE EDUCACAO BASICA","ESTATUTARIO","2023-01-01",30,"2024-01-01","2023-01-31","2023-12-31","42793-44927",{"$f":"G4398-SUMIF(ESCALA!$B$14:$B$15,DADOS!K4398,ESCALA!$I$14:$I$15)","v":30}]
[42937,42937,"MARINA PEREIRA PITORRI BIAZIOLI","PROFESSOR (A) DE EDUCACAO BASICA","ESTATUTARIO","2023-01-01",30,"2024-01-01","2023-01-31","2023-12-31","42937-44927",{"$f":"G4413-SUMIF(ESCALA!$B$14:$B$15,DADOS!K4413,ESCALA!$I$14:$I$15)","v":30}]
[42973,42973,"ADRIANA CAMISOTI PASSOS","PROFESSOR (A) DE EDUCAÇÃO BASICA","CELETISTA","2023-01-01",30,"2024-01-01","2022-12-31","2023-12-31","42973-44927",{"$f":"G4427-SUMIF(ESCALA!$B$14:$B$15,DADOS!K4427,ESCALA!$I$14:$I$15)","v":30}]
[43239,43239,"LARISSA DANIELE DE JESUS COELHO","COORDENADOR (A) DE PROGRAMAS EDUCACIONAIS","ESTATUTARIO","2023-01-01",30,"2024-01-01","2023-01-31","2023-12-31","43239-44927",{"$f":"G4446-SUMIF(ESCALA!$B$14:$B$15,DADOS!K4446,ESCALA!$I$14:$I$15)","v":30}]
[43462,43462,"JUNIA BATISTA NOGUEIRA DE AVILA","PROFESSOR (A) DE EDUCACAO BASICA","ESTATUTARIO","2023-01-01",30,"2024-01-01","2023-01-31","2023-12-31","43462-44927",{"$f":"G4461-SUMIF(ESCALA!$B$14:$B$15,DADOS!K4461,ESCALA!$I$14:$I$15)","v":30}]
[43481,43481,"PAULO JOGI MATSUMOTO","AUXILIAR OPERACIONAL","ESTATUTARIO","2022-06-22",30,"2023-06-22","2022-06-30","2023-05-31","43481-44734",{"$f":"G4466-SUMIF(ESCALA!$B$14:$B$15,DADOS!K4466,ESCALA!$I$14:$I$15)","v":30}]
[43542,43542,"FELISMINA GOMES SOARES","COZINHEIRO (A)","ESTATUTARIO","2023-06-26",30,"2024-06-26","2023-06-30","2024-05-31","43542-45103",{"$f":"G4480-SUMIF(ESCALA!$B$14:$B$15,DADOS!K4480,ESCALA!$I$14:$I$15)","v":30}]
[43650,43650,"OSEIAS FERNANDES MARTINS","DIRETOR (A) DE ESCOLA","CELETISTA","2022-07-07",25,"2023-07-07","2022-06-30","2023-06-30","43650-44749",{"$f":"G4499-SUMIF(ESCALA!$B$14:$B$15,DADOS!K4499,ESCALA!$I$14:$I$15)","v":25}]
[43761,43761,"DALIANE FROTSCHER DE SOUZA","PROFESSOR (A) DE EDUCACAO BASICA","ESTATUTARIO","2023-01-01",30,"2024-01-01","2023-01-31","2023-12-31","43761-44927",{"$f":"G4514-SUMIF(ESCALA!$B$14:$B$15,DADOS!K4514,ESCALA!$I$14:$I$15)","v":30}]
[43945,43945,"LENITA BELTRAN BUZATO","CHEFE DE SECAO TECNICA","ESTATUTARIO","2023-09-15",30,"2024-09-15","2023-09-30","2024-08-31","43945-45184",{"$f":"G4529-SUMIF(ESCALA!$B$14:$B$15,DADOS!K4529,ESCALA!$I$14:$I$15)","v":30}]
[43982,43982,"SANDRA APARECIDA DO NASCIMENTO","COZINHEIRO (A)","ESTATUTARIO","2022-09-23",30,"2023-09-23","2022-09-30","2023-08-31","43982-44827",{"$f":"G4542-SUMIF(ESCALA!$B$14:$B$15,DADOS!K4542,ESCALA!$I$14:$I$15)","v":30}]
[43998,43998,"JACIRA PATRICIA DE OLIVEIRA MENDES","COZINHEIRO (A)","ESTATUTARIO","2022-09-28",30,"2023-09-28",{"$f":"IF(E4548=\"ESTATUTARIO\",EOMONTH(F4548,0),EOMONTH(F4548,-1))","v":"2022-09-30"},{"$f":"EOMONTH(F4548,11)","v":"2023-08-31"},"43998-44832",{"$f":"G4548-SUMIF(ESCALA!$B$14:$B$15,DADOS!K4548,ESCALA!$I$14:$I$15)","v":30}]
[44523,44523,"ANA MARIA SOUZA RIBEIRO","PROFESSOR (A) DE EDUCACAO BASICA","ESTATUTARIO","2023-01-01",30,"2024-01-01","2023-01-31","2023-12-31","44523-44927",{"$f":"G4567-SUMIF(ESCALA!$B$14:$B$15,DADOS!K4567,ESCALA!$I$14:$I$15)","v":30}]
[44698,44698,"ZILDA ARAUJO DA SILVA DIAS","PROFESSOR (A) DE EDUCAÇÃO BASICA","CELETISTA","2022-02-08",30,"2023-02-08","2022-01-31","2023-01-31","44698-44600",{"$f":"G4582-SUMIF(ESCALA!$B$14:$B$15,DADOS!K4582,ESCALA!$I$14:$I$15)","v":30}]
[44711,44711,"SANDRA REGINA ANDALECIO GARZIM","PROFESSOR (A) DE EDUCACAO BASICA","ESTATUTARIO","2022-02-08",30,"2023-02-08","2022-02-28","2023-01-31","44711-44600",{"$f":"G4595-SUMIF(ESCALA!$B$14:$B$15,DADOS!K4595,ESCALA!$I$14:$I$15)","v":30}]
[44716,44716,"MARCIA MENDES DE CARVALHO","PROFESSOR (A) DE EDUCACAO INFANTIL","ESTATUTARIO","2022-02-08",30,"2023-02-08","2022-02-28","2023-01-31","44716-44600",{"$f":"G4601-SUMIF(ESCALA!$B$14:$B$15,DADOS!K4601,ESCALA!$I$14:$I$15)","v":30}]
[44730,44730,"ROSA PEREIRA DE SOUSA MEDEIROS","PROFESSOR (A) DE EDUCACAO INFANTIL","ESTATUTARIO","2023-02-08",30,"2024-02-08","2023-02-28","2024-01-31","44730-44965",{"$f":"G4616-SUMIF(ESCALA!$B$14:$B$15,DADOS!K4616,ESCALA!$I$14:$I$15)","v":30}]
[44759,44759,"LUCIANA DIAS DA COSTA CARBONE","PROFESSOR (A) DE EDUCAÇÃO BÁSICA","ESTATUTARIO","2023-01-01",30,"2024-01-01","2023-01-31","2023-12-31","44759-44927",{"$f":"G4631-SUMIF(ESCALA!$B$14:$B$15,DADOS!K4631,ESCALA!$I$14:$I$15)","v":30}]
[44835,44835,"VANESSA FERNANDES DOS SANTOS","PROFESSOR (A) DE EDUCACAO BASICA","ESTATUTARIO","2023-01-01",30,"2024-01-01","2023-01-31","2023-12-31","44835-44927",{"$f":"G4644-SUMIF(ESCALA!$B$14:$B$15,DADOS!K4644,ESCALA!$I$14:$I$15)","v":30}]
[44932,44932,"ANDREIA LOPES DA SILVA","PROFESSOR (A) DE EDUCACAO INFANTIL","ESTATUTARIO","2023-02-08",30,"2024-02-08","2023-02-28","2024-01-31","44932-44965",{"$f":"G4664-SUMIF(ESCALA!$B$14:$B$15,DADOS!K4664,ESCALA!$I$14:$I$15)","v":30}]
[44937,44937,"LETICIA VIEIRA CURIA","PROFESSOR (A) DE EDUCACAO INFANTIL","ESTATUTARIO","2022-02-08",30,"2023-02-08","2022-02-28","2023-01-31","44937-44600",{"$f":"G4669-SUMIF(ESCALA!$B$14:$B$15,DADOS!K4669,ESCALA!$I$14:$I$15)","v":30}]
[45089,45089,"ALEXANDRA MARIA XAVIER","COZINHEIRO (A)","ESTATUTARIO","2023-03-15",30,"2024-03-15","2023-03-31","2024-02-29","45089-45000",{"$f":"G4684-SUMIF(ESCALA!$B$14:$B$15,DADOS!K4684,ESCALA!$I$14:$I$15)","v":30}]
[45201,45201,"LETICIA DEL BUSSO DOMINGUES","CHEFE DE SECAO TECNICA","ESTATUTARIO","2023-03-25",30,"2024-03-25","2023-03-31","2024-02-29","45201-45010",{"$f":"G4697-SUMIF(ESCALA!$B$14:$B$15,DADOS!K4697,ESCALA!$I$14:$I$15)","v":30}]
[45365,45365,"ANTONIO ALEX DE FARIAS DUARTE","AGENTE ESCOLAR","ESTATUTARIO","2022-04-26",30,"2023-04-26","2022-04-30","2023-03-31","45365-44677",{"$f":"G4717-SUMIF(ESCALA!$B$14:$B$15,DADOS!K4717,ESCALA!$I$14:$I$15)","v":30}]
[45438,45438,"FABIANO DO PRADO","CHEFE DE SECAO TECNICA","ESTATUTARIO","2023-04-14",30,"2024-04-14","2023-04-30","2024-03-31","45438-45030",{"$f":"G4732-SUMIF(ESCALA!$B$14:$B$15,DADOS!K4732,ESCALA!$I$14:$I$15)","v":30}]
[45495,45495,"SANDRA APARECIDA RIBEIRO DA CUNHA","PROFESSOR (A) DE EDUCACAO INFANTIL","ESTATUTARIO","2022-04-29",30,"2023-04-29","2022-04-30","2023-03-31","45495-44680",{"$f":"G4737-SUMIF(ESCALA!$B$14:$B$15,DADOS!K4737,ESCALA!$I$14:$I$15)","v":30}]
[45588,45588,"DORCAS JORGE DOS SANTOS","COZINHEIRO (A)","ESTATUTARIO","2023-05-18",30,"2024-05-18","2023-05-31","2024-04-30","45588-45064",{"$f":"G4759-SUMIF(ESCALA!$B$14:$B$15,DADOS!K4759,ESCALA!$I$14:$I$15)","v":30}]
[45622,45622,"CAMILA RODRIGUES SILVA AGUIAR ","PROFESSOR (A) DE EDUCACAO BASICA","ESTATUTARIO","2023-05-20",30,"2024-05-20","2023-05-31","2024-04-30","45622-45066",{"$f":"G4766-SUMIF(ESCALA!$B$14:$B$15,DADOS!K4766,ESCALA!$I$14:$I$15)","v":30}]
[45639,45639,"ELIANA APARECIDA SOUZA CRUZ","COZINHEIRO (A)","ESTATUTARIO","2022-05-18",30,"2023-05-18","2022-05-31","2023-04-30","45639-44699",{"$f":"G4785-SUMIF(ESCALA!$B$14:$B$15,DADOS!K4785,ESCALA!$I$14:$I$15)","v":30}]
[45673,45673,"JOANA DARC FERREIRA DOS SANTOS","COZINHEIRO (A)","ESTATUTARIO","2022-05-18",15,"2023-05-18","2022-05-31","2023-04-30","45673-44699",{"$f":"G4800-SUMIF(ESCALA!$B$14:$B$15,DADOS!K4800,ESCALA!$I$14:$I$15)","v":15}]
[45688,45688,"GISELE DINIZ VASCONCELLOS COELHO","PROFESSOR (A) DE EDUCACAO BASICA","ESTATUTARIO","2023-01-01",30,"2024-01-01","2023-01-31","2023-12-31","45688-44927",{"$f":"G4812-SUMIF(ESCALA!$B$14:$B$15,DADOS!K4812,ESCALA!$I$14:$I$15)","v":30}]
[45708,45708,"MARGARETE MENDES NEGRAO MARTINS","PROFESSOR (A) DE EDUCACAO INFANTIL","ESTATUTARIO","2022-05-24",30,"2023-05-24","2022-05-31","2023-04-30","45708-44705",{"$f":"G4819-SUMIF(ESCALA!$B$14:$B$15,DADOS!K4819,ESCALA!$I$14:$I$15)","v":30}]
[45740,45740,"ADRIANA LAZARO YALENTI","PROFESSOR (A) COORDENADOR (A)  PEDAGOGICO (A)","ESTATUTARIO","2022-05-24",30,"2023-05-24","2022-05-31","2023-04-30","45740-44705",{"$f":"G4834-SUMIF(ESCALA!$B$14:$B$15,DADOS!K4834,ESCALA!$I$14:$I$15)","v":30}]
[45833,45833,"JANNINE GLADYS FERREIRA DE LIMA","PROFESSOR (A) DE EDUCACAO BASICA","ESTATUTARIO","2022-06-14",30,"2023-06-14","2022-06-30","2023-05-31","45833-44726",{"$f":"G4853-SUMIF(ESCALA!$B$14:$B$15,DADOS!K4853,ESCALA!$I$14:$I$15)","v":30}]
[45845,45845,"MARIA DA CONCEICAO LUCAS DE BRITO","PROFESSOR (A) DE EDUCACAO INFANTIL","ESTATUTARIO","2022-06-14",30,"2023-06-14","2022-06-30","2023-05-31","45845-44726",{"$f":"G4861-SUMIF(ESCALA!$B$14:$B$15,DADOS!K4861,ESCALA!$I$14:$I$15)","v":30}]
[45870,45870,"ANA PAULA DE OLIVEIRA FONTELES","PROFESSOR (A) DE EDUCACAO BASICA","ESTATUTARIO","2023-06-21",30,"2024-06-21","2023-06-30","2024-05-31","45870-45098",{"$f":"G4882-SUMIF(ESCALA!$B$14:$B$15,DADOS!K4882,ESCALA!$I$14:$I$15)","v":30}]
[45916,45916,"ALESSANDRA RAMOS SANTOS","PROFESSOR (A) DE EDUCACAO INFANTIL","ESTATUTARIO","2022-06-28",30,"2023-06-28","2022-06-30","2023-05-31","45916-44740",{"$f":"G4901-SUMIF(ESCALA!$B$14:$B$15,DADOS!K4901,ESCALA!$I$14:$I$15)","v":30}]
[45916,45916,"ALESSANDRA RAMOS SANTOS","PROFESSOR (A) DE EDUCACAO INFANTIL","ESTATUTARIO","2023-06-28",30,"2024-06-28","2023-06-30","2024-05-31","45916-45105",{"$f":"G4902-SUMIF(ESCALA!$B$14:$B$15,DADOS!K4902,ESCALA!$I$14:$I$15)","v":30}]
[46052,46052,"LUZINEIDE DE ALMEIDA QUEIROZ OLIVEIRA","COZINHEIRO (A)","ESTATUTARIO","2023-07-14",30,"2024-07-14","2023-07-31","2024-06-30","46052-45121",{"$f":"G4927-SUMIF(ESCALA!$B$14:$B$15,DADOS!K4927,ESCALA!$I$14:$I$15)","v":30}]
[46239,46239,"ROSALINA APARECIDA FIORINO CURVELLO","CHEFE DE SECAO ADMINISTRATIVA","ESTATUTARIO","2023-07-29",30,"2024-07-29","2023-07-31","2024-06-30","46239-45136",{"$f":"G4935-SUMIF(ESCALA!$B$14:$B$15,DADOS!K4935,ESCALA!$I$14:$I$15)","v":30}]
[46343,46343,"JACQUELINE ISIS FREITAS","PROFESSOR (A) DE EDUCACAO BASICA","ESTATUTARIO","2023-01-01",30,"2024-01-01","2023-01-31","2023-12-31","46343-44927",{"$f":"G4950-SUMIF(ESCALA!$B$14:$B$15,DADOS!K4950,ESCALA!$I$14:$I$15)","v":30}]
[46389,46389,"VIVIANE GRACIANO DE MENEZES NASCIMENTO","PROFESSOR (A) DE EDUCACAO INFANTIL","ESTATUTARIO","2023-08-16",30,"2024-08-16","2023-08-31","2024-07-31","46389-45154",{"$f":"G4969-SUMIF(ESCALA!$B$14:$B$15,DADOS!K4969,ESCALA!$I$14:$I$15)","v":30}]
[46400,46400,"MARIA TEREZA ALVES CARVALHO","ASSISTENTE DE GESTAO ESCOLAR","ESTATUTARIO","2022-08-16",30,"2023-08-16","2022-08-31","2023-07-31","46400-44789",{"$f":"G4976-SUMIF(ESCALA!$B$14:$B$15,DADOS!K4976,ESCALA!$I$14:$I$15)","v":30}]
[46408,46408,"PATRICIA PONCE DE FREITAS","CHEFE DE SECAO TECNICA","ESTATUTARIO","2022-08-16",25,"2023-08-16","2022-08-31","2023-07-31","46408-44789",{"$f":"G4984-SUMIF(ESCALA!$B$14:$B$15,DADOS!K4984,ESCALA!$I$14:$I$15)","v":25}]
[46453,46453,"IVONE BORGES DOS SANTOS","PROFESSOR (A) DE EDUCACAO INFANTIL","ESTATUTARIO","2022-08-31",30,"2023-08-31","2022-08-31","2023-07-31","46453-44804",{"$f":"G5003-SUMIF(ESCALA!$B$14:$B$15,DADOS!K5003,ESCALA!$I$14:$I$15)","v":30}]
[46488,46488,"TATIANA DOS SANTOS SILVA","PROFESSOR (A) DE EDUCACAO INFANTIL","ESTATUTARIO","2022-08-31",30,"2023-08-31","2022-08-31","2023-07-31","46488-44804",{"$f":"G5018-SUMIF(ESCALA!$B$14:$B$15,DADOS!K5018,ESCALA!$I$14:$I$15)","v":30}]
[46514,46514,"DIANA DOMINGOS BACURAU SANTOS","PROFESSOR (A) DE EDUCACAO INFANTIL","ESTATUTARIO","2023-08-31",30,"2024-08-31","2023-08-31","2024-07-31","46514-45169",{"$f":"G5038-SUMIF(ESCALA!$B$14:$B$15,DADOS!K5038,ESCALA!$I$14:$I$15)","v":30}]
[46547,46547,"GRACE KELLY BENTO DOS SANTOS","PROFESSOR (A) DE EDUCACAO INFANTIL","ESTATUTARIO","2023-08-31",30,"2024-08-31","2023-08-31","2024-07-31","46547-45169",{"$f":"G5051-SUMIF(ESCALA!$B$14:$B$15,DADOS!K5051,ESCALA!$I$14:$I$15)","v":30}]
[46738,46738,"JOSE DA SILVA LIMA NETO","ASSISTENTE DE GESTAO ESCOLAR","ESTATUTARIO","2022-09-22",30,"2023-09-22","2022-09-30","2023-08-31","46738-44826",{"$f":"G5066-SUMIF(ESCALA!$B$14:$B$15,DADOS!K5066,ESCALA!$I$14:$I$15)","v":30}]
[46757,46757,"LUCIANA CRISTINA FARIA DE SOUSA","PROFESSOR (A) DE EDUCAÇÃO BÁSICA","ESTATUTARIO","2023-12-31",30,"2024-12-31","2023-12-31","2024-11-30","46757-45291",{"$f":"G5071-SUMIF(ESCALA!$B$14:$B$15,DADOS!K5071,ESCALA!$I$14:$I$15)","v":30}]
[46870,46870,"ALEXSANDRA SEVERO DOS SANTOS","PROFESSOR (A) DE EDUCACAO BASICA","ESTATUTARIO","2023-10-13",30,"2024-10-13","2023-10-31","2024-09-30","46870-45212",{"$f":"G5091-SUMIF(ESCALA!$B$14:$B$15,DADOS!K5091,ESCALA!$I$14:$I$15)","v":30}]
[47186,47186,"ADRIANA MENDES SATIRO","CHEFE DE SECAO TECNICA","ESTATUTARIO","2022-11-23",30,"2023-11-23","2022-11-30","2023-10-31","47186-44888",{"$f":"G5100-SUMIF(ESCALA!$B$14:$B$15,DADOS!K5100,ESCALA!$I$14:$I$15)","v":30}]
[47453,47453,"LILIAN MARIA HENRIQUE DE OLIVEIRA","COZINHEIRO (A)","ESTATUTARIO","2023-02-01",30,"2024-02-01","2023-02-28","2024-01-31","47453-44958",{"$f":"G5119-SUMIF(ESCALA!$B$14:$B$15,DADOS!K5119,ESCALA!$I$14:$I$15)","v":30}]
[47484,47484,"ROSELI DE SOUZA DA SILVA RODRIGUES","COZINHEIRO (A)","ESTATUTARIO","2023-02-01",30,"2024-02-01","2023-02-28","2024-01-31","47484-44958",{"$f":"G5134-SUMIF(ESCALA!$B$14:$B$15,DADOS!K5134,ESCALA!$I$14:$I$15)","v":30}]
[47493,47493,"CINTIA CONCEICAO DE SOUZA","PROFESSOR (A) DE EDUCACAO INFANTIL","ESTATUTARIO","2023-02-01",30,"2024-02-01","2023-02-28","2024-01-31","47493-44958",{"$f":"G5140-SUMIF(ESCALA!$B$14:$B$15,DADOS!K5140,ESCALA!$I$14:$I$15)","v":30}]
[47513,47513,"MARLI RIZZO DA SILVA","PROFESSOR (A) DE EDUCACAO INFANTIL","ESTATUTARIO","2022-02-01",30,"2023-02-01","2022-02-28","2023-01-31","47513-44593",{"$f":"G5153-SUMIF(ESCALA!$B$14:$B$15,DADOS!K5153,ESCALA!$I$14:$I$15)","v":30}]
[47533,47533,"RITA DE CASSIA LANGER","PROFESSOR (A) DE EDUCACAO INFANTIL","ESTATUTARIO","2023-02-01",30,"2024-02-01","2023-02-28","2024-01-31","47533-44958",{"$f":"G5168-SUMIF(ESCALA!$B$14:$B$15,DADOS!K5168,ESCALA!$I$14:$I$15)","v":30}]
[{"$f":"IF(L5187=0,\"\",B5187)","v":47565},47565,"MARIA JACIANA BEZERRA DA SILVA PEREIRA","PROFESSOR (A) DE EDUCACAO INFANTIL","ESTATUTARIO","2022-02-01",30,{"$f":"IF(F5187<=44985,F5187+365,F5187+366)","v":"2023-02-01"},"2022-02-28","2023-01-31",{"$f":"CONCATENATE(B5187,\"-\",F5187)","v":"47565-44593"},{"$f":"G5187-SUMIF(ESCALA!$B$14:$B$15,DADOS!K5187,ESCALA!$I$14:$I$15)","v":30}]
[47573,47573,"ANDREIA APARECIDA YAMANISHI DE OLIVEIRA","PROFESSOR (A) COORDENADOR (A)  PEDAGOGICO (A)","ESTATUTARIO","2023-01-01",30,"2024-01-01","2023-01-31","2023-12-31","47573-44927",{"$f":"G5193-SUMIF(ESCALA!$B$14:$B$15,DADOS!K5193,ESCALA!$I$14:$I$15)","v":30}]
[47605,47605,"ANTONIA MARIA PINHEIRO","COZINHEIRO (A)","CELETISTA","2023-02-01",30,"2024-02-01","2023-01-31","2024-01-31","47605-44958",{"$f":"G5216-SUMIF(ESCALA!$B$14:$B$15,DADOS!K5216,ESCALA!$I$14:$I$15)","v":30}]
[47609,47609,"TATIANA RAMOS DE OLIVEIRA","PROFESSOR (A) DE EDUCACAO INFANTIL","ESTATUTARIO","2023-02-01",30,"2024-02-01","2023-02-28","2024-01-31","47609-44958",{"$f":"G5221-SUMIF(ESCALA!$B$14:$B$15,DADOS!K5221,ESCALA!$I$14:$I$15)","v":30}]
[47658,47658,"KATIANA FERREIRA DA ROCHA","VICE DIRETOR (A) SUBSTITUTO (A)","ESTATUTARIO","2023-02-01",30,"2024-02-01","2023-02-28","2024-01-31","47658-44958",{"$f":"G5236-SUMIF(ESCALA!$B$14:$B$15,DADOS!K5236,ESCALA!$I$14:$I$15)","v":30}]
[47708,47708,"JANAINA MONTEIRO DE MEDEIROS ROQUE","PROFESSOR (A) DE EDUCAÇÃO BÁSICA","ESTATUTARIO","2023-01-01",30,"2024-01-01","2023-01-31","2023-12-31","47708-44927",{"$f":"G5255-SUMIF(ESCALA!$B$14:$B$15,DADOS!K5255,ESCALA!$I$14:$I$15)","v":30}]
[48018,48018,"SIMONE APARECIDA CAMILO","PROFESSOR (A) DE EDUCACAO BASICA","ESTATUTARIO","2023-01-01",30,"2024-01-01","2023-01-31","2023-12-31","48018-44927",{"$f":"G5269-SUMIF(ESCALA!$B$14:$B$15,DADOS!K5269,ESCALA!$I$14:$I$15)","v":30}]
[48200,48200,"LILIAN MARIA MOURA MARTINELLI","PROFESSOR (A) DE EDUCAÇÃO BÁSICA","CELETISTA","2022-12-21",30,"2023-12-21","2022-11-30","2023-11-30","48200-44916",{"$f":"G5284-SUMIF(ESCALA!$B$14:$B$15,DADOS!K5284,ESCALA!$I$14:$I$15)","v":30}]
[48204,48204,"CARLOS EDUARDO SANTOS RIBEIRO DIAS","PROFESSOR (A) DE EDUCACAO BASICA","ESTATUTARIO","2023-01-01",30,"2024-01-01","2023-01-31","2023-12-31","48204-44927",{"$f":"G5289-SUMIF(ESCALA!$B$14:$B$15,DADOS!K5289,ESCALA!$I$14:$I$15)","v":30}]
[48314,48314,"ANGELA FARIAS DO NASCIMENTO","PROFESSOR (A) DE EDUCACAO INFANTIL","ESTATUTARIO","2023-03-17",30,"2024-03-17","2023-03-31","2024-02-29","48314-45002",{"$f":"G5308-SUMIF(ESCALA!$B$14:$B$15,DADOS!K5308,ESCALA!$I$14:$I$15)","v":30}]
[48345,48345,"ROSANGELA APARECIDA PEREIRA DE SOUZA","COZINHEIRO (A)","ESTATUTARIO","2022-03-18",30,"2023-03-18","2022-03-31","2023-02-28","48345-44638",{"$f":"G5322-SUMIF(ESCALA!$B$14:$B$15,DADOS!K5322,ESCALA!$I$14:$I$15)","v":30}]
[48402,48402,"SHEILA LIMA PEREIRA","PROFESSOR (A) DE EDUCACAO INFANTIL","ESTATUTARIO","2022-03-24",30,"2023-03-24","2022-03-31","2023-02-28","48402-44644",{"$f":"G5337-SUMIF(ESCALA!$B$14:$B$15,DADOS!K5337,ESCALA!$I$14:$I$15)","v":30}]
[48444,48444,"ELIANE CRISTINA DE SOUZA SILVA","PROFESSOR (A) DE EDUCACAO INFANTIL","ESTATUTARIO","2022-03-24",30,"2023-03-24","2022-03-31","2023-02-28","48444-44644",{"$f":"G5352-SUMIF(ESCALA!$B$14:$B$15,DADOS!K5352,ESCALA!$I$14:$I$15)","v":30}]
[48449,48449,"EUZENIR MARIA LOPES DOS SANTOS","COZINHEIRO (A)","ESTATUTARIO","2023-03-25",30,"2024-03-25","2023-03-31","2024-02-29","48449-45010",{"$f":"G5357-SUMIF(ESCALA!$B$14:$B$15,DADOS!K5357,ESCALA!$I$14:$I$15)","v":30}]
[48529,48529,"DEBORA HIGINO DE CARVALHO","PROFESSOR (A) DE EDUCACAO BASICA","ESTATUTARIO","2023-01-01",30,"2024-01-01","2023-01-31","2023-12-31","48529-44927",{"$f":"G5371-SUMIF(ESCALA!$B$14:$B$15,DADOS!K5371,ESCALA!$I$14:$I$15)","v":30}]
[48644,48644,"RAQUEL FERRAZ DE CAMPOS","PROFESSOR (A) DE EDUCACAO INFANTIL","ESTATUTARIO","2023-04-12",30,"2024-04-12","2023-04-30","2024-03-31","48644-45028",{"$f":"G5386-SUMIF(ESCALA!$B$14:$B$15,DADOS!K5386,ESCALA!$I$14:$I$15)","v":30}]
[48709,48709,"SELMA DE JESUS SILVA","PROFESSOR (A) DE EDUCACAO INFANTIL","ESTATUTARIO","2022-04-15",30,"2023-04-15","2022-04-30","2023-03-31","48709-44666",{"$f":"G5405-SUMIF(ESCALA!$B$14:$B$15,DADOS!K5405,ESCALA!$I$14:$I$15)","v":30}]
[48731,48731,"LISETE MARTINS GAYET","PROFESSOR (A) DE EDUCACAO BASICA","ESTATUTARIO","2022-04-22",30,"2023-04-22","2022-04-30","2023-03-31","48731-44673",{"$f":"G5423-SUMIF(ESCALA!$B$14:$B$15,DADOS!K5423,ESCALA!$I$14:$I$15)","v":30}]
[48731,48731,"LISETE MARTINS GAYET","PROFESSOR (A) DE EDUCACAO BASICA","ESTATUTARIO","2023-04-22",30,"2024-04-22","2023-04-30","2024-03-31","48731-45038",{"$f":"G5424-SUMIF(ESCALA!$B$14:$B$15,DADOS!K5424,ESCALA!$I$14:$I$15)","v":30}]
[48807,48807,"KAREN CRISTINE AMARAL FERREIRA","PROFESSOR (A) DE EDUCACAO INFANTIL","ESTATUTARIO","2022-06-07",30,"2023-06-07","2022-06-30","2023-05-31","48807-44719",{"$f":"G5439-SUMIF(ESCALA!$B$14:$B$15,DADOS!K5439,ESCALA!$I$14:$I$15)","v":30}]
[48843,48843,"MARLENE FERREIRA","PROFESSOR (A) DE EDUCACAO INFANTIL","CELETISTA","2022-04-27",30,"2023-04-27","2022-03-31","2023-03-31","48843-44678",{"$f":"G5454-SUMIF(ESCALA!$B$14:$B$15,DADOS!K5454,ESCALA!$I$14:$I$15)","v":30}]
[48929,48929,"MARIZA ROSA DE ARAUJO","COZINHEIRO (A)","ESTATUTARIO","2022-05-03",30,"2023-05-03","2022-05-31","2023-04-30","48929-44684",{"$f":"G5472-SUMIF(ESCALA!$B$14:$B$15,DADOS!K5472,ESCALA!$I$14:$I$15)","v":30}]
[48986,48986,"ADRIANA APARECIDA DE OLIVEIRA ROSSINHOLI","CHEFE DE SECAO TECNICA","ESTATUTARIO","2023-05-09",30,"2024-05-09","2023-05-31","2024-04-30","48986-45055",{"$f":"G5487-SUMIF(ESCALA!$B$14:$B$15,DADOS!K5487,ESCALA!$I$14:$I$15)","v":30}]
[49047,49047,"GISLAINE APARECIDA OLIVEIRA","PROFESSOR (A) DE EDUCACAO INFANTIL","ESTATUTARIO","2023-05-16",30,"2024-05-16","2023-05-31","2024-04-30","49047-45062",{"$f":"G5506-SUMIF(ESCALA!$B$14:$B$15,DADOS!K5506,ESCALA!$I$14:$I$15)","v":30}]
[{"$f":"IF(L5507=0,\"\",B5507)","v":49065},49065,"WALERIE ZANGIROLAMO","PROFESSOR (A) COORDENADOR (A)  PEDAGOGICO (A)","CELETISTA","2023-01-01",30,{"$f":"IF(F5507<=44985,F5507+365,F5507+366)","v":"2024-01-01"},"2022-12-31","2023-12-31",{"$f":"CONCATENATE(B5507,\"-\",F5507)","v":"49065-44927"},{"$f":"G5507-SUMIF(ESCALA!$B$14:$B$15,DADOS!K5507,ESCALA!$I$14:$I$15)","v":30}]
[49109,49109,"ROBERTA ALMEIDA DA SILVA SANTOS","PROFESSOR (A) DE EDUCACAO INFANTIL","ESTATUTARIO","2023-05-20",30,"2024-05-20","2023-05-31","2024-04-30","49109-45066",{"$f":"G5525-SUMIF(ESCALA!$B$14:$B$15,DADOS!K5525,ESCALA!$I$14:$I$15)","v":30}]
[49141,49141,"RENATA GARCIA DE SOUZA","PROFESSOR (A) DE EDUCACAO BASICA","ESTATUTARIO","2023-05-25",30,"2024-05-25","2023-05-31","2024-04-30","49141-45071",{"$f":"G5540-SUMIF(ESCALA!$B$14:$B$15,DADOS!K5540,ESCALA!$I$14:$I$15)","v":30}]
[49178,49178,"NORMA LUCIA PEREIRA DA SILVA","AUXILIAR DE COZINHA III","ESTATUTARIO","2022-05-27",30,"2023-05-27","2022-05-31","2023-04-30","49178-44708",{"$f":"G5555-SUMIF(ESCALA!$B$14:$B$15,DADOS!K5555,ESCALA!$I$14:$I$15)","v":30}]
[49225,49225,"EDENIR FERREIRA DA SILVA ALAMINOS","PROFESSOR (A) DE EDUCAÇÃO BASICA","CELETISTA","2023-01-01",30,"2024-01-01","2022-12-31","2023-12-31","49225-44927",{"$f":"G5570-SUMIF(ESCALA!$B$14:$B$15,DADOS!K5570,ESCALA!$I$14:$I$15)","v":30}]
[49301,49301,"LEANDRO FLOR CIQUINI","SUPERVISÃO DE SETOR","ESTATUTARIO","2022-06-10",30,"2023-06-10","2022-06-30","2023-05-31","49301-44722",{"$f":"G5587-SUMIF(ESCALA!$B$14:$B$15,DADOS!K5587,ESCALA!$I$14:$I$15)","v":30}]
[49302,49302,"TATIANE APARECIDA CERQUEIRA","PROFESSOR (A) DE EDUCACAO INFANTIL","ESTATUTARIO","2022-06-10",30,"2023-06-10","2022-06-30","2023-05-31","49302-44722",{"$f":"G5589-SUMIF(ESCALA!$B$14:$B$15,DADOS!K5589,ESCALA!$I$14:$I$15)","v":30}]
[49351,49351,"TATIANE DA SILVA BARROS","ASSISTENTE DE GESTAO ESCOLAR","ESTATUTARIO","2022-06-20",30,"2023-06-20","2022-06-30","2023-05-31","49351-44732",{"$f":"G5608-SUMIF(ESCALA!$B$14:$B$15,DADOS!K5608,ESCALA!$I$14:$I$15)","v":30}]
[49467,49467,"ANA PAULA KIKUE YENOHI","PROFESSOR (A) DE EDUCACAO INFANTIL","ESTATUTARIO","2022-07-06",30,"2023-07-06","2022-07-31","2023-06-30","49467-44748",{"$f":"G5623-SUMIF(ESCALA!$B$14:$B$15,DADOS!K5623,ESCALA!$I$14:$I$15)","v":30}]
[49535,49535,"LARISSA GARCIA OLIVEIRA","PROFESSOR (A) DE EDUCACAO BASICA","ESTATUTARIO","2023-01-01",30,"2024-01-01","2023-01-31","2023-12-31","49535-44927",{"$f":"G5640-SUMIF(ESCALA!$B$14:$B$15,DADOS!K5640,ESCALA!$I$14:$I$15)","v":30}]
[49558,49558,"ANDRE DE OLIVEIRA BONIFACIO","PROFESSOR (A) DE EDUCACAO BASICA","ESTATUTARIO","2023-01-01",30,"2024-01-01","2023-01-31","2023-12-31","49558-44927",{"$f":"G5656-SUMIF(ESCALA!$B$14:$B$15,DADOS!K5656,ESCALA!$I$14:$I$15)","v":30}]
[49588,49588,"DOUGLAS OLIVEIRA DE PAULA","PROFESSOR (A) DE EDUCACAO BASICA","ESTATUTARIO","2023-01-01",30,"2024-01-01","2023-01-31","2023-12-31","49588-44927",{"$f":"G5671-SUMIF(ESCALA!$B$14:$B$15,DADOS!K5671,ESCALA!$I$14:$I$15)","v":30}]
[49593,49593,"JULIANA SEABRA DE LIMA","PROFESSOR (A) DE EDUCACAO BASICA","ESTATUTARIO","2023-01-01",30,"2024-01-01","2023-01-31","2023-12-31","49593-44927",{"$f":"G5672-SUMIF(ESCALA!$B$14:$B$15,DADOS!K5672,ESCALA!$I$14:$I$15)","v":30}]
[49694,49694,"EDNA BOARATO BARREIROS ROCHA","PROFESSOR (A) DE EDUCAÇÃO BASICA","CELETISTA","2023-01-01",30,"2024-01-01","2022-12-31","2023-12-31","49694-44927",{"$f":"G5689-SUMIF(ESCALA!$B$14:$B$15,DADOS!K5689,ESCALA!$I$14:$I$15)","v":30}]
[49866,49866,"MICHELE DANTAS FELGUEIRA","PROFESSOR (A) DE EDUCACAO BASICA","ESTATUTARIO","2023-01-01",30,"2024-01-01","2023-01-31","2023-12-31","49866-44927",{"$f":"G5705-SUMIF(ESCALA!$B$14:$B$15,DADOS!K5705,ESCALA!$I$14:$I$15)","v":30}]
[50045,50045,"RAFAEL OLIVEIRA PAIXAO","VICE-DIRETOR (A) DE ESCOLA","ESTATUTARIO","2023-01-01",30,"2024-01-01","2023-01-31","2023-12-31","50045-44927",{"$f":"G5724-SUMIF(ESCALA!$B$14:$B$15,DADOS!K5724,ESCALA!$I$14:$I$15)","v":30}]
[50147,50147,"GISELIA PAIS LANDIM","PROFESSOR (A) DE EDUCAÇÃO BÁSICA","ESTATUTARIO","2023-01-01",30,"2024-01-01","2023-01-31","2023-12-31","50147-44927",{"$f":"G5739-SUMIF(ESCALA!$B$14:$B$15,DADOS!K5739,ESCALA!$I$14:$I$15)","v":30}]
[50151,50151,"MARIA ELENE DE JESUS DA SILVA SANTOS","PROFESSOR (A) DE EDUCACAO INFANTIL","ESTATUTARIO","2023-10-07",30,"2024-10-07","2023-10-31","2024-09-30","50151-45206",{"$f":"G5742-SUMIF(ESCALA!$B$14:$B$15,DADOS!K5742,ESCALA!$I$14:$I$15)","v":30}]
[50176,50176,"CRISTIANE APARECIDA DOS SANTOS FERREIRA","PROFESSOR (A) DE EDUCACAO INFANTIL","CELETISTA","2022-10-12",30,"2023-10-12","2022-09-30","2023-09-30","50176-44846",{"$f":"G5758-SUMIF(ESCALA!$B$14:$B$15,DADOS!K5758,ESCALA!$I$14:$I$15)","v":30}]
[50197,50197,"MARIA DA GLORIA PINHEIRO DOS SANTOS","PROFESSOR (A) DE EDUCACAO INFANTIL","ESTATUTARIO","2023-10-14",30,"2024-10-14","2023-10-31","2024-09-30","50197-45213",{"$f":"G5773-SUMIF(ESCALA!$B$14:$B$15,DADOS!K5773,ESCALA!$I$14:$I$15)","v":30}]
[50231,50231,"ROGERIO CANOVA SAN MARTIN","PROFESSOR (A) DE EDUCAÇÃO BÁSICA","ESTATUTARIO","2023-11-05",30,"2024-11-05","2023-11-30","2024-10-31","50231-45235",{"$f":"G5792-SUMIF(ESCALA!$B$14:$B$15,DADOS!K5792,ESCALA!$I$14:$I$15)","v":30}]
[50331,50331,"ANA PAULA DE MELO LUZ","PROFESSOR (A) DE EDUCACAO BASICA","ESTATUTARIO","2023-01-01",30,"2024-01-01","2023-01-31","2023-12-31","50331-44927",{"$f":"G5804-SUMIF(ESCALA!$B$14:$B$15,DADOS!K5804,ESCALA!$I$14:$I$15)","v":30}]
[50359,50359,"KATIA REGINA DE JESUS SANTOS","PROFESSOR (A) DE EDUCACAO INFANTIL","ESTATUTARIO","2022-11-10",30,"2023-11-10","2022-11-30","2023-10-31","50359-44875",{"$f":"G5821-SUMIF(ESCALA!$B$14:$B$15,DADOS!K5821,ESCALA!$I$14:$I$15)","v":30}]
[50371,50371,"ADRIANA BERNABE IKEGAWA","CHEFE DE SECAO TECNICA","ESTATUTARIO","2023-08-31",30,"2024-08-31","2023-08-31","2024-07-31","50371-45169",{"$f":"G5826-SUMIF(ESCALA!$B$14:$B$15,DADOS!K5826,ESCALA!$I$14:$I$15)","v":30}]
[50399,50399,"ALICE RODRIGUES DOS SANTOS","PROFESSOR (A) DE EDUCACAO INFANTIL","ESTATUTARIO","2023-11-16",30,"2024-11-16","2023-11-30","2024-10-31","50399-45246",{"$f":"G5841-SUMIF(ESCALA!$B$14:$B$15,DADOS!K5841,ESCALA!$I$14:$I$15)","v":30}]
[50487,50487,"MAGDA BATISTA DE SANTANA","COZINHEIRO (A)","CELETISTA","2023-12-09",30,"2024-12-09","2023-11-30","2024-11-30","50487-45269",{"$f":"G5857-SUMIF(ESCALA!$B$14:$B$15,DADOS!K5857,ESCALA!$I$14:$I$15)","v":30}]
[50519,50519,"ROSELI APARECIDA DOMINGOS CARDOSO","PROFESSOR (A) DE EDUCACAO INFANTIL","ESTATUTARIO","2023-01-02",30,"2024-01-02","2023-01-31","2023-12-31","50519-44928",{"$f":"G5874-SUMIF(ESCALA!$B$14:$B$15,DADOS!K5874,ESCALA!$I$14:$I$15)","v":30}]
[50546,50546,"MARIA CRISTINA MAURICIO RIBEIRO","PROFESSOR (A) DE EDUCACAO INFANTIL","ESTATUTARIO","2023-01-02",30,"2024-01-02","2023-01-31","2023-12-31","50546-44928",{"$f":"G5889-SUMIF(ESCALA!$B$14:$B$15,DADOS!K5889,ESCALA!$I$14:$I$15)","v":30}]
[50592,50592,"KAMILA CEZAR FERREIRA","PROFESSOR (A) DE EDUCACAO INFANTIL","ESTATUTARIO","2023-01-02",30,"2024-01-02","2023-01-31","2023-12-31","50592-44928",{"$f":"G5894-SUMIF(ESCALA!$B$14:$B$15,DADOS!K5894,ESCALA!$I$14:$I$15)","v":30}]
[50606,50606,"PATRICIA DA SILVA MATILDES AGUIAR","CHEFE DE DIVISAO TECNICA","ESTATUTARIO","2023-12-15",30,"2024-12-15","2023-12-31","2024-11-30","50606-45275",{"$f":"G5906-SUMIF(ESCALA!$B$14:$B$15,DADOS!K5906,ESCALA!$I$14:$I$15)","v":30}]
[50638,50638,"IVONE DE FRANCA NUNES","PROFESSOR (A) DE EDUCAÇÃO BÁSICA","ESTATUTARIO","2023-01-02",30,"2024-01-02","2023-01-31","2023-12-31","50638-44928",{"$f":"G5923-SUMIF(ESCALA!$B$14:$B$15,DADOS!K5923,ESCALA!$I$14:$I$15)","v":30}]
[50687,50687,"LUANA INACIO DE PINHO","PROFESSOR (A) DE EDUCACAO INFANTIL","ESTATUTARIO","2022-07-03",30,"2023-07-03","2022-07-31","2023-06-30","50687-44745",{"$f":"G5942-SUMIF(ESCALA!$B$14:$B$15,DADOS!K5942,ESCALA!$I$14:$I$15)","v":30}]
[50735,50735,"VALDIRENE DE MIRANDA DE OLIVEIRA SILVA","COZINHEIRO (A)","ESTATUTARIO","2023-01-16",30,"2024-01-16","2023-01-31","2023-12-31","50735-44942",{"$f":"G5957-SUMIF(ESCALA!$B$14:$B$15,DADOS!K5957,ESCALA!$I$14:$I$15)","v":30}]
[50785,50785,"LUCIANA VAZ DE SOUSA SANTOS","COZINHEIRO (A)","ESTATUTARIO","2022-05-09",30,"2023-05-09","2022-05-31","2023-04-30","50785-44690",{"$f":"G5968-SUMIF(ESCALA!$B$14:$B$15,DADOS!K5968,ESCALA!$I$14:$I$15)","v":30}]
[50826,50826,"ANDRIA RUBIA DE OLIVEIRA MACHADO","COZINHEIRO (A)","ESTATUTARIO","2023-01-16",30,"2024-01-16","2023-01-31","2023-12-31","50826-44942",{"$f":"G5976-SUMIF(ESCALA!$B$14:$B$15,DADOS!K5976,ESCALA!$I$14:$I$15)","v":30}]
[50954,50954,"ANTONIO MARTINS MONTEIRO","AGENTE ESCOLAR","ESTATUTARIO","2023-10-29",30,"2024-10-29","2023-10-31","2024-09-30","50954-45228",{"$f":"G5991-SUMIF(ESCALA!$B$14:$B$15,DADOS!K5991,ESCALA!$I$14:$I$15)","v":30}]
[51026,51026,"ELAINE DE SOUZA FREIRE","PROFESSOR (A) DE EDUCACAO INFANTIL","ESTATUTARIO","2022-02-13",30,"2023-02-13","2022-02-28","2023-01-31","51026-44605",{"$f":"G6010-SUMIF(ESCALA!$B$14:$B$15,DADOS!K6010,ESCALA!$I$14:$I$15)","v":30}]
[51056,51056,"LUCIENE ALVES DO NASCIMENTO","PROFESSOR (A) DE EDUCACAO INFANTIL","ESTATUTARIO","2023-02-13",30,"2024-02-13","2023-02-28","2024-01-31","51056-44970",{"$f":"G6021-SUMIF(ESCALA!$B$14:$B$15,DADOS!K6021,ESCALA!$I$14:$I$15)","v":30}]
[51105,51105,"THAIS REGINA DE CARVALHO RIBEIRO","ASSISTENTE DE GESTAO ESCOLAR","ESTATUTARIO","2023-02-20",30,"2024-02-20","2023-02-28","2024-01-31","51105-44977",{"$f":"G6039-SUMIF(ESCALA!$B$14:$B$15,DADOS!K6039,ESCALA!$I$14:$I$15)","v":30}]
[51130,51130,"MARILU LOPES DO NASCIMENTO","PROFESSOR (A) DE EDUCACAO INFANTIL","ESTATUTARIO","2022-02-24",30,"2023-02-24","2022-02-28","2023-01-31","51130-44616",{"$f":"G6044-SUMIF(ESCALA!$B$14:$B$15,DADOS!K6044,ESCALA!$I$14:$I$15)","v":30}]
[51147,51147,"SHEILA HELENA DOS SANTOS CAMPOS","PROFESSOR (A) DE EDUCAÇÃO BÁSICA","ESTATUTARIO","2023-01-01",30,"2024-01-01","2023-01-31","2023-12-31","51147-44927",{"$f":"G6059-SUMIF(ESCALA!$B$14:$B$15,DADOS!K6059,ESCALA!$I$14:$I$15)","v":30}]
[{"$f":"IF(L6083=0,\"\",B6083)","v":51188},51188,"ADRIANA FERNANDES POLICARPIO RODRIGUES","PROFESSOR (A) DE EDUCACAO BASICA","ESTATUTARIO","2023-01-01",30,{"$f":"IF(F6083<=44985,F6083+365,F6083+366)","v":"2024-01-01"},"2023-01-31","2023-12-31",{"$f":"CONCATENATE(B6083,\"-\",F6083)","v":"51188-44927"},{"$f":"G6083-SUMIF(ESCALA!$B$14:$B$15,DADOS!K6083,ESCALA!$I$14:$I$15)","v":30}]
[51214,51214,"MAIARA ARIANA SILVA PAULA","PROFESSOR (A) DE EDUCAÇÃO BÁSICA","ESTATUTARIO","2023-01-01",30,"2024-01-01","2023-01-31","2023-12-31","51214-44927",{"$f":"G6092-SUMIF(ESCALA!$B$14:$B$15,DADOS!K6092,ESCALA!$I$14:$I$15)","v":30}]
[51235,51235,"VANEZA DOS SANTOS CARVALHO","PROFESSOR (A) DE EDUCACAO INFANTIL","ESTATUTARIO","2022-03-10",30,"2023-03-10","2022-03-31","2023-02-28","51235-44630",{"$f":"G6107-SUMIF(ESCALA!$B$14:$B$15,DADOS!K6107,ESCALA!$I$14:$I$15)","v":30}]
[51239,51239,"JACILENE DOS SANTOS SOUZA","ASSISTENTE DE GESTAO ESCOLAR","ESTATUTARIO","2023-03-09",30,"2024-03-09","2023-03-31","2024-02-29","51239-44994",{"$f":"G6112-SUMIF(ESCALA!$B$14:$B$15,DADOS!K6112,ESCALA!$I$14:$I$15)","v":30}]
[51319,51319,"RAPHAEL SOUZA FERREIRA RAMOS","COORDENADOR (A) DE CENTRO EDUCACIONAL","ESTATUTARIO","2023-01-01",30,"2024-01-01","2023-01-31","2023-12-31","51319-44927",{"$f":"G6136-SUMIF(ESCALA!$B$14:$B$15,DADOS!K6136,ESCALA!$I$14:$I$15)","v":30}]
[51328,51328,"ROSICLER DE ARAUJO","PROFESSOR (A) DE EDUCACAO BASICA","ESTATUTARIO","2023-01-01",30,"2024-01-01","2023-01-31","2023-12-31","51328-44927",{"$f":"G6141-SUMIF(ESCALA!$B$14:$B$15,DADOS!K6141,ESCALA!$I$14:$I$15)","v":30}]
[51354,51354,"JOSLAINE PEREIRA LIMA CAVALCANTE QUINTAL","PROFESSOR (A) DE EDUCACAO BASICA","ESTATUTARIO","2022-03-23",30,"2023-03-23","2022-03-31","2023-02-28","51354-44643",{"$f":"G6160-SUMIF(ESCALA!$B$14:$B$15,DADOS!K6160,ESCALA!$I$14:$I$15)","v":30}]
[51387,51387,"VICTOR HUGO RAMAO FERNANDES","PROFESSOR (A) DE EDUCACAO BASICA","ESTATUTARIO","2023-01-01",30,"2024-01-01","2023-01-31","2023-12-31","51387-44927",{"$f":"G6175-SUMIF(ESCALA!$B$14:$B$15,DADOS!K6175,ESCALA!$I$14:$I$15)","v":30}]
[51457,51457,"SUELI SILVA GUEDES","PROFESSOR (A) DE EDUCACAO INFANTIL","ESTATUTARIO","2023-04-24",30,"2024-04-24","2023-04-30","2024-03-31","51457-45040",{"$f":"G6185-SUMIF(ESCALA!$B$14:$B$15,DADOS!K6185,ESCALA!$I$14:$I$15)","v":30}]
[51487,51487,"CLAUDIA DOS SANTOS SILVA","COZINHEIRO (A)","ESTATUTARIO","2022-04-07",30,"2023-04-07","2022-04-30","2023-03-31","51487-44658",{"$f":"G6194-SUMIF(ESCALA!$B$14:$B$15,DADOS!K6194,ESCALA!$I$14:$I$15)","v":30}]
[51509,51509,"RAQUEL MACHADO DE SOUSA","COZINHEIRO (A)","ESTATUTARIO","2023-04-12",30,"2024-04-12","2023-04-30","2024-03-31","51509-45028",{"$f":"G6209-SUMIF(ESCALA!$B$14:$B$15,DADOS!K6209,ESCALA!$I$14:$I$15)","v":30}]
[51532,51532,"ANA CAROLINA SIQUEIRA DOS SANTOS","COZINHEIRO (A)","ESTATUTARIO","2023-04-13",30,"2024-04-13","2023-04-30","2024-03-31","51532-45029",{"$f":"G6228-SUMIF(ESCALA!$B$14:$B$15,DADOS!K6228,ESCALA!$I$14:$I$15)","v":30}]
[51571,51571,"MARIA HELENA MIRANDA MACHADO","COZINHEIRO (A)","CELETISTA","2023-04-19",30,"2024-04-19","2023-03-31","2024-03-31","51571-45035",{"$f":"G6238-SUMIF(ESCALA!$B$14:$B$15,DADOS!K6238,ESCALA!$I$14:$I$15)","v":30}]
[51628,51628,"MARLENE DA SILVA","PROFESSOR (A) DE EDUCACAO BASICA","CELETISTA","2023-01-01",30,"2024-01-01","2022-12-31","2023-12-31","51628-44927",{"$f":"G6261-SUMIF(ESCALA!$B$14:$B$15,DADOS!K6261,ESCALA!$I$14:$I$15)","v":30}]
[51690,51690,"JOSEFA FRANCISCA DE SOUZA","COZINHEIRO (A)","ESTATUTARIO","2022-05-11",30,"2023-05-11",{"$f":"IF(E6276=\"ESTATUTARIO\",EOMONTH(F6276,0),EOMONTH(F6276,-1))","v":"2022-05-31"},{"$f":"EOMONTH(F6276,11)","v":"2023-04-30"},"51690-44692",{"$f":"G6276-SUMIF(ESCALA!$B$14:$B$15,DADOS!K6276,ESCALA!$I$14:$I$15)","v":30}]
[51690,51690,"JOSEFA FRANCISCA DE SOUZA","COZINHEIRO (A)","ESTATUTARIO","2023-05-11",30,"2024-05-11","2023-05-31","2024-04-30","51690-45057",{"$f":"G6277-SUMIF(ESCALA!$B$14:$B$15,DADOS!K6277,ESCALA!$I$14:$I$15)","v":30}]
[51738,51738,"RAQUEL GUIDINI REZENDE","PROFESSOR (A) DE EDUCACAO INFANTIL","ESTATUTARIO","2022-05-19",30,"2023-05-19","2022-05-31","2023-04-30","51738-44700",{"$f":"G6300-SUMIF(ESCALA!$B$14:$B$15,DADOS!K6300,ESCALA!$I$14:$I$15)","v":30}]
[51791,51791,"SUZANA ORTONA PIGON GARCEZ","PROFESSOR (A) DE EDUCACAO INFANTIL","ESTATUTARIO","2022-06-01",30,"2023-06-01","2022-06-30","2023-05-31","51791-44713",{"$f":"G6310-SUMIF(ESCALA!$B$14:$B$15,DADOS!K6310,ESCALA!$I$14:$I$15)","v":30}]
[51824,51824,"JULIANA RIBEIRO AZEVEDO DE SIQUEIRA PEREIRA","PROFESSOR (A) DE EDUCACAO BASICA","ESTATUTARIO","2023-01-01",30,"2024-01-01","2023-01-31","2023-12-31","51824-44927",{"$f":"G6325-SUMIF(ESCALA!$B$14:$B$15,DADOS!K6325,ESCALA!$I$14:$I$15)","v":30}]
[51872,51872,"JOSE PEDRO DE SOUZA","AGENTE ESCOLAR","ESTATUTARIO","2023-06-16",30,"2024-06-16","2023-06-30","2024-05-31","51872-45093",{"$f":"G6344-SUMIF(ESCALA!$B$14:$B$15,DADOS!K6344,ESCALA!$I$14:$I$15)","v":30}]
[51911,51911,"MARIA APARECIDA SILVA PEREIRA","PROFESSOR (A) DE EDUCACAO INFANTIL","ESTATUTARIO","2022-06-29",30,"2023-06-29","2022-06-30","2023-05-31","51911-44741",{"$f":"G6353-SUMIF(ESCALA!$B$14:$B$15,DADOS!K6353,ESCALA!$I$14:$I$15)","v":30}]
[51924,51924,"ELAINE MARIA NOBREGA TORRES DA SILVA","PROFESSOR (A) DE EDUCACAO INFANTIL","ESTATUTARIO","2022-06-30",30,"2023-06-30","2022-06-30","2023-05-31","51924-44742",{"$f":"G6363-SUMIF(ESCALA!$B$14:$B$15,DADOS!K6363,ESCALA!$I$14:$I$15)","v":30}]
[51950,51950,"WAGNER LEOPOLDO MARQUES","ASSISTENTE DE GESTÃO ESCOLAR","CELETISTA","2022-07-06",30,"2023-07-06","2022-06-30","2023-06-30","51950-44748",{"$f":"G6378-SUMIF(ESCALA!$B$14:$B$15,DADOS!K6378,ESCALA!$I$14:$I$15)","v":30}]
[51970,51970,"VIVIANE MOREIRA DOS SANTOS","COORDENADOR (A) DE PROGRAMAS EDUCACIONAIS","ESTATUTARIO","2022-07-05",30,"2023-07-05","2022-07-31","2023-06-30","51970-44747",{"$f":"G6393-SUMIF(ESCALA!$B$14:$B$15,DADOS!K6393,ESCALA!$I$14:$I$15)","v":30}]
[51990,51990,"EDINA BURKATER DE LIMA DIAS","ASSISTENTE DE GESTAO ESCOLAR","ESTATUTARIO","2022-07-06",30,"2023-07-06","2022-07-31","2023-06-30","51990-44748",{"$f":"G6402-SUMIF(ESCALA!$B$14:$B$15,DADOS!K6402,ESCALA!$I$14:$I$15)","v":30}]
[52084,52084,"MARIA CRISTINA SILVA DAS NEVES","ASSISTENTE DE GESTAO ESCOLAR","ESTATUTARIO","2022-07-21",30,"2023-07-21","2022-07-31","2023-06-30","52084-44763",{"$f":"G6426-SUMIF(ESCALA!$B$14:$B$15,DADOS!K6426,ESCALA!$I$14:$I$15)","v":30}]
[52128,52128,"ELINEIA ROCHA GAVIOLI","COZINHEIRO (A)","ESTATUTARIO","2022-07-26",30,"2023-07-26","2022-07-31","2023-06-30","52128-44768",{"$f":"G6441-SUMIF(ESCALA!$B$14:$B$15,DADOS!K6441,ESCALA!$I$14:$I$15)","v":30}]
[52131,52131,"MARIA JAUVORA CAVALCANTE D ANGELO","COZINHEIRO (A)","ESTATUTARIO","2023-07-26",30,"2024-07-26","2023-07-31","2024-06-30","52131-45133",{"$f":"G6446-SUMIF(ESCALA!$B$14:$B$15,DADOS!K6446,ESCALA!$I$14:$I$15)","v":30}]
[52173,52173,"JEFFERSON FERREIRA DA SILVA","CHEFE DE SECAO TECNICA","ESTATUTARIO","2022-07-26",5,"2023-07-26",{"$f":"IF(E6468=\"ESTATUTARIO\",EOMONTH(F6468,0),EOMONTH(F6468,-1))","v":"2022-07-31"},{"$f":"EOMONTH(F6468,11)","v":"2023-06-30"},"52173-44768",{"$f":"G6468-SUMIF(ESCALA!$B$14:$B$15,DADOS!K6468,ESCALA!$I$14:$I$15)","v":5}]
[52187,52187,"CIRLENE CANDIDA DE MELO","COZINHEIRO (A)","ESTATUTARIO","2022-07-27",30,"2023-07-27","2022-07-31","2023-06-30","52187-44769",{"$f":"G6479-SUMIF(ESCALA!$B$14:$B$15,DADOS!K6479,ESCALA!$I$14:$I$15)","v":30}]
[52239,52239,"ADRIANA SIMONE RIBEIRO","COZINHEIRO (A)","ESTATUTARIO","2023-10-04",30,"2024-10-04","2023-10-31","2024-09-30","52239-45203",{"$f":"G6494-SUMIF(ESCALA!$B$14:$B$15,DADOS!K6494,ESCALA!$I$14:$I$15)","v":30}]
[52284,52284,"EDIVANIA DIAS DE ARAUJO","COZINHEIRO (A)","ESTATUTARIO","2022-08-16",30,"2023-08-16","2022-08-31","2023-07-31","52284-44789",{"$f":"G6509-SUMIF(ESCALA!$B$14:$B$15,DADOS!K6509,ESCALA!$I$14:$I$15)","v":30}]
[52312,52312,"DAIANE RODRIGUES DA SILVA","AGENTE ESCOLAR","ESTATUTARIO","2022-08-18",30,"2023-08-18","2022-08-31","2023-07-31","52312-44791",{"$f":"G6517-SUMIF(ESCALA!$B$14:$B$15,DADOS!K6517,ESCALA!$I$14:$I$15)","v":30}]
[52397,52397,"LUIZ CLAUDIO RIBEIRO","ASSISTENTE DE GESTAO ESCOLAR","ESTATUTARIO","2022-08-25",15,"2023-08-25","2022-08-31","2023-07-31","52397-44798",{"$f":"G6528-SUMIF(ESCALA!$B$14:$B$15,DADOS!K6528,ESCALA!$I$14:$I$15)","v":15}]
[52550,52550,"DSIANY SANTOS DA COSTA ","PROFESSOR (A) DE EDUCACAO BASICA","ESTATUTARIO","2022-10-15",30,"2023-10-15","2022-10-31","2023-09-30","52550-44849",{"$f":"G6547-SUMIF(ESCALA!$B$14:$B$15,DADOS!K6547,ESCALA!$I$14:$I$15)","v":30}]
[52567,52567,"SUELI CRISTINA BERNARDO CORREIA","PROFESSOR (A) COORDENADOR (A)  PEDAGOGICO (A)","ESTATUTARIO","2023-11-06",30,"2024-11-06","2023-11-30","2024-10-31","52567-45236",{"$f":"G6562-SUMIF(ESCALA!$B$14:$B$15,DADOS!K6562,ESCALA!$I$14:$I$15)","v":30}]
[52610,52610,"MARIA SUELI DE SOUSA","COZINHEIRO (A)","ESTATUTARIO","2023-11-17",30,"2024-11-17","2023-11-30","2024-10-31","52610-45247",{"$f":"G6570-SUMIF(ESCALA!$B$14:$B$15,DADOS!K6570,ESCALA!$I$14:$I$15)","v":30}]
[52652,52652,"IARA DA SILVA ALVES","ASSISTENTE DE GESTAO ESCOLAR","ESTATUTARIO","2022-12-05",30,"2023-12-05","2022-12-31","2023-11-30","52652-44900",{"$f":"G6581-SUMIF(ESCALA!$B$14:$B$15,DADOS!K6581,ESCALA!$I$14:$I$15)","v":30}]
[52772,52772,"ELIANE DE SIQUEIRA ","COORDENADOR (A) DE PROGRAMAS EDUCACIONAIS","ESTATUTARIO","2023-01-01",30,"2024-01-01",{"$f":"IF(E6596=\"ESTATUTARIO\",EOMONTH(F6596,0),EOMONTH(F6596,-1))","v":"2023-01-31"},{"$f":"EOMONTH(F6596,11)","v":"2023-12-31"},"52772-44927",{"$f":"G6596-SUMIF(ESCALA!$B$14:$B$15,DADOS!K6596,ESCALA!$I$14:$I$15)","v":30}]
[52864,52864,"MARIA SALETE DA CUNHA SILVA","COZINHEIRO (A)","ESTATUTARIO","2023-01-17",30,"2024-01-17","2023-01-31","2023-12-31","52864-44943",{"$f":"G6611-SUMIF(ESCALA!$B$14:$B$15,DADOS!K6611,ESCALA!$I$14:$I$15)","v":30}]
[53018,53018,"ANTONIO REGINALDO DIAS BARBOSA","ASSISTENTE DE GESTAO ESCOLAR","ESTATUTARIO","2023-02-26",30,"2024-02-26","2023-02-28","2024-01-31","53018-44983",{"$f":"G6632-SUMIF(ESCALA!$B$14:$B$15,DADOS!K6632,ESCALA!$I$14:$I$15)","v":30}]
[53043,53043,"VALDEREZ BRASILEIRO DA SILVA SOARES","PROFESSOR (A) DE EDUCACAO BASICA","ESTATUTARIO","2023-01-01",30,"2024-01-01","2023-01-31","2023-12-31","53043-44927",{"$f":"G6644-SUMIF(ESCALA!$B$14:$B$15,DADOS!K6644,ESCALA!$I$14:$I$15)","v":30}]
[53067,53067,"JESSICA RODRIGUES SELES NEMANIUMAS","ASSISTENTE DE GESTAO ESCOLAR","ESTATUTARIO","2023-02-26",30,"2024-02-26","2023-02-28","2024-01-31","53067-44983",{"$f":"G6649-SUMIF(ESCALA!$B$14:$B$15,DADOS!K6649,ESCALA!$I$14:$I$15)","v":30}]
[53112,53112,"VANESSA GIACOMINI DA SILVA SANTOS","PROFESSOR (A) DE EDUCACAO INFANTIL","ESTATUTARIO","2022-02-26",30,"2023-02-26","2022-02-28","2023-01-31","53112-44618",{"$f":"G6664-SUMIF(ESCALA!$B$14:$B$15,DADOS!K6664,ESCALA!$I$14:$I$15)","v":30}]
[53151,53151,"FABIANE CARVALHO FONSECA DE MACEDO","PROFESSOR (A) DE EDUCACAO INFANTIL","ESTATUTARIO","2022-02-26",30,"2023-02-26","2022-02-28","2023-01-31","53151-44618",{"$f":"G6685-SUMIF(ESCALA!$B$14:$B$15,DADOS!K6685,ESCALA!$I$14:$I$15)","v":30}]
[53169,53169,"ANGELA MARIA BARBOSA","COORDENADOR (A) DE PROGRAMAS EDUCACIONAIS","ESTATUTARIO","2022-02-28",20,"2023-02-28","2022-02-28","2023-01-31","53169-44620",{"$f":"G6697-SUMIF(ESCALA!$B$14:$B$15,DADOS!K6697,ESCALA!$I$14:$I$15)","v":20}]
[53197,53197,"MIRELLA RANIERI ESTEVES DOS SANTOS","COZINHEIRO (A)","CELETISTA","2023-03-04",30,"2024-03-04","2023-02-28","2024-02-29","53197-44989",{"$f":"G6712-SUMIF(ESCALA!$B$14:$B$15,DADOS!K6712,ESCALA!$I$14:$I$15)","v":30}]
[53204,53204,"CIRLENE LOURENCO PINHEIRO ","PROFESSOR (A) DE EDUCACAO BASICA","ESTATUTARIO","2023-01-01",30,"2024-01-01","2023-01-31","2023-12-31","53204-44927",{"$f":"G6717-SUMIF(ESCALA!$B$14:$B$15,DADOS!K6717,ESCALA!$I$14:$I$15)","v":30}]
[53218,53218,"LUCIMARA CRISTINA MACIEIRA","COZINHEIRO (A)","ESTATUTARIO","2023-03-04",30,"2024-03-04","2023-03-31","2024-02-29","53218-44989",{"$f":"G6734-SUMIF(ESCALA!$B$14:$B$15,DADOS!K6734,ESCALA!$I$14:$I$15)","v":30}]
[53239,53239,"LUCI MARA DIAS ALMEIDA GOMES","COZINHEIRO (A)","ESTATUTARIO","2022-03-04",15,"2023-03-04","2022-03-31","2023-02-28","53239-44624",{"$f":"G6746-SUMIF(ESCALA!$B$14:$B$15,DADOS!K6746,ESCALA!$I$14:$I$15)","v":15}]
[53304,53304,"ANGELA DEZOTI CONSIGLIO","COORDENADOR (A) DE PROGRAMAS EDUCACIONAIS","ESTATUTARIO","2023-01-01",30,"2024-01-01","2023-01-31","2023-12-31","53304-44927",{"$f":"G6765-SUMIF(ESCALA!$B$14:$B$15,DADOS!K6765,ESCALA!$I$14:$I$15)","v":30}]
[53379,53379,"BRUNA POLICIQUIO ROCHA","COORDENADOR (A) DE PROGRAMAS EDUCACIONAIS","ESTATUTARIO","2023-01-01",30,"2024-01-01","2023-01-31","2023-12-31","53379-44927",{"$f":"G6780-SUMIF(ESCALA!$B$14:$B$15,DADOS!K6780,ESCALA!$I$14:$I$15)","v":30}]
[{"$f":"IF(L6787=0,\"\",B6787)","v":53388},53388,"NADIA PINHEIRO SILVA","ASSISTENTE DE GESTAO ESCOLAR","ESTATUTARIO","2023-03-14",30,{"$f":"IF(F6787<=44985,F6787+365,F6787+366)","v":"2024-03-14"},"2023-03-31","2024-02-29",{"$f":"CONCATENATE(B6787,\"-\",F6787)","v":"53388-44999"},{"$f":"G6787-SUMIF(ESCALA!$B$14:$B$15,DADOS!K6787,ESCALA!$I$14:$I$15)","v":30}]
[53430,53430,"ROBERTA DOS SANTOS ALMEIDA NOBREGA","PROFESSOR (A) DE EDUCACAO INFANTIL","ESTATUTARIO","2022-03-19",30,"2023-03-19","2022-03-31","2023-02-28","53430-44639",{"$f":"G6799-SUMIF(ESCALA!$B$14:$B$15,DADOS!K6799,ESCALA!$I$14:$I$15)","v":30}]
[53473,53473,"SIEGFRIED APARECIDO SCHOPPAN","AUXILIAR OPERACIONAL","ESTATUTARIO","2023-03-20",30,"2024-03-20","2023-03-31","2024-02-29","53473-45005",{"$f":"G6814-SUMIF(ESCALA!$B$14:$B$15,DADOS!K6814,ESCALA!$I$14:$I$15)","v":30}]
[53566,53566,"ANDREIA MARIA DE SOUSA SANTOS","PROFESSOR (A) DE EDUCACAO INFANTIL","ESTATUTARIO","2023-03-26",30,"2024-03-26","2023-03-31","2024-02-29","53566-45011",{"$f":"G6833-SUMIF(ESCALA!$B$14:$B$15,DADOS!K6833,ESCALA!$I$14:$I$15)","v":30}]
[53662,53662,"EDINEIDE DE SOUSA REIS","PROFESSOR (A) DE EDUCACAO INFANTIL","ESTATUTARIO","2023-04-03",30,"2024-04-03","2023-04-30","2024-03-31","53662-45019",{"$f":"G6849-SUMIF(ESCALA!$B$14:$B$15,DADOS!K6849,ESCALA!$I$14:$I$15)","v":30}]
[53708,53708,"DEISE ELAINE DA SILVA ALMEIDA","PROFESSOR (A) DE EDUCACAO INFANTIL","ESTATUTARIO","2023-04-09",30,"2024-04-09","2023-04-30","2024-03-31","53708-45025",{"$f":"G6862-SUMIF(ESCALA!$B$14:$B$15,DADOS!K6862,ESCALA!$I$14:$I$15)","v":30}]
[53759,53759,"MARCIO GARCEZ NASCIMENTO","CHEFE DE DIVISAO ADMINISTRATIVA","ESTATUTARIO","2023-04-15",30,"2024-04-15","2023-04-30","2024-03-31","53759-45031",{"$f":"G6881-SUMIF(ESCALA!$B$14:$B$15,DADOS!K6881,ESCALA!$I$14:$I$15)","v":30}]
[53763,53763,"LUANA BUENO LEAO FERREIRA","PROFESSOR (A) DE EDUCACAO INFANTIL","ESTATUTARIO","2022-04-15",30,"2023-04-15","2022-04-30","2023-03-31","53763-44666",{"$f":"G6882-SUMIF(ESCALA!$B$14:$B$15,DADOS!K6882,ESCALA!$I$14:$I$15)","v":30}]
[53825,53825,"RAFAELE PATRICIA MEDEIROS","PROFESSOR (A) DE EDUCACAO INFANTIL","ESTATUTARIO","2022-04-22",30,"2023-04-22","2022-04-30","2023-03-31","53825-44673",{"$f":"G6902-SUMIF(ESCALA!$B$14:$B$15,DADOS!K6902,ESCALA!$I$14:$I$15)","v":30}]
[{"$f":"IF(L6915=0,\"\",B6915)","v":53851},53851,"MARILIA LEANDRO DOS SANTOS","AGENTE ESCOLAR","ESTATUTARIO","2022-04-23",30,{"$f":"IF(F6915<=44985,F6915+365,F6915+366)","v":"2023-04-23"},"2022-04-30","2023-03-31",{"$f":"CONCATENATE(B6915,\"-\",F6915)","v":"53851-44674"},{"$f":"G6915-SUMIF(ESCALA!$B$14:$B$15,DADOS!K6915,ESCALA!$I$14:$I$15)","v":30}]
[53921,53921,"LUANA DOMINGOS DA CRUZ ","PROFESSOR (A) DE EDUCACAO BASICA","ESTATUTARIO","2023-05-08",30,"2024-05-08","2023-05-31","2024-04-30","53921-45054",{"$f":"G6930-SUMIF(ESCALA!$B$14:$B$15,DADOS!K6930,ESCALA!$I$14:$I$15)","v":30}]
[53997,53997,"VIVIAM ALMEIDA FORTINI","PROFESSOR (A) DE EDUCACAO BASICA","ESTATUTARIO","2023-01-01",30,"2024-01-01","2023-01-31","2023-12-31","53997-44927",{"$f":"G6949-SUMIF(ESCALA!$B$14:$B$15,DADOS!K6949,ESCALA!$I$14:$I$15)","v":30}]
[54014,54014,"SUELEN COSTA DE PINA","PROFESSOR (A) DE EDUCACAO INFANTIL","ESTATUTARIO","2022-05-22",30,"2023-05-22","2022-05-31","2023-04-30","54014-44703",{"$f":"G6951-SUMIF(ESCALA!$B$14:$B$15,DADOS!K6951,ESCALA!$I$14:$I$15)","v":30}]
[54074,54074,"DANIELA DA COSTA SENA SANTOS","PROFESSOR (A) DE EDUCACAO INFANTIL","ESTATUTARIO","2022-08-22",30,"2023-08-22","2022-08-31","2023-07-31","54074-44795",{"$f":"G6964-SUMIF(ESCALA!$B$14:$B$15,DADOS!K6964,ESCALA!$I$14:$I$15)","v":30}]
[54138,54138,"ESTER RODRIGUES CIZZOTO","AGENTE ESCOLAR","ESTATUTARIO","2022-06-13",30,"2023-06-13","2022-06-30","2023-05-31","54138-44725",{"$f":"G6983-SUMIF(ESCALA!$B$14:$B$15,DADOS!K6983,ESCALA!$I$14:$I$15)","v":30}]
[54317,54317,"LOIDE GROSSI MOREIRA RITTER","PROFESSOR (A) DE EDUCACAO INFANTIL","ESTATUTARIO","2023-07-17",30,"2024-07-17","2023-07-31","2024-06-30","54317-45124",{"$f":"G6998-SUMIF(ESCALA!$B$14:$B$15,DADOS!K6998,ESCALA!$I$14:$I$15)","v":30}]
[54345,54345,"REGIANE SILVERIO DOS SANTOS","PROFESSOR (A) DE EDUCACAO BASICA","ESTATUTARIO","2022-07-17",30,"2023-07-17","2022-07-31","2023-06-30","54345-44759",{"$f":"G7013-SUMIF(ESCALA!$B$14:$B$15,DADOS!K7013,ESCALA!$I$14:$I$15)","v":30}]
[54384,54384,"ANDERSON CAMARA DA SILVA","ASSISTENTE DE GESTAO ESCOLAR","ESTATUTARIO","2022-07-11",30,"2023-07-11","2022-07-31","2023-06-30","54384-44753",{"$f":"G7031-SUMIF(ESCALA!$B$14:$B$15,DADOS!K7031,ESCALA!$I$14:$I$15)","v":30}]
[54411,54411,"LETICIA DE SOUSA SILVA","PROFESSOR (A) DE EDUCACAO INFANTIL","ESTATUTARIO","2023-07-26",30,"2024-07-26","2023-07-31","2024-06-30","54411-45133",{"$f":"G7046-SUMIF(ESCALA!$B$14:$B$15,DADOS!K7046,ESCALA!$I$14:$I$15)","v":30}]
[54419,54419,"TAIS APARECIDA VIANA DE ALMEIDA","PROFESSOR (A) DE EDUCACAO INFANTIL","ESTATUTARIO","2023-07-26",30,"2024-07-26","2023-07-31","2024-06-30","54419-45133",{"$f":"G7051-SUMIF(ESCALA!$B$14:$B$15,DADOS!K7051,ESCALA!$I$14:$I$15)","v":30}]
[54469,54469,"APARECIDA DONIZETE PEREIRA CARDOSO","PROFESSOR (A) DE EDUCAÇÃO BÁSICA","ESTATUTARIO","2023-01-01",30,"2024-01-01","2023-01-31","2023-12-31","54469-44927",{"$f":"G7066-SUMIF(ESCALA!$B$14:$B$15,DADOS!K7066,ESCALA!$I$14:$I$15)","v":30}]
[54588,54588,"SAMANTHA CARLA DO NASCIMENTO","PROFESSOR (A) COORDENADOR (A)  PEDAGOGICO (A)","ESTATUTARIO","2023-08-05",30,"2024-08-05","2023-08-31","2024-07-31","54588-45143",{"$f":"G7080-SUMIF(ESCALA!$B$14:$B$15,DADOS!K7080,ESCALA!$I$14:$I$15)","v":30}]
[54616,54616,"ADRIANA LUCIA OLIVEIRA DA SILVA","PROFESSOR (A) DE EDUCACAO INFANTIL","ESTATUTARIO","2022-08-08",30,"2023-08-08","2022-08-31","2023-07-31","54616-44781",{"$f":"G7099-SUMIF(ESCALA!$B$14:$B$15,DADOS!K7099,ESCALA!$I$14:$I$15)","v":30}]
[54644,54644,"SARA APARECIDA DA SILVA","PROFESSOR (A) DE EDUCACAO INFANTIL","ESTATUTARIO","2023-08-13",30,"2024-08-13","2023-08-31","2024-07-31","54644-45151",{"$f":"G7114-SUMIF(ESCALA!$B$14:$B$15,DADOS!K7114,ESCALA!$I$14:$I$15)","v":30}]
[54683,54683,"JANAINA APARECIDA BUENO ALENCAR","PROFESSOR (A) DE EDUCACAO BASICA","ESTATUTARIO","2023-08-26",30,"2024-08-26","2023-08-31","2024-07-31","54683-45164",{"$f":"G7128-SUMIF(ESCALA!$B$14:$B$15,DADOS!K7128,ESCALA!$I$14:$I$15)","v":30}]
[54694,54694,"THALITA PAIXAO SILVESTRE ","PROFESSOR (A) DE EDUCACAO INFANTIL","ESTATUTARIO","2022-08-26",30,"2023-08-26","2022-08-31","2023-07-31","54694-44799",{"$f":"G7133-SUMIF(ESCALA!$B$14:$B$15,DADOS!K7133,ESCALA!$I$14:$I$15)","v":30}]
[54718,54718,"FRANCISCA ANA CLAUDIA GONCALVES VIEIRA","PROFESSOR (A) DE EDUCACAO INFANTIL","ESTATUTARIO","2023-08-28",30,"2024-08-28","2023-08-31","2024-07-31","54718-45166",{"$f":"G7148-SUMIF(ESCALA!$B$14:$B$15,DADOS!K7148,ESCALA!$I$14:$I$15)","v":30}]
[54784,54784,"DANIEL FAHED FELICIO TOUMA","PROFESSOR (A) DE EDUCACAO BASICA","ESTATUTARIO","2023-09-16",30,"2024-09-16","2023-09-30","2024-08-31","54784-45185",{"$f":"G7167-SUMIF(ESCALA!$B$14:$B$15,DADOS!K7167,ESCALA!$I$14:$I$15)","v":30}]
[54797,54797,"PAULO RODRIGUES DOS REIS","COZINHEIRO (A)","ESTATUTARIO","2023-09-19",30,"2024-09-19","2023-09-30","2024-08-31","54797-45188",{"$f":"G7181-SUMIF(ESCALA!$B$14:$B$15,DADOS!K7181,ESCALA!$I$14:$I$15)","v":30}]
[54828,54828,"MARCELA FERREIRA ARAUJO E SILVA","VICE-DIRETOR (A) DE ESCOLA","ESTATUTARIO","2022-09-25",30,"2023-09-25","2022-09-30","2023-08-31","54828-44829",{"$f":"G7186-SUMIF(ESCALA!$B$14:$B$15,DADOS!K7186,ESCALA!$I$14:$I$15)","v":30}]
[54880,54880,"LUCIANA FURLAN MARQUES","PROFESSOR (A) DE EDUCACAO INFANTIL","ESTATUTARIO","2023-10-15",30,"2024-10-15","2023-10-31","2024-09-30","54880-45214",{"$f":"G7201-SUMIF(ESCALA!$B$14:$B$15,DADOS!K7201,ESCALA!$I$14:$I$15)","v":30}]
[54920,54920,"VALDIRENE LOPES RIBEIRO","COORDENADOR (A) DE PROGRAMAS EDUCACIONAIS","ESTATUTARIO","2022-10-21",30,"2023-10-21","2022-10-31","2023-09-30","54920-44855",{"$f":"G7216-SUMIF(ESCALA!$B$14:$B$15,DADOS!K7216,ESCALA!$I$14:$I$15)","v":30}]
[54969,54969,"SAMARA PIRES FERREIRA","PROFESSOR (A) DE EDUCACAO BASICA","ESTATUTARIO","2023-11-20",30,"2024-11-20","2023-11-30","2024-10-31","54969-45250",{"$f":"G7230-SUMIF(ESCALA!$B$14:$B$15,DADOS!K7230,ESCALA!$I$14:$I$15)","v":30}]
[55044,55044,"HILDA MARIA DE JESUS","COZINHEIRO (A)","ESTATUTARIO","2022-11-26",30,"2023-11-26","2022-11-30","2023-10-31","55044-44891",{"$f":"G7249-SUMIF(ESCALA!$B$14:$B$15,DADOS!K7249,ESCALA!$I$14:$I$15)","v":30}]
[55249,55249,"LUZIA FELICIANO BARROS DOS SANTOS","CHEFE DE SECAO TECNICA","ESTATUTARIO","2023-01-22",30,"2024-01-22","2023-01-31","2023-12-31","55249-44948",{"$f":"G7264-SUMIF(ESCALA!$B$14:$B$15,DADOS!K7264,ESCALA!$I$14:$I$15)","v":30}]
[55292,55292,"MARIA DE FATIMA FERRER OLIVEIRA","ASSISTENTE DE GESTAO ESCOLAR","ESTATUTARIO","2023-01-28",30,"2024-01-28","2023-01-31","2023-12-31","55292-44954",{"$f":"G7269-SUMIF(ESCALA!$B$14:$B$15,DADOS!K7269,ESCALA!$I$14:$I$15)","v":30}]
[55616,55616,"GRAZIELE DE CARVALHO BARBOSA","PROFESSOR (A) DE EDUCAÇÃO BÁSICA","ESTATUTARIO","2023-01-01",30,"2024-01-01","2023-01-31","2023-12-31","55616-44927",{"$f":"G7283-SUMIF(ESCALA!$B$14:$B$15,DADOS!K7283,ESCALA!$I$14:$I$15)","v":30}]
[55656,55656,"ENIA DE OLIVEIRA DOS SANTOS","COZINHEIRO (A)","CELETISTA","2023-03-05",30,"2024-03-05","2023-02-28","2024-02-29","55656-44990",{"$f":"G7302-SUMIF(ESCALA!$B$14:$B$15,DADOS!K7302,ESCALA!$I$14:$I$15)","v":30}]
[55680,55680,"LAURA DE JESUS RIBEIRO COSTA","PROFESSOR (A) DE EDUCACAO INFANTIL","ESTATUTARIO","2023-03-06",30,"2024-03-06","2023-03-31","2024-02-29","55680-44991",{"$f":"G7317-SUMIF(ESCALA!$B$14:$B$15,DADOS!K7317,ESCALA!$I$14:$I$15)","v":30}]
[55733,55733,"SOLANGE LUIZ GASQUES MORAES","COZINHEIRO (A)","ESTATUTARIO","2022-03-11",30,"2023-03-11","2022-03-31","2023-02-28","55733-44631",{"$f":"G7332-SUMIF(ESCALA!$B$14:$B$15,DADOS!K7332,ESCALA!$I$14:$I$15)","v":30}]
[55817,55817,"KETTI RODRIGUES MACHADO","PROFESSOR (A) DE EDUCACAO INFANTIL","ESTATUTARIO","2023-01-01",30,"2024-01-01","2023-01-31","2023-12-31","55817-44927",{"$f":"G7345-SUMIF(ESCALA!$B$14:$B$15,DADOS!K7345,ESCALA!$I$14:$I$15)","v":30}]
[55955,55955,"LUCIMARA ALVES MENDONCA","PROFESSOR (A) DE EDUCACAO BASICA","ESTATUTARIO","2023-01-01",30,"2024-01-01","2023-01-31","2023-12-31","55955-44927",{"$f":"G7351-SUMIF(ESCALA!$B$14:$B$15,DADOS!K7351,ESCALA!$I$14:$I$15)","v":30}]
[56013,56013,"THIAGO RIBEIRO DE OLIVEIRA","ASSISTENTE DE GESTAO ESCOLAR","ESTATUTARIO","2022-04-07",30,"2023-04-07","2022-04-30","2023-03-31","56013-44658",{"$f":"G7366-SUMIF(ESCALA!$B$14:$B$15,DADOS!K7366,ESCALA!$I$14:$I$15)","v":30}]
[56100,56100,"KATIA CACEMIRO LIMA","COZINHEIRO (A)","ESTATUTARIO","2023-04-17",30,"2024-04-17","2023-04-30","2024-03-31","56100-45033",{"$f":"G7385-SUMIF(ESCALA!$B$14:$B$15,DADOS!K7385,ESCALA!$I$14:$I$15)","v":30}]
[56268,56268,"VANESSA LUCIA ARGUEIRO BARGAS SILVA","PROFESSOR (A) DE EDUCACAO INFANTIL","ESTATUTARIO","2022-05-09",30,"2023-05-09","2022-05-31","2023-04-30","56268-44690",{"$f":"G7398-SUMIF(ESCALA!$B$14:$B$15,DADOS!K7398,ESCALA!$I$14:$I$15)","v":30}]
[56443,56443,"MARCIO ALVES SANT ANA","ASSISTENTE DE GESTAO ESCOLAR","ESTATUTARIO","2022-05-21",30,"2023-05-21","2022-05-31","2023-04-30","56443-44702",{"$f":"G7404-SUMIF(ESCALA!$B$14:$B$15,DADOS!K7404,ESCALA!$I$14:$I$15)","v":30}]
[56454,56454,"RAQUEL CARVALHO DOS SANTOS","AGENTE ESCOLAR","ESTATUTARIO","2023-09-29",30,"2024-09-29","2023-09-30","2024-08-31","56454-45198",{"$f":"G7419-SUMIF(ESCALA!$B$14:$B$15,DADOS!K7419,ESCALA!$I$14:$I$15)","v":30}]
[56594,56594,"LOURIVAL JOSE MARTINS JUNIOR","AGENTE ESCOLAR","ESTATUTARIO","2023-06-03",30,"2024-06-03","2023-06-30","2024-05-31","56594-45080",{"$f":"G7434-SUMIF(ESCALA!$B$14:$B$15,DADOS!K7434,ESCALA!$I$14:$I$15)","v":30}]
[56727,56727,"SIRLEI APARECIDA PAULINO","PROFESSOR (A) DE EDUCACAO INFANTIL","ESTATUTARIO","2023-01-01",30,"2024-01-01","2023-01-31","2023-12-31","56727-44927",{"$f":"G7447-SUMIF(ESCALA!$B$14:$B$15,DADOS!K7447,ESCALA!$I$14:$I$15)","v":30}]
[56760,56760,"MARIA APARECIDA COSTA FONSECA","PROFESSOR (A) DE EDUCACAO INFANTIL","ESTATUTARIO","2023-01-01",30,"2024-01-01","2023-01-31","2023-12-31","56760-44927",{"$f":"G7467-SUMIF(ESCALA!$B$14:$B$15,DADOS!K7467,ESCALA!$I$14:$I$15)","v":30}]
[56829,56829,"LUCI MITIE NAKANO","COZINHEIRO (A)","ESTATUTARIO","2022-06-20",30,"2023-06-20","2022-06-30","2023-05-31","56829-44732",{"$f":"G7486-SUMIF(ESCALA!$B$14:$B$15,DADOS!K7486,ESCALA!$I$14:$I$15)","v":30}]
[56829,56829,"LUCI MITIE NAKANO","COZINHEIRO (A)","ESTATUTARIO","2023-06-20",30,"2024-06-20","2023-06-30","2024-05-31","56829-45097",{"$f":"G7487-SUMIF(ESCALA!$B$14:$B$15,DADOS!K7487,ESCALA!$I$14:$I$15)","v":30}]
[57010,57010,"ROSILDA MARIA DA SILVA","PROFESSOR (A) DE EDUCAÇÃO BÁSICA","ESTATUTARIO","2023-01-01",30,"2024-01-01","2023-01-31","2023-12-31","57010-44927",{"$f":"G7513-SUMIF(ESCALA!$B$14:$B$15,DADOS!K7513,ESCALA!$I$14:$I$15)","v":30}]
[57023,57023,"SIMONE CRISTINA FRANCO DE OLIVEIRA KLEN","PROFESSOR (A) DE EDUCACAO INFANTIL","ESTATUTARIO","2023-01-01",30,"2024-01-01","2023-01-31","2023-12-31","57023-44927",{"$f":"G7520-SUMIF(ESCALA!$B$14:$B$15,DADOS!K7520,ESCALA!$I$14:$I$15)","v":30}]
[57111,57111,"LISANDRA NAGATA SILVA","PROFESSOR (A) DE EDUCACAO BASICA","ESTATUTARIO","2022-07-25",15,"2023-07-25","2022-07-31","2023-06-30","57111-44767",{"$f":"G7535-SUMIF(ESCALA!$B$14:$B$15,DADOS!K7535,ESCALA!$I$14:$I$15)","v":15}]
[57142,57142,"RAPHAELA DOS SANTOS TELEFORO","PROFESSOR (A) DE EDUCACAO INFANTIL","ESTATUTARIO","2023-07-28",30,"2024-07-28","2023-07-31","2024-06-30","57142-45135",{"$f":"G7550-SUMIF(ESCALA!$B$14:$B$15,DADOS!K7550,ESCALA!$I$14:$I$15)","v":30}]
[57200,57200,"ARIEL PEDIK SCHUCHMAN","PROFESSOR (A) DE EDUCACAO BASICA","ESTATUTARIO","2023-07-30",30,"2024-07-30","2023-07-31","2024-06-30","57200-45137",{"$f":"G7562-SUMIF(ESCALA!$B$14:$B$15,DADOS!K7562,ESCALA!$I$14:$I$15)","v":30}]
[57246,57246,"JOANA MONTERO ROJAS FERRARA","PROFESSOR (A) DE EDUCAÇÃO BÁSICA","ESTATUTARIO","2022-08-05",30,"2023-08-05","2022-08-31","2023-07-31","57246-44778",{"$f":"G7569-SUMIF(ESCALA!$B$14:$B$15,DADOS!K7569,ESCALA!$I$14:$I$15)","v":30}]
[57350,57350,"DANIELLE ALVES MONTEIRO","COZINHEIRO (A)","ESTATUTARIO","2022-08-18",30,"2023-08-18","2022-08-31","2023-07-31","57350-44791",{"$f":"G7588-SUMIF(ESCALA!$B$14:$B$15,DADOS!K7588,ESCALA!$I$14:$I$15)","v":30}]
[57396,57396,"LIDIANE CURVELO DE CARVALHO","COZINHEIRO (A)","ESTATUTARIO","2023-08-19",30,"2024-08-19","2023-08-31","2024-07-31","57396-45157",{"$f":"G7603-SUMIF(ESCALA!$B$14:$B$15,DADOS!K7603,ESCALA!$I$14:$I$15)","v":30}]
[57437,57437,"CLEONE NASCIMENTO DA SILVA COSTA","PROFESSOR (A) DE EDUCACAO BASICA","ESTATUTARIO","2023-08-25",30,"2024-08-25","2023-08-31","2024-07-31","57437-45163",{"$f":"G7615-SUMIF(ESCALA!$B$14:$B$15,DADOS!K7615,ESCALA!$I$14:$I$15)","v":30}]
[57481,57481,"TATIANY CARDOSO FERREIRA","PROFESSOR (A) DE EDUCACAO BASICA","ESTATUTARIO","2023-08-28",30,"2024-08-28","2023-08-31","2024-07-31","57481-45166",{"$f":"G7636-SUMIF(ESCALA!$B$14:$B$15,DADOS!K7636,ESCALA!$I$14:$I$15)","v":30}]
[57531,57531,"PRISCILA RODRIGUES RAMOS DOS SANTOS","COORDENADOR (A) DE PROGRAMAS EDUCACIONAIS","ESTATUTARIO","2022-09-02",30,"2023-09-02","2022-09-30","2023-08-31","57531-44806",{"$f":"G7651-SUMIF(ESCALA!$B$14:$B$15,DADOS!K7651,ESCALA!$I$14:$I$15)","v":30}]
[57531,57531,"PRISCILA RODRIGUES RAMOS DOS SANTOS","COORDENADOR (A) DE PROGRAMAS EDUCACIONAIS","ESTATUTARIO","2023-09-02",30,"2024-09-02","2023-09-30","2024-08-31","57531-45171",{"$f":"G7652-SUMIF(ESCALA!$B$14:$B$15,DADOS!K7652,ESCALA!$I$14:$I$15)","v":30}]
[57619,57619,"BARBARA LUISA DE SOUZA VIEIRA ENBEL","COORDENADOR (A) DE PROGRAMAS EDUCACIONAIS","ESTATUTARIO","2023-09-12",30,"2024-09-12","2023-09-30","2024-08-31","57619-45181",{"$f":"G7677-SUMIF(ESCALA!$B$14:$B$15,DADOS!K7677,ESCALA!$I$14:$I$15)","v":30}]
[57628,57628,"ALINE NASCIMENTO RIBEIRO VICTORIANO","PROFESSOR (A) DE EDUCACAO INFANTIL","ESTATUTARIO","2022-09-10",30,"2023-09-10","2022-09-30","2023-08-31","57628-44814",{"$f":"G7685-SUMIF(ESCALA!$B$14:$B$15,DADOS!K7685,ESCALA!$I$14:$I$15)","v":30}]
[57651,57651,"MARIA ISABEL MELO DA SILVA","PROFESSOR (A) DE EDUCACAO INFANTIL","ESTATUTARIO","2023-09-11",30,"2024-09-11","2023-09-30","2024-08-31","57651-45180",{"$f":"G7704-SUMIF(ESCALA!$B$14:$B$15,DADOS!K7704,ESCALA!$I$14:$I$15)","v":30}]
[57673,57673,"CREMILDA LUZIA VENTURINI KNUPP","PROFESSOR (A) DE EDUCACAO BASICA","CELETISTA","2023-09-12",30,"2024-09-12","2023-08-31","2024-08-31","57673-45181",{"$f":"G7719-SUMIF(ESCALA!$B$14:$B$15,DADOS!K7719,ESCALA!$I$14:$I$15)","v":30}]
[57687,57687,"JULIANA PRACA GARCIA","PROFESSOR (A) COORDENADOR (A)  PEDAGOGICO (A)","ESTATUTARIO","2022-09-30",30,"2023-09-30","2022-09-30","2023-08-31","57687-44834",{"$f":"G7730-SUMIF(ESCALA!$B$14:$B$15,DADOS!K7730,ESCALA!$I$14:$I$15)","v":30}]
[57701,57701,"ELISANGELA DE CARVALHO SILVA","PROFESSOR (A) DE EDUCACAO INFANTIL","ESTATUTARIO","2022-09-15",30,"2023-09-15","2022-09-30","2023-08-31","57701-44819",{"$f":"G7738-SUMIF(ESCALA!$B$14:$B$15,DADOS!K7738,ESCALA!$I$14:$I$15)","v":30}]
[57776,57776,"LEANDRO RIBEIRO PRADO","CHEFE DE SECAO TECNICA","ESTATUTARIO","2022-10-02",30,"2023-10-02","2022-10-31","2023-09-30","57776-44836",{"$f":"G7753-SUMIF(ESCALA!$B$14:$B$15,DADOS!K7753,ESCALA!$I$14:$I$15)","v":30}]
[57994,57994,"IRACEMA FUMIKO KOZIMA SOARES","COZINHEIRO (A)","ESTATUTARIO","2023-12-01",30,"2024-12-01","2023-12-31","2024-11-30","57994-45261",{"$f":"G7772-SUMIF(ESCALA!$B$14:$B$15,DADOS!K7772,ESCALA!$I$14:$I$15)","v":30}]
[58148,58148,"MONICA ARAUJO DO NASCIMENTO","PROFESSOR (A) DE EDUCACAO INFANTIL","ESTATUTARIO","2023-12-26",30,"2024-12-26","2023-12-31","2024-11-30","58148-45286",{"$f":"G7779-SUMIF(ESCALA!$B$14:$B$15,DADOS!K7779,ESCALA!$I$14:$I$15)","v":30}]
[58186,58186,"APARECIDA DE LOURDES TEIXEIRA DANTAS PAES","PROFESSOR (A) DE EDUCACAO INFANTIL","ESTATUTARIO","2022-12-26",30,"2023-12-26","2022-12-31","2023-11-30","58186-44921",{"$f":"G7801-SUMIF(ESCALA!$B$14:$B$15,DADOS!K7801,ESCALA!$I$14:$I$15)","v":30}]
[58189,58189,"MARCELO DA COSTA FREITAS","PROFESSOR (A) DE EDUCACAO BASICA","ESTATUTARIO","2023-12-26",30,"2024-12-26","2023-12-31","2024-11-30","58189-45286",{"$f":"G7806-SUMIF(ESCALA!$B$14:$B$15,DADOS!K7806,ESCALA!$I$14:$I$15)","v":30}]
[58200,58200,"ROSANGELA SANTANA MARGOTTI","PROFESSOR (A) DE EDUCACAO BASICA","ESTATUTARIO","2022-12-26",30,"2023-12-26","2022-12-31","2023-11-30","58200-44921",{"$f":"G7821-SUMIF(ESCALA!$B$14:$B$15,DADOS!K7821,ESCALA!$I$14:$I$15)","v":30}]
[58208,58208,"LAIS RAMOS BARRA","PROFESSOR (A) COORDENADOR (A)  PEDAGOGICO (A)","ESTATUTARIO","2023-12-26",30,"2024-12-26","2023-12-31","2024-11-30","58208-45286",{"$f":"G7832-SUMIF(ESCALA!$B$14:$B$15,DADOS!K7832,ESCALA!$I$14:$I$15)","v":30}]
[58221,58221,"ISLAN DOS SANTOS MOREIRA","PROFESSOR (A) DE EDUCACAO BASICA","ESTATUTARIO","2022-12-26",30,"2023-12-26","2022-12-31","2023-11-30","58221-44921",{"$f":"G7854-SUMIF(ESCALA!$B$14:$B$15,DADOS!K7854,ESCALA!$I$14:$I$15)","v":30}]
[58234,58234,"JUSSARA RODRIGUES DA ROCHA","PROFESSOR (A) DE EDUCACAO BASICA","ESTATUTARIO","2023-12-26",30,"2024-12-26","2023-12-31","2024-11-30","58234-45286",{"$f":"G7869-SUMIF(ESCALA!$B$14:$B$15,DADOS!K7869,ESCALA!$I$14:$I$15)","v":30}]
[58239,58239,"MARISA CORREIA SANTOS","PROFESSOR (A) DE EDUCAÇÃO BÁSICA","ESTATUTARIO","2022-12-26",30,"2023-12-26","2022-12-31","2023-11-30","58239-44921",{"$f":"G7874-SUMIF(ESCALA!$B$14:$B$15,DADOS!K7874,ESCALA!$I$14:$I$15)","v":30}]
[58253,58253,"EDNA DIAS SERRANO","PROFESSOR (A) DE EDUCACAO INFANTIL","ESTATUTARIO","2022-12-26",30,"2023-12-26","2022-12-31","2023-11-30","58253-44921",{"$f":"G7894-SUMIF(ESCALA!$B$14:$B$15,DADOS!K7894,ESCALA!$I$14:$I$15)","v":30}]
[58267,58267,"PRISCILA VASCONCELOS SOUZA PICCIRILLO","PROFESSOR (A) DE EDUCACAO INFANTIL","ESTATUTARIO","2023-12-26",30,"2024-12-26","2023-12-31","2024-11-30","58267-45286",{"$f":"G7903-SUMIF(ESCALA!$B$14:$B$15,DADOS!K7903,ESCALA!$I$14:$I$15)","v":30}]
[58285,58285,"JOYCE AMBROSEVITCHAUS VILLA MAIOR","PROFESSOR (A) DE EDUCACAO BASICA","ESTATUTARIO","2022-12-26",30,"2023-12-26","2022-12-31","2023-11-30","58285-44921",{"$f":"G7922-SUMIF(ESCALA!$B$14:$B$15,DADOS!K7922,ESCALA!$I$14:$I$15)","v":30}]
[58296,58296,"TALITA KAREN MAGALHAES PACHECO ZANETTI","COORDENADOR (A) DE PROGRAMAS EDUCACIONAIS","ESTATUTARIO","2023-12-26",30,"2024-12-26","2023-12-31","2024-11-30","58296-45286",{"$f":"G7937-SUMIF(ESCALA!$B$14:$B$15,DADOS!K7937,ESCALA!$I$14:$I$15)","v":30}]
[58302,58302,"ELISABETE DO CARMO SOUZA SILVA","PROFESSOR (A) DE EDUCACAO BASICA","ESTATUTARIO","2023-12-26",30,"2024-12-26","2023-12-31","2024-11-30","58302-45286",{"$f":"G7943-SUMIF(ESCALA!$B$14:$B$15,DADOS!K7943,ESCALA!$I$14:$I$15)","v":30}]
[58322,58322,"DIEMES DARLEY DOS SANTOS CAMPOS","PROFESSOR (A) DE EDUCACAO INFANTIL","ESTATUTARIO","2022-12-26",30,"2023-12-26","2022-12-31","2023-11-30","58322-44921",{"$f":"G7956-SUMIF(ESCALA!$B$14:$B$15,DADOS!K7956,ESCALA!$I$14:$I$15)","v":30}]
[58333,58333,"PRISCILA CAVALHEIRO CIRCELLI","PROFESSOR (A) DE EDUCACAO INFANTIL","ESTATUTARIO","2023-12-26",30,"2024-12-26","2023-12-31","2024-11-30","58333-45286",{"$f":"G7971-SUMIF(ESCALA!$B$14:$B$15,DADOS!K7971,ESCALA!$I$14:$I$15)","v":30}]
[58352,58352,"CLAUDIA ALVES GOMES BARBOSA","PROFESSOR (A) DE EDUCACAO BASICA","ESTATUTARIO","2022-12-26",30,"2023-12-26","2022-12-31","2023-11-30","58352-44921",{"$f":"G7990-SUMIF(ESCALA!$B$14:$B$15,DADOS!K7990,ESCALA!$I$14:$I$15)","v":30}]
[58356,58356,"ELEN GRACIELE MARTINS","PROFESSOR (A) DE EDUCAÇÃO BÁSICA","ESTATUTARIO","2022-12-26",30,"2023-12-26","2022-12-31","2023-11-30","58356-44921",{"$f":"G7996-SUMIF(ESCALA!$B$14:$B$15,DADOS!K7996,ESCALA!$I$14:$I$15)","v":30}]
[58380,58380,"JANAINA RODRIGUES FURTUNATO","PROFESSOR (A) DE EDUCAÇÃO BÁSICA","ESTATUTARIO","2023-12-26",30,"2024-12-26","2023-12-31","2024-11-30","58380-45286",{"$f":"G8019-SUMIF(ESCALA!$B$14:$B$15,DADOS!K8019,ESCALA!$I$14:$I$15)","v":30}]
[58386,58386,"ELOISA BARBOSA DE LIMA OLIVEIRA NUNES","PROFESSOR (A) DE EDUCACAO BASICA","ESTATUTARIO","2022-12-26",30,"2023-12-26","2022-12-31","2023-11-30","58386-44921",{"$f":"G8024-SUMIF(ESCALA!$B$14:$B$15,DADOS!K8024,ESCALA!$I$14:$I$15)","v":30}]
[58400,58400,"SANDRA DE LIMA BEZERRA","PROFESSOR (A) DE EDUCAÇÃO BÁSICA","ESTATUTARIO","2023-12-26",30,"2024-12-26","2023-12-31","2024-11-30","58400-45286",{"$f":"G8039-SUMIF(ESCALA!$B$14:$B$15,DADOS!K8039,ESCALA!$I$14:$I$15)","v":30}]
[58424,58424,"SIDNEIA DA SILVA ANDRADE","PROFESSOR (A) DE EDUCAÇÃO BÁSICA","ESTATUTARIO","2022-12-26",30,"2023-12-26","2022-12-31","2023-11-30","58424-44921",{"$f":"G8058-SUMIF(ESCALA!$B$14:$B$15,DADOS!K8058,ESCALA!$I$14:$I$15)","v":30}]
[58443,58443,"RENATA QUEIROZ PINHEIRO","ASSISTENTE DE GESTAO ESCOLAR","ESTATUTARIO","2022-12-26",30,"2023-12-26","2022-12-31","2023-11-30","58443-44921",{"$f":"G8072-SUMIF(ESCALA!$B$14:$B$15,DADOS!K8072,ESCALA!$I$14:$I$15)","v":30}]
[58460,58460,"APARECIDA DO CARMO DE ARRUDA SIMOES","PROFESSOR (A) DE EDUCACAO INFANTIL","ESTATUTARIO","2023-12-26",30,"2024-12-26","2023-12-31","2024-11-30","58460-45286",{"$f":"G8087-SUMIF(ESCALA!$B$14:$B$15,DADOS!K8087,ESCALA!$I$14:$I$15)","v":30}]
[58469,58469,"ANDREIA ORTEGA","PROFESSOR (A) DE EDUCACAO BASICA","ESTATUTARIO","2023-01-02",30,"2024-01-02","2023-01-31","2023-12-31","58469-44928",{"$f":"G8092-SUMIF(ESCALA!$B$14:$B$15,DADOS!K8092,ESCALA!$I$14:$I$15)","v":30}]
[58500,58500,"SOLANE MARIA SILVA DOS SANTOS","PROFESSOR (A) DE EDUCACAO BASICA","ESTATUTARIO","2022-12-26",30,"2023-12-26","2022-12-31","2023-11-30","58500-44921",{"$f":"G8111-SUMIF(ESCALA!$B$14:$B$15,DADOS!K8111,ESCALA!$I$14:$I$15)","v":30}]
[58510,58510,"CRISTIANE APARECIDA DE ARAUJO","VICE-DIRETOR (A) DE ESCOLA","ESTATUTARIO","2022-12-26",30,"2023-12-26","2022-12-31","2023-11-30","58510-44921",{"$f":"G8121-SUMIF(ESCALA!$B$14:$B$15,DADOS!K8121,ESCALA!$I$14:$I$15)","v":30}]
[58550,58550,"ROBERTA DA SILVA DIAS","PROFESSOR (A) DE EDUCACAO BASICA","ESTATUTARIO","2023-12-26",30,"2024-12-26","2023-12-31","2024-11-30","58550-45286",{"$f":"G8140-SUMIF(ESCALA!$B$14:$B$15,DADOS!K8140,ESCALA!$I$14:$I$15)","v":30}]
[58579,58579,"ALINE DA SILVA CAMPOS BRANDAO","PROFESSOR (A) DE EDUCACAO INFANTIL","ESTATUTARIO","2023-01-02",30,"2024-01-02","2023-01-31","2023-12-31","58579-44928",{"$f":"G8155-SUMIF(ESCALA!$B$14:$B$15,DADOS!K8155,ESCALA!$I$14:$I$15)","v":30}]
[58732,58732,"CLAUDINEIA APARECIDA MACHADO DE SOUSA","ASSISTENTE DE GESTAO ESCOLAR","ESTATUTARIO","2023-02-04",30,"2024-02-04","2023-02-28","2024-01-31","58732-44961",{"$f":"G8173-SUMIF(ESCALA!$B$14:$B$15,DADOS!K8173,ESCALA!$I$14:$I$15)","v":30}]
[58742,58742,"SIMONE GARBI SANTANA MOLINARI","SUPERVISOR (A) ESCOLAR","CELETISTA","2023-02-04",30,"2024-02-04","2023-01-31","2024-01-31","58742-44961",{"$f":"G8174-SUMIF(ESCALA!$B$14:$B$15,DADOS!K8174,ESCALA!$I$14:$I$15)","v":30}]
[58940,58940,"FLAVIA FERREIRA MOTA","CHEFE DE SECAO ADMINISTRATIVA","ESTATUTARIO","2023-03-11",30,"2024-03-11","2023-03-31","2024-02-29","58940-44996",{"$f":"G8189-SUMIF(ESCALA!$B$14:$B$15,DADOS!K8189,ESCALA!$I$14:$I$15)","v":30}]
[59126,59126,"ROSANA RIBEIRO SILVA","AGENTE ESCOLAR","ESTATUTARIO","2022-04-06",30,"2023-04-06","2022-04-30","2023-03-31","59126-44657",{"$f":"G8208-SUMIF(ESCALA!$B$14:$B$15,DADOS!K8208,ESCALA!$I$14:$I$15)","v":30}]
[59148,59148,"ANTONIA JULIANA BATISTA DA SILVA","AGENTE ESCOLAR","ESTATUTARIO","2023-04-06",30,"2024-04-06","2023-04-30","2024-03-31","59148-45022",{"$f":"G8226-SUMIF(ESCALA!$B$14:$B$15,DADOS!K8226,ESCALA!$I$14:$I$15)","v":30}]
[59166,59166,"ELIANE MARIA CIPELLI","AGENTE ESCOLAR","ESTATUTARIO","2023-04-06",30,"2024-04-06","2023-04-30","2024-03-31","59166-45022",{"$f":"G8241-SUMIF(ESCALA!$B$14:$B$15,DADOS!K8241,ESCALA!$I$14:$I$15)","v":30}]
[59203,59203,"ANDERSON CARLOS CAVALCANTE DOS SANTOS","SUPERVISÃO DE SETOR","ESTATUTARIO","2023-04-07",30,"2024-04-07","2023-04-30","2024-03-31","59203-45023",{"$f":"G8256-SUMIF(ESCALA!$B$14:$B$15,DADOS!K8256,ESCALA!$I$14:$I$15)","v":30}]
[59205,59205,"CRISTHINE MAURI HECK","AGENTE ESCOLAR","ESTATUTARIO","2022-04-07",30,"2023-04-07","2022-04-30","2023-03-31","59205-44658",{"$f":"G8257-SUMIF(ESCALA!$B$14:$B$15,DADOS!K8257,ESCALA!$I$14:$I$15)","v":30}]
[59374,59374,"CLEURELENE SOARES CHAVES SILVA","PROFESSOR (A) DE EDUCACAO INFANTIL","ESTATUTARIO","2022-04-21",30,"2023-04-21","2022-04-30","2023-03-31","59374-44672",{"$f":"G8275-SUMIF(ESCALA!$B$14:$B$15,DADOS!K8275,ESCALA!$I$14:$I$15)","v":30}]
[59415,59415,"ELAINE FERREIRA DOS SANTOS","PROFESSOR (A) DE EDUCACAO INFANTIL","ESTATUTARIO","2023-04-21",30,"2024-04-21","2023-04-30","2024-03-31","59415-45037",{"$f":"G8290-SUMIF(ESCALA!$B$14:$B$15,DADOS!K8290,ESCALA!$I$14:$I$15)","v":30}]
[59548,59548,"NIVEA RIBAR SANTOS","PROFESSOR (A) DE EDUCACAO BASICA","ESTATUTARIO","2023-01-01",30,"2024-01-01","2023-01-31","2023-12-31","59548-44927",{"$f":"G8305-SUMIF(ESCALA!$B$14:$B$15,DADOS!K8305,ESCALA!$I$14:$I$15)","v":30}]
[59597,59597,"VANIA MARINHO DE ALMEIDA","PROFESSOR (A) DE EDUCACAO INFANTIL","ESTATUTARIO","2023-04-23",30,"2024-04-23",{"$f":"IF(E8324=\"ESTATUTARIO\",EOMONTH(F8324,0),EOMONTH(F8324,-1))","v":"2023-04-30"},{"$f":"EOMONTH(F8324,11)","v":"2024-03-31"},"59597-45039",{"$f":"G8324-SUMIF(ESCALA!$B$14:$B$15,DADOS!K8324,ESCALA!$I$14:$I$15)","v":30}]
[59606,59606,"EDJANETE DANTAS DE OLIVEIRA SILVA","PROFESSOR (A) DE EDUCACAO INFANTIL","ESTATUTARIO","2022-04-28",30,"2023-04-28","2022-04-30","2023-03-31","59606-44679",{"$f":"G8328-SUMIF(ESCALA!$B$14:$B$15,DADOS!K8328,ESCALA!$I$14:$I$15)","v":30}]
[59629,59629,"SUELI FERREIRA DOS SANTOS","PROFESSOR (A) DE EDUCACAO INFANTIL","ESTATUTARIO","2023-04-23",30,"2024-04-23","2023-04-30","2024-03-31","59629-45039",{"$f":"G8343-SUMIF(ESCALA!$B$14:$B$15,DADOS!K8343,ESCALA!$I$14:$I$15)","v":30}]
[59692,59692,"MARIA CRISTINA FILHO DE OLIVEIRA","PROFESSOR (A) DE EDUCACAO INFANTIL","ESTATUTARIO","2022-04-28",30,"2023-04-28","2022-04-30","2023-03-31","59692-44679",{"$f":"G8358-SUMIF(ESCALA!$B$14:$B$15,DADOS!K8358,ESCALA!$I$14:$I$15)","v":30}]
[59710,59710,"JANICLECIA BARROS SILVA","PROFESSOR (A) DE EDUCACAO INFANTIL","ESTATUTARIO","2023-04-28",30,"2024-04-28","2023-04-30","2024-03-31","59710-45044",{"$f":"G8373-SUMIF(ESCALA!$B$14:$B$15,DADOS!K8373,ESCALA!$I$14:$I$15)","v":30}]
[59849,59849,"PATRICIA GONCALVES ALMEIDA","ASSISTENTE DE GESTAO ESCOLAR","ESTATUTARIO","2023-06-01",30,"2024-06-01","2023-06-30","2024-05-31","59849-45078",{"$f":"G8390-SUMIF(ESCALA!$B$14:$B$15,DADOS!K8390,ESCALA!$I$14:$I$15)","v":30}]
[59893,59893,"JULIANA SANTANA MARINHO","PROFESSOR (A) COORDENADOR (A)  PEDAGOGICO (A)","ESTATUTARIO","2023-05-21",30,"2024-05-21","2023-05-31","2024-04-30","59893-45067",{"$f":"G8406-SUMIF(ESCALA!$B$14:$B$15,DADOS!K8406,ESCALA!$I$14:$I$15)","v":30}]
[59934,59934,"ROSANGELA SIQUEIRA","PROFESSOR (A) DE EDUCACAO BASICA","ESTATUTARIO","2023-01-01",30,"2024-01-01","2023-01-31","2023-12-31","59934-44927",{"$f":"G8421-SUMIF(ESCALA!$B$14:$B$15,DADOS!K8421,ESCALA!$I$14:$I$15)","v":30}]
[59947,59947,"JESSICA ROCHA DE MELO SIMOES","PROFESSOR (A) DE EDUCACAO INFANTIL","ESTATUTARIO","2022-06-15",30,"2023-06-15","2022-06-30","2023-05-31","59947-44727",{"$f":"G8426-SUMIF(ESCALA!$B$14:$B$15,DADOS!K8426,ESCALA!$I$14:$I$15)","v":30}]
[59968,59968,"NATALIA ALVES RODRIGUES","PROFESSOR (A) DE EDUCACAO INFANTIL","ESTATUTARIO","2023-06-15",30,"2024-06-15","2023-06-30","2024-05-31","59968-45092",{"$f":"G8443-SUMIF(ESCALA!$B$14:$B$15,DADOS!K8443,ESCALA!$I$14:$I$15)","v":30}]
[60003,60003,"LUCIANA PEREIRA DA SILVA ALMEIDA","PROFESSOR (A) DE EDUCACAO INFANTIL","ESTATUTARIO","2023-06-15",30,"2024-06-15","2023-06-30","2024-05-31","60003-45092",{"$f":"G8459-SUMIF(ESCALA!$B$14:$B$15,DADOS!K8459,ESCALA!$I$14:$I$15)","v":30}]
[60035,60035,"JULIANA APARECIDA CORREIA LOPES","PROFESSOR (A) DE EDUCACAO INFANTIL","ESTATUTARIO","2022-06-15",30,"2023-06-15","2022-06-30","2023-05-31","60035-44727",{"$f":"G8474-SUMIF(ESCALA!$B$14:$B$15,DADOS!K8474,ESCALA!$I$14:$I$15)","v":30}]
[60056,60056,"LUCIMAR SANTANA GRILLI","PROFESSOR (A) DE EDUCACAO INFANTIL","ESTATUTARIO","2023-06-15",30,"2024-06-15","2023-06-30","2024-05-31","60056-45092",{"$f":"G8489-SUMIF(ESCALA!$B$14:$B$15,DADOS!K8489,ESCALA!$I$14:$I$15)","v":30}]
[60070,60070,"MARIANA MOREIRA DE SOUZA","PROFESSOR (A) DE EDUCACAO INFANTIL","ESTATUTARIO","2022-06-15",30,"2023-06-15","2022-06-30","2023-05-31","60070-44727",{"$f":"G8492-SUMIF(ESCALA!$B$14:$B$15,DADOS!K8492,ESCALA!$I$14:$I$15)","v":30}]
[60112,60112,"MARIA APARECIDA DA SILVA","COZINHEIRO (A)","ESTATUTARIO","2023-06-01",30,"2024-06-01","2023-06-30","2024-05-31","60112-45078",{"$f":"G8508-SUMIF(ESCALA!$B$14:$B$15,DADOS!K8508,ESCALA!$I$14:$I$15)","v":30}]
[60200,60200,"DAMILA ARAUJO DE MORAES LATORRE","AGENTE ESCOLAR","ESTATUTARIO","2023-06-30",30,"2024-06-30","2023-06-30","2024-05-31","60200-45107",{"$f":"G8527-SUMIF(ESCALA!$B$14:$B$15,DADOS!K8527,ESCALA!$I$14:$I$15)","v":30}]
[60252,60252,"RAIMUNDO NONATO DE OLIVEIRA","PROFESSOR (A) DE EDUCACAO BASICA","ESTATUTARIO","2023-01-01",30,"2024-01-01","2023-01-31","2023-12-31","60252-44927",{"$f":"G8542-SUMIF(ESCALA!$B$14:$B$15,DADOS!K8542,ESCALA!$I$14:$I$15)","v":30}]
[60326,60326,"PRISCILA CRISTINE CANATO DE MELO","PROFESSOR (A) DE EDUCACAO BASICA","ESTATUTARIO","2023-06-29",30,"2024-06-29","2023-06-30","2024-05-31","60326-45106",{"$f":"G8558-SUMIF(ESCALA!$B$14:$B$15,DADOS!K8558,ESCALA!$I$14:$I$15)","v":30}]
[60331,60331,"ROZILENE SANTOS","COZINHEIRO (A)","ESTATUTARIO","2022-06-30",30,"2023-06-30","2022-06-30","2023-05-31","60331-44742",{"$f":"G8561-SUMIF(ESCALA!$B$14:$B$15,DADOS!K8561,ESCALA!$I$14:$I$15)","v":30}]
[60405,60405,"RAQUEL MOTOOKA DE OLIVEIRA","PROFESSOR (A) DE EDUCACAO BASICA","ESTATUTARIO","2023-01-01",30,"2024-01-01","2023-01-31","2023-12-31","60405-44927",{"$f":"G8576-SUMIF(ESCALA!$B$14:$B$15,DADOS!K8576,ESCALA!$I$14:$I$15)","v":30}]
[60456,60456,"ANA LUCIA DOS SANTOS","ASSISTENTE DE GESTAO ESCOLAR","ESTATUTARIO","2023-07-31",30,"2024-07-31","2023-07-31","2024-06-30","60456-45138",{"$f":"G8591-SUMIF(ESCALA!$B$14:$B$15,DADOS!K8591,ESCALA!$I$14:$I$15)","v":30}]
[60551,60551,"KARIN MONTEIRO OLIVEIRA","PROFESSOR (A) DE EDUCACAO BASICA","ESTATUTARIO","2023-01-01",30,"2024-01-01","2023-01-31","2023-12-31","60551-44927",{"$f":"G8607-SUMIF(ESCALA!$B$14:$B$15,DADOS!K8607,ESCALA!$I$14:$I$15)","v":30}]
[60652,60652,"SUELI DA SILVA GOMES","PROFESSOR (A) DE EDUCACAO BASICA","ESTATUTARIO","2023-01-01",30,"2024-01-01","2023-01-31","2023-12-31","60652-44927",{"$f":"G8624-SUMIF(ESCALA!$B$14:$B$15,DADOS!K8624,ESCALA!$I$14:$I$15)","v":30}]
[60669,60669,"ADRIANA RIBEIRO","AGENTE ESCOLAR","ESTATUTARIO","2023-08-31",30,"2024-08-31","2023-08-31","2024-07-31","60669-45169",{"$f":"G8629-SUMIF(ESCALA!$B$14:$B$15,DADOS!K8629,ESCALA!$I$14:$I$15)","v":30}]
[60735,60735,"MARLICE DOURADO FREITAS DA SILVA","PROFESSOR (A) DE EDUCACAO BASICA","ESTATUTARIO","2023-09-04",30,"2024-09-04",{"$f":"IF(E8644=\"ESTATUTARIO\",EOMONTH(F8644,0),EOMONTH(F8644,-1))","v":"2023-09-30"},{"$f":"EOMONTH(F8644,11)","v":"2024-08-31"},"60735-45173",{"$f":"G8644-SUMIF(ESCALA!$B$14:$B$15,DADOS!K8644,ESCALA!$I$14:$I$15)","v":30}]
[60893,60893,"CLAUDIA REGINA MORENO MOREIRA","AGENTE ESCOLAR","ESTATUTARIO","2023-10-13",30,"2024-10-13","2023-10-31","2024-09-30","60893-45212",{"$f":"G8660-SUMIF(ESCALA!$B$14:$B$15,DADOS!K8660,ESCALA!$I$14:$I$15)","v":30}]
[60942,60942,"DEIVILANE APARECIDA IRINEU DA SILVA","AGENTE ESCOLAR","ESTATUTARIO","2022-10-28",15,"2023-10-28","2022-10-31","2023-09-30","60942-44862",{"$f":"G8677-SUMIF(ESCALA!$B$14:$B$15,DADOS!K8677,ESCALA!$I$14:$I$15)","v":15}]
[60967,60967,"THIAGO LUIZ RODRIGUES","PROFESSOR (A) COORDENADOR (A)  PEDAGOGICO (A)","ESTATUTARIO","2023-11-03",30,"2024-11-03","2023-11-30","2024-10-31","60967-45233",{"$f":"G8692-SUMIF(ESCALA!$B$14:$B$15,DADOS!K8692,ESCALA!$I$14:$I$15)","v":30}]
[60979,60979,"RODRIGO ROBERTO JOSE DOS SANTOS","PROFESSOR (A) DE EDUCACAO BASICA","ESTATUTARIO","2022-11-03",30,"2023-11-03","2022-11-30","2023-10-31","60979-44868",{"$f":"G8697-SUMIF(ESCALA!$B$14:$B$15,DADOS!K8697,ESCALA!$I$14:$I$15)","v":30}]
[61041,61041,"JONATA FERREIRA DOS SANTOS","CHEFE DE SECAO ADMINISTRATIVA","ESTATUTARIO","2022-11-30",30,"2023-11-30","2022-11-30","2023-10-31","61041-44895",{"$f":"G8722-SUMIF(ESCALA!$B$14:$B$15,DADOS!K8722,ESCALA!$I$14:$I$15)","v":30}]
[61044,61044,"JEFERSON RAIMUNDO NASCIMENTO DOS SANTOS","MOTORISTA","ESTATUTARIO","2022-11-30",30,"2023-11-30","2022-11-30","2023-10-31","61044-44895",{"$f":"G8726-SUMIF(ESCALA!$B$14:$B$15,DADOS!K8726,ESCALA!$I$14:$I$15)","v":30}]
[61128,61128,"CRISTIANE BESERRA FERREIRA","PROFESSOR (A) DE EDUCACAO BASICA","ESTATUTARIO","2023-01-01",30,"2024-01-01","2023-01-31","2023-12-31","61128-44927",{"$f":"G8745-SUMIF(ESCALA!$B$14:$B$15,DADOS!K8745,ESCALA!$I$14:$I$15)","v":30}]
[61170,61170,"KELLY AGNES DOS SANTOS","PROFESSOR (A) DE EDUCACAO INFANTIL","ESTATUTARIO","2023-01-01",30,"2024-01-01","2023-01-31","2023-12-31","61170-44927",{"$f":"G8760-SUMIF(ESCALA!$B$14:$B$15,DADOS!K8760,ESCALA!$I$14:$I$15)","v":30}]
[61249,61249,"JOSE GERALDO GALDINO FILHO","PROFESSOR (A) DE EDUCACAO BASICA","ESTATUTARIO","2023-01-01",30,"2024-01-01","2023-01-31","2023-12-31","61249-44927",{"$f":"G8775-SUMIF(ESCALA!$B$14:$B$15,DADOS!K8775,ESCALA!$I$14:$I$15)","v":30}]
[61267,61267,"VALDIRENE AQUINO NOGUEIRA","PROFESSOR (A) DE EDUCACAO BASICA","ESTATUTARIO","2023-01-01",30,"2024-01-01","2023-01-31","2023-12-31","61267-44927",{"$f":"G8779-SUMIF(ESCALA!$B$14:$B$15,DADOS!K8779,ESCALA!$I$14:$I$15)","v":30}]
[61438,61438,"NEIDE DA COSTA GOMES","COZINHEIRO (A)","ESTATUTARIO","2023-03-01",30,"2024-03-01","2023-03-31","2024-02-29","61438-44986",{"$f":"G8794-SUMIF(ESCALA!$B$14:$B$15,DADOS!K8794,ESCALA!$I$14:$I$15)","v":30}]
[62857,62857,"ELISABETE RODAS RACHAS","PROFESSOR (A) COORDENADOR (A)  PEDAGOGICO (A)","ESTATUTARIO","2023-01-01",30,"2024-01-01","2023-01-31","2023-12-31","62857-44927",{"$f":"G8813-SUMIF(ESCALA!$B$14:$B$15,DADOS!K8813,ESCALA!$I$14:$I$15)","v":30}]
[62989,62989,"MARTA GALERA SANTOS DE MACEDO","AGENTE ESCOLAR","ESTATUTARIO","2023-03-13",30,"2024-03-13","2023-03-31","2024-02-29","62989-44998",{"$f":"G8824-SUMIF(ESCALA!$B$14:$B$15,DADOS!K8824,ESCALA!$I$14:$I$15)","v":30}]
[63549,63549,"SOLANGE DA CRUZ","DIRETOR (A) DE ESCOLA","ESTATUTARIO","2023-10-10",30,"2024-10-10","2023-10-31","2024-09-30","63549-45209",{"$f":"G8842-SUMIF(ESCALA!$B$14:$B$15,DADOS!K8842,ESCALA!$I$14:$I$15)","v":30}]
[63841,63841,"JOSE ANTONIO RODRIGUES JUNIOR","DIRETOR (A) DE DEPARTAMENTO","ESTATUTARIO","2023-01-18",30,"2024-01-18","2023-01-31","2023-12-31","63841-44944",{"$f":"G8861-SUMIF(ESCALA!$B$14:$B$15,DADOS!K8861,ESCALA!$I$14:$I$15)","v":30}]
[63909,63909,"ADRIANA MARRA","CHEFE DE SECAO ADMINISTRATIVA","ESTATUTARIO","2023-01-29",30,"2024-01-29","2023-01-31","2023-12-31","63909-44955",{"$f":"G8862-SUMIF(ESCALA!$B$14:$B$15,DADOS!K8862,ESCALA!$I$14:$I$15)","v":30}]
[64315,64315,"ALOBENED CARVALHO SOUZA NASCIMENTO","AGENTE ESCOLAR","ESTATUTARIO","2023-05-14",30,"2024-05-14","2023-05-31","2024-04-30","64315-45060",{"$f":"G8877-SUMIF(ESCALA!$B$14:$B$15,DADOS!K8877,ESCALA!$I$14:$I$15)","v":30}]
[64348,64348,"MAILSON DOMINGOS SOARES DA SILVA","PROFESSOR (A) DE EDUCACAO BASICA","ESTATUTARIO","2023-01-01",30,"2024-01-01","2023-01-31","2023-12-31","64348-44927",{"$f":"G8895-SUMIF(ESCALA!$B$14:$B$15,DADOS!K8895,ESCALA!$I$14:$I$15)","v":30}]
[65045,65045,"CAMILA LEITE ARAUJO RONCON","PROFESSOR (A) COORDENADOR (A)  PEDAGOGICO (A)","ESTATUTARIO","2023-01-01",30,"2024-01-01","2023-01-31","2023-12-31","65045-44927",{"$f":"G8910-SUMIF(ESCALA!$B$14:$B$15,DADOS!K8910,ESCALA!$I$14:$I$15)","v":30}]
[65320,65320,"BENITO LINS JEPES","PROFESSOR (A) DE EDUCACAO BASICA","ESTATUTARIO","2023-01-01",30,"2024-01-01","2023-01-31","2023-12-31","65320-44927",{"$f":"G8929-SUMIF(ESCALA!$B$14:$B$15,DADOS!K8929,ESCALA!$I$14:$I$15)","v":30}]
[65487,65487,"ALESSANDRA SOARES CARDOSO","PROFESSOR (A) DE EDUCACAO BASICA","ESTATUTARIO","2023-01-01",30,"2024-01-01","2023-01-31","2023-12-31","65487-44927",{"$f":"G8939-SUMIF(ESCALA!$B$14:$B$15,DADOS!K8939,ESCALA!$I$14:$I$15)","v":30}]
[65497,65497,"ELVIS PERON PEREIRA DE SOUZA ANDRADE","SUPERVISÃO DE SETOR","ESTATUTARIO","2023-08-20",30,"2024-08-20","2023-08-31","2024-07-31","65497-45158",{"$f":"G8944-SUMIF(ESCALA!$B$14:$B$15,DADOS!K8944,ESCALA!$I$14:$I$15)","v":30}]
[{"$f":"IF(L8963=0,\"\",B8963)","v":65670},65670,"MARLY FERNANDES DA SILVA NASCIMENTO","PROFESSOR (A) DE EDUCACAO BASICA","ESTATUTARIO","2023-01-01",30,{"$f":"IF(F8963<=44985,F8963+365,F8963+366)","v":"2024-01-01"},"2023-01-31","2023-12-31",{"$f":"CONCATENATE(B8963,\"-\",F8963)","v":"65670-44927"},{"$f":"G8963-SUMIF(ESCALA!$B$14:$B$15,DADOS!K8963,ESCALA!$I$14:$I$15)","v":30}]
[65706,65706,"FLAVIA DE SOUSA OLIVEIRA TON","PROFESSOR (A) DE EDUCACAO INFANTIL","ESTATUTARIO","2023-01-01",30,"2024-01-01","2023-01-31","2023-12-31","65706-44927",{"$f":"G8978-SUMIF(ESCALA!$B$14:$B$15,DADOS!K8978,ESCALA!$I$14:$I$15)","v":30}]
[65768,65768,"CRISTIANE DA SILVA PEDROSO","PROFESSOR (A) DE EDUCACAO BASICA","ESTATUTARIO","2023-01-01",30,"2024-01-01","2023-01-31","2023-12-31","65768-44927",{"$f":"G8988-SUMIF(ESCALA!$B$14:$B$15,DADOS!K8988,ESCALA!$I$14:$I$15)","v":30}]
[65895,65895,"GRAZIELE ALVES FREITAS DA SILVA","PROFESSOR (A) DE EDUCACAO BASICA","ESTATUTARIO","2023-01-01",30,"2024-01-01","2023-01-31","2023-12-31","65895-44927",{"$f":"G9011-SUMIF(ESCALA!$B$14:$B$15,DADOS!K9011,ESCALA!$I$14:$I$15)","v":30}]
[65919,65919,"BRUNA MAYARA DOS SANTOS","PROFESSOR (A) DE EDUCACAO BASICA","ESTATUTARIO","2023-01-01",30,"2024-01-01","2023-01-31","2023-12-31","65919-44927",{"$f":"G9026-SUMIF(ESCALA!$B$14:$B$15,DADOS!K9026,ESCALA!$I$14:$I$15)","v":30}]
[65926,65926,"KELYS QUITAISKI","PROFESSOR (A) DE EDUCACAO BASICA","ESTATUTARIO","2023-01-01",30,"2024-01-01","2023-01-31","2023-12-31","65926-44927",{"$f":"G9031-SUMIF(ESCALA!$B$14:$B$15,DADOS!K9031,ESCALA!$I$14:$I$15)","v":30}]
[65942,65942,"PAULA DE FREITAS","PROFESSOR (A) DE EDUCACAO BASICA","ESTATUTARIO","2023-01-01",30,"2024-01-01","2023-01-31","2023-12-31","65942-44927",{"$f":"G9041-SUMIF(ESCALA!$B$14:$B$15,DADOS!K9041,ESCALA!$I$14:$I$15)","v":30}]
[65977,65977,"DAYANA COSME DA SILVA PAIVA","PROFESSOR (A) DE EDUCACAO BASICA","ESTATUTARIO","2023-01-01",30,"2024-01-01","2023-01-31","2023-12-31","65977-44927",{"$f":"G9060-SUMIF(ESCALA!$B$14:$B$15,DADOS!K9060,ESCALA!$I$14:$I$15)","v":30}]
[66056,66056,"JUCELINA GOMES NOGUEIRA","PROFESSOR (A) DE EDUCACAO BASICA","ESTATUTARIO","2023-01-01",30,"2024-01-01","2023-01-31","2023-12-31","66056-44927",{"$f":"G9079-SUMIF(ESCALA!$B$14:$B$15,DADOS!K9079,ESCALA!$I$14:$I$15)","v":30}]
[66118,66118,"FRANCICLEIDE BELARMINO DE OLIVEIRA","PROFESSOR (A) COORDENADOR (A)  PEDAGOGICO (A)","ESTATUTARIO","2023-01-01",30,"2024-01-01","2023-01-31","2023-12-31","66118-44927",{"$f":"G9094-SUMIF(ESCALA!$B$14:$B$15,DADOS!K9094,ESCALA!$I$14:$I$15)","v":30}]
[66147,66147,"ERIKA PINHEIRO DE ABREU","PROFESSOR (A) DE EDUCACAO BASICA","ESTATUTARIO","2023-01-01",30,"2024-01-01","2023-01-31","2023-12-31","66147-44927",{"$f":"G9103-SUMIF(ESCALA!$B$14:$B$15,DADOS!K9103,ESCALA!$I$14:$I$15)","v":30}]
[66185,66185,"NOEMIA PILAR LANDEIRA GOMEZ CHAMELETE","COORDENADOR (A) DE PROGRAMAS EDUCACIONAIS","ESTATUTARIO","2022-06-14",20,"2023-06-14","2022-06-30","2023-05-31","66185-44726",{"$f":"G9113-SUMIF(ESCALA!$B$14:$B$15,DADOS!K9113,ESCALA!$I$14:$I$15)","v":20}]
[66217,66217,"ANGELA APARECIDA DE AQUINO RAMALHO DIAS","PROFESSOR (A) DE EDUCACAO BASICA","ESTATUTARIO","2023-01-01",30,"2024-01-01","2023-01-31","2023-12-31","66217-44927",{"$f":"G9128-SUMIF(ESCALA!$B$14:$B$15,DADOS!K9128,ESCALA!$I$14:$I$15)","v":30}]
[66244,66244,"DENISE RAZZABONI BRITO","PROFESSOR (A) DE EDUCACAO BASICA","ESTATUTARIO","2023-01-01",30,"2024-01-01","2023-01-31","2023-12-31","66244-44927",{"$f":"G9147-SUMIF(ESCALA!$B$14:$B$15,DADOS!K9147,ESCALA!$I$14:$I$15)","v":30}]
[66256,66256,"GELMA MARQUES DE SOUSA MUNIZ","PROFESSOR (A) DE EDUCACAO BASICA","ESTATUTARIO","2022-07-10",30,"2023-07-10",{"$f":"IF(E9156=\"ESTATUTARIO\",EOMONTH(F9156,0),EOMONTH(F9156,-1))","v":"2022-07-31"},{"$f":"EOMONTH(F9156,11)","v":"2023-06-30"},"66256-44752",{"$f":"G9156-SUMIF(ESCALA!$B$14:$B$15,DADOS!K9156,ESCALA!$I$14:$I$15)","v":30}]
[66268,66268,"NATACHA KEILA BARTALINI SILVA","PROFESSOR (A) DE EDUCACAO BASICA","ESTATUTARIO","2023-07-05",30,"2024-07-05","2023-07-31","2024-06-30","66268-45112",{"$f":"G9166-SUMIF(ESCALA!$B$14:$B$15,DADOS!K9166,ESCALA!$I$14:$I$15)","v":30}]
[66298,66298,"JOAO MARTINS DA SILVA","AGENTE ESCOLAR","ESTATUTARIO","2022-07-15",30,"2023-07-15","2022-07-31","2023-06-30","66298-44757",{"$f":"G9181-SUMIF(ESCALA!$B$14:$B$15,DADOS!K9181,ESCALA!$I$14:$I$15)","v":30}]
[66362,66362,"DANILLO CERVELLINE MENDONCA LIMA","ASSISTENTE DE GESTAO ESCOLAR","ESTATUTARIO","2022-07-31",20,"2023-07-31","2022-07-31","2023-06-30","66362-44773",{"$f":"G9196-SUMIF(ESCALA!$B$14:$B$15,DADOS!K9196,ESCALA!$I$14:$I$15)","v":20}]
[66422,66422,"DEBORA HITOMI SHIMADA","ASSISTENTE DE GESTAO ESCOLAR","ESTATUTARIO","2023-09-02",30,"2024-09-02","2023-09-30","2024-08-31","66422-45171",{"$f":"G9218-SUMIF(ESCALA!$B$14:$B$15,DADOS!K9218,ESCALA!$I$14:$I$15)","v":30}]
[66438,66438,"VANESSA VAZ DA SILVA","COZINHEIRO (A)","ESTATUTARIO","2022-09-02",30,"2023-09-02","2022-09-30","2023-08-31","66438-44806",{"$f":"G9229-SUMIF(ESCALA!$B$14:$B$15,DADOS!K9229,ESCALA!$I$14:$I$15)","v":30}]
[66461,66461,"VANDERLINO JESUINO ALMEIDA","AGENTE ESCOLAR","ESTATUTARIO","2023-09-02",30,"2024-09-02","2023-09-30","2024-08-31","66461-45171",{"$f":"G9244-SUMIF(ESCALA!$B$14:$B$15,DADOS!K9244,ESCALA!$I$14:$I$15)","v":30}]
[66469,66469,"THIAGO ADONAI ARAUJO ALVES","SUPERVISÃO DE SETOR","ESTATUTARIO","2023-09-02",30,"2024-09-02","2023-09-30","2024-08-31","66469-45171",{"$f":"G9249-SUMIF(ESCALA!$B$14:$B$15,DADOS!K9249,ESCALA!$I$14:$I$15)","v":30}]
[66622,66622,"TATIANE PIMENTEL CARVALHO DE LIMA","PROFESSOR (A) DE EDUCACAO INFANTIL","ESTATUTARIO","2022-11-11",30,"2023-11-11","2022-11-30","2023-10-31","66622-44876",{"$f":"G9271-SUMIF(ESCALA!$B$14:$B$15,DADOS!K9271,ESCALA!$I$14:$I$15)","v":30}]
[66631,66631,"ELCE DURAES SOUZA","COZINHEIRO (A)","ESTATUTARIO","2023-11-11",30,"2024-11-11","2023-11-30","2024-10-31","66631-45241",{"$f":"G9282-SUMIF(ESCALA!$B$14:$B$15,DADOS!K9282,ESCALA!$I$14:$I$15)","v":30}]
[66639,66639,"MARJORY NAME MURAD","PROFESSOR (A) DE EDUCAÇÃO BÁSICA","ESTATUTARIO","2023-01-01",30,"2024-01-01","2023-01-31","2023-12-31","66639-44927",{"$f":"G9297-SUMIF(ESCALA!$B$14:$B$15,DADOS!K9297,ESCALA!$I$14:$I$15)","v":30}]
[66655,66655,"CAMILA DE ALMEIDA OLIVEIRA","PROFESSOR (A) DE EDUCACAO INFANTIL","ESTATUTARIO","2023-11-21",30,"2024-11-21","2023-11-30","2024-10-31","66655-45251",{"$f":"G9312-SUMIF(ESCALA!$B$14:$B$15,DADOS!K9312,ESCALA!$I$14:$I$15)","v":30}]
[66667,66667,"ALEXANDRE RUBIN DE TOLEDO","AGENTE ESCOLAR","ESTATUTARIO","2023-12-09",30,"2024-12-09","2023-12-31","2024-11-30","66667-45269",{"$f":"G9320-SUMIF(ESCALA!$B$14:$B$15,DADOS!K9320,ESCALA!$I$14:$I$15)","v":30}]
[66781,66781,"GISLAINE TOZZI DA SILVA","COZINHEIRO (A)","ESTATUTARIO","2022-02-03",30,"2023-02-03","2022-02-28","2023-01-31","66781-44595",{"$f":"G9331-SUMIF(ESCALA!$B$14:$B$15,DADOS!K9331,ESCALA!$I$14:$I$15)","v":30}]
[66839,66839,"LIGIA KEIKO DOS SANTOS","ASSISTENTE DE GESTAO ESCOLAR","ESTATUTARIO","2023-03-06",30,"2024-03-06","2023-03-31","2024-02-29","66839-44991",{"$f":"G9346-SUMIF(ESCALA!$B$14:$B$15,DADOS!K9346,ESCALA!$I$14:$I$15)","v":30}]
[66857,66857,"LEILA SHAINNY DOS SANTOS BARROS","PROFESSOR (A) DE EDUCAÇÃO BÁSICA","ESTATUTARIO","2023-12-31",30,"2024-12-31","2023-12-31","2024-11-30","66857-45291",{"$f":"G9365-SUMIF(ESCALA!$B$14:$B$15,DADOS!K9365,ESCALA!$I$14:$I$15)","v":30}]
[66861,66861,"MANOEL LUIZ DE OLIVEIRA NETO","PROFESSOR (A) DE EDUCACAO BASICA","ESTATUTARIO","2023-12-31",30,"2024-12-31","2023-12-31","2024-11-30","66861-45291",{"$f":"G9373-SUMIF(ESCALA!$B$14:$B$15,DADOS!K9373,ESCALA!$I$14:$I$15)","v":30}]
[66867,66867,"MIRIAM ESTELA BULHOES FRANCA","PROFESSOR (A) DE EDUCACAO BASICA","ESTATUTARIO","2023-12-31",30,"2024-12-31","2023-12-31","2024-11-30","66867-45291",{"$f":"G9384-SUMIF(ESCALA!$B$14:$B$15,DADOS!K9384,ESCALA!$I$14:$I$15)","v":30}]
[66876,66876,"TALYA CAROLINA ADEGAS DA SILVA","PROFESSOR (A) DE EDUCACAO BASICA","ESTATUTARIO","2022-03-06",30,"2023-03-06","2022-03-31","2023-02-28","66876-44626",{"$f":"G9399-SUMIF(ESCALA!$B$14:$B$15,DADOS!K9399,ESCALA!$I$14:$I$15)","v":30}]
[66883,66883,"ROSALI APARECIDA CAMPOS MARTINS","PROFESSOR (A) DE EDUCAÇÃO BÁSICA","ESTATUTARIO","2023-12-31",30,"2024-12-31","2023-12-31","2024-11-30","66883-45291",{"$f":"G9414-SUMIF(ESCALA!$B$14:$B$15,DADOS!K9414,ESCALA!$I$14:$I$15)","v":30}]
[66897,66897,"VANESSA ANDREIA DA SILVA","PROFESSOR (A) DE EDUCAÇÃO BÁSICA","ESTATUTARIO","2022-12-31",30,"2023-12-31","2022-12-31","2023-11-30","66897-44926",{"$f":"G9435-SUMIF(ESCALA!$B$14:$B$15,DADOS!K9435,ESCALA!$I$14:$I$15)","v":30}]
[66903,66903,"CLAUDIA POUCIANO DIAS","PROFESSOR (A) DE EDUCACAO BASICA","ESTATUTARIO","2022-12-31",30,"2023-12-31","2022-12-31","2023-11-30","66903-44926",{"$f":"G9447-SUMIF(ESCALA!$B$14:$B$15,DADOS!K9447,ESCALA!$I$14:$I$15)","v":30}]
[66913,66913,"THIAGO COSTA ROSA BELO","PROFESSOR (A) DE EDUCACAO BASICA","ESTATUTARIO","2023-12-31",30,"2024-12-31","2023-12-31","2024-11-30","66913-45291",{"$f":"G9466-SUMIF(ESCALA!$B$14:$B$15,DADOS!K9466,ESCALA!$I$14:$I$15)","v":30}]
[66914,66914,"ROSANGELA APARECIDA DOS SANTOS TEIXEIRA","PROFESSOR (A) DE EDUCACAO BASICA","ESTATUTARIO","2022-12-31",30,"2023-12-31","2022-12-31","2023-11-30","66914-44926",{"$f":"G9467-SUMIF(ESCALA!$B$14:$B$15,DADOS!K9467,ESCALA!$I$14:$I$15)","v":30}]
[66941,66941,"FLAVIA CRISTINA DOS SANTOS FONTES","PROFESSOR (A) DE EDUCACAO INFANTIL","ESTATUTARIO","2022-03-06",30,"2023-03-06","2022-03-31","2023-02-28","66941-44626",{"$f":"G9488-SUMIF(ESCALA!$B$14:$B$15,DADOS!K9488,ESCALA!$I$14:$I$15)","v":30}]
[66970,66970,"AMANDA ELISDEIRE LEITAO SOARES","PROFESSOR (A) DE EDUCAÇÃO BÁSICA","ESTATUTARIO","2023-12-31",30,"2024-12-31","2023-12-31","2024-11-30","66970-45291",{"$f":"G9500-SUMIF(ESCALA!$B$14:$B$15,DADOS!K9500,ESCALA!$I$14:$I$15)","v":30}]
[66990,66990,"SUSANA ALVES RAMOS","PROFESSOR (A) DE EDUCACAO BASICA","ESTATUTARIO","2023-12-31",30,"2024-12-31","2023-12-31","2024-11-30","66990-45291",{"$f":"G9515-SUMIF(ESCALA!$B$14:$B$15,DADOS!K9515,ESCALA!$I$14:$I$15)","v":30}]
[67060,67060,"VANESSA DE MORAIS","PROFESSOR (A) DE EDUCAÇÃO BÁSICA","ESTATUTARIO","2022-12-31",30,"2023-12-31","2022-12-31","2023-11-30","67060-44926",{"$f":"G9530-SUMIF(ESCALA!$B$14:$B$15,DADOS!K9530,ESCALA!$I$14:$I$15)","v":30}]
[67222,67222,"MICHELE ALVES BANOW DE SOUZA","PROFESSOR (A) DE EDUCAÇÃO BÁSICA","ESTATUTARIO","2023-12-31",30,"2024-12-31","2023-12-31","2024-11-30","67222-45291",{"$f":"G9537-SUMIF(ESCALA!$B$14:$B$15,DADOS!K9537,ESCALA!$I$14:$I$15)","v":30}]
[67283,67283,"NATALIA CRISTINA LOPES DE LIMA","PROFESSOR (A) DE EDUCACAO BASICA","ESTATUTARIO","2022-12-31",30,"2023-12-31","2022-12-31","2023-11-30","67283-44926",{"$f":"G9549-SUMIF(ESCALA!$B$14:$B$15,DADOS!K9549,ESCALA!$I$14:$I$15)","v":30}]
[67305,67305,"THAMIRES FERRIS BARBOSA","PROFESSOR (A) DE EDUCACAO BASICA","ESTATUTARIO","2023-01-01",30,"2024-01-01","2023-01-31","2023-12-31","67305-44927",{"$f":"G9568-SUMIF(ESCALA!$B$14:$B$15,DADOS!K9568,ESCALA!$I$14:$I$15)","v":30}]
[67366,67366,"MATHEUS CUNHA FIRMINO","ASSISTENTE DE GESTAO ESCOLAR","ESTATUTARIO","2022-05-01",30,"2023-05-01","2022-05-31","2023-04-30","67366-44682",{"$f":"G9583-SUMIF(ESCALA!$B$14:$B$15,DADOS!K9583,ESCALA!$I$14:$I$15)","v":30}]
[{"$f":"IF(L9603=0,\"\",B9603)","v":67577},67577,"KELLY CRISTINA GONCALVES","COZINHEIRO (A)","ESTATUTARIO","2022-05-13",30,{"$f":"IF(F9603<=44985,F9603+365,F9603+366)","v":"2023-05-13"},"2022-05-31","2023-04-30",{"$f":"CONCATENATE(B9603,\"-\",F9603)","v":"67577-44694"},{"$f":"G9603-SUMIF(ESCALA!$B$14:$B$15,DADOS!K9603,ESCALA!$I$14:$I$15)","v":30}]
[67958,67958,"ANDREIA PEREIRA DA SILVA SANTOS","PROFESSOR (A) DE EDUCACAO BASICA","ESTATUTARIO","2023-12-31",30,"2024-12-31","2023-12-31","2024-11-30","67958-45291",{"$f":"G9616-SUMIF(ESCALA!$B$14:$B$15,DADOS!K9616,ESCALA!$I$14:$I$15)","v":30}]
[67981,67981,"MARTA CARDOSO DE SOUSA","PROFESSOR (A) DE EDUCAÇÃO BÁSICA","ESTATUTARIO","2022-12-31",30,"2023-12-31","2022-12-31","2023-11-30","67981-44926",{"$f":"G9631-SUMIF(ESCALA!$B$14:$B$15,DADOS!K9631,ESCALA!$I$14:$I$15)","v":30}]
[67981,67981,"MARTA CARDOSO DE SOUSA","PROFESSOR (A) DE EDUCAÇÃO BÁSICA","ESTATUTARIO","2023-12-31",30,"2024-12-31","2023-12-31","2024-11-30","67981-45291",{"$f":"G9632-SUMIF(ESCALA!$B$14:$B$15,DADOS!K9632,ESCALA!$I$14:$I$15)","v":30}]
[68223,68223,"AMANDA ANDRADE DE FARIAS","COZINHEIRO (A)","ESTATUTARIO","2023-07-03",30,"2024-07-03","2023-07-31","2024-06-30","68223-45110",{"$f":"G9652-SUMIF(ESCALA!$B$14:$B$15,DADOS!K9652,ESCALA!$I$14:$I$15)","v":30}]
[68280,68280,"ENEVALDO NUNES MACHADO","COZINHEIRO (A)","ESTATUTARIO","2022-07-17",30,"2023-07-17","2022-07-31","2023-06-30","68280-44759",{"$f":"G9665-SUMIF(ESCALA!$B$14:$B$15,DADOS!K9665,ESCALA!$I$14:$I$15)","v":30}]
[68325,68325,"TATIANE DIAS DE ALMEIDA","PROFESSOR (A) DE EDUCAÇÃO BÁSICA","ESTATUTARIO","2023-08-08",30,"2024-08-08","2023-08-31","2024-07-31","68325-45146",{"$f":"G9684-SUMIF(ESCALA!$B$14:$B$15,DADOS!K9684,ESCALA!$I$14:$I$15)","v":30}]
[68341,68341,"MARCIELI SCHATZ NICOLETTI","PROFESSOR (A) DE EDUCACAO BASICA","ESTATUTARIO","2022-12-31",30,"2023-12-31","2022-12-31","2023-11-30","68341-44926",{"$f":"G9699-SUMIF(ESCALA!$B$14:$B$15,DADOS!K9699,ESCALA!$I$14:$I$15)","v":30}]
[68350,68350,"QUELI CRISTINA MARQUES COSTA ","PROFESSOR (A) DE EDUCAÇÃO BÁSICA","ESTATUTARIO","2022-08-14",30,"2023-08-14","2022-08-31","2023-07-31","68350-44787",{"$f":"G9705-SUMIF(ESCALA!$B$14:$B$15,DADOS!K9705,ESCALA!$I$14:$I$15)","v":30}]
[68358,68358,"MARIA DO SOCORRO LOPES NIZOLI","PROFESSOR (A) DE EDUCAÇÃO BÁSICA","ESTATUTARIO","2023-12-31",30,"2024-12-31","2023-12-31","2024-11-30","68358-45291",{"$f":"G9718-SUMIF(ESCALA!$B$14:$B$15,DADOS!K9718,ESCALA!$I$14:$I$15)","v":30}]
[68371,68371,"IVONE NERES DE BARROS","PROFESSOR (A) DE EDUCAÇÃO BÁSICA","ESTATUTARIO","2022-12-31",30,"2023-12-31","2022-12-31","2023-11-30","68371-44926",{"$f":"G9733-SUMIF(ESCALA!$B$14:$B$15,DADOS!K9733,ESCALA!$I$14:$I$15)","v":30}]
[68391,68391,"SUZIANE MACIEL PALOTTA","VICE-DIRETOR (A) DE ESCOLA","ESTATUTARIO","2023-12-31",30,"2024-12-31","2023-12-31","2024-11-30","68391-45291",{"$f":"G9752-SUMIF(ESCALA!$B$14:$B$15,DADOS!K9752,ESCALA!$I$14:$I$15)","v":30}]
[68408,68408,"EMYLLE DE CASSIA CABRAL DOS ANJOS","CHEFE DE SECAO TECNICA","ESTATUTARIO","2023-01-01",30,"2024-01-01","2023-01-31","2023-12-31","68408-44927",{"$f":"G9767-SUMIF(ESCALA!$B$14:$B$15,DADOS!K9767,ESCALA!$I$14:$I$15)","v":30}]
[68452,68452,"MARILIA LEANDRO DE SALLES","PROFESSOR (A) DE EDUCAÇÃO BÁSICA","ESTATUTARIO","2023-12-31",30,"2024-12-31","2023-12-31","2024-11-30","68452-45291",{"$f":"G9781-SUMIF(ESCALA!$B$14:$B$15,DADOS!K9781,ESCALA!$I$14:$I$15)","v":30}]
[68459,68459,"EDSON NOGUEIRA NOBREGA","COZINHEIRO (A)","ESTATUTARIO","2022-09-11",30,"2023-09-11","2022-09-30","2023-08-31","68459-44815",{"$f":"G9786-SUMIF(ESCALA!$B$14:$B$15,DADOS!K9786,ESCALA!$I$14:$I$15)","v":30}]
[68486,68486,"MARTA THULER TAVARES","PROFESSOR (A) DE EDUCACAO BASICA","ESTATUTARIO","2022-12-31",30,"2023-12-31","2022-12-31","2023-11-30","68486-44926",{"$f":"G9801-SUMIF(ESCALA!$B$14:$B$15,DADOS!K9801,ESCALA!$I$14:$I$15)","v":30}]
[68500,68500,"MONIZE MARQUES MARIANO STENGLER PEREIRA","PROFESSOR (A) DE EDUCAÇÃO BÁSICA","ESTATUTARIO","2023-12-31",30,"2024-12-31","2023-12-31","2024-11-30","68500-45291",{"$f":"G9820-SUMIF(ESCALA!$B$14:$B$15,DADOS!K9820,ESCALA!$I$14:$I$15)","v":30}]
[68520,68520,"WHINNEY SHAWANNY DA SILVA","COZINHEIRO (A)","ESTATUTARIO","2022-10-13",30,"2023-10-13","2022-10-31","2023-09-30","68520-44847",{"$f":"G9834-SUMIF(ESCALA!$B$14:$B$15,DADOS!K9834,ESCALA!$I$14:$I$15)","v":30}]
[68536,68536,"ERCY ROSSINI JUNIOR","AGENTE ESCOLAR","ESTATUTARIO","2023-10-16",30,"2024-10-16","2023-10-31","2024-09-30","68536-45215",{"$f":"G9849-SUMIF(ESCALA!$B$14:$B$15,DADOS!K9849,ESCALA!$I$14:$I$15)","v":30}]
[68543,68543,"FABIO PEREIRA DA COSTA","ASSISTENTE DE GESTAO ESCOLAR","ESTATUTARIO","2022-09-28",30,"2023-09-28","2022-09-30","2023-08-31","68543-44832",{"$f":"G9854-SUMIF(ESCALA!$B$14:$B$15,DADOS!K9854,ESCALA!$I$14:$I$15)","v":30}]
[68566,68566,"RODRIGO DE OLIVEIRA SIQUEIRA","AGENTE ESCOLAR","ESTATUTARIO","2023-11-06",30,"2024-11-06","2023-11-30","2024-10-31","68566-45236",{"$f":"G9869-SUMIF(ESCALA!$B$14:$B$15,DADOS!K9869,ESCALA!$I$14:$I$15)","v":30}]
[68614,68614,"PAULO HENRIQUE GONCALVES ALVES","PROFESSOR (A) COORDENADOR (A)  PEDAGOGICO (A)","ESTATUTARIO","2023-12-11",30,"2024-12-11","2023-12-31","2024-11-30","68614-45271",{"$f":"G9883-SUMIF(ESCALA!$B$14:$B$15,DADOS!K9883,ESCALA!$I$14:$I$15)","v":30}]
[69378,69378,"ALEXANDRE FERREIRA","AGENTE ESCOLAR","ESTATUTARIO","2023-01-01",30,"2024-01-01","2023-01-31","2023-12-31","69378-44927",{"$f":"G9902-SUMIF(ESCALA!$B$14:$B$15,DADOS!K9902,ESCALA!$I$14:$I$15)","v":30}]
[69486,69486,"LETICIA AVELINO DE CARVALHO","COZINHEIRO (A)","ESTATUTARIO","2023-02-17",30,"2024-02-17","2023-02-28","2024-01-31","69486-44974",{"$f":"G9917-SUMIF(ESCALA!$B$14:$B$15,DADOS!K9917,ESCALA!$I$14:$I$15)","v":30}]
[69506,69506,"MAYARA ALVES SANTANA","PROFESSOR (A) DE EDUCACAO BASICA","ESTATUTARIO","2023-02-18",30,"2024-02-18","2023-02-28","2024-01-31","69506-44975",{"$f":"G9931-SUMIF(ESCALA!$B$14:$B$15,DADOS!K9931,ESCALA!$I$14:$I$15)","v":30}]
[69510,69510,"KATIA CILENE DE CAMARGO","COZINHEIRO (A)","ESTATUTARIO","2023-02-18",30,"2024-02-18","2023-02-28","2024-01-31","69510-44975",{"$f":"G9936-SUMIF(ESCALA!$B$14:$B$15,DADOS!K9936,ESCALA!$I$14:$I$15)","v":30}]
[69522,69522,"ANGELINA SILVESTRE GOMES","COZINHEIRO (A)","ESTATUTARIO","2022-02-19",15,"2023-02-19","2022-02-28","2023-01-31","69522-44611",{"$f":"G9951-SUMIF(ESCALA!$B$14:$B$15,DADOS!K9951,ESCALA!$I$14:$I$15)","v":15}]
[69533,69533,"ALEXANDRA CRISTINA DA SILVA","PROFESSOR (A) DE EDUCACAO BASICA","ESTATUTARIO","2022-12-31",30,"2023-12-31","2022-12-31","2023-11-30","69533-44926",{"$f":"G9970-SUMIF(ESCALA!$B$14:$B$15,DADOS!K9970,ESCALA!$I$14:$I$15)","v":30}]
[69544,69544,"JESSICA DE SIQUEIRA MENESES ZAGO","PROFESSOR (A) DE EDUCACAO BASICA","ESTATUTARIO","2023-12-31",30,"2024-12-31","2023-12-31","2024-11-30","69544-45291",{"$f":"G9984-SUMIF(ESCALA!$B$14:$B$15,DADOS!K9984,ESCALA!$I$14:$I$15)","v":30}]
[69557,69557,"GLADIS ARTEMIZA SALAZAR BUSTAMANTE DE SA","PROFESSOR (A) DE EDUCACAO BASICA","ESTATUTARIO","2022-12-31",30,"2023-12-31","2022-12-31","2023-11-30","69557-44926",{"$f":"G9999-SUMIF(ESCALA!$B$14:$B$15,DADOS!K9999,ESCALA!$I$14:$I$15)","v":30}]
[69559,69559,"ERIKA REGINA BARBOSA NOVAIS","PROFESSOR (A) DE EDUCAÇÃO BÁSICA","ESTATUTARIO","2023-12-31",30,"2024-12-31","2023-12-31","2024-11-30","69559-45291",{"$f":"G10004-SUMIF(ESCALA!$B$14:$B$15,DADOS!K10004,ESCALA!$I$14:$I$15)","v":30}]
[69569,69569,"ADRIANA FRANCISCA DOS SANTOS","PROFESSOR (A) DE EDUCACAO BASICA","ESTATUTARIO","2022-12-31",30,"2023-12-31","2022-12-31","2023-11-30","69569-44926",{"$f":"G10019-SUMIF(ESCALA!$B$14:$B$15,DADOS!K10019,ESCALA!$I$14:$I$15)","v":30}]
[69581,69581,"THIAGO ZAGO BUENO","AGENTE ESCOLAR","ESTATUTARIO","2023-02-27",30,"2024-02-27","2023-02-28","2024-01-31","69581-44984",{"$f":"G10033-SUMIF(ESCALA!$B$14:$B$15,DADOS!K10033,ESCALA!$I$14:$I$15)","v":30}]
[69597,69597,"PRISCILA APARECIDA PEREIRA DA SILVA","COZINHEIRO (A)","ESTATUTARIO","2023-02-27",30,"2024-02-27",{"$f":"IF(E10052=\"ESTATUTARIO\",EOMONTH(F10052,0),EOMONTH(F10052,-1))","v":"2023-02-28"},{"$f":"EOMONTH(F10052,11)","v":"2024-01-31"},"69597-44984",{"$f":"G10052-SUMIF(ESCALA!$B$14:$B$15,DADOS!K10052,ESCALA!$I$14:$I$15)","v":30}]
[69617,69617,"DIEGO GONCALVES DE SOUZA","COZINHEIRO (A)","ESTATUTARIO","2023-03-02",30,"2024-03-02","2023-03-31","2024-02-29","69617-44987",{"$f":"G10067-SUMIF(ESCALA!$B$14:$B$15,DADOS!K10067,ESCALA!$I$14:$I$15)","v":30}]
[69623,69623,"NEUSA DE ALMEIDA SANTOS","AGENTE ESCOLAR","ESTATUTARIO","2022-03-03",30,"2023-03-03","2022-03-31","2023-02-28","69623-44623",{"$f":"G10072-SUMIF(ESCALA!$B$14:$B$15,DADOS!K10072,ESCALA!$I$14:$I$15)","v":30}]
[69634,69634,"KATIA CRISTINA DE OLIVEIRA LISBOA","COZINHEIRO (A)","ESTATUTARIO","2023-03-08",30,"2024-03-08","2023-03-31","2024-02-29","69634-44993",{"$f":"G10086-SUMIF(ESCALA!$B$14:$B$15,DADOS!K10086,ESCALA!$I$14:$I$15)","v":30}]
[69671,69671,"ROSENILDE DOS SANTOS ALVES","COZINHEIRO (A)","ESTATUTARIO","2023-03-22",30,"2024-03-22","2023-03-31","2024-02-29","69671-45007",{"$f":"G10101-SUMIF(ESCALA!$B$14:$B$15,DADOS!K10101,ESCALA!$I$14:$I$15)","v":30}]
[69705,69705,"PAULA KAMEI PETINATI","PROFESSOR (A) DE EDUCACAO BASICA","ESTATUTARIO","2023-01-01",30,"2024-01-01","2023-01-31","2023-12-31","69705-44927",{"$f":"G10120-SUMIF(ESCALA!$B$14:$B$15,DADOS!K10120,ESCALA!$I$14:$I$15)","v":30}]
[69721,69721,"SILVANA RODRIGUES DA SILVA","PROFESSOR (A) DE EDUCACAO BASICA","ESTATUTARIO","2023-01-01",30,"2024-01-01","2023-01-31","2023-12-31","69721-44927",{"$f":"G10135-SUMIF(ESCALA!$B$14:$B$15,DADOS!K10135,ESCALA!$I$14:$I$15)","v":30}]
[69745,69745,"ELIZANGELA MARIA APARECIDA DOS SANTOS","COZINHEIRO (A)","ESTATUTARIO","2023-03-30",30,"2024-03-30","2023-03-31","2024-02-29","69745-45015",{"$f":"G10148-SUMIF(ESCALA!$B$14:$B$15,DADOS!K10148,ESCALA!$I$14:$I$15)","v":30}]
[70333,70333,"SANDRA REGINA DE LIMA","PROFESSOR (A) DE EDUCACAO BASICA","ESTATUTARIO","2023-12-31",30,"2024-12-31","2023-12-31","2024-11-30","70333-45291",{"$f":"G10154-SUMIF(ESCALA!$B$14:$B$15,DADOS!K10154,ESCALA!$I$14:$I$15)","v":30}]
[71071,71071,"ROGERIO APARECIDO OLIVEIRA DOS SANTOS","ASSESSOR (A) DE POLITICAS GOVERNAMENTAIS","ESTATUTARIO","2023-05-24",30,"2024-05-24","2023-05-31","2024-04-30","71071-45070",{"$f":"G10169-SUMIF(ESCALA!$B$14:$B$15,DADOS!K10169,ESCALA!$I$14:$I$15)","v":30}]
[71347,71347,"ELISANGELA SANTOS GOMES","PROFESSOR (A) DE EDUCACAO BASICA","ESTATUTARIO","2022-12-31",30,"2023-12-31","2022-12-31","2023-11-30","71347-44926",{"$f":"G10188-SUMIF(ESCALA!$B$14:$B$15,DADOS!K10188,ESCALA!$I$14:$I$15)","v":30}]
[71483,71483,"KESYA DE SOUSA NASCIMENTO","ASSESSOR (A) DE GESTAO","ESTATUTARIO","2023-06-16",30,"2024-06-16","2023-06-30","2024-05-31","71483-45093",{"$f":"G10201-SUMIF(ESCALA!$B$14:$B$15,DADOS!K10201,ESCALA!$I$14:$I$15)","v":30}]
[71505,71505,"ROSEMEIRE FERREIRA DE OLIVEIRA","COZINHEIRO (A)","ESTATUTARIO","2023-06-20",30,"2024-06-20","2023-06-30","2024-05-31","71505-45097",{"$f":"G10221-SUMIF(ESCALA!$B$14:$B$15,DADOS!K10221,ESCALA!$I$14:$I$15)","v":30}]
[71594,71594,"ARTUR CECIO CONCEICAO DO PRADO","PROFESSOR (A) DE EDUCACAO BASICA","ESTATUTARIO","2023-12-31",30,"2024-12-31","2023-12-31","2024-11-30","71594-45291",{"$f":"G10236-SUMIF(ESCALA!$B$14:$B$15,DADOS!K10236,ESCALA!$I$14:$I$15)","v":30}]
[71596,71596,"ABNA ALVES DANTAS","PROFESSOR (A) DE EDUCACAO BASICA","ESTATUTARIO","2022-12-31",30,"2023-12-31","2022-12-31","2023-11-30","71596-44926",{"$f":"G10237-SUMIF(ESCALA!$B$14:$B$15,DADOS!K10237,ESCALA!$I$14:$I$15)","v":30}]
[71617,71617,"ARIANE GOMES DA SILVA","PROFESSOR (A) DE EDUCACAO BASICA","ESTATUTARIO","2022-12-31",30,"2023-12-31","2022-12-31","2023-11-30","71617-44926",{"$f":"G10263-SUMIF(ESCALA!$B$14:$B$15,DADOS!K10263,ESCALA!$I$14:$I$15)","v":30}]
[71621,71621,"LARYSSA HENRIQUE DOS SANTOS","PROFESSOR (A) DE EDUCACAO BASICA","ESTATUTARIO","2023-12-31",30,"2024-12-31","2023-12-31","2024-11-30","71621-45291",{"$f":"G10270-SUMIF(ESCALA!$B$14:$B$15,DADOS!K10270,ESCALA!$I$14:$I$15)","v":30}]
[71649,71649,"ALINE GUEDES DE OLIVEIRA","PROFESSOR (A) DE EDUCACAO BASICA","ESTATUTARIO","2023-12-31",30,"2024-12-31","2023-12-31","2024-11-30","71649-45291",{"$f":"G10285-SUMIF(ESCALA!$B$14:$B$15,DADOS!K10285,ESCALA!$I$14:$I$15)","v":30}]
[71800,71800,"MATHEUS FIUZA DOS SANTOS","PROFESSOR (A) DE EDUCACAO BASICA","ESTATUTARIO","2023-12-31",30,"2024-12-31","2023-12-31","2024-11-30","71800-45291",{"$f":"G10304-SUMIF(ESCALA!$B$14:$B$15,DADOS!K10304,ESCALA!$I$14:$I$15)","v":30}]
[71876,71876,"SIMONE APARECIDA FERREIRA SILVA","COZINHEIRO (A)","ESTATUTARIO","2023-07-07",30,"2024-07-07","2023-07-31","2024-06-30","71876-45114",{"$f":"G10316-SUMIF(ESCALA!$B$14:$B$15,DADOS!K10316,ESCALA!$I$14:$I$15)","v":30}]
[71901,71901,"ALEXANDRE FERREIRA DE ALMEIDA","PROFESSOR (A) DE EDUCACAO BASICA","ESTATUTARIO","2022-12-31",30,"2023-12-31","2022-12-31","2023-11-30","71901-44926",{"$f":"G10323-SUMIF(ESCALA!$B$14:$B$15,DADOS!K10323,ESCALA!$I$14:$I$15)","v":30}]
[72119,72119,"BARBARA GIOVANA BRAZ DA MATA","ASSESSOR (A) DE GABINETE","ESTATUTARIO","2023-08-19",30,"2024-08-19","2023-08-31","2024-07-31","72119-45157",{"$f":"G10338-SUMIF(ESCALA!$B$14:$B$15,DADOS!K10338,ESCALA!$I$14:$I$15)","v":30}]
[72700,72700,"LAZARO SILVA OLIVEIRA","ASSESSOR (A) DE GABINETE","ESTATUTARIO","2022-10-13",30,"2023-10-13","2022-10-31","2023-09-30","72700-44847",{"$f":"G10353-SUMIF(ESCALA!$B$14:$B$15,DADOS!K10353,ESCALA!$I$14:$I$15)","v":30}]
[72731,72731,"MAURICIO TAVARES DE LIMA","PROFESSOR (A) DE EDUCACAO BASICA","ESTATUTARIO","2022-10-26",25,"2023-10-26","2022-10-31","2023-09-30","72731-44860",{"$f":"G10365-SUMIF(ESCALA!$B$14:$B$15,DADOS!K10365,ESCALA!$I$14:$I$15)","v":25}]
[72787,72787,"JANAINA VILELA DE SOUZA","PROFESSOR (A) DE EDUCACAO BASICA","ESTATUTARIO","2023-12-05",30,"2024-12-05","2023-12-31","2024-11-30","72787-45265",{"$f":"G10386-SUMIF(ESCALA!$B$14:$B$15,DADOS!K10386,ESCALA!$I$14:$I$15)","v":30}]
[72878,72878,"PAULA CRISTINA LOPES BARROSO","PROFESSOR (A) DE EDUCACAO BASICA","ESTATUTARIO","2022-12-31",28,"2023-12-31","2022-12-31","2023-11-30","72878-44926",{"$f":"G10401-SUMIF(ESCALA!$B$14:$B$15,DADOS!K10401,ESCALA!$I$14:$I$15)","v":28}]
[73009,73009,"RITA DE CASSIA DE CAMARGO MOURA","ASSESSOR (A) DE POLITICAS GOVERNAMENTAIS","ESTATUTARIO","2023-02-17",30,"2024-02-17","2023-02-28","2024-01-31","73009-44974",{"$f":"G10406-SUMIF(ESCALA!$B$14:$B$15,DADOS!K10406,ESCALA!$I$14:$I$15)","v":30}]
[73072,73072,"FAGNA DOS SANTOS SANTANA","COZINHEIRO (A)","ESTATUTARIO","2023-04-04",30,"2024-04-04","2023-04-30","2024-03-31","73072-45020",{"$f":"G10418-SUMIF(ESCALA!$B$14:$B$15,DADOS!K10418,ESCALA!$I$14:$I$15)","v":30}]
[73111,73111,"PATRICK OLIVEIRA RIDOVICS","PROFESSOR (A) DE EDUCACAO BASICA","ESTATUTARIO","2022-12-31",23,"2023-12-31","2022-12-31","2023-11-30","73111-44926",{"$f":"G10439-SUMIF(ESCALA!$B$14:$B$15,DADOS!K10439,ESCALA!$I$14:$I$15)","v":23}]
[73133,73133,"JOSEMAR REBOREDO DE FREITAS","PROFESSOR (A) DE EDUCACAO BASICA","ESTATUTARIO","2022-12-31",23,"2023-12-31","2022-12-31","2023-11-30","73133-44926",{"$f":"G10454-SUMIF(ESCALA!$B$14:$B$15,DADOS!K10454,ESCALA!$I$14:$I$15)","v":23}]
[73180,73180,"SIMONE DA SILVA DE BRITO","PROFESSOR (A) DE EDUCACAO BASICA","ESTATUTARIO","2022-12-31",23,"2023-12-31","2022-12-31","2023-11-30","73180-44926",{"$f":"G10469-SUMIF(ESCALA!$B$14:$B$15,DADOS!K10469,ESCALA!$I$14:$I$15)","v":23}]
[73205,73205,"SAMIR SABBAGH JUNIOR","PROFESSOR (A) DE EDUCACAO BASICA","ESTATUTARIO","2022-12-31",23,"2023-12-31","2022-12-31","2023-11-30","73205-44926",{"$f":"G10480-SUMIF(ESCALA!$B$14:$B$15,DADOS!K10480,ESCALA!$I$14:$I$15)","v":23}]
[73215,73215,"CARLOS HENRIQUE VIEIRA","PROFESSOR (A) DE EDUCACAO BASICA","ESTATUTARIO","2022-12-31",23,"2023-12-31","2022-12-31","2023-11-30","73215-44926",{"$f":"G10488-SUMIF(ESCALA!$B$14:$B$15,DADOS!K10488,ESCALA!$I$14:$I$15)","v":23}]
[73254,73254,"JENNIFFER PINHEIRO DOS SANTOS","PROFESSOR (A) DE EDUCACAO BASICA","ESTATUTARIO","2022-12-31",23,"2023-12-31","2022-12-31","2023-11-30","73254-44926",{"$f":"G10507-SUMIF(ESCALA!$B$14:$B$15,DADOS!K10507,ESCALA!$I$14:$I$15)","v":23}]
[73282,73282,"MAIARA MARIA DE ARAUJO SANTOS","PROFESSOR (A) DE EDUCACAO BASICA","ESTATUTARIO","2022-12-31",23,"2023-12-31","2022-12-31","2023-11-30","73282-44926",{"$f":"G10522-SUMIF(ESCALA!$B$14:$B$15,DADOS!K10522,ESCALA!$I$14:$I$15)","v":23}]
[73366,73366,"LUCIANO LUIZ AGOSTINHO","ASSESSOR (A) DE POLITICAS GOVERNAMENTAIS","ESTATUTARIO","2023-04-05",30,"2024-04-05","2023-04-30","2024-03-31","73366-45021",{"$f":"G10533-SUMIF(ESCALA!$B$14:$B$15,DADOS!K10533,ESCALA!$I$14:$I$15)","v":30}]
[73376,73376,"CRISTINA MONTEIRO DENTINHO SANTOS","PROFESSOR (A) DE EDUCACAO BASICA","ESTATUTARIO","2022-12-31",23,"2023-12-31","2022-12-31","2023-11-30","73376-44926",{"$f":"G10541-SUMIF(ESCALA!$B$14:$B$15,DADOS!K10541,ESCALA!$I$14:$I$15)","v":23}]
[73392,73392,"AMANDA LOPES VIEIRA","PROFESSOR (A) DE EDUCACAO BASICA","ESTATUTARIO","2022-12-31",23,"2023-12-31","2022-12-31","2023-11-30","73392-44926",{"$f":"G10556-SUMIF(ESCALA!$B$14:$B$15,DADOS!K10556,ESCALA!$I$14:$I$15)","v":23}]
[73408,73408,"RAQUEL DO NASCIMENTO MENDES DINIZ","PROFESSOR (A) DE EDUCACAO BASICA","ESTATUTARIO","2022-12-31",23,"2023-12-31","2022-12-31","2023-11-30","73408-44926",{"$f":"G10571-SUMIF(ESCALA!$B$14:$B$15,DADOS!K10571,ESCALA!$I$14:$I$15)","v":23}]
[73421,73421,"ELISANDRA DOS REIS NUNES","PROFESSOR (A) DE EDUCACAO BASICA","ESTATUTARIO","2022-12-31",23,"2023-12-31","2022-12-31","2023-11-30","73421-44926",{"$f":"G10582-SUMIF(ESCALA!$B$14:$B$15,DADOS!K10582,ESCALA!$I$14:$I$15)","v":23}]
[73498,73498,"ANDERSON MACEDO MALVA","PROFESSOR (A) DE EDUCACAO BASICA","ESTATUTARIO","2022-12-31",23,"2023-12-31","2022-12-31","2023-11-30","73498-44926",{"$f":"G10604-SUMIF(ESCALA!$B$14:$B$15,DADOS!K10604,ESCALA!$I$14:$I$15)","v":23}]
[73515,73515,"MAYARA RIBEIRO FERREIRA","PROFESSOR (A) DE EDUCACAO INFANTIL","ESTATUTARIO","2022-12-31",23,"2023-12-31","2022-12-31","2023-11-30","73515-44926",{"$f":"G10609-SUMIF(ESCALA!$B$14:$B$15,DADOS!K10609,ESCALA!$I$14:$I$15)","v":23}]
[73553,73553,"VERONICA SALETE DE SOUZA MARTINS","COZINHEIRO (A)","ESTATUTARIO","2023-04-18",30,"2024-04-18","2023-04-30","2024-03-31","73553-45034",{"$f":"G10624-SUMIF(ESCALA!$B$14:$B$15,DADOS!K10624,ESCALA!$I$14:$I$15)","v":30}]
[73633,73633,"CAROLINE SINHOR DOS SANTOS","PROFESSOR (A) DE EDUCACAO BASICA","ESTATUTARIO","2022-12-31",20,"2023-12-31","2022-12-31","2023-11-30","73633-44926",{"$f":"G10648-SUMIF(ESCALA!$B$14:$B$15,DADOS!K10648,ESCALA!$I$14:$I$15)","v":20}]
[73654,73654,"PRISCILA ELLER CONDACK DA SILVA","PROFESSOR (A) DE EDUCACAO BASICA","ESTATUTARIO","2022-12-31",20,"2023-12-31","2022-12-31","2023-11-30","73654-44926",{"$f":"G10657-SUMIF(ESCALA!$B$14:$B$15,DADOS!K10657,ESCALA!$I$14:$I$15)","v":20}]
[73718,73718,"DONATA EMILIANO DA SILVA","PROFESSOR (A) DE EDUCACAO BASICA","ESTATUTARIO","2022-12-31",20,"2023-12-31","2022-12-31","2023-11-30","73718-44926",{"$f":"G10672-SUMIF(ESCALA!$B$14:$B$15,DADOS!K10672,ESCALA!$I$14:$I$15)","v":20}]
[73744,73744,"AGNES ROBERTA FERNANDES","PROFESSOR (A) DE EDUCACAO BASICA","ESTATUTARIO","2022-12-31",20,"2023-12-31","2022-12-31","2023-11-30","73744-44926",{"$f":"G10677-SUMIF(ESCALA!$B$14:$B$15,DADOS!K10677,ESCALA!$I$14:$I$15)","v":20}]
[73847,73847,"ITALO ERNANI BONIZOL DO NASCIMENTO","PROFESSOR (A) DE EDUCACAO BASICA","ESTATUTARIO","2022-12-31",18,"2023-12-31","2022-12-31","2023-11-30","73847-44926",{"$f":"G10697-SUMIF(ESCALA!$B$14:$B$15,DADOS!K10697,ESCALA!$I$14:$I$15)","v":18}]
[73941,73941,"EDUARDO COLLI SOUZA","ASSISTENTE DE GESTAO ESCOLAR","ESTATUTARIO","2023-06-21",30,"2024-06-21","2023-06-30","2024-05-31","73941-45098",{"$f":"G10706-SUMIF(ESCALA!$B$14:$B$15,DADOS!K10706,ESCALA!$I$14:$I$15)","v":30}]
[74011,74011,"WIVIANE FERREIRA GONDIM","PROFESSOR (A) DE EDUCACAO BASICA","ESTATUTARIO","2022-12-31",15,"2023-12-31","2022-12-31","2023-11-30","74011-44926",{"$f":"G10725-SUMIF(ESCALA!$B$14:$B$15,DADOS!K10725,ESCALA!$I$14:$I$15)","v":15}]
[74076,74076,"SUELI DO ESPIRITO SANTO","PROFESSOR (A) DE EDUCACAO BASICA","ESTATUTARIO","2022-12-31",13,"2023-12-31","2022-12-31","2023-11-30","74076-44926",{"$f":"G10740-SUMIF(ESCALA!$B$14:$B$15,DADOS!K10740,ESCALA!$I$14:$I$15)","v":13}]
[74100,74100,"LETICIA ALVES DOS SANTOS","PROFESSOR (A) DE EDUCACAO BASICA","ESTATUTARIO","2022-12-31",13,"2023-12-31","2022-12-31","2023-11-30","74100-44926",{"$f":"G10750-SUMIF(ESCALA!$B$14:$B$15,DADOS!K10750,ESCALA!$I$14:$I$15)","v":13}]
[74137,74137,"DANIELY SOBREIRA DE ALMEIDA","ASSESSOR (A) DE POLITICAS GOVERNAMENTAIS","ESTATUTARIO","2023-08-03",30,"2024-08-03","2023-08-31","2024-07-31","74137-45141",{"$f":"G10759-SUMIF(ESCALA!$B$14:$B$15,DADOS!K10759,ESCALA!$I$14:$I$15)","v":30}]
[74226,74226,"VITORIA APARECIDA VITOR DA SILVA","PROFESSOR (A) DE EDUCACAO BASICA","ESTATUTARIO","2022-12-31",10,"2023-12-31","2022-12-31","2023-11-30","74226-44926",{"$f":"G10774-SUMIF(ESCALA!$B$14:$B$15,DADOS!K10774,ESCALA!$I$14:$I$15)","v":10}]
[74434,74434,"MIRIAN CRISTINA LOPES TORRES","PROFESSOR (A) DE EDUCACAO BASICA","ESTATUTARIO","2022-12-31",10,"2023-12-31","2022-12-31","2023-11-30","74434-44926",{"$f":"G10793-SUMIF(ESCALA!$B$14:$B$15,DADOS!K10793,ESCALA!$I$14:$I$15)","v":10}]
[74749,74749,"HELENA REGIANE NEVES COUTINHO","BIBLIOTECARIO (A)","ESTATUTARIO","2023-09-04",30,"2024-09-04","2023-09-30","2024-08-31","74749-45173",{"$f":"G10812-SUMIF(ESCALA!$B$14:$B$15,DADOS!K10812,ESCALA!$I$14:$I$15)","v":30}]
[74791,74791,"EDUARDO DIAS DO CARMO","PROFESSOR (A) DE EDUCACAO BASICA","ESTATUTARIO","2022-12-31",10,"2023-12-31","2022-12-31","2023-11-30","74791-44926",{"$f":"G10822-SUMIF(ESCALA!$B$14:$B$15,DADOS!K10822,ESCALA!$I$14:$I$15)","v":10}]
[25852,25852,"ZULEIDE BEZERRA DE SOUZA","COZINHEIRO (A)","CELETISTA","2022-10-25",30,"2023-10-25","2022-09-30","2023-09-30","25852-44859",{"$f":"G10841-SUMIF(ESCALA!$B$14:$B$15,DADOS!K10841,ESCALA!$I$14:$I$15)","v":30}]
[25852,25852,"ZULEIDE BEZERRA DE SOUZA","COZINHEIRO (A)","CELETISTA","2023-10-25",30,"2024-10-25","2023-09-30","2024-09-30","25852-45224",{"$f":"G10842-SUMIF(ESCALA!$B$14:$B$15,DADOS!K10842,ESCALA!$I$14:$I$15)","v":30}]
["",null,null,null,null,null,null,"1900-12-30",{"$error":"#NUM!"},"1900-12-31","-",{"$f":"G10865-SUMIF(ESCALA!$B$14:$B$15,DADOS!K10865,ESCALA!$I$14:$I$15)","v":0}]
["",null,null,null,null,null,null,"1900-12-30",{"$error":"#NUM!"},"1900-12-31","-",{"$f":"G10875-SUMIF(ESCALA!$B$14:$B$15,DADOS!K10875,ESCALA!$I$14:$I$15)","v":0}]
["",null,null,null,null,null,null,"1900-12-30",{"$error":"#NUM!"},"1900-12-31","-",{"$f":"G10890-SUMIF(ESCALA!$B$14:$B$15,DADOS!K10890,ESCALA!$I$14:$I$15)","v":0}]
["",null,null,null,null,null,null,"1900-12-30",{"$error":"#NUM!"},"1900-12-31","-",{"$f":"G10909-SUMIF(ESCALA!$B$14:$B$15,DADOS!K10909,ESCALA!$I$14:$I$15)","v":0}]
["",null,null,null,null,null,null,"1900-12-30",{"$error":"#NUM!"},"1900-12-31","-",{"$f":"G10914-SUMIF(ESCALA!$B$14:$B$15,DADOS!K10914,ESCALA!$I$14:$I$15)","v":0}]
["",null,null,null,null,null,null,"1900-12-30",{"$error":"#NUM!"},"1900-12-31","-",{"$f":"G10924-SUMIF(ESCALA!$B$14:$B$15,DADOS!K10924,ESCALA!$I$14:$I$15)","v":0}]
["",null,null,null,null,null,null,"1900-12-30",{"$error":"#NUM!"},"1900-12-31","-",{"$f":"G10943-SUMIF(ESCALA!$B$14:$B$15,DADOS!K10943,ESCALA!$I$14:$I$15)","v":0}]
["",null,null,null,null,null,null,"1900-12-30",{"$error":"#NUM!"},"1900-12-31","-",{"$f":"G10958-SUMIF(ESCALA!$B$14:$B$15,DADOS!K10958,ESCALA!$I$14:$I$15)","v":0}]
["",null,null,null,null,null,null,"1900-12-30",{"$error":"#NUM!"},"1900-12-31","-",{"$f":"G10976-SUMIF(ESCALA!$B$14:$B$15,DADOS!K10976,ESCALA!$I$14:$I$15)","v":0}]
["",null,null,null,null,null,null,"1900-12-30",{"$error":"#NUM!"},"1900-12-31","-",{"$f":"G10991-SUMIF(ESCALA!$B$14:$B$15,DADOS!K10991,ESCALA!$I$14:$I$15)","v":0}]
["",null,null,null,null,null,null,"1900-12-30",{"$error":"#NUM!"},"1900-12-31","-",{"$f":"G11006-SUMIF(ESCALA!$B$14:$B$15,DADOS!K11006,ESCALA!$I$14:$I$15)","v":0}]
[{"$f":"IF(L11011=0,\"\",B11011)","v":""},null,null,null,null,null,null,{"$f":"IF(F11011<=44985,F11011+365,F11011+366)","v":"1900-12-30"},{"$error":"#NUM!"},"1900-12-31",{"$f":"CONCATENATE(B11011,\"-\",F11011)","v":"-"},{"$f":"G11011-SUMIF(ESCALA!$B$14:$B$15,DADOS!K11011,ESCALA!$I$14:$I$15)","v":0}]
["",null,null,null,null,null,null,"1900-12-30",{"$error":"#NUM!"},"1900-12-31","-",{"$f":"G11029-SUMIF(ESCALA!$B$14:$B$15,DADOS!K11029,ESCALA!$I$14:$I$15)","v":0}]
["",null,null,null,null,null,null,"1900-12-30",{"$error":"#NUM!"},"1900-12-31","-",{"$f":"G11040-SUMIF(ESCALA!$B$14:$B$15,DADOS!K11040,ESCALA!$I$14:$I$15)","v":0}]
["",null,null,null,null,null,null,"1900-12-30",{"$error":"#NUM!"},"1900-12-31","-",{"$f":"G11059-SUMIF(ESCALA!$B$14:$B$15,DADOS!K11059,ESCALA!$I$14:$I$15)","v":0}]
["",null,null,null,null,null,null,"1900-12-30",{"$error":"#NUM!"},"1900-12-31","-",{"$f":"G11074-SUMIF(ESCALA!$B$14:$B$15,DADOS!K11074,ESCALA!$I$14:$I$15)","v":0}]
["",null,null,null,null,null,null,"1900-12-30",{"$error":"#NUM!"},"1900-12-31","-",{"$f":"G11078-SUMIF(ESCALA!$B$14:$B$15,DADOS!K11078,ESCALA!$I$14:$I$15)","v":0}]
["",null,null,null,null,null,null,"1900-12-30",{"$error":"#NUM!"},"1900-12-31","-",{"$f":"G11093-SUMIF(ESCALA!$B$14:$B$15,DADOS!K11093,ESCALA!$I$14:$I$15)","v":0}]
["",null,null,null,null,null,null,"1900-12-30",{"$error":"#NUM!"},"1900-12-31","-",{"$f":"G11108-SUMIF(ESCALA!$B$14:$B$15,DADOS!K11108,ESCALA!$I$14:$I$15)","v":0}]
["",null,null,null,null,null,null,"1900-12-30",{"$error":"#NUM!"},"1900-12-31","-",{"$f":"G11127-SUMIF(ESCALA!$B$14:$B$15,DADOS!K11127,ESCALA!$I$14:$I$15)","v":0}]
["",null,null,null,null,null,null,"1900-12-30",{"$error":"#NUM!"},"1900-12-31","-",{"$f":"G11131-SUMIF(ESCALA!$B$14:$B$15,DADOS!K11131,ESCALA!$I$14:$I$15)","v":0}]
["",null,null,null,null,null,null,"1900-12-30",{"$error":"#NUM!"},"1900-12-31","-",{"$f":"G11146-SUMIF(ESCALA!$B$14:$B$15,DADOS!K11146,ESCALA!$I$14:$I$15)","v":0}]
["",null,null,null,null,null,null,"1900-12-30",{"$error":"#NUM!"},"1900-12-31","-",{"$f":"G11161-SUMIF(ESCALA!$B$14:$B$15,DADOS!K11161,ESCALA!$I$14:$I$15)","v":0}]
["",null,null,null,null,null,null,"1900-12-30",{"$error":"#NUM!"},"1900-12-31","-",{"$f":"G11176-SUMIF(ESCALA!$B$14:$B$15,DADOS!K11176,ESCALA!$I$14:$I$15)","v":0}]
["",null,null,null,null,null,null,"1900-12-30",{"$error":"#NUM!"},"1900-12-31","-",{"$f":"G11193-SUMIF(ESCALA!$B$14:$B$15,DADOS!K11193,ESCALA!$I$14:$I$15)","v":0}]
["",null,null,null,null,null,null,"1900-12-30",{"$error":"#NUM!"},"1900-12-31","-",{"$f":"G11209-SUMIF(ESCALA!$B$14:$B$15,DADOS!K11209,ESCALA!$I$14:$I$15)","v":0}]
["",null,null,null,null,null,null,"1900-12-30",{"$error":"#NUM!"},"1900-12-31","-",{"$f":"G11224-SUMIF(ESCALA!$B$14:$B$15,DADOS!K11224,ESCALA!$I$14:$I$15)","v":0}]
["",null,null,null,null,null,null,"1900-12-30",{"$error":"#NUM!"},"1900-12-31","-",{"$f":"G11229-SUMIF(ESCALA!$B$14:$B$15,DADOS!K11229,ESCALA!$I$14:$I$15)","v":0}]
["",null,null,null,null,null,null,"1900-12-30",{"$error":"#NUM!"},"1900-12-31","-",{"$f":"G11246-SUMIF(ESCALA!$B$14:$B$15,DADOS!K11246,ESCALA!$I$14:$I$15)","v":0}]
["",null,null,null,null,null,null,"1900-12-30",{"$error":"#NUM!"},"1900-12-31","-",{"$f":"G11262-SUMIF(ESCALA!$B$14:$B$15,DADOS!K11262,ESCALA!$I$14:$I$15)","v":0}]
["",null,null,null,null,null,null,"1900-12-30",{"$error":"#NUM!"},"1900-12-31","-",{"$f":"G11277-SUMIF(ESCALA!$B$14:$B$15,DADOS!K11277,ESCALA!$I$14:$I$15)","v":0}]
["",null,null,null,null,null,null,"1900-12-30",{"$error":"#NUM!"},"1900-12-31","-",{"$f":"G11292-SUMIF(ESCALA!$B$14:$B$15,DADOS!K11292,ESCALA!$I$14:$I$15)","v":0}]
["",null,null,null,null,null,null,"1900-12-30",{"$error":"#NUM!"},"1900-12-31","-",{"$f":"G11308-SUMIF(ESCALA!$B$14:$B$15,DADOS!K11308,ESCALA!$I$14:$I$15)","v":0}]
["",null,null,null,null,null,null,"1900-12-30",{"$error":"#NUM!"},"1900-12-31","-",{"$f":"G11311-SUMIF(ESCALA!$B$14:$B$15,DADOS!K11311,ESCALA!$I$14:$I$15)","v":0}]
["",null,null,null,null,null,null,"1900-12-30",{"$error":"#NUM!"},"1900-12-31","-",{"$f":"G11326-SUMIF(ESCALA!$B$14:$B$15,DADOS!K11326,ESCALA!$I$14:$I$15)","v":0}]
["",null,null,null,null,null,null,"1900-12-30",{"$error":"#NUM!"},"1900-12-31","-",{"$f":"G11345-SUMIF(ESCALA!$B$14:$B$15,DADOS!K11345,ESCALA!$I$14:$I$15)","v":0}]
["",null,null,null,null,null,null,"1900-12-30",{"$error":"#NUM!"},"1900-12-31","-",{"$f":"G11361-SUMIF(ESCALA!$B$14:$B$15,DADOS!K11361,ESCALA!$I$14:$I$15)","v":0}]
["",null,null,null,null,null,null,"1900-12-30",{"$error":"#NUM!"},"1900-12-31","-",{"$f":"G11364-SUMIF(ESCALA!$B$14:$B$15,DADOS!K11364,ESCALA!$I$14:$I$15)","v":0}]
["",null,null,null,null,null,null,"1900-12-30",{"$error":"#NUM!"},"1900-12-31","-",{"$f":"G11379-SUMIF(ESCALA!$B$14:$B$15,DADOS!K11379,ESCALA!$I$14:$I$15)","v":0}]
["",null,null,null,null,null,null,"1900-12-30",{"$error":"#NUM!"},"1900-12-31","-",{"$f":"G11394-SUMIF(ESCALA!$B$14:$B$15,DADOS!K11394,ESCALA!$I$14:$I$15)","v":0}]
["",null,null,null,null,null,null,"1900-12-30",{"$error":"#NUM!"},"1900-12-31","-",{"$f":"G11410-SUMIF(ESCALA!$B$14:$B$15,DADOS!K11410,ESCALA!$I$14:$I$15)","v":0}]
["",null,null,null,null,null,null,"1900-12-30",{"$error":"#NUM!"},"1900-12-31","-",{"$f":"G11427-SUMIF(ESCALA!$B$14:$B$15,DADOS!K11427,ESCALA!$I$14:$I$15)","v":0}]
["",null,null,null,null,null,null,"1900-12-30",{"$error":"#NUM!"},"1900-12-31","-",{"$f":"G11446-SUMIF(ESCALA!$B$14:$B$15,DADOS!K11446,ESCALA!$I$14:$I$15)","v":0}]
["",null,null,null,null,null,null,"1900-12-30",{"$error":"#NUM!"},"1900-12-31","-",{"$f":"G11447-SUMIF(ESCALA!$B$14:$B$15,DADOS!K11447,ESCALA!$I$14:$I$15)","v":0}]
["",null,null,null,null,null,null,"1900-12-30",{"$error":"#NUM!"},"1900-12-31","-",{"$f":"G11463-SUMIF(ESCALA!$B$14:$B$15,DADOS!K11463,ESCALA!$I$14:$I$15)","v":0}]
["",null,null,null,null,null,null,"1900-12-30",{"$error":"#NUM!"},"1900-12-31","-",{"$f":"G11480-SUMIF(ESCALA!$B$14:$B$15,DADOS!K11480,ESCALA!$I$14:$I$15)","v":0}]
["",null,null,null,null,null,null,"1900-12-30",{"$error":"#NUM!"},"1900-12-31","-",{"$f":"G11495-SUMIF(ESCALA!$B$14:$B$15,DADOS!K11495,ESCALA!$I$14:$I$15)","v":0}]
["",null,null,null,null,null,null,"1900-12-30",{"$error":"#NUM!"},"1900-12-31","-",{"$f":"G11510-SUMIF(ESCALA!$B$14:$B$15,DADOS!K11510,ESCALA!$I$14:$I$15)","v":0}]
["",null,null,null,null,null,null,"1900-12-30",{"$error":"#NUM!"},"1900-12-31","-",{"$f":"G11525-SUMIF(ESCALA!$B$14:$B$15,DADOS!K11525,ESCALA!$I$14:$I$15)","v":0}]
["",null,null,null,null,null,null,"1900-12-30",{"$error":"#NUM!"},"1900-12-31","-",{"$f":"G11529-SUMIF(ESCALA!$B$14:$B$15,DADOS!K11529,ESCALA!$I$14:$I$15)","v":0}]
["",null,null,null,null,null,null,"1900-12-30",{"$error":"#NUM!"},"1900-12-31","-",{"$f":"G11548-SUMIF(ESCALA!$B$14:$B$15,DADOS!K11548,ESCALA!$I$14:$I$15)","v":0}]
["",null,null,null,null,null,null,"1900-12-30",{"$error":"#NUM!"},"1900-12-31","-",{"$f":"G11563-SUMIF(ESCALA!$B$14:$B$15,DADOS!K11563,ESCALA!$I$14:$I$15)","v":0}]
["",null,null,null,null,null,null,"1900-12-30",{"$error":"#NUM!"},"1900-12-31","-",{"$f":"G11578-SUMIF(ESCALA!$B$14:$B$15,DADOS!K11578,ESCALA!$I$14:$I$15)","v":0}]
["",null,null,null,null,null,null,"1900-12-30",{"$error":"#NUM!"},"1900-12-31","-",{"$f":"G11596-SUMIF(ESCALA!$B$14:$B$15,DADOS!K11596,ESCALA!$I$14:$I$15)","v":0}]
["",null,null,null,null,null,null,"1900-12-30",{"$error":"#NUM!"},"1900-12-31","-",{"$f":"G11611-SUMIF(ESCALA!$B$14:$B$15,DADOS!K11611,ESCALA!$I$14:$I$15)","v":0}]
["",null,null,null,null,null,null,"1900-12-30",{"$error":"#NUM!"},"1900-12-31","-",{"$f":"G11612-SUMIF(ESCALA!$B$14:$B$15,DADOS!K11612,ESCALA!$I$14:$I$15)","v":0}]
["",null,null,null,null,null,null,"1900-12-30",{"$error":"#NUM!"},"1900-12-31","-",{"$f":"G11627-SUMIF(ESCALA!$B$14:$B$15,DADOS!K11627,ESCALA!$I$14:$I$15)","v":0}]
["",null,null,null,null,null,null,"1900-12-30",{"$error":"#NUM!"},"1900-12-31","-",{"$f":"G11645-SUMIF(ESCALA!$B$14:$B$15,DADOS!K11645,ESCALA!$I$14:$I$15)","v":0}]
["",null,null,null,null,null,null,"1900-12-30",{"$error":"#NUM!"},"1900-12-31","-",{"$f":"G11664-SUMIF(ESCALA!$B$14:$B$15,DADOS!K11664,ESCALA!$I$14:$I$15)","v":0}]
["",null,null,null,null,null,null,"1900-12-30",{"$error":"#NUM!"},"1900-12-31","-",{"$f":"G11679-SUMIF(ESCALA!$B$14:$B$15,DADOS!K11679,ESCALA!$I$14:$I$15)","v":0}]
["",null,null,null,null,null,null,"1900-12-30",{"$error":"#NUM!"},"1900-12-31","-",{"$f":"G11693-SUMIF(ESCALA!$B$14:$B$15,DADOS!K11693,ESCALA!$I$14:$I$15)","v":0}]
["",null,null,null,null,null,null,"1900-12-30",{"$error":"#NUM!"},"1900-12-31","-",{"$f":"G11698-SUMIF(ESCALA!$B$14:$B$15,DADOS!K11698,ESCALA!$I$14:$I$15)","v":0}]
["",null,null,null,null,null,null,"1900-12-30",{"$error":"#NUM!"},"1900-12-31","-",{"$f":"G11713-SUMIF(ESCALA!$B$14:$B$15,DADOS!K11713,ESCALA!$I$14:$I$15)","v":0}]
["",null,null,null,null,null,null,"1900-12-30",{"$error":"#NUM!"},"1900-12-31","-",{"$f":"G11732-SUMIF(ESCALA!$B$14:$B$15,DADOS!K11732,ESCALA!$I$14:$I$15)","v":0}]
["",null,null,null,null,null,null,"1900-12-30",{"$error":"#NUM!"},"1900-12-31","-",{"$f":"G11742-SUMIF(ESCALA!$B$14:$B$15,DADOS!K11742,ESCALA!$I$14:$I$15)","v":0}]
["",null,null,null,null,null,null,"1900-12-30",{"$error":"#NUM!"},"1900-12-31","-",{"$f":"G11761-SUMIF(ESCALA!$B$14:$B$15,DADOS!K11761,ESCALA!$I$14:$I$15)","v":0}]
["",null,null,null,null,null,null,"1900-12-30",{"$error":"#NUM!"},"1900-12-31","-",{"$f":"G11766-SUMIF(ESCALA!$B$14:$B$15,DADOS!K11766,ESCALA!$I$14:$I$15)","v":0}]
["",null,null,null,null,null,null,"1900-12-30",{"$error":"#NUM!"},"1900-12-31","-",{"$f":"G11781-SUMIF(ESCALA!$B$14:$B$15,DADOS!K11781,ESCALA!$I$14:$I$15)","v":0}]
["",null,null,null,null,null,null,"1900-12-30",{"$error":"#NUM!"},"1900-12-31","-",{"$f":"G11795-SUMIF(ESCALA!$B$14:$B$15,DADOS!K11795,ESCALA!$I$14:$I$15)","v":0}]
["",null,null,null,null,null,null,"1900-12-30",{"$error":"#NUM!"},"1900-12-31","-",{"$f":"G11814-SUMIF(ESCALA!$B$14:$B$15,DADOS!K11814,ESCALA!$I$14:$I$15)","v":0}]
["",null,null,null,null,null,null,"1900-12-30",{"$error":"#NUM!"},"1900-12-31","-",{"$f":"G11829-SUMIF(ESCALA!$B$14:$B$15,DADOS!K11829,ESCALA!$I$14:$I$15)","v":0}]
["",null,null,null,null,null,null,"1900-12-30",{"$error":"#NUM!"},"1900-12-31","-",{"$f":"G11834-SUMIF(ESCALA!$B$14:$B$15,DADOS!K11834,ESCALA!$I$14:$I$15)","v":0}]
["",null,null,null,null,null,null,"1900-12-30",{"$error":"#NUM!"},"1900-12-31","-",{"$f":"G11857-SUMIF(ESCALA!$B$14:$B$15,DADOS!K11857,ESCALA!$I$14:$I$15)","v":0}]
["",null,null,null,null,null,null,"1900-12-30",{"$error":"#NUM!"},"1900-12-31","-",{"$f":"G11863-SUMIF(ESCALA!$B$14:$B$15,DADOS!K11863,ESCALA!$I$14:$I$15)","v":0}]
["",null,null,null,null,null,null,"1900-12-30",{"$error":"#NUM!"},"1900-12-31","-",{"$f":"G11882-SUMIF(ESCALA!$B$14:$B$15,DADOS!K11882,ESCALA!$I$14:$I$15)","v":0}]
["",null,null,null,null,null,null,"1900-12-30",{"$error":"#NUM!"},"1900-12-31","-",{"$f":"G11897-SUMIF(ESCALA!$B$14:$B$15,DADOS!K11897,ESCALA!$I$14:$I$15)","v":0}]
["",null,null,null,null,null,null,"1900-12-30",{"$error":"#NUM!"},"1900-12-31","-",{"$f":"G11906-SUMIF(ESCALA!$B$14:$B$15,DADOS!K11906,ESCALA!$I$14:$I$15)","v":0}]
["",null,null,null,null,null,null,"1900-12-30",{"$error":"#NUM!"},"1900-12-31","-",{"$f":"G11916-SUMIF(ESCALA!$B$14:$B$15,DADOS!K11916,ESCALA!$I$14:$I$15)","v":0}]
["",null,null,null,null,null,null,"1900-12-30",{"$error":"#NUM!"},"1900-12-31","-",{"$f":"G11931-SUMIF(ESCALA!$B$14:$B$15,DADOS!K11931,ESCALA!$I$14:$I$15)","v":0}]
["",null,null,null,null,null,null,"1900-12-30",{"$error":"#NUM!"},"1900-12-31","-",{"$f":"G11950-SUMIF(ESCALA!$B$14:$B$15,DADOS!K11950,ESCALA!$I$14:$I$15)","v":0}]
["",null,null,null,null,null,null,"1900-12-30",{"$error":"#NUM!"},"1900-12-31","-",{"$f":"G11959-SUMIF(ESCALA!$B$14:$B$15,DADOS!K11959,ESCALA!$I$14:$I$15)","v":0}]
["",null,null,null,null,null,null,"1900-12-30",{"$error":"#NUM!"},"1900-12-31","-",{"$f":"G11979-SUMIF(ESCALA!$B$14:$B$15,DADOS!K11979,ESCALA!$I$14:$I$15)","v":0}]
["",null,null,null,null,null,null,"1900-12-30",{"$error":"#NUM!"},"1900-12-31","-",{"$f":"G11984-SUMIF(ESCALA!$B$14:$B$15,DADOS!K11984,ESCALA!$I$14:$I$15)","v":0}]
["",null,null,null,null,null,null,"1900-12-30",{"$error":"#NUM!"},"1900-12-31","-",{"$f":"G11999-SUMIF(ESCALA!$B$14:$B$15,DADOS!K11999,ESCALA!$I$14:$I$15)","v":0}]
["",null,null,null,null,null,null,"1900-12-30",{"$error":"#NUM!"},"1900-12-31","-",{"$f":"G12021-SUMIF(ESCALA!$B$14:$B$15,DADOS!K12021,ESCALA!$I$14:$I$15)","v":0}]
["",null,null,null,null,null,null,"1900-12-30",{"$error":"#NUM!"},"1900-12-31","-",{"$f":"G12032-SUMIF(ESCALA!$B$14:$B$15,DADOS!K12032,ESCALA!$I$14:$I$15)","v":0}]
["",null,null,null,null,null,null,"1900-12-30",{"$error":"#NUM!"},"1900-12-31","-",{"$f":"G12047-SUMIF(ESCALA!$B$14:$B$15,DADOS!K12047,ESCALA!$I$14:$I$15)","v":0}]
["",null,null,null,null,null,null,"1900-12-30",{"$error":"#NUM!"},"1900-12-31","-",{"$f":"G12052-SUMIF(ESCALA!$B$14:$B$15,DADOS!K12052,ESCALA!$I$14:$I$15)","v":0}]
["",null,null,null,null,null,null,"1900-12-30",{"$error":"#NUM!"},"1900-12-31","-",{"$f":"G12074-SUMIF(ESCALA!$B$14:$B$15,DADOS!K12074,ESCALA!$I$14:$I$15)","v":0}]
["",null,null,null,null,null,null,"1900-12-30",{"$error":"#NUM!"},"1900-12-31","-",{"$f":"G12081-SUMIF(ESCALA!$B$14:$B$15,DADOS!K12081,ESCALA!$I$14:$I$15)","v":0}]
["",null,null,null,null,null,null,"1900-12-30",{"$f":"IF(E12100=\"ESTATUTARIO\",EOMONTH(F12100,0),EOMONTH(F12100,-1))","v":{"$error":"#NUM!"}},{"$f":"EOMONTH(F12100,11)","v":"1900-12-31"},"-",{"$f":"G12100-SUMIF(ESCALA!$B$14:$B$15,DADOS!K12100,ESCALA!$I$14:$I$15)","v":0}]
["",null,null,null,null,null,null,"1900-12-30",{"$error":"#NUM!"},"1900-12-31","-",{"$f":"G12115-SUMIF(ESCALA!$B$14:$B$15,DADOS!K12115,ESCALA!$I$14:$I$15)","v":0}]
["",null,null,null,null,null,null,"1900-12-30",{"$error":"#NUM!"},"1900-12-31","-",{"$f":"G12123-SUMIF(ESCALA!$B$14:$B$15,DADOS!K12123,ESCALA!$I$14:$I$15)","v":0}]
["",null,null,null,null,null,null,"1900-12-30",{"$error":"#NUM!"},"1900-12-31","-",{"$f":"G12134-SUMIF(ESCALA!$B$14:$B$15,DADOS!K12134,ESCALA!$I$14:$I$15)","v":0}]
["",null,null,null,null,null,null,"1900-12-30",{"$error":"#NUM!"},"1900-12-31","-",{"$f":"G12149-SUMIF(ESCALA!$B$14:$B$15,DADOS!K12149,ESCALA!$I$14:$I$15)","v":0}]
["",null,null,null,null,null,null,"1900-12-30",{"$error":"#NUM!"},"1900-12-31","-",{"$f":"G12168-SUMIF(ESCALA!$B$14:$B$15,DADOS!K12168,ESCALA!$I$14:$I$15)","v":0}]
["",null,null,null,null,null,null,"1900-12-30",{"$error":"#NUM!"},"1900-12-31","-",{"$f":"G12176-SUMIF(ESCALA!$B$14:$B$15,DADOS!K12176,ESCALA!$I$14:$I$15)","v":0}]
["",null,null,null,null,null,null,"1900-12-30",{"$error":"#NUM!"},"1900-12-31","-",{"$f":"G12201-SUMIF(ESCALA!$B$14:$B$15,DADOS!K12201,ESCALA!$I$14:$I$15)","v":0}]
["",null,null,null,null,null,null,"1900-12-30",{"$error":"#NUM!"},"1900-12-31","-",{"$f":"G12216-SUMIF(ESCALA!$B$14:$B$15,DADOS!K12216,ESCALA!$I$14:$I$15)","v":0}]
["",null,null,null,null,null,null,"1900-12-30",{"$error":"#NUM!"},"1900-12-31","-",{"$f":"G12217-SUMIF(ESCALA!$B$14:$B$15,DADOS!K12217,ESCALA!$I$14:$I$15)","v":0}]
["",null,null,null,null,null,null,"1900-12-30",{"$error":"#NUM!"},"1900-12-31","-",{"$f":"G12238-SUMIF(ESCALA!$B$14:$B$15,DADOS!K12238,ESCALA!$I$14:$I$15)","v":0}]
["",null,null,null,null,null,null,"1900-12-30",{"$error":"#NUM!"},"1900-12-31","-",{"$f":"G12250-SUMIF(ESCALA!$B$14:$B$15,DADOS!K12250,ESCALA!$I$14:$I$15)","v":0}]
["",null,null,null,null,null,null,"1900-12-30",{"$error":"#NUM!"},"1900-12-31","-",{"$f":"G12265-SUMIF(ESCALA!$B$14:$B$15,DADOS!K12265,ESCALA!$I$14:$I$15)","v":0}]
["",null,null,null,null,null,null,"1900-12-30",{"$error":"#NUM!"},"1900-12-31","-",{"$f":"G12284-SUMIF(ESCALA!$B$14:$B$15,DADOS!K12284,ESCALA!$I$14:$I$15)","v":0}]
[{"$f":"IF(L12291=0,\"\",B12291)","v":""},null,null,null,null,null,null,{"$f":"IF(F12291<=44985,F12291+365,F12291+366)","v":"1900-12-30"},{"$error":"#NUM!"},"1900-12-31",{"$f":"CONCATENATE(B12291,\"-\",F12291)","v":"-"},{"$f":"G12291-SUMIF(ESCALA!$B$14:$B$15,DADOS!K12291,ESCALA!$I$14:$I$15)","v":0}]
["",null,null,null,null,null,null,"1900-12-30",{"$error":"#NUM!"},"1900-12-31","-",{"$f":"G12303-SUMIF(ESCALA!$B$14:$B$15,DADOS!K12303,ESCALA!$I$14:$I$15)","v":0}]
["",null,null,null,null,null,null,"1900-12-30",{"$error":"#NUM!"},"1900-12-31","-",{"$f":"G12318-SUMIF(ESCALA!$B$14:$B$15,DADOS!K12318,ESCALA!$I$14:$I$15)","v":0}]
["",null,null,null,null,null,null,"1900-12-30",{"$error":"#NUM!"},"1900-12-31","-",{"$f":"G12333-SUMIF(ESCALA!$B$14:$B$15,DADOS!K12333,ESCALA!$I$14:$I$15)","v":0}]
["",null,null,null,null,null,null,"1900-12-30",{"$error":"#NUM!"},"1900-12-31","-",{"$f":"G12353-SUMIF(ESCALA!$B$14:$B$15,DADOS!K12353,ESCALA!$I$14:$I$15)","v":0}]
["",null,null,null,null,null,null,"1900-12-30",{"$error":"#NUM!"},"1900-12-31","-",{"$f":"G12366-SUMIF(ESCALA!$B$14:$B$15,DADOS!K12366,ESCALA!$I$14:$I$15)","v":0}]
["",null,null,null,null,null,null,"1900-12-30",{"$error":"#NUM!"},"1900-12-31","-",{"$f":"G12371-SUMIF(ESCALA!$B$14:$B$15,DADOS!K12371,ESCALA!$I$14:$I$15)","v":0}]
["",null,null,null,null,null,null,"1900-12-30",{"$error":"#NUM!"},"1900-12-31","-",{"$f":"G12386-SUMIF(ESCALA!$B$14:$B$15,DADOS!K12386,ESCALA!$I$14:$I$15)","v":0}]
["",null,null,null,null,null,null,"1900-12-30",{"$error":"#NUM!"},"1900-12-31","-",{"$f":"G12406-SUMIF(ESCALA!$B$14:$B$15,DADOS!K12406,ESCALA!$I$14:$I$15)","v":0}]
[{"$f":"IF(L12419=0,\"\",B12419)","v":""},null,null,null,null,null,null,{"$f":"IF(F12419<=44985,F12419+365,F12419+366)","v":"1900-12-30"},{"$error":"#NUM!"},"1900-12-31",{"$f":"CONCATENATE(B12419,\"-\",F12419)","v":"-"},{"$f":"G12419-SUMIF(ESCALA!$B$14:$B$15,DADOS!K12419,ESCALA!$I$14:$I$15)","v":0}]
["",null,null,null,null,null,null,"1900-12-30",{"$error":"#NUM!"},"1900-12-31","-",{"$f":"G12434-SUMIF(ESCALA!$B$14:$B$15,DADOS!K12434,ESCALA!$I$14:$I$15)","v":0}]
["",null,null,null,null,null,null,"1900-12-30",{"$error":"#NUM!"},"1900-12-31","-",{"$f":"G12449-SUMIF(ESCALA!$B$14:$B$15,DADOS!K12449,ESCALA!$I$14:$I$15)","v":0}]
["",null,null,null,null,null,null,"1900-12-30",{"$error":"#NUM!"},"1900-12-31","-",{"$f":"G12455-SUMIF(ESCALA!$B$14:$B$15,DADOS!K12455,ESCALA!$I$14:$I$15)","v":0}]
["",null,null,null,null,null,null,"1900-12-30",{"$error":"#NUM!"},"1900-12-31","-",{"$f":"G12468-SUMIF(ESCALA!$B$14:$B$15,DADOS!K12468,ESCALA!$I$14:$I$15)","v":0}]
["",null,null,null,null,null,null,"1900-12-30",{"$error":"#NUM!"},"1900-12-31","-",{"$f":"G12487-SUMIF(ESCALA!$B$14:$B$15,DADOS!K12487,ESCALA!$I$14:$I$15)","v":0}]
["",null,null,null,null,null,null,"1900-12-30",{"$error":"#NUM!"},"1900-12-31","-",{"$f":"G12502-SUMIF(ESCALA!$B$14:$B$15,DADOS!K12502,ESCALA!$I$14:$I$15)","v":0}]
["",null,null,null,null,null,null,"1900-12-30",{"$error":"#NUM!"},"1900-12-31","-",{"$f":"G12508-SUMIF(ESCALA!$B$14:$B$15,DADOS!K12508,ESCALA!$I$14:$I$15)","v":0}]
["",null,null,null,null,null,null,"1900-12-30",{"$error":"#NUM!"},"1900-12-31","-",{"$f":"G12521-SUMIF(ESCALA!$B$14:$B$15,DADOS!K12521,ESCALA!$I$14:$I$15)","v":0}]
["",null,null,null,null,null,null,"1900-12-30",{"$error":"#NUM!"},"1900-12-31","-",{"$f":"G12536-SUMIF(ESCALA!$B$14:$B$15,DADOS!K12536,ESCALA!$I$14:$I$15)","v":0}]
["",null,null,null,null,null,null,"1900-12-30",{"$error":"#NUM!"},"1900-12-31","-",{"$f":"G12551-SUMIF(ESCALA!$B$14:$B$15,DADOS!K12551,ESCALA!$I$14:$I$15)","v":0}]
["",null,null,null,null,null,null,"1900-12-30",{"$error":"#NUM!"},"1900-12-31","-",{"$f":"G12570-SUMIF(ESCALA!$B$14:$B$15,DADOS!K12570,ESCALA!$I$14:$I$15)","v":0}]
["",null,null,null,null,null,null,"1900-12-30",{"$error":"#NUM!"},"1900-12-31","-",{"$f":"G12584-SUMIF(ESCALA!$B$14:$B$15,DADOS!K12584,ESCALA!$I$14:$I$15)","v":0}]
["",null,null,null,null,null,null,"1900-12-30",{"$error":"#NUM!"},"1900-12-31","-",{"$f":"G12589-SUMIF(ESCALA!$B$14:$B$15,DADOS!K12589,ESCALA!$I$14:$I$15)","v":0}]
["",null,null,null,null,null,null,"1900-12-30",{"$error":"#NUM!"},"1900-12-31","-",{"$f":"G12604-SUMIF(ESCALA!$B$14:$B$15,DADOS!K12604,ESCALA!$I$14:$I$15)","v":0}]
["",null,null,null,null,null,null,"1900-12-30",{"$error":"#NUM!"},"1900-12-31","-",{"$f":"G12623-SUMIF(ESCALA!$B$14:$B$15,DADOS!K12623,ESCALA!$I$14:$I$15)","v":0}]
["",null,null,null,null,null,null,"1900-12-30",{"$error":"#NUM!"},"1900-12-31","-",{"$f":"G12637-SUMIF(ESCALA!$B$14:$B$15,DADOS!K12637,ESCALA!$I$14:$I$15)","v":0}]
["",null,null,null,null,null,null,"1900-12-30",{"$error":"#NUM!"},"1900-12-31","-",{"$f":"G12652-SUMIF(ESCALA!$B$14:$B$15,DADOS!K12652,ESCALA!$I$14:$I$15)","v":0}]
["",null,null,null,null,null,null,"1900-12-30",{"$error":"#NUM!"},"1900-12-31","-",{"$f":"G12657-SUMIF(ESCALA!$B$14:$B$15,DADOS!K12657,ESCALA!$I$14:$I$15)","v":0}]
["",null,null,null,null,null,null,"1900-12-30",{"$error":"#NUM!"},"1900-12-31","-",{"$f":"G12672-SUMIF(ESCALA!$B$14:$B$15,DADOS!K12672,ESCALA!$I$14:$I$15)","v":0}]
["",null,null,null,null,null,null,"1900-12-30",{"$error":"#NUM!"},"1900-12-31","-",{"$f":"G12686-SUMIF(ESCALA!$B$14:$B$15,DADOS!K12686,ESCALA!$I$14:$I$15)","v":0}]
["",null,null,null,null,null,null,"1900-12-30",{"$error":"#NUM!"},"1900-12-31","-",{"$f":"G12705-SUMIF(ESCALA!$B$14:$B$15,DADOS!K12705,ESCALA!$I$14:$I$15)","v":0}]
["",null,null,null,null,null,null,"1900-12-30",{"$error":"#NUM!"},"1900-12-31","-",{"$f":"G12720-SUMIF(ESCALA!$B$14:$B$15,DADOS!K12720,ESCALA!$I$14:$I$15)","v":0}]
["",null,null,null,null,null,null,"1900-12-30",{"$error":"#NUM!"},"1900-12-31","-",{"$f":"G12738-SUMIF(ESCALA!$B$14:$B$15,DADOS!K12738,ESCALA!$I$14:$I$15)","v":0}]
[{"$f":"IF(L12739=0,\"\",B12739)","v":""},null,null,null,null,null,null,{"$f":"IF(F12739<=44985,F12739+365,F12739+366)","v":"1900-12-30"},{"$error":"#NUM!"},"1900-12-31",{"$f":"CONCATENATE(B12739,\"-\",F12739)","v":"-"},{"$f":"G12739-SUMIF(ESCALA!$B$14:$B$15,DADOS!K12739,ESCALA!$I$14:$I$15)","v":0}]
["",null,null,null,null,null,null,"1900-12-30",{"$error":"#NUM!"},"1900-12-31","-",{"$f":"G12754-SUMIF(ESCALA!$B$14:$B$15,DADOS!K12754,ESCALA!$I$14:$I$15)","v":0}]
["",null,null,null,null,null,null,"1900-12-30",{"$error":"#NUM!"},"1900-12-31","-",{"$f":"G12773-SUMIF(ESCALA!$B$14:$B$15,DADOS!K12773,ESCALA!$I$14:$I$15)","v":0}]
["",null,null,null,null,null,null,"1900-12-30",{"$error":"#NUM!"},"1900-12-31","-",{"$f":"G12787-SUMIF(ESCALA!$B$14:$B$15,DADOS!K12787,ESCALA!$I$14:$I$15)","v":0}]
["",null,null,null,null,null,null,"1900-12-30",{"$error":"#NUM!"},"1900-12-31","-",{"$f":"G12802-SUMIF(ESCALA!$B$14:$B$15,DADOS!K12802,ESCALA!$I$14:$I$15)","v":0}]
["",null,null,null,null,null,null,"1900-12-30",{"$error":"#NUM!"},"1900-12-31","-",{"$f":"G12821-SUMIF(ESCALA!$B$14:$B$15,DADOS!K12821,ESCALA!$I$14:$I$15)","v":0}]
["",null,null,null,null,null,null,"1900-12-30",{"$error":"#NUM!"},"1900-12-31","-",{"$f":"G12822-SUMIF(ESCALA!$B$14:$B$15,DADOS!K12822,ESCALA!$I$14:$I$15)","v":0}]
["",null,null,null,null,null,null,"1900-12-30",{"$error":"#NUM!"},"1900-12-31","-",{"$f":"G12840-SUMIF(ESCALA!$B$14:$B$15,DADOS!K12840,ESCALA!$I$14:$I$15)","v":0}]
["",null,null,null,null,null,null,"1900-12-30",{"$error":"#NUM!"},"1900-12-31","-",{"$f":"G12855-SUMIF(ESCALA!$B$14:$B$15,DADOS!K12855,ESCALA!$I$14:$I$15)","v":0}]
["",null,null,null,null,null,null,"1900-12-30",{"$error":"#NUM!"},"1900-12-31","-",{"$f":"G12870-SUMIF(ESCALA!$B$14:$B$15,DADOS!K12870,ESCALA!$I$14:$I$15)","v":0}]
["",null,null,null,null,null,null,"1900-12-30",{"$error":"#NUM!"},"1900-12-31","-",{"$f":"G12889-SUMIF(ESCALA!$B$14:$B$15,DADOS!K12889,ESCALA!$I$14:$I$15)","v":0}]
["",null,null,null,null,null,null,"1900-12-30",{"$error":"#NUM!"},"1900-12-31","-",{"$f":"G12902-SUMIF(ESCALA!$B$14:$B$15,DADOS!K12902,ESCALA!$I$14:$I$15)","v":0}]
["",null,null,null,null,null,null,"1900-12-30",{"$error":"#NUM!"},"1900-12-31","-",{"$f":"G12904-SUMIF(ESCALA!$B$14:$B$15,DADOS!K12904,ESCALA!$I$14:$I$15)","v":0}]
["",null,null,null,null,null,null,"1900-12-30",{"$error":"#NUM!"},"1900-12-31","-",{"$f":"G12923-SUMIF(ESCALA!$B$14:$B$15,DADOS!K12923,ESCALA!$I$14:$I$15)","v":0}]
["",null,null,null,null,null,null,"1900-12-30",{"$error":"#NUM!"},"1900-12-31","-",{"$f":"G12938-SUMIF(ESCALA!$B$14:$B$15,DADOS!K12938,ESCALA!$I$14:$I$15)","v":0}]
["",null,null,null,null,null,null,"1900-12-30",{"$error":"#NUM!"},"1900-12-31","-",{"$f":"G12951-SUMIF(ESCALA!$B$14:$B$15,DADOS!K12951,ESCALA!$I$14:$I$15)","v":0}]
["",null,null,null,null,null,null,"1900-12-30",{"$error":"#NUM!"},"1900-12-31","-",{"$f":"G12971-SUMIF(ESCALA!$B$14:$B$15,DADOS!K12971,ESCALA!$I$14:$I$15)","v":0}]
["",null,null,null,null,null,null,"1900-12-30",{"$error":"#NUM!"},"1900-12-31","-",{"$f":"G12986-SUMIF(ESCALA!$B$14:$B$15,DADOS!K12986,ESCALA!$I$14:$I$15)","v":0}]
["",null,null,null,null,null,null,"1900-12-30",{"$error":"#NUM!"},"1900-12-31","-",{"$f":"G12991-SUMIF(ESCALA!$B$14:$B$15,DADOS!K12991,ESCALA!$I$14:$I$15)","v":0}]
["",null,null,null,null,null,null,"1900-12-30",{"$error":"#NUM!"},"1900-12-31","-",{"$f":"G13004-SUMIF(ESCALA!$B$14:$B$15,DADOS!K13004,ESCALA!$I$14:$I$15)","v":0}]
["",null,null,null,null,null,null,"1900-12-30",{"$error":"#NUM!"},"1900-12-31","-",{"$f":"G13020-SUMIF(ESCALA!$B$14:$B$15,DADOS!K13020,ESCALA!$I$14:$I$15)","v":0}]
["",null,null,null,null,null,null,"1900-12-30",{"$error":"#NUM!"},"1900-12-31","-",{"$f":"G13039-SUMIF(ESCALA!$B$14:$B$15,DADOS!K13039,ESCALA!$I$14:$I$15)","v":0}]
["",null,null,null,null,null,null,"1900-12-30",{"$error":"#NUM!"},"1900-12-31","-",{"$f":"G13054-SUMIF(ESCALA!$B$14:$B$15,DADOS!K13054,ESCALA!$I$14:$I$15)","v":0}]
["",null,null,null,null,null,null,"1900-12-30",{"$error":"#NUM!"},"1900-12-31","-",{"$f":"G13066-SUMIF(ESCALA!$B$14:$B$15,DADOS!K13066,ESCALA!$I$14:$I$15)","v":0}]
["",null,null,null,null,null,null,"1900-12-30",{"$error":"#NUM!"},"1900-12-31","-",{"$f":"G13073-SUMIF(ESCALA!$B$14:$B$15,DADOS!K13073,ESCALA!$I$14:$I$15)","v":0}]
["",null,null,null,null,null,null,"1900-12-30",{"$error":"#NUM!"},"1900-12-31","-",{"$f":"G13088-SUMIF(ESCALA!$B$14:$B$15,DADOS!K13088,ESCALA!$I$14:$I$15)","v":0}]
["",null,null,null,null,null,null,"1900-12-30",{"$error":"#NUM!"},"1900-12-31","-",{"$f":"G13107-SUMIF(ESCALA!$B$14:$B$15,DADOS!K13107,ESCALA!$I$14:$I$15)","v":0}]
["",null,null,null,null,null,null,"1900-12-30",{"$error":"#NUM!"},"1900-12-31","-",{"$f":"G13119-SUMIF(ESCALA!$B$14:$B$15,DADOS!K13119,ESCALA!$I$14:$I$15)","v":0}]
["",null,null,null,null,null,null,"1900-12-30",{"$error":"#NUM!"},"1900-12-31","-",{"$f":"G13126-SUMIF(ESCALA!$B$14:$B$15,DADOS!K13126,ESCALA!$I$14:$I$15)","v":0}]
["",null,null,null,null,null,null,"1900-12-30",{"$error":"#NUM!"},"1900-12-31","-",{"$f":"G13141-SUMIF(ESCALA!$B$14:$B$15,DADOS!K13141,ESCALA!$I$14:$I$15)","v":0}]
["",null,null,null,null,null,null,"1900-12-30",{"$error":"#NUM!"},"1900-12-31","-",{"$f":"G13156-SUMIF(ESCALA!$B$14:$B$15,DADOS!K13156,ESCALA!$I$14:$I$15)","v":0}]
["",null,null,null,null,null,null,"1900-12-30",{"$error":"#NUM!"},"1900-12-31","-",{"$f":"G13168-SUMIF(ESCALA!$B$14:$B$15,DADOS!K13168,ESCALA!$I$14:$I$15)","v":0}]
["",null,null,null,null,null,null,"1900-12-30",{"$error":"#NUM!"},"1900-12-31","-",{"$f":"G13189-SUMIF(ESCALA!$B$14:$B$15,DADOS!K13189,ESCALA!$I$14:$I$15)","v":0}]
["",null,null,null,null,null,null,"1900-12-30",{"$error":"#NUM!"},"1900-12-31","-",{"$f":"G13204-SUMIF(ESCALA!$B$14:$B$15,DADOS!K13204,ESCALA!$I$14:$I$15)","v":0}]
["",null,null,null,null,null,null,"1900-12-30",{"$error":"#NUM!"},"1900-12-31","-",{"$f":"G13209-SUMIF(ESCALA!$B$14:$B$15,DADOS!K13209,ESCALA!$I$14:$I$15)","v":0}]
["",null,null,null,null,null,null,"1900-12-30",{"$error":"#NUM!"},"1900-12-31","-",{"$f":"G13221-SUMIF(ESCALA!$B$14:$B$15,DADOS!K13221,ESCALA!$I$14:$I$15)","v":0}]
["",null,null,null,null,null,null,"1900-12-30",{"$error":"#NUM!"},"1900-12-31","-",{"$f":"G13242-SUMIF(ESCALA!$B$14:$B$15,DADOS!K13242,ESCALA!$I$14:$I$15)","v":0}]
["",null,null,null,null,null,null,"1900-12-30",{"$error":"#NUM!"},"1900-12-31","-",{"$f":"G13257-SUMIF(ESCALA!$B$14:$B$15,DADOS!K13257,ESCALA!$I$14:$I$15)","v":0}]
["",null,null,null,null,null,null,"1900-12-30",{"$error":"#NUM!"},"1900-12-31","-",{"$f":"G13272-SUMIF(ESCALA!$B$14:$B$15,DADOS!K13272,ESCALA!$I$14:$I$15)","v":0}]
["",null,null,null,null,null,null,"1900-12-30",{"$error":"#NUM!"},"1900-12-31","-",{"$f":"G13283-SUMIF(ESCALA!$B$14:$B$15,DADOS!K13283,ESCALA!$I$14:$I$15)","v":0}]
["",null,null,null,null,null,null,"1900-12-30",{"$error":"#NUM!"},"1900-12-31","-",{"$f":"G13291-SUMIF(ESCALA!$B$14:$B$15,DADOS!K13291,ESCALA!$I$14:$I$15)","v":0}]
["",null,null,null,null,null,null,"1900-12-30",{"$error":"#NUM!"},"1900-12-31","-",{"$f":"G13306-SUMIF(ESCALA!$B$14:$B$15,DADOS!K13306,ESCALA!$I$14:$I$15)","v":0}]
["",null,null,null,null,null,null,"1900-12-30",{"$error":"#NUM!"},"1900-12-31","-",{"$f":"G13325-SUMIF(ESCALA!$B$14:$B$15,DADOS!K13325,ESCALA!$I$14:$I$15)","v":0}]
["",null,null,null,null,null,null,"1900-12-30",{"$error":"#NUM!"},"1900-12-31","-",{"$f":"G13336-SUMIF(ESCALA!$B$14:$B$15,DADOS!K13336,ESCALA!$I$14:$I$15)","v":0}]
["",null,null,null,null,null,null,"1900-12-30",{"$error":"#NUM!"},"1900-12-31","-",{"$f":"G13344-SUMIF(ESCALA!$B$14:$B$15,DADOS!K13344,ESCALA!$I$14:$I$15)","v":0}]
["",null,null,null,null,null,null,"1900-12-30",{"$error":"#NUM!"},"1900-12-31","-",{"$f":"G13359-SUMIF(ESCALA!$B$14:$B$15,DADOS!K13359,ESCALA!$I$14:$I$15)","v":0}]
["",null,null,null,null,null,null,"1900-12-30",{"$error":"#NUM!"},"1900-12-31","-",{"$f":"G13374-SUMIF(ESCALA!$B$14:$B$15,DADOS!K13374,ESCALA!$I$14:$I$15)","v":0}]
["",null,null,null,null,null,null,"1900-12-30",{"$error":"#NUM!"},"1900-12-31","-",{"$f":"G13398-SUMIF(ESCALA!$B$14:$B$15,DADOS!K13398,ESCALA!$I$14:$I$15)","v":0}]
["",null,null,null,null,null,null,"1900-12-30",{"$error":"#NUM!"},"1900-12-31","-",{"$f":"G13407-SUMIF(ESCALA!$B$14:$B$15,DADOS!K13407,ESCALA!$I$14:$I$15)","v":0}]
["",null,null,null,null,null,null,"1900-12-30",{"$error":"#NUM!"},"1900-12-31","-",{"$f":"G13426-SUMIF(ESCALA!$B$14:$B$15,DADOS!K13426,ESCALA!$I$14:$I$15)","v":0}]
["",null,null,null,null,null,null,"1900-12-30",{"$error":"#NUM!"},"1900-12-31","-",{"$f":"G13427-SUMIF(ESCALA!$B$14:$B$15,DADOS!K13427,ESCALA!$I$14:$I$15)","v":0}]
["",null,null,null,null,null,null,"1900-12-30",{"$error":"#NUM!"},"1900-12-31","-",{"$f":"G13451-SUMIF(ESCALA!$B$14:$B$15,DADOS!K13451,ESCALA!$I$14:$I$15)","v":0}]
["",null,null,null,null,null,null,"1900-12-30",{"$error":"#NUM!"},"1900-12-31","-",{"$f":"G13460-SUMIF(ESCALA!$B$14:$B$15,DADOS!K13460,ESCALA!$I$14:$I$15)","v":0}]
["",null,null,null,null,null,null,"1900-12-30",{"$error":"#NUM!"},"1900-12-31","-",{"$f":"G13475-SUMIF(ESCALA!$B$14:$B$15,DADOS!K13475,ESCALA!$I$14:$I$15)","v":0}]
["",null,null,null,null,null,null,"1900-12-30",{"$error":"#NUM!"},"1900-12-31","-",{"$f":"G13490-SUMIF(ESCALA!$B$14:$B$15,DADOS!K13490,ESCALA!$I$14:$I$15)","v":0}]
["",null,null,null,null,null,null,"1900-12-30",{"$error":"#NUM!"},"1900-12-31","-",{"$f":"G13500-SUMIF(ESCALA!$B$14:$B$15,DADOS!K13500,ESCALA!$I$14:$I$15)","v":0}]
["",null,null,null,null,null,null,"1900-12-30",{"$error":"#NUM!"},"1900-12-31","-",{"$f":"G13509-SUMIF(ESCALA!$B$14:$B$15,DADOS!K13509,ESCALA!$I$14:$I$15)","v":0}]
["",null,null,null,null,null,null,"1900-12-30",{"$error":"#NUM!"},"1900-12-31","-",{"$f":"G13528-SUMIF(ESCALA!$B$14:$B$15,DADOS!K13528,ESCALA!$I$14:$I$15)","v":0}]
["",null,null,null,null,null,null,"1900-12-30",{"$error":"#NUM!"},"1900-12-31","-",{"$f":"G13543-SUMIF(ESCALA!$B$14:$B$15,DADOS!K13543,ESCALA!$I$14:$I$15)","v":0}]
["",null,null,null,null,null,null,"1900-12-30",{"$error":"#NUM!"},"1900-12-31","-",{"$f":"G13553-SUMIF(ESCALA!$B$14:$B$15,DADOS!K13553,ESCALA!$I$14:$I$15)","v":0}]
["",null,null,null,null,null,null,"1900-12-30",{"$error":"#NUM!"},"1900-12-31","-",{"$f":"G13576-SUMIF(ESCALA!$B$14:$B$15,DADOS!K13576,ESCALA!$I$14:$I$15)","v":0}]
["",null,null,null,null,null,null,"1900-12-30",{"$error":"#NUM!"},"1900-12-31","-",{"$f":"G13591-SUMIF(ESCALA!$B$14:$B$15,DADOS!K13591,ESCALA!$I$14:$I$15)","v":0}]
["",null,null,null,null,null,null,"1900-12-30",{"$error":"#NUM!"},"1900-12-31","-",{"$f":"G13592-SUMIF(ESCALA!$B$14:$B$15,DADOS!K13592,ESCALA!$I$14:$I$15)","v":0}]
["",null,null,null,null,null,null,"1900-12-30",{"$error":"#NUM!"},"1900-12-31","-",{"$f":"G13615-SUMIF(ESCALA!$B$14:$B$15,DADOS!K13615,ESCALA!$I$14:$I$15)","v":0}]
["",null,null,null,null,null,null,"1900-12-30",{"$error":"#NUM!"},"1900-12-31","-",{"$f":"G13625-SUMIF(ESCALA!$B$14:$B$15,DADOS!K13625,ESCALA!$I$14:$I$15)","v":0}]
["",null,null,null,null,null,null,"1900-12-30",{"$error":"#NUM!"},"1900-12-31","-",{"$f":"G13644-SUMIF(ESCALA!$B$14:$B$15,DADOS!K13644,ESCALA!$I$14:$I$15)","v":0}]
["",null,null,null,null,null,null,"1900-12-30",{"$error":"#NUM!"},"1900-12-31","-",{"$f":"G13659-SUMIF(ESCALA!$B$14:$B$15,DADOS!K13659,ESCALA!$I$14:$I$15)","v":0}]
["",null,null,null,null,null,null,"1900-12-30",{"$error":"#NUM!"},"1900-12-31","-",{"$f":"G13668-SUMIF(ESCALA!$B$14:$B$15,DADOS!K13668,ESCALA!$I$14:$I$15)","v":0}]
["",null,null,null,null,null,null,"1900-12-30",{"$error":"#NUM!"},"1900-12-31","-",{"$f":"G13678-SUMIF(ESCALA!$B$14:$B$15,DADOS!K13678,ESCALA!$I$14:$I$15)","v":0}]
["",null,null,null,null,null,null,"1900-12-30",{"$error":"#NUM!"},"1900-12-31","-",{"$f":"G13693-SUMIF(ESCALA!$B$14:$B$15,DADOS!K13693,ESCALA!$I$14:$I$15)","v":0}]
["",null,null,null,null,null,null,"1900-12-30",{"$error":"#NUM!"},"1900-12-31","-",{"$f":"G13712-SUMIF(ESCALA!$B$14:$B$15,DADOS!K13712,ESCALA!$I$14:$I$15)","v":0}]
["",null,null,null,null,null,null,"1900-12-30",{"$error":"#NUM!"},"1900-12-31","-",{"$f":"G13717-SUMIF(ESCALA!$B$14:$B$15,DADOS!K13717,ESCALA!$I$14:$I$15)","v":0}]
["",null,null,null,null,null,null,"1900-12-30",{"$error":"#NUM!"},"1900-12-31","-",{"$f":"G13741-SUMIF(ESCALA!$B$14:$B$15,DADOS!K13741,ESCALA!$I$14:$I$15)","v":0}]
["",null,null,null,null,null,null,"1900-12-30",{"$error":"#NUM!"},"1900-12-31","-",{"$f":"G13746-SUMIF(ESCALA!$B$14:$B$15,DADOS!K13746,ESCALA!$I$14:$I$15)","v":0}]
["",null,null,null,null,null,null,"1900-12-30",{"$error":"#NUM!"},"1900-12-31","-",{"$f":"G13761-SUMIF(ESCALA!$B$14:$B$15,DADOS!K13761,ESCALA!$I$14:$I$15)","v":0}]
["",null,null,null,null,null,null,"1900-12-30",{"$error":"#NUM!"},"1900-12-31","-",{"$f":"G13783-SUMIF(ESCALA!$B$14:$B$15,DADOS!K13783,ESCALA!$I$14:$I$15)","v":0}]
["",null,null,null,null,null,null,"1900-12-30",{"$error":"#NUM!"},"1900-12-31","-",{"$f":"G13794-SUMIF(ESCALA!$B$14:$B$15,DADOS!K13794,ESCALA!$I$14:$I$15)","v":0}]
["",null,null,null,null,null,null,"1900-12-30",{"$error":"#NUM!"},"1900-12-31","-",{"$f":"G13809-SUMIF(ESCALA!$B$14:$B$15,DADOS!K13809,ESCALA!$I$14:$I$15)","v":0}]
["",null,null,null,null,null,null,"1900-12-30",{"$error":"#NUM!"},"1900-12-31","-",{"$f":"G13814-SUMIF(ESCALA!$B$14:$B$15,DADOS!K13814,ESCALA!$I$14:$I$15)","v":0}]
["",null,null,null,null,null,null,"1900-12-30",{"$error":"#NUM!"},"1900-12-31","-",{"$f":"G13832-SUMIF(ESCALA!$B$14:$B$15,DADOS!K13832,ESCALA!$I$14:$I$15)","v":0}]
["",null,null,null,null,null,null,"1900-12-30",{"$error":"#NUM!"},"1900-12-31","-",{"$f":"G13843-SUMIF(ESCALA!$B$14:$B$15,DADOS!K13843,ESCALA!$I$14:$I$15)","v":0}]
["",null,null,null,null,null,null,"1900-12-30",{"$error":"#NUM!"},"1900-12-31","-",{"$f":"G13862-SUMIF(ESCALA!$B$14:$B$15,DADOS!K13862,ESCALA!$I$14:$I$15)","v":0}]
["",null,null,null,null,null,null,"1900-12-30",{"$error":"#NUM!"},"1900-12-31","-",{"$f":"G13877-SUMIF(ESCALA!$B$14:$B$15,DADOS!K13877,ESCALA!$I$14:$I$15)","v":0}]
["",null,null,null,null,null,null,"1900-12-30",{"$error":"#NUM!"},"1900-12-31","-",{"$f":"G13881-SUMIF(ESCALA!$B$14:$B$15,DADOS!K13881,ESCALA!$I$14:$I$15)","v":0}]
["",null,null,null,null,null,null,"1900-12-30",{"$error":"#NUM!"},"1900-12-31","-",{"$f":"G13896-SUMIF(ESCALA!$B$14:$B$15,DADOS!K13896,ESCALA!$I$14:$I$15)","v":0}]
["",null,null,null,null,null,null,"1900-12-30",{"$error":"#NUM!"},"1900-12-31","-",{"$f":"G13911-SUMIF(ESCALA!$B$14:$B$15,DADOS!K13911,ESCALA!$I$14:$I$15)","v":0}]
["",null,null,null,null,null,null,"1900-12-30",{"$error":"#NUM!"},"1900-12-31","-",{"$f":"G13930-SUMIF(ESCALA!$B$14:$B$15,DADOS!K13930,ESCALA!$I$14:$I$15)","v":0}]
["",null,null,null,null,null,null,"1900-12-30",{"$error":"#NUM!"},"1900-12-31","-",{"$f":"G13947-SUMIF(ESCALA!$B$14:$B$15,DADOS!K13947,ESCALA!$I$14:$I$15)","v":0}]
["",null,null,null,null,null,null,"1900-12-30",{"$error":"#NUM!"},"1900-12-31","-",{"$f":"G13959-SUMIF(ESCALA!$B$14:$B$15,DADOS!K13959,ESCALA!$I$14:$I$15)","v":0}]
["",null,null,null,null,null,null,"1900-12-30",{"$error":"#NUM!"},"1900-12-31","-",{"$f":"G13964-SUMIF(ESCALA!$B$14:$B$15,DADOS!K13964,ESCALA!$I$14:$I$15)","v":0}]
["",null,null,null,null,null,null,"1900-12-30",{"$error":"#NUM!"},"1900-12-31","-",{"$f":"G13979-SUMIF(ESCALA!$B$14:$B$15,DADOS!K13979,ESCALA!$I$14:$I$15)","v":0}]
["",null,null,null,null,null,null,"1900-12-30",{"$error":"#NUM!"},"1900-12-31","-",{"$f":"G13996-SUMIF(ESCALA!$B$14:$B$15,DADOS!K13996,ESCALA!$I$14:$I$15)","v":0}]
["",null,null,null,null,null,null,"1900-12-30",{"$error":"#NUM!"},"1900-12-31","-",{"$f":"G14012-SUMIF(ESCALA!$B$14:$B$15,DADOS!K14012,ESCALA!$I$14:$I$15)","v":0}]
["",null,null,null,null,null,null,"1900-12-30",{"$error":"#NUM!"},"1900-12-31","-",{"$f":"G14027-SUMIF(ESCALA!$B$14:$B$15,DADOS!K14027,ESCALA!$I$14:$I$15)","v":0}]
["",null,null,null,null,null,null,"1900-12-30",{"$error":"#NUM!"},"1900-12-31","-",{"$f":"G14032-SUMIF(ESCALA!$B$14:$B$15,DADOS!K14032,ESCALA!$I$14:$I$15)","v":0}]
["",null,null,null,null,null,null,"1900-12-30",{"$error":"#NUM!"},"1900-12-31","-",{"$f":"G14049-SUMIF(ESCALA!$B$14:$B$15,DADOS!K14049,ESCALA!$I$14:$I$15)","v":0}]
["",null,null,null,null,null,null,"1900-12-30",{"$error":"#NUM!"},"1900-12-31","-",{"$f":"G14061-SUMIF(ESCALA!$B$14:$B$15,DADOS!K14061,ESCALA!$I$14:$I$15)","v":0}]
["",null,null,null,null,null,null,"1900-12-30",{"$error":"#NUM!"},"1900-12-31","-",{"$f":"G14080-SUMIF(ESCALA!$B$14:$B$15,DADOS!K14080,ESCALA!$I$14:$I$15)","v":0}]
["",null,null,null,null,null,null,"1900-12-30",{"$error":"#NUM!"},"1900-12-31","-",{"$f":"G14095-SUMIF(ESCALA!$B$14:$B$15,DADOS!K14095,ESCALA!$I$14:$I$15)","v":0}]
["",null,null,null,null,null,null,"1900-12-30",{"$error":"#NUM!"},"1900-12-31","-",{"$f":"G14111-SUMIF(ESCALA!$B$14:$B$15,DADOS!K14111,ESCALA!$I$14:$I$15)","v":0}]
["",null,null,null,null,null,null,"1900-12-30",{"$error":"#NUM!"},"1900-12-31","-",{"$f":"G14114-SUMIF(ESCALA!$B$14:$B$15,DADOS!K14114,ESCALA!$I$14:$I$15)","v":0}]
["",null,null,null,null,null,null,"1900-12-30",{"$error":"#NUM!"},"1900-12-31","-",{"$f":"G14129-SUMIF(ESCALA!$B$14:$B$15,DADOS!K14129,ESCALA!$I$14:$I$15)","v":0}]
["",null,null,null,null,null,null,"1900-12-30",{"$f":"IF(E14148=\"ESTATUTARIO\",EOMONTH(F14148,0),EOMONTH(F14148,-1))","v":{"$error":"#NUM!"}},{"$f":"EOMONTH(F14148,11)","v":"1900-12-31"},"-",{"$f":"G14148-SUMIF(ESCALA!$B$14:$B$15,DADOS!K14148,ESCALA!$I$14:$I$15)","v":0}]
["",null,null,null,null,null,null,"1900-12-30",{"$error":"#NUM!"},"1900-12-31","-",{"$f":"G14164-SUMIF(ESCALA!$B$14:$B$15,DADOS!K14164,ESCALA!$I$14:$I$15)","v":0}]
["",null,null,null,null,null,null,"1900-12-30",{"$error":"#NUM!"},"1900-12-31","-",{"$f":"G14181-SUMIF(ESCALA!$B$14:$B$15,DADOS!K14181,ESCALA!$I$14:$I$15)","v":0}]
["",null,null,null,null,null,null,"1900-12-30",{"$error":"#NUM!"},"1900-12-31","-",{"$f":"G14196-SUMIF(ESCALA!$B$14:$B$15,DADOS!K14196,ESCALA!$I$14:$I$15)","v":0}]
["",null,null,null,null,null,null,"1900-12-30",{"$error":"#NUM!"},"1900-12-31","-",{"$f":"G14197-SUMIF(ESCALA!$B$14:$B$15,DADOS!K14197,ESCALA!$I$14:$I$15)","v":0}]
["",null,null,null,null,null,null,"1900-12-30",{"$error":"#NUM!"},"1900-12-31","-",{"$f":"G14213-SUMIF(ESCALA!$B$14:$B$15,DADOS!K14213,ESCALA!$I$14:$I$15)","v":0}]
["",null,null,null,null,null,null,"1900-12-30",{"$error":"#NUM!"},"1900-12-31","-",{"$f":"G14230-SUMIF(ESCALA!$B$14:$B$15,DADOS!K14230,ESCALA!$I$14:$I$15)","v":0}]
["",null,null,null,null,null,null,"1900-12-30",{"$error":"#NUM!"},"1900-12-31","-",{"$f":"G14245-SUMIF(ESCALA!$B$14:$B$15,DADOS!K14245,ESCALA!$I$14:$I$15)","v":0}]
["",null,null,null,null,null,null,"1900-12-30",{"$error":"#NUM!"},"1900-12-31","-",{"$f":"G14264-SUMIF(ESCALA!$B$14:$B$15,DADOS!K14264,ESCALA!$I$14:$I$15)","v":0}]
["",null,null,null,null,null,null,"1900-12-30",{"$error":"#NUM!"},"1900-12-31","-",{"$f":"G14266-SUMIF(ESCALA!$B$14:$B$15,DADOS!K14266,ESCALA!$I$14:$I$15)","v":0}]
["",null,null,null,null,null,null,"1900-12-30",{"$error":"#NUM!"},"1900-12-31","-",{"$f":"G14283-SUMIF(ESCALA!$B$14:$B$15,DADOS!K14283,ESCALA!$I$14:$I$15)","v":0}]
["",null,null,null,null,null,null,"1900-12-30",{"$error":"#NUM!"},"1900-12-31","-",{"$f":"G14298-SUMIF(ESCALA!$B$14:$B$15,DADOS!K14298,ESCALA!$I$14:$I$15)","v":0}]
["",null,null,null,null,null,null,"1900-12-30",{"$error":"#NUM!"},"1900-12-31","-",{"$f":"G14313-SUMIF(ESCALA!$B$14:$B$15,DADOS!K14313,ESCALA!$I$14:$I$15)","v":0}]
["",null,null,null,null,null,null,"1900-12-30",{"$error":"#NUM!"},"1900-12-31","-",{"$f":"G14328-SUMIF(ESCALA!$B$14:$B$15,DADOS!K14328,ESCALA!$I$14:$I$15)","v":0}]
["",null,null,null,null,null,null,"1900-12-30",{"$error":"#NUM!"},"1900-12-31","-",{"$f":"G14346-SUMIF(ESCALA!$B$14:$B$15,DADOS!K14346,ESCALA!$I$14:$I$15)","v":0}]
["",null,null,null,null,null,null,"1900-12-30",{"$error":"#NUM!"},"1900-12-31","-",{"$f":"G14351-SUMIF(ESCALA!$B$14:$B$15,DADOS!K14351,ESCALA!$I$14:$I$15)","v":0}]
["",null,null,null,null,null,null,"1900-12-30",{"$error":"#NUM!"},"1900-12-31","-",{"$f":"G14366-SUMIF(ESCALA!$B$14:$B$15,DADOS!K14366,ESCALA!$I$14:$I$15)","v":0}]
["",null,null,null,null,null,null,"1900-12-30",{"$error":"#NUM!"},"1900-12-31","-",{"$f":"G14381-SUMIF(ESCALA!$B$14:$B$15,DADOS!K14381,ESCALA!$I$14:$I$15)","v":0}]
["",null,null,null,null,null,null,"1900-12-30",{"$error":"#NUM!"},"1900-12-31","-",{"$f":"G14399-SUMIF(ESCALA!$B$14:$B$15,DADOS!K14399,ESCALA!$I$14:$I$15)","v":0}]
["",null,null,null,null,null,null,"1900-12-30",{"$error":"#NUM!"},"1900-12-31","-",{"$f":"G14414-SUMIF(ESCALA!$B$14:$B$15,DADOS!K14414,ESCALA!$I$14:$I$15)","v":0}]
["",null,null,null,null,null,null,"1900-12-30",{"$error":"#NUM!"},"1900-12-31","-",{"$f":"G14429-SUMIF(ESCALA!$B$14:$B$15,DADOS!K14429,ESCALA!$I$14:$I$15)","v":0}]
["",null,null,null,null,null,null,"1900-12-30",{"$error":"#NUM!"},"1900-12-31","-",{"$f":"G14443-SUMIF(ESCALA!$B$14:$B$15,DADOS!K14443,ESCALA!$I$14:$I$15)","v":0}]
["",null,null,null,null,null,null,"1900-12-30",{"$error":"#NUM!"},"1900-12-31","-",{"$f":"G14448-SUMIF(ESCALA!$B$14:$B$15,DADOS!K14448,ESCALA!$I$14:$I$15)","v":0}]
[{"$f":"IF(L14467=0,\"\",B14467)","v":""},null,null,null,null,null,null,{"$f":"IF(F14467<=44985,F14467+365,F14467+366)","v":"1900-12-30"},{"$error":"#NUM!"},"1900-12-31",{"$f":"CONCATENATE(B14467,\"-\",F14467)","v":"-"},{"$f":"G14467-SUMIF(ESCALA!$B$14:$B$15,DADOS!K14467,ESCALA!$I$14:$I$15)","v":0}]
["",null,null,null,null,null,null,"1900-12-30",{"$error":"#NUM!"},"1900-12-31","-",{"$f":"G14482-SUMIF(ESCALA!$B$14:$B$15,DADOS!K14482,ESCALA!$I$14:$I$15)","v":0}]
["",null,null,null,null,null,null,"1900-12-30",{"$error":"#NUM!"},"1900-12-31","-",{"$f":"G14496-SUMIF(ESCALA!$B$14:$B$15,DADOS!K14496,ESCALA!$I$14:$I$15)","v":0}]
["",null,null,null,null,null,null,"1900-12-30",{"$error":"#NUM!"},"1900-12-31","-",{"$f":"G14501-SUMIF(ESCALA!$B$14:$B$15,DADOS!K14501,ESCALA!$I$14:$I$15)","v":0}]
["",null,null,null,null,null,null,"1900-12-30",{"$error":"#NUM!"},"1900-12-31","-",{"$f":"G14516-SUMIF(ESCALA!$B$14:$B$15,DADOS!K14516,ESCALA!$I$14:$I$15)","v":0}]
[{"$f":"IF(L14531=0,\"\",B14531)","v":""},null,null,null,null,null,null,{"$f":"IF(F14531<=44985,F14531+365,F14531+366)","v":"1900-12-30"},{"$error":"#NUM!"},"1900-12-31",{"$f":"CONCATENATE(B14531,\"-\",F14531)","v":"-"},{"$f":"G14531-SUMIF(ESCALA!$B$14:$B$15,DADOS!K14531,ESCALA!$I$14:$I$15)","v":0}]
["",null,null,null,null,null,null,"1900-12-30",{"$error":"#NUM!"},"1900-12-31","-",{"$f":"G14545-SUMIF(ESCALA!$B$14:$B$15,DADOS!K14545,ESCALA!$I$14:$I$15)","v":0}]
["",null,null,null,null,null,null,"1900-12-30",{"$error":"#NUM!"},"1900-12-31","-",{"$f":"G14564-SUMIF(ESCALA!$B$14:$B$15,DADOS!K14564,ESCALA!$I$14:$I$15)","v":0}]
["",null,null,null,null,null,null,"1900-12-30",{"$error":"#NUM!"},"1900-12-31","-",{"$f":"G14569-SUMIF(ESCALA!$B$14:$B$15,DADOS!K14569,ESCALA!$I$14:$I$15)","v":0}]
["",null,null,null,null,null,null,"1900-12-30",{"$error":"#NUM!"},"1900-12-31","-",{"$f":"G14584-SUMIF(ESCALA!$B$14:$B$15,DADOS!K14584,ESCALA!$I$14:$I$15)","v":0}]
["",null,null,null,null,null,null,"1900-12-30",{"$error":"#NUM!"},"1900-12-31","-",{"$f":"G14598-SUMIF(ESCALA!$B$14:$B$15,DADOS!K14598,ESCALA!$I$14:$I$15)","v":0}]
["",null,null,null,null,null,null,"1900-12-30",{"$error":"#NUM!"},"1900-12-31","-",{"$f":"G14617-SUMIF(ESCALA!$B$14:$B$15,DADOS!K14617,ESCALA!$I$14:$I$15)","v":0}]
["",null,null,null,null,null,null,"1900-12-30",{"$error":"#NUM!"},"1900-12-31","-",{"$f":"G14632-SUMIF(ESCALA!$B$14:$B$15,DADOS!K14632,ESCALA!$I$14:$I$15)","v":0}]
["",null,null,null,null,null,null,"1900-12-30",{"$error":"#NUM!"},"1900-12-31","-",{"$f":"G14637-SUMIF(ESCALA!$B$14:$B$15,DADOS!K14637,ESCALA!$I$14:$I$15)","v":0}]
["",null,null,null,null,null,null,"1900-12-30",{"$f":"IF(E14660=\"ESTATUTARIO\",EOMONTH(F14660,0),EOMONTH(F14660,-1))","v":{"$error":"#NUM!"}},{"$f":"EOMONTH(F14660,11)","v":"1900-12-31"},"-",{"$f":"G14660-SUMIF(ESCALA!$B$14:$B$15,DADOS!K14660,ESCALA!$I$14:$I$15)","v":0}]
["",null,null,null,null,null,null,"1900-12-30",{"$error":"#NUM!"},"1900-12-31","-",{"$f":"G14666-SUMIF(ESCALA!$B$14:$B$15,DADOS!K14666,ESCALA!$I$14:$I$15)","v":0}]
["",null,null,null,null,null,null,"1900-12-30",{"$error":"#NUM!"},"1900-12-31","-",{"$f":"G14685-SUMIF(ESCALA!$B$14:$B$15,DADOS!K14685,ESCALA!$I$14:$I$15)","v":0}]
["",null,null,null,null,null,null,"1900-12-30",{"$error":"#NUM!"},"1900-12-31","-",{"$f":"G14700-SUMIF(ESCALA!$B$14:$B$15,DADOS!K14700,ESCALA!$I$14:$I$15)","v":0}]
["",null,null,null,null,null,null,"1900-12-30",{"$error":"#NUM!"},"1900-12-31","-",{"$f":"G14713-SUMIF(ESCALA!$B$14:$B$15,DADOS!K14713,ESCALA!$I$14:$I$15)","v":0}]
["",null,null,null,null,null,null,"1900-12-30",{"$error":"#NUM!"},"1900-12-31","-",{"$f":"G14719-SUMIF(ESCALA!$B$14:$B$15,DADOS!K14719,ESCALA!$I$14:$I$15)","v":0}]
["",null,null,null,null,null,null,"1900-12-30",{"$error":"#NUM!"},"1900-12-31","-",{"$f":"G14734-SUMIF(ESCALA!$B$14:$B$15,DADOS!K14734,ESCALA!$I$14:$I$15)","v":0}]
["",null,null,null,null,null,null,"1900-12-30",{"$error":"#NUM!"},"1900-12-31","-",{"$f":"G14753-SUMIF(ESCALA!$B$14:$B$15,DADOS!K14753,ESCALA!$I$14:$I$15)","v":0}]
["",null,null,null,null,null,null,"1900-12-30",{"$error":"#NUM!"},"1900-12-31","-",{"$f":"G14762-SUMIF(ESCALA!$B$14:$B$15,DADOS!K14762,ESCALA!$I$14:$I$15)","v":0}]
["",null,null,null,null,null,null,"1900-12-30",{"$error":"#NUM!"},"1900-12-31","-",{"$f":"G14782-SUMIF(ESCALA!$B$14:$B$15,DADOS!K14782,ESCALA!$I$14:$I$15)","v":0}]
["",null,null,null,null,null,null,"1900-12-30",{"$error":"#NUM!"},"1900-12-31","-",{"$f":"G14801-SUMIF(ESCALA!$B$14:$B$15,DADOS!K14801,ESCALA!$I$14:$I$15)","v":0}]
["",null,null,null,null,null,null,"1900-12-30",{"$error":"#NUM!"},"1900-12-31","-",{"$f":"G14802-SUMIF(ESCALA!$B$14:$B$15,DADOS!K14802,ESCALA!$I$14:$I$15)","v":0}]
["",null,null,null,null,null,null,"1900-12-30",{"$error":"#NUM!"},"1900-12-31","-",{"$f":"G14828-SUMIF(ESCALA!$B$14:$B$15,DADOS!K14828,ESCALA!$I$14:$I$15)","v":0}]
["",null,null,null,null,null,null,"1900-12-30",{"$error":"#NUM!"},"1900-12-31","-",{"$f":"G14835-SUMIF(ESCALA!$B$14:$B$15,DADOS!K14835,ESCALA!$I$14:$I$15)","v":0}]
["",null,null,null,null,null,null,"1900-12-30",{"$error":"#NUM!"},"1900-12-31","-",{"$f":"G14850-SUMIF(ESCALA!$B$14:$B$15,DADOS!K14850,ESCALA!$I$14:$I$15)","v":0}]
["",null,null,null,null,null,null,"1900-12-30",{"$error":"#NUM!"},"1900-12-31","-",{"$f":"G14869-SUMIF(ESCALA!$B$14:$B$15,DADOS!K14869,ESCALA!$I$14:$I$15)","v":0}]
["",null,null,null,null,null,null,"1900-12-30",{"$error":"#NUM!"},"1900-12-31","-",{"$f":"G14877-SUMIF(ESCALA!$B$14:$B$15,DADOS!K14877,ESCALA!$I$14:$I$15)","v":0}]
["",null,null,null,null,null,null,"1900-12-30",{"$error":"#NUM!"},"1900-12-31","-",{"$f":"G14884-SUMIF(ESCALA!$B$14:$B$15,DADOS!K14884,ESCALA!$I$14:$I$15)","v":0}]
["",null,null,null,null,null,null,"1900-12-30",{"$error":"#NUM!"},"1900-12-31","-",{"$f":"G14903-SUMIF(ESCALA!$B$14:$B$15,DADOS!K14903,ESCALA!$I$14:$I$15)","v":0}]
["",null,null,null,null,null,null,"1900-12-30",{"$error":"#NUM!"},"1900-12-31","-",{"$f":"G14918-SUMIF(ESCALA!$B$14:$B$15,DADOS!K14918,ESCALA!$I$14:$I$15)","v":0}]
["",null,null,null,null,null,null,"1900-12-30",{"$error":"#NUM!"},"1900-12-31","-",{"$f":"G14926-SUMIF(ESCALA!$B$14:$B$15,DADOS!K14926,ESCALA!$I$14:$I$15)","v":0}]
["",null,null,null,null,null,null,"1900-12-30",{"$error":"#NUM!"},"1900-12-31","-",{"$f":"G14951-SUMIF(ESCALA!$B$14:$B$15,DADOS!K14951,ESCALA!$I$14:$I$15)","v":0}]
["",null,null,null,null,null,null,"1900-12-30",{"$error":"#NUM!"},"1900-12-31","-",{"$f":"G14966-SUMIF(ESCALA!$B$14:$B$15,DADOS!K14966,ESCALA!$I$14:$I$15)","v":0}]
["",null,null,null,null,null,null,"1900-12-30",{"$error":"#NUM!"},"1900-12-31","-",{"$f":"G14971-SUMIF(ESCALA!$B$14:$B$15,DADOS!K14971,ESCALA!$I$14:$I$15)","v":0}]
["",null,null,null,null,null,null,"1900-12-30",{"$error":"#NUM!"},"1900-12-31","-",{"$f":"G14992-SUMIF(ESCALA!$B$14:$B$15,DADOS!K14992,ESCALA!$I$14:$I$15)","v":0}]
["",null,null,null,null,null,null,"1900-12-30",{"$error":"#NUM!"},"1900-12-31","-",{"$f":"G15000-SUMIF(ESCALA!$B$14:$B$15,DADOS!K15000,ESCALA!$I$14:$I$15)","v":0}]
["",null,null,null,null,null,null,"1900-12-30",{"$error":"#NUM!"},"1900-12-31","-",{"$f":"G15019-SUMIF(ESCALA!$B$14:$B$15,DADOS!K15019,ESCALA!$I$14:$I$15)","v":0}]
["",null,null,null,null,null,null,"1900-12-30",{"$error":"#NUM!"},"1900-12-31","-",{"$f":"G15034-SUMIF(ESCALA!$B$14:$B$15,DADOS!K15034,ESCALA!$I$14:$I$15)","v":0}]
["",null,null,null,null,null,null,"1900-12-30",{"$error":"#NUM!"},"1900-12-31","-",{"$f":"G15041-SUMIF(ESCALA!$B$14:$B$15,DADOS!K15041,ESCALA!$I$14:$I$15)","v":0}]
["",null,null,null,null,null,null,"1900-12-30",{"$error":"#NUM!"},"1900-12-31","-",{"$f":"G15053-SUMIF(ESCALA!$B$14:$B$15,DADOS!K15053,ESCALA!$I$14:$I$15)","v":0}]
["",null,null,null,null,null,null,"1900-12-30",{"$error":"#NUM!"},"1900-12-31","-",{"$f":"G15068-SUMIF(ESCALA!$B$14:$B$15,DADOS!K15068,ESCALA!$I$14:$I$15)","v":0}]
["",null,null,null,null,null,null,"1900-12-30",{"$error":"#NUM!"},"1900-12-31","-",{"$f":"G15087-SUMIF(ESCALA!$B$14:$B$15,DADOS!K15087,ESCALA!$I$14:$I$15)","v":0}]
["",null,null,null,null,null,null,"1900-12-30",{"$error":"#NUM!"},"1900-12-31","-",{"$f":"G15094-SUMIF(ESCALA!$B$14:$B$15,DADOS!K15094,ESCALA!$I$14:$I$15)","v":0}]
["",null,null,null,null,null,null,"1900-12-30",{"$error":"#NUM!"},"1900-12-31","-",{"$f":"G15106-SUMIF(ESCALA!$B$14:$B$15,DADOS!K15106,ESCALA!$I$14:$I$15)","v":0}]
["",null,null,null,null,null,null,"1900-12-30",{"$error":"#NUM!"},"1900-12-31","-",{"$f":"G15121-SUMIF(ESCALA!$B$14:$B$15,DADOS!K15121,ESCALA!$I$14:$I$15)","v":0}]
["",null,null,null,null,null,null,"1900-12-30",{"$error":"#NUM!"},"1900-12-31","-",{"$f":"G15136-SUMIF(ESCALA!$B$14:$B$15,DADOS!K15136,ESCALA!$I$14:$I$15)","v":0}]
["",null,null,null,null,null,null,"1900-12-30",{"$error":"#NUM!"},"1900-12-31","-",{"$f":"G15156-SUMIF(ESCALA!$B$14:$B$15,DADOS!K15156,ESCALA!$I$14:$I$15)","v":0}]
["",null,null,null,null,null,null,"1900-12-30",{"$error":"#NUM!"},"1900-12-31","-",{"$f":"G15169-SUMIF(ESCALA!$B$14:$B$15,DADOS!K15169,ESCALA!$I$14:$I$15)","v":0}]
["",null,null,null,null,null,null,"1900-12-30",{"$error":"#NUM!"},"1900-12-31","-",{"$f":"G15184-SUMIF(ESCALA!$B$14:$B$15,DADOS!K15184,ESCALA!$I$14:$I$15)","v":0}]
["",null,null,null,null,null,null,"1900-12-30",{"$error":"#NUM!"},"1900-12-31","-",{"$f":"G15189-SUMIF(ESCALA!$B$14:$B$15,DADOS!K15189,ESCALA!$I$14:$I$15)","v":0}]
["",null,null,null,null,null,null,"1900-12-30",{"$error":"#NUM!"},"1900-12-31","-",{"$f":"G15209-SUMIF(ESCALA!$B$14:$B$15,DADOS!K15209,ESCALA!$I$14:$I$15)","v":0}]
["",null,null,null,null,null,null,"1900-12-30",{"$error":"#NUM!"},"1900-12-31","-",{"$f":"G15222-SUMIF(ESCALA!$B$14:$B$15,DADOS!K15222,ESCALA!$I$14:$I$15)","v":0}]
["",null,null,null,null,null,null,"1900-12-30",{"$error":"#NUM!"},"1900-12-31","-",{"$f":"G15237-SUMIF(ESCALA!$B$14:$B$15,DADOS!K15237,ESCALA!$I$14:$I$15)","v":0}]
["",null,null,null,null,null,null,"1900-12-30",{"$error":"#NUM!"},"1900-12-31","-",{"$f":"G15252-SUMIF(ESCALA!$B$14:$B$15,DADOS!K15252,ESCALA!$I$14:$I$15)","v":0}]
["",null,null,null,null,null,null,"1900-12-30",{"$error":"#NUM!"},"1900-12-31","-",{"$f":"G15258-SUMIF(ESCALA!$B$14:$B$15,DADOS!K15258,ESCALA!$I$14:$I$15)","v":0}]
["",null,null,null,null,null,null,"1900-12-30",{"$error":"#NUM!"},"1900-12-31","-",{"$f":"G15271-SUMIF(ESCALA!$B$14:$B$15,DADOS!K15271,ESCALA!$I$14:$I$15)","v":0}]
["",null,null,null,null,null,null,"1900-12-30",{"$error":"#NUM!"},"1900-12-31","-",{"$f":"G15286-SUMIF(ESCALA!$B$14:$B$15,DADOS!K15286,ESCALA!$I$14:$I$15)","v":0}]
["",null,null,null,null,null,null,"1900-12-30",{"$error":"#NUM!"},"1900-12-31","-",{"$f":"G15305-SUMIF(ESCALA!$B$14:$B$15,DADOS!K15305,ESCALA!$I$14:$I$15)","v":0}]
["",null,null,null,null,null,null,"1900-12-30",{"$error":"#NUM!"},"1900-12-31","-",{"$f":"G15311-SUMIF(ESCALA!$B$14:$B$15,DADOS!K15311,ESCALA!$I$14:$I$15)","v":0}]
["",null,null,null,null,null,null,"1900-12-30",{"$error":"#NUM!"},"1900-12-31","-",{"$f":"G15324-SUMIF(ESCALA!$B$14:$B$15,DADOS!K15324,ESCALA!$I$14:$I$15)","v":0}]
["",null,null,null,null,null,null,"1900-12-30",{"$error":"#NUM!"},"1900-12-31","-",{"$f":"G15339-SUMIF(ESCALA!$B$14:$B$15,DADOS!K15339,ESCALA!$I$14:$I$15)","v":0}]
["",null,null,null,null,null,null,"1900-12-30",{"$error":"#NUM!"},"1900-12-31","-",{"$f":"G15354-SUMIF(ESCALA!$B$14:$B$15,DADOS!K15354,ESCALA!$I$14:$I$15)","v":0}]
["",null,null,null,null,null,null,"1900-12-30",{"$error":"#NUM!"},"1900-12-31","-",{"$f":"G15373-SUMIF(ESCALA!$B$14:$B$15,DADOS!K15373,ESCALA!$I$14:$I$15)","v":0}]
["",null,null,null,null,null,null,"1900-12-30",{"$error":"#NUM!"},"1900-12-31","-",{"$f":"G15387-SUMIF(ESCALA!$B$14:$B$15,DADOS!K15387,ESCALA!$I$14:$I$15)","v":0}]
["",null,null,null,null,null,null,"1900-12-30",{"$error":"#NUM!"},"1900-12-31","-",{"$f":"G15406-SUMIF(ESCALA!$B$14:$B$15,DADOS!K15406,ESCALA!$I$14:$I$15)","v":0}]
["",null,null,null,null,null,null,"1900-12-30",{"$error":"#NUM!"},"1900-12-31","-",{"$f":"G15407-SUMIF(ESCALA!$B$14:$B$15,DADOS!K15407,ESCALA!$I$14:$I$15)","v":0}]
["",null,null,null,null,null,null,"1900-12-30",{"$error":"#NUM!"},"1900-12-31","-",{"$f":"G15426-SUMIF(ESCALA!$B$14:$B$15,DADOS!K15426,ESCALA!$I$14:$I$15)","v":0}]
["",null,null,null,null,null,null,"1900-12-30",{"$error":"#NUM!"},"1900-12-31","-",{"$f":"G15440-SUMIF(ESCALA!$B$14:$B$15,DADOS!K15440,ESCALA!$I$14:$I$15)","v":0}]
["",null,null,null,null,null,null,"1900-12-30",{"$error":"#NUM!"},"1900-12-31","-",{"$f":"G15455-SUMIF(ESCALA!$B$14:$B$15,DADOS!K15455,ESCALA!$I$14:$I$15)","v":0}]
["",null,null,null,null,null,null,"1900-12-30",{"$error":"#NUM!"},"1900-12-31","-",{"$f":"G15470-SUMIF(ESCALA!$B$14:$B$15,DADOS!K15470,ESCALA!$I$14:$I$15)","v":0}]
["",null,null,null,null,null,null,"1900-12-30",{"$error":"#NUM!"},"1900-12-31","-",{"$f":"G15488-SUMIF(ESCALA!$B$14:$B$15,DADOS!K15488,ESCALA!$I$14:$I$15)","v":0}]
["",null,null,null,null,null,null,"1900-12-30",{"$error":"#NUM!"},"1900-12-31","-",{"$f":"G15489-SUMIF(ESCALA!$B$14:$B$15,DADOS!K15489,ESCALA!$I$14:$I$15)","v":0}]
["",null,null,null,null,null,null,"1900-12-30",{"$error":"#NUM!"},"1900-12-31","-",{"$f":"G15508-SUMIF(ESCALA!$B$14:$B$15,DADOS!K15508,ESCALA!$I$14:$I$15)","v":0}]
["",null,null,null,null,null,null,"1900-12-30",{"$error":"#NUM!"},"1900-12-31","-",{"$f":"G15523-SUMIF(ESCALA!$B$14:$B$15,DADOS!K15523,ESCALA!$I$14:$I$15)","v":0}]
["",null,null,null,null,null,null,"1900-12-30",{"$error":"#NUM!"},"1900-12-31","-",{"$f":"G15541-SUMIF(ESCALA!$B$14:$B$15,DADOS!K15541,ESCALA!$I$14:$I$15)","v":0}]
["",null,null,null,null,null,null,"1900-12-30",{"$f":"IF(E15556=\"ESTATUTARIO\",EOMONTH(F15556,0),EOMONTH(F15556,-1))","v":{"$error":"#NUM!"}},{"$f":"EOMONTH(F15556,11)","v":"1900-12-31"},"-",{"$f":"G15556-SUMIF(ESCALA!$B$14:$B$15,DADOS!K15556,ESCALA!$I$14:$I$15)","v":0}]
["",null,null,null,null,null,null,"1900-12-30",{"$error":"#NUM!"},"1900-12-31","-",{"$f":"G15571-SUMIF(ESCALA!$B$14:$B$15,DADOS!K15571,ESCALA!$I$14:$I$15)","v":0}]
["",null,null,null,null,null,null,"1900-12-30",{"$error":"#NUM!"},"1900-12-31","-",{"$f":"G15576-SUMIF(ESCALA!$B$14:$B$15,DADOS!K15576,ESCALA!$I$14:$I$15)","v":0}]
["",null,null,null,null,null,null,"1900-12-30",{"$error":"#NUM!"},"1900-12-31","-",{"$f":"G15590-SUMIF(ESCALA!$B$14:$B$15,DADOS!K15590,ESCALA!$I$14:$I$15)","v":0}]
["",null,null,null,null,null,null,"1900-12-30",{"$error":"#NUM!"},"1900-12-31","-",{"$f":"G15605-SUMIF(ESCALA!$B$14:$B$15,DADOS!K15605,ESCALA!$I$14:$I$15)","v":0}]
["",null,null,null,null,null,null,"1900-12-30",{"$error":"#NUM!"},"1900-12-31","-",{"$f":"G15624-SUMIF(ESCALA!$B$14:$B$15,DADOS!K15624,ESCALA!$I$14:$I$15)","v":0}]
["",null,null,null,null,null,null,"1900-12-30",{"$error":"#NUM!"},"1900-12-31","-",{"$f":"G15639-SUMIF(ESCALA!$B$14:$B$15,DADOS!K15639,ESCALA!$I$14:$I$15)","v":0}]
["",null,null,null,null,null,null,"1900-12-30",{"$error":"#NUM!"},"1900-12-31","-",{"$f":"G15643-SUMIF(ESCALA!$B$14:$B$15,DADOS!K15643,ESCALA!$I$14:$I$15)","v":0}]
["",null,null,null,null,null,null,"1900-12-30",{"$error":"#NUM!"},"1900-12-31","-",{"$f":"G15658-SUMIF(ESCALA!$B$14:$B$15,DADOS!K15658,ESCALA!$I$14:$I$15)","v":0}]
["",null,null,null,null,null,null,"1900-12-30",{"$error":"#NUM!"},"1900-12-31","-",{"$f":"G15673-SUMIF(ESCALA!$B$14:$B$15,DADOS!K15673,ESCALA!$I$14:$I$15)","v":0}]
["",null,null,null,null,null,null,"1900-12-30",{"$error":"#NUM!"},"1900-12-31","-",{"$f":"G15692-SUMIF(ESCALA!$B$14:$B$15,DADOS!K15692,ESCALA!$I$14:$I$15)","v":0}]
["",null,null,null,null,null,null,"1900-12-30",{"$error":"#NUM!"},"1900-12-31","-",{"$f":"G15705-SUMIF(ESCALA!$B$14:$B$15,DADOS!K15705,ESCALA!$I$14:$I$15)","v":0}]
["",null,null,null,null,null,null,"1900-12-30",{"$error":"#NUM!"},"1900-12-31","-",{"$f":"G15721-SUMIF(ESCALA!$B$14:$B$15,DADOS!K15721,ESCALA!$I$14:$I$15)","v":0}]
["",null,null,null,null,null,null,"1900-12-30",{"$error":"#NUM!"},"1900-12-31","-",{"$f":"G15726-SUMIF(ESCALA!$B$14:$B$15,DADOS!K15726,ESCALA!$I$14:$I$15)","v":0}]
["",null,null,null,null,null,null,"1900-12-30",{"$error":"#NUM!"},"1900-12-31","-",{"$f":"G15741-SUMIF(ESCALA!$B$14:$B$15,DADOS!K15741,ESCALA!$I$14:$I$15)","v":0}]
["",null,null,null,null,null,null,"1900-12-30",{"$error":"#NUM!"},"1900-12-31","-",{"$f":"G15758-SUMIF(ESCALA!$B$14:$B$15,DADOS!K15758,ESCALA!$I$14:$I$15)","v":0}]
["",null,null,null,null,null,null,"1900-12-30",{"$error":"#NUM!"},"1900-12-31","-",{"$f":"G15774-SUMIF(ESCALA!$B$14:$B$15,DADOS!K15774,ESCALA!$I$14:$I$15)","v":0}]
["",null,null,null,null,null,null,"1900-12-30",{"$error":"#NUM!"},"1900-12-31","-",{"$f":"G15789-SUMIF(ESCALA!$B$14:$B$15,DADOS!K15789,ESCALA!$I$14:$I$15)","v":0}]
["",null,null,null,null,null,null,"1900-12-30",{"$error":"#NUM!"},"1900-12-31","-",{"$f":"G15794-SUMIF(ESCALA!$B$14:$B$15,DADOS!K15794,ESCALA!$I$14:$I$15)","v":0}]
["",null,null,null,null,null,null,"1900-12-30",{"$error":"#NUM!"},"1900-12-31","-",{"$f":"G15807-SUMIF(ESCALA!$B$14:$B$15,DADOS!K15807,ESCALA!$I$14:$I$15)","v":0}]
["",null,null,null,null,null,null,"1900-12-30",{"$error":"#NUM!"},"1900-12-31","-",{"$f":"G15823-SUMIF(ESCALA!$B$14:$B$15,DADOS!K15823,ESCALA!$I$14:$I$15)","v":0}]
["",null,null,null,null,null,null,"1900-12-30",{"$error":"#NUM!"},"1900-12-31","-",{"$f":"G15842-SUMIF(ESCALA!$B$14:$B$15,DADOS!K15842,ESCALA!$I$14:$I$15)","v":0}]
["",null,null,null,null,null,null,"1900-12-30",{"$error":"#NUM!"},"1900-12-31","-",{"$f":"G15857-SUMIF(ESCALA!$B$14:$B$15,DADOS!K15857,ESCALA!$I$14:$I$15)","v":0}]
["",null,null,null,null,null,null,"1900-12-30",{"$error":"#NUM!"},"1900-12-31","-",{"$f":"G15869-SUMIF(ESCALA!$B$14:$B$15,DADOS!K15869,ESCALA!$I$14:$I$15)","v":0}]
["",null,null,null,null,null,null,"1900-12-30",{"$f":"IF(E15876=\"ESTATUTARIO\",EOMONTH(F15876,0),EOMONTH(F15876,-1))","v":{"$error":"#NUM!"}},{"$f":"EOMONTH(F15876,11)","v":"1900-12-31"},"-",{"$f":"G15876-SUMIF(ESCALA!$B$14:$B$15,DADOS!K15876,ESCALA!$I$14:$I$15)","v":0}]
["",null,null,null,null,null,null,"1900-12-30",{"$error":"#NUM!"},"1900-12-31","-",{"$f":"G15891-SUMIF(ESCALA!$B$14:$B$15,DADOS!K15891,ESCALA!$I$14:$I$15)","v":0}]
["",null,null,null,null,null,null,"1900-12-30",{"$error":"#NUM!"},"1900-12-31","-",{"$f":"G15910-SUMIF(ESCALA!$B$14:$B$15,DADOS!K15910,ESCALA!$I$14:$I$15)","v":0}]
["",null,null,null,null,null,null,"1900-12-30",{"$error":"#NUM!"},"1900-12-31","-",{"$f":"G15922-SUMIF(ESCALA!$B$14:$B$15,DADOS!K15922,ESCALA!$I$14:$I$15)","v":0}]
[{"$f":"IF(L15939=0,\"\",B15939)","v":""},null,null,null,null,null,null,{"$f":"IF(F15939<=44985,F15939+365,F15939+366)","v":"1900-12-30"},{"$error":"#NUM!"},"1900-12-31",{"$f":"CONCATENATE(B15939,\"-\",F15939)","v":"-"},{"$f":"G15939-SUMIF(ESCALA!$B$14:$B$15,DADOS!K15939,ESCALA!$I$14:$I$15)","v":0}]
["",null,null,null,null,null,null,"1900-12-30",{"$error":"#NUM!"},"1900-12-31","-",{"$f":"G15944-SUMIF(ESCALA!$B$14:$B$15,DADOS!K15944,ESCALA!$I$14:$I$15)","v":0}]
["",null,null,null,null,null,null,"1900-12-30",{"$error":"#NUM!"},"1900-12-31","-",{"$f":"G15959-SUMIF(ESCALA!$B$14:$B$15,DADOS!K15959,ESCALA!$I$14:$I$15)","v":0}]
["",null,null,null,null,null,null,"1900-12-30",{"$error":"#NUM!"},"1900-12-31","-",{"$f":"G15971-SUMIF(ESCALA!$B$14:$B$15,DADOS!K15971,ESCALA!$I$14:$I$15)","v":0}]
["",null,null,null,null,null,null,"1900-12-30",{"$error":"#NUM!"},"1900-12-31","-",{"$f":"G15992-SUMIF(ESCALA!$B$14:$B$15,DADOS!K15992,ESCALA!$I$14:$I$15)","v":0}]
["",null,null,null,null,null,null,"1900-12-30",{"$error":"#NUM!"},"1900-12-31","-",{"$f":"G16007-SUMIF(ESCALA!$B$14:$B$15,DADOS!K16007,ESCALA!$I$14:$I$15)","v":0}]
["",null,null,null,null,null,null,"1900-12-30",{"$error":"#NUM!"},"1900-12-31","-",{"$f":"G16012-SUMIF(ESCALA!$B$14:$B$15,DADOS!K16012,ESCALA!$I$14:$I$15)","v":0}]
["",null,null,null,null,null,null,"1900-12-30",{"$error":"#NUM!"},"1900-12-31","-",{"$f":"G16037-SUMIF(ESCALA!$B$14:$B$15,DADOS!K16037,ESCALA!$I$14:$I$15)","v":0}]
["",null,null,null,null,null,null,"1900-12-30",{"$error":"#NUM!"},"1900-12-31","-",{"$f":"G16041-SUMIF(ESCALA!$B$14:$B$15,DADOS!K16041,ESCALA!$I$14:$I$15)","v":0}]
["",null,null,null,null,null,null,"1900-12-30",{"$error":"#NUM!"},"1900-12-31","-",{"$f":"G16060-SUMIF(ESCALA!$B$14:$B$15,DADOS!K16060,ESCALA!$I$14:$I$15)","v":0}]
["",null,null,null,null,null,null,"1900-12-30",{"$error":"#NUM!"},"1900-12-31","-",{"$f":"G16075-SUMIF(ESCALA!$B$14:$B$15,DADOS!K16075,ESCALA!$I$14:$I$15)","v":0}]
["",null,null,null,null,null,null,"1900-12-30",{"$error":"#NUM!"},"1900-12-31","-",{"$f":"G16086-SUMIF(ESCALA!$B$14:$B$15,DADOS!K16086,ESCALA!$I$14:$I$15)","v":0}]
["",null,null,null,null,null,null,"1900-12-30",{"$error":"#NUM!"},"1900-12-31","-",{"$f":"G16094-SUMIF(ESCALA!$B$14:$B$15,DADOS!K16094,ESCALA!$I$14:$I$15)","v":0}]
["",null,null,null,null,null,null,"1900-12-30",{"$error":"#NUM!"},"1900-12-31","-",{"$f":"G16109-SUMIF(ESCALA!$B$14:$B$15,DADOS!K16109,ESCALA!$I$14:$I$15)","v":0}]
["",null,null,null,null,null,null,"1900-12-30",{"$error":"#NUM!"},"1900-12-31","-",{"$f":"G16128-SUMIF(ESCALA!$B$14:$B$15,DADOS!K16128,ESCALA!$I$14:$I$15)","v":0}]
["",null,null,null,null,null,null,"1900-12-30",{"$error":"#NUM!"},"1900-12-31","-",{"$f":"G16139-SUMIF(ESCALA!$B$14:$B$15,DADOS!K16139,ESCALA!$I$14:$I$15)","v":0}]
["",null,null,null,null,null,null,"1900-12-30",{"$error":"#NUM!"},"1900-12-31","-",{"$f":"G16161-SUMIF(ESCALA!$B$14:$B$15,DADOS!K16161,ESCALA!$I$14:$I$15)","v":0}]
["",null,null,null,null,null,null,"1900-12-30",{"$error":"#NUM!"},"1900-12-31","-",{"$f":"G16176-SUMIF(ESCALA!$B$14:$B$15,DADOS!K16176,ESCALA!$I$14:$I$15)","v":0}]
["",null,null,null,null,null,null,"1900-12-30",{"$error":"#NUM!"},"1900-12-31","-",{"$f":"G16177-SUMIF(ESCALA!$B$14:$B$15,DADOS!K16177,ESCALA!$I$14:$I$15)","v":0}]
["",null,null,null,null,null,null,"1900-12-30",{"$error":"#NUM!"},"1900-12-31","-",{"$f":"G16201-SUMIF(ESCALA!$B$14:$B$15,DADOS!K16201,ESCALA!$I$14:$I$15)","v":0}]
["",null,null,null,null,null,null,"1900-12-30",{"$error":"#NUM!"},"1900-12-31","-",{"$f":"G16210-SUMIF(ESCALA!$B$14:$B$15,DADOS!K16210,ESCALA!$I$14:$I$15)","v":0}]
["",null,null,null,null,null,null,"1900-12-30",{"$error":"#NUM!"},"1900-12-31","-",{"$f":"G16225-SUMIF(ESCALA!$B$14:$B$15,DADOS!K16225,ESCALA!$I$14:$I$15)","v":0}]
["",null,null,null,null,null,null,"1900-12-30",{"$error":"#NUM!"},"1900-12-31","-",{"$f":"G16244-SUMIF(ESCALA!$B$14:$B$15,DADOS!K16244,ESCALA!$I$14:$I$15)","v":0}]
["",null,null,null,null,null,null,"1900-12-30",{"$error":"#NUM!"},"1900-12-31","-",{"$f":"G16254-SUMIF(ESCALA!$B$14:$B$15,DADOS!K16254,ESCALA!$I$14:$I$15)","v":0}]
["",null,null,null,null,null,null,"1900-12-30",{"$error":"#NUM!"},"1900-12-31","-",{"$f":"G16263-SUMIF(ESCALA!$B$14:$B$15,DADOS!K16263,ESCALA!$I$14:$I$15)","v":0}]
["",null,null,null,null,null,null,"1900-12-30",{"$error":"#NUM!"},"1900-12-31","-",{"$f":"G16278-SUMIF(ESCALA!$B$14:$B$15,DADOS!K16278,ESCALA!$I$14:$I$15)","v":0}]
["",null,null,null,null,null,null,"1900-12-30",{"$error":"#NUM!"},"1900-12-31","-",{"$f":"G16293-SUMIF(ESCALA!$B$14:$B$15,DADOS!K16293,ESCALA!$I$14:$I$15)","v":0}]
["",null,null,null,null,null,null,"1900-12-30",{"$error":"#NUM!"},"1900-12-31","-",{"$f":"G16303-SUMIF(ESCALA!$B$14:$B$15,DADOS!K16303,ESCALA!$I$14:$I$15)","v":0}]
["",null,null,null,null,null,null,"1900-12-30",{"$error":"#NUM!"},"1900-12-31","-",{"$f":"G16326-SUMIF(ESCALA!$B$14:$B$15,DADOS!K16326,ESCALA!$I$14:$I$15)","v":0}]
["",null,null,null,null,null,null,"1900-12-30",{"$error":"#NUM!"},"1900-12-31","-",{"$f":"G16331-SUMIF(ESCALA!$B$14:$B$15,DADOS!K16331,ESCALA!$I$14:$I$15)","v":0}]
["",null,null,null,null,null,null,"1900-12-30",{"$error":"#NUM!"},"1900-12-31","-",{"$f":"G16346-SUMIF(ESCALA!$B$14:$B$15,DADOS!K16346,ESCALA!$I$14:$I$15)","v":0}]
["",null,null,null,null,null,null,"1900-12-30",{"$error":"#NUM!"},"1900-12-31","-",{"$f":"G16356-SUMIF(ESCALA!$B$14:$B$15,DADOS!K16356,ESCALA!$I$14:$I$15)","v":0}]
["",null,null,null,null,null,null,"1900-12-30",{"$error":"#NUM!"},"1900-12-31","-",{"$f":"G16379-SUMIF(ESCALA!$B$14:$B$15,DADOS!K16379,ESCALA!$I$14:$I$15)","v":0}]
["",null,null,null,null,null,null,"1900-12-30",{"$error":"#NUM!"},"1900-12-31","-",{"$f":"G16394-SUMIF(ESCALA!$B$14:$B$15,DADOS!K16394,ESCALA!$I$14:$I$15)","v":0}]
["",null,null,null,null,null,null,"1900-12-30",{"$error":"#NUM!"},"1900-12-31","-",{"$f":"G16409-SUMIF(ESCALA!$B$14:$B$15,DADOS!K16409,ESCALA!$I$14:$I$15)","v":0}]
["",null,null,null,null,null,null,"1900-12-30",{"$error":"#NUM!"},"1900-12-31","-",{"$f":"G16418-SUMIF(ESCALA!$B$14:$B$15,DADOS!K16418,ESCALA!$I$14:$I$15)","v":0}]
["",null,null,null,null,null,null,"1900-12-30",{"$error":"#NUM!"},"1900-12-31","-",{"$f":"G16428-SUMIF(ESCALA!$B$14:$B$15,DADOS!K16428,ESCALA!$I$14:$I$15)","v":0}]
["",null,null,null,null,null,null,"1900-12-30",{"$error":"#NUM!"},"1900-12-31","-",{"$f":"G16447-SUMIF(ESCALA!$B$14:$B$15,DADOS!K16447,ESCALA!$I$14:$I$15)","v":0}]
["",null,null,null,null,null,null,"1900-12-30",{"$error":"#NUM!"},"1900-12-31","-",{"$f":"G16462-SUMIF(ESCALA!$B$14:$B$15,DADOS!K16462,ESCALA!$I$14:$I$15)","v":0}]
["",null,null,null,null,null,null,"1900-12-30",{"$error":"#NUM!"},"1900-12-31","-",{"$f":"G16471-SUMIF(ESCALA!$B$14:$B$15,DADOS!K16471,ESCALA!$I$14:$I$15)","v":0}]
["",null,null,null,null,null,null,"1900-12-30",{"$error":"#NUM!"},"1900-12-31","-",{"$f":"G16481-SUMIF(ESCALA!$B$14:$B$15,DADOS!K16481,ESCALA!$I$14:$I$15)","v":0}]
["",null,null,null,null,null,null,"1900-12-30",{"$error":"#NUM!"},"1900-12-31","-",{"$f":"G16496-SUMIF(ESCALA!$B$14:$B$15,DADOS!K16496,ESCALA!$I$14:$I$15)","v":0}]
["",null,null,null,null,null,null,"1900-12-30",{"$error":"#NUM!"},"1900-12-31","-",{"$f":"G16511-SUMIF(ESCALA!$B$14:$B$15,DADOS!K16511,ESCALA!$I$14:$I$15)","v":0}]
["",null,null,null,null,null,null,"1900-12-30",{"$error":"#NUM!"},"1900-12-31","-",{"$f":"G16533-SUMIF(ESCALA!$B$14:$B$15,DADOS!K16533,ESCALA!$I$14:$I$15)","v":0}]
["",null,null,null,null,null,null,"1900-12-30",{"$error":"#NUM!"},"1900-12-31","-",{"$f":"G16544-SUMIF(ESCALA!$B$14:$B$15,DADOS!K16544,ESCALA!$I$14:$I$15)","v":0}]
["",null,null,null,null,null,null,"1900-12-30",{"$error":"#NUM!"},"1900-12-31","-",{"$f":"G16549-SUMIF(ESCALA!$B$14:$B$15,DADOS!K16549,ESCALA!$I$14:$I$15)","v":0}]
["",null,null,null,null,null,null,"1900-12-30",{"$error":"#NUM!"},"1900-12-31","-",{"$f":"G16564-SUMIF(ESCALA!$B$14:$B$15,DADOS!K16564,ESCALA!$I$14:$I$15)","v":0}]
["",null,null,null,null,null,null,"1900-12-30",{"$error":"#NUM!"},"1900-12-31","-",{"$f":"G16586-SUMIF(ESCALA!$B$14:$B$15,DADOS!K16586,ESCALA!$I$14:$I$15)","v":0}]
["",null,null,null,null,null,null,"1900-12-30",{"$error":"#NUM!"},"1900-12-31","-",{"$f":"G16597-SUMIF(ESCALA!$B$14:$B$15,DADOS!K16597,ESCALA!$I$14:$I$15)","v":0}]
["",null,null,null,null,null,null,"1900-12-30",{"$error":"#NUM!"},"1900-12-31","-",{"$f":"G16612-SUMIF(ESCALA!$B$14:$B$15,DADOS!K16612,ESCALA!$I$14:$I$15)","v":0}]
["",null,null,null,null,null,null,"1900-12-30",{"$error":"#NUM!"},"1900-12-31","-",{"$f":"G16617-SUMIF(ESCALA!$B$14:$B$15,DADOS!K16617,ESCALA!$I$14:$I$15)","v":0}]
["",null,null,null,null,null,null,"1900-12-30",{"$error":"#NUM!"},"1900-12-31","-",{"$f":"G16635-SUMIF(ESCALA!$B$14:$B$15,DADOS!K16635,ESCALA!$I$14:$I$15)","v":0}]
["",null,null,null,null,null,null,"1900-12-30",{"$error":"#NUM!"},"1900-12-31","-",{"$f":"G16646-SUMIF(ESCALA!$B$14:$B$15,DADOS!K16646,ESCALA!$I$14:$I$15)","v":0}]
["",null,null,null,null,null,null,"1900-12-30",{"$error":"#NUM!"},"1900-12-31","-",{"$f":"G16665-SUMIF(ESCALA!$B$14:$B$15,DADOS!K16665,ESCALA!$I$14:$I$15)","v":0}]
["",null,null,null,null,null,null,"1900-12-30",{"$error":"#NUM!"},"1900-12-31","-",{"$f":"G16680-SUMIF(ESCALA!$B$14:$B$15,DADOS!K16680,ESCALA!$I$14:$I$15)","v":0}]
["",null,null,null,null,null,null,"1900-12-30",{"$error":"#NUM!"},"1900-12-31","-",{"$f":"G16688-SUMIF(ESCALA!$B$14:$B$15,DADOS!K16688,ESCALA!$I$14:$I$15)","v":0}]
["",null,null,null,null,null,null,"1900-12-30",{"$error":"#NUM!"},"1900-12-31","-",{"$f":"G16699-SUMIF(ESCALA!$B$14:$B$15,DADOS!K16699,ESCALA!$I$14:$I$15)","v":0}]
["",null,null,null,null,null,null,"1900-12-30",{"$error":"#NUM!"},"1900-12-31","-",{"$f":"G16714-SUMIF(ESCALA!$B$14:$B$15,DADOS!K16714,ESCALA!$I$14:$I$15)","v":0}]
["",null,null,null,null,null,null,"1900-12-30",{"$error":"#NUM!"},"1900-12-31","-",{"$f":"G16733-SUMIF(ESCALA!$B$14:$B$15,DADOS!K16733,ESCALA!$I$14:$I$15)","v":0}]
["",null,null,null,null,null,null,"1900-12-30",{"$error":"#NUM!"},"1900-12-31","-",{"$f":"G16750-SUMIF(ESCALA!$B$14:$B$15,DADOS!K16750,ESCALA!$I$14:$I$15)","v":0}]
["",null,null,null,null,null,null,"1900-12-30",{"$error":"#NUM!"},"1900-12-31","-",{"$f":"G16762-SUMIF(ESCALA!$B$14:$B$15,DADOS!K16762,ESCALA!$I$14:$I$15)","v":0}]
["",null,null,null,null,null,null,"1900-12-30",{"$error":"#NUM!"},"1900-12-31","-",{"$f":"G16781-SUMIF(ESCALA!$B$14:$B$15,DADOS!K16781,ESCALA!$I$14:$I$15)","v":0}]
["",null,null,null,null,null,null,"1900-12-30",{"$error":"#NUM!"},"1900-12-31","-",{"$f":"G16782-SUMIF(ESCALA!$B$14:$B$15,DADOS!K16782,ESCALA!$I$14:$I$15)","v":0}]
["",null,null,null,null,null,null,"1900-12-30",{"$error":"#NUM!"},"1900-12-31","-",{"$f":"G16803-SUMIF(ESCALA!$B$14:$B$15,DADOS!K16803,ESCALA!$I$14:$I$15)","v":0}]
["",null,null,null,null,null,null,"1900-12-30",{"$error":"#NUM!"},"1900-12-31","-",{"$f":"G16815-SUMIF(ESCALA!$B$14:$B$15,DADOS!K16815,ESCALA!$I$14:$I$15)","v":0}]
["",null,null,null,null,null,null,"1900-12-30",{"$error":"#NUM!"},"1900-12-31","-",{"$f":"G16830-SUMIF(ESCALA!$B$14:$B$15,DADOS!K16830,ESCALA!$I$14:$I$15)","v":0}]
["",null,null,null,null,null,null,"1900-12-30",{"$error":"#NUM!"},"1900-12-31","-",{"$f":"G16849-SUMIF(ESCALA!$B$14:$B$15,DADOS!K16849,ESCALA!$I$14:$I$15)","v":0}]
["",null,null,null,null,null,null,"1900-12-30",{"$error":"#NUM!"},"1900-12-31","-",{"$f":"G16852-SUMIF(ESCALA!$B$14:$B$15,DADOS!K16852,ESCALA!$I$14:$I$15)","v":0}]
["",null,null,null,null,null,null,"1900-12-30",{"$error":"#NUM!"},"1900-12-31","-",{"$f":"G16864-SUMIF(ESCALA!$B$14:$B$15,DADOS!K16864,ESCALA!$I$14:$I$15)","v":0}]
["",null,null,null,null,null,null,"1900-12-30",{"$error":"#NUM!"},"1900-12-31","-",{"$f":"G16883-SUMIF(ESCALA!$B$14:$B$15,DADOS!K16883,ESCALA!$I$14:$I$15)","v":0}]
["",null,null,null,null,null,null,"1900-12-30",{"$error":"#NUM!"},"1900-12-31","-",{"$f":"G16898-SUMIF(ESCALA!$B$14:$B$15,DADOS!K16898,ESCALA!$I$14:$I$15)","v":0}]
["",null,null,null,null,null,null,"1900-12-30",{"$error":"#NUM!"},"1900-12-31","-",{"$f":"G16914-SUMIF(ESCALA!$B$14:$B$15,DADOS!K16914,ESCALA!$I$14:$I$15)","v":0}]
["",null,null,null,null,null,null,"1900-12-30",{"$error":"#NUM!"},"1900-12-31","-",{"$f":"G16931-SUMIF(ESCALA!$B$14:$B$15,DADOS!K16931,ESCALA!$I$14:$I$15)","v":0}]
["",null,null,null,null,null,null,"1900-12-30",{"$error":"#NUM!"},"1900-12-31","-",{"$f":"G16946-SUMIF(ESCALA!$B$14:$B$15,DADOS!K16946,ESCALA!$I$14:$I$15)","v":0}]
["",null,null,null,null,null,null,"1900-12-30",{"$error":"#NUM!"},"1900-12-31","-",{"$f":"G16951-SUMIF(ESCALA!$B$14:$B$15,DADOS!K16951,ESCALA!$I$14:$I$15)","v":0}]
["",null,null,null,null,null,null,"1900-12-30",{"$error":"#NUM!"},"1900-12-31","-",{"$f":"G16967-SUMIF(ESCALA!$B$14:$B$15,DADOS!K16967,ESCALA!$I$14:$I$15)","v":0}]
["",null,null,null,null,null,null,"1900-12-30",{"$error":"#NUM!"},"1900-12-31","-",{"$f":"G16980-SUMIF(ESCALA!$B$14:$B$15,DADOS!K16980,ESCALA!$I$14:$I$15)","v":0}]
["",null,null,null,null,null,null,"1900-12-30",{"$error":"#NUM!"},"1900-12-31","-",{"$f":"G16999-SUMIF(ESCALA!$B$14:$B$15,DADOS!K16999,ESCALA!$I$14:$I$15)","v":0}]
["",null,null,null,null,null,null,"1900-12-30",{"$error":"#NUM!"},"1900-12-31","-",{"$f":"G17014-SUMIF(ESCALA!$B$14:$B$15,DADOS!K17014,ESCALA!$I$14:$I$15)","v":0}]
["",null,null,null,null,null,null,"1900-12-30",{"$error":"#NUM!"},"1900-12-31","-",{"$f":"G17016-SUMIF(ESCALA!$B$14:$B$15,DADOS!K17016,ESCALA!$I$14:$I$15)","v":0}]
["",null,null,null,null,null,null,"1900-12-30",{"$error":"#NUM!"},"1900-12-31","-",{"$f":"G17033-SUMIF(ESCALA!$B$14:$B$15,DADOS!K17033,ESCALA!$I$14:$I$15)","v":0}]
["",null,null,null,null,null,null,"1900-12-30",{"$error":"#NUM!"},"1900-12-31","-",{"$f":"G17048-SUMIF(ESCALA!$B$14:$B$15,DADOS!K17048,ESCALA!$I$14:$I$15)","v":0}]
["",null,null,null,null,null,null,"1900-12-30",{"$error":"#NUM!"},"1900-12-31","-",{"$f":"G17067-SUMIF(ESCALA!$B$14:$B$15,DADOS!K17067,ESCALA!$I$14:$I$15)","v":0}]
["",null,null,null,null,null,null,"1900-12-30",{"$error":"#NUM!"},"1900-12-31","-",{"$f":"G17082-SUMIF(ESCALA!$B$14:$B$15,DADOS!K17082,ESCALA!$I$14:$I$15)","v":0}]
["",null,null,null,null,null,null,"1900-12-30",{"$error":"#NUM!"},"1900-12-31","-",{"$f":"G17086-SUMIF(ESCALA!$B$14:$B$15,DADOS!K17086,ESCALA!$I$14:$I$15)","v":0}]
["",null,null,null,null,null,null,"1900-12-30",{"$error":"#NUM!"},"1900-12-31","-",{"$f":"G17101-SUMIF(ESCALA!$B$14:$B$15,DADOS!K17101,ESCALA!$I$14:$I$15)","v":0}]
["",null,null,null,null,null,null,"1900-12-30",{"$error":"#NUM!"},"1900-12-31","-",{"$f":"G17116-SUMIF(ESCALA!$B$14:$B$15,DADOS!K17116,ESCALA!$I$14:$I$15)","v":0}]
["",null,null,null,null,null,null,"1900-12-30",{"$error":"#NUM!"},"1900-12-31","-",{"$f":"G17131-SUMIF(ESCALA!$B$14:$B$15,DADOS!K17131,ESCALA!$I$14:$I$15)","v":0}]
["",null,null,null,null,null,null,"1900-12-30",{"$error":"#NUM!"},"1900-12-31","-",{"$f":"G17149-SUMIF(ESCALA!$B$14:$B$15,DADOS!K17149,ESCALA!$I$14:$I$15)","v":0}]
["",null,null,null,null,null,null,"1900-12-30",{"$error":"#NUM!"},"1900-12-31","-",{"$f":"G17164-SUMIF(ESCALA!$B$14:$B$15,DADOS!K17164,ESCALA!$I$14:$I$15)","v":0}]
["",null,null,null,null,null,null,"1900-12-30",{"$error":"#NUM!"},"1900-12-31","-",{"$f":"G17169-SUMIF(ESCALA!$B$14:$B$15,DADOS!K17169,ESCALA!$I$14:$I$15)","v":0}]
["",null,null,null,null,null,null,"1900-12-30",{"$error":"#NUM!"},"1900-12-31","-",{"$f":"G17184-SUMIF(ESCALA!$B$14:$B$15,DADOS!K17184,ESCALA!$I$14:$I$15)","v":0}]
["",null,null,null,null,null,null,"1900-12-30",{"$error":"#NUM!"},"1900-12-31","-",{"$f":"G17202-SUMIF(ESCALA!$B$14:$B$15,DADOS!K17202,ESCALA!$I$14:$I$15)","v":0}]
["",null,null,null,null,null,null,"1900-12-30",{"$error":"#NUM!"},"1900-12-31","-",{"$f":"G17217-SUMIF(ESCALA!$B$14:$B$15,DADOS!K17217,ESCALA!$I$14:$I$15)","v":0}]
["",null,null,null,null,null,null,"1900-12-30",{"$error":"#NUM!"},"1900-12-31","-",{"$f":"G17232-SUMIF(ESCALA!$B$14:$B$15,DADOS!K17232,ESCALA!$I$14:$I$15)","v":0}]
["",null,null,null,null,null,null,"1900-12-30",{"$error":"#NUM!"},"1900-12-31","-",{"$f":"G17246-SUMIF(ESCALA!$B$14:$B$15,DADOS!K17246,ESCALA!$I$14:$I$15)","v":0}]
["",null,null,null,null,null,null,"1900-12-30",{"$error":"#NUM!"},"1900-12-31","-",{"$f":"G17251-SUMIF(ESCALA!$B$14:$B$15,DADOS!K17251,ESCALA!$I$14:$I$15)","v":0}]
["",null,null,null,null,null,null,"1900-12-30",{"$error":"#NUM!"},"1900-12-31","-",{"$f":"G17266-SUMIF(ESCALA!$B$14:$B$15,DADOS!K17266,ESCALA!$I$14:$I$15)","v":0}]
["",null,null,null,null,null,null,"1900-12-30",{"$error":"#NUM!"},"1900-12-31","-",{"$f":"G17285-SUMIF(ESCALA!$B$14:$B$15,DADOS!K17285,ESCALA!$I$14:$I$15)","v":0}]
["",null,null,null,null,null,null,"1900-12-30",{"$error":"#NUM!"},"1900-12-31","-",{"$f":"G17299-SUMIF(ESCALA!$B$14:$B$15,DADOS!K17299,ESCALA!$I$14:$I$15)","v":0}]
["",null,null,null,null,null,null,"1900-12-30",{"$error":"#NUM!"},"1900-12-31","-",{"$f":"G17304-SUMIF(ESCALA!$B$14:$B$15,DADOS!K17304,ESCALA!$I$14:$I$15)","v":0}]
["",null,null,null,null,null,null,"1900-12-30",{"$error":"#NUM!"},"1900-12-31","-",{"$f":"G17319-SUMIF(ESCALA!$B$14:$B$15,DADOS!K17319,ESCALA!$I$14:$I$15)","v":0}]
["",null,null,null,null,null,null,"1900-12-30",{"$error":"#NUM!"},"1900-12-31","-",{"$f":"G17334-SUMIF(ESCALA!$B$14:$B$15,DADOS!K17334,ESCALA!$I$14:$I$15)","v":0}]
["",null,null,null,null,null,null,"1900-12-30",{"$f":"IF(E17348=\"ESTATUTARIO\",EOMONTH(F17348,0),EOMONTH(F17348,-1))","v":{"$error":"#NUM!"}},{"$f":"EOMONTH(F17348,11)","v":"1900-12-31"},"-",{"$f":"G17348-SUMIF(ESCALA!$B$14:$B$15,DADOS!K17348,ESCALA!$I$14:$I$15)","v":0}]
["",null,null,null,null,null,null,"1900-12-30",{"$error":"#NUM!"},"1900-12-31","-",{"$f":"G17367-SUMIF(ESCALA!$B$14:$B$15,DADOS!K17367,ESCALA!$I$14:$I$15)","v":0}]
["",null,null,null,null,null,null,"1900-12-30",{"$error":"#NUM!"},"1900-12-31","-",{"$f":"G17386-SUMIF(ESCALA!$B$14:$B$15,DADOS!K17386,ESCALA!$I$14:$I$15)","v":0}]
["",null,null,null,null,null,null,"1900-12-30",{"$error":"#NUM!"},"1900-12-31","-",{"$f":"G17387-SUMIF(ESCALA!$B$14:$B$15,DADOS!K17387,ESCALA!$I$14:$I$15)","v":0}]
["",null,null,null,null,null,null,"1900-12-30",{"$error":"#NUM!"},"1900-12-31","-",{"$f":"G17401-SUMIF(ESCALA!$B$14:$B$15,DADOS!K17401,ESCALA!$I$14:$I$15)","v":0}]
["",null,null,null,null,null,null,"1900-12-30",{"$error":"#NUM!"},"1900-12-31","-",{"$f":"G17420-SUMIF(ESCALA!$B$14:$B$15,DADOS!K17420,ESCALA!$I$14:$I$15)","v":0}]
["",null,null,null,null,null,null,"1900-12-30",{"$error":"#NUM!"},"1900-12-31","-",{"$f":"G17435-SUMIF(ESCALA!$B$14:$B$15,DADOS!K17435,ESCALA!$I$14:$I$15)","v":0}]
["",null,null,null,null,null,null,"1900-12-30",{"$error":"#NUM!"},"1900-12-31","-",{"$f":"G17450-SUMIF(ESCALA!$B$14:$B$15,DADOS!K17450,ESCALA!$I$14:$I$15)","v":0}]
["",null,null,null,null,null,null,"1900-12-30",{"$error":"#NUM!"},"1900-12-31","-",{"$f":"G17463-SUMIF(ESCALA!$B$14:$B$15,DADOS!K17463,ESCALA!$I$14:$I$15)","v":0}]
["",null,null,null,null,null,null,"1900-12-30",{"$error":"#NUM!"},"1900-12-31","-",{"$f":"G17469-SUMIF(ESCALA!$B$14:$B$15,DADOS!K17469,ESCALA!$I$14:$I$15)","v":0}]
["",null,null,null,null,null,null,"1900-12-30",{"$error":"#NUM!"},"1900-12-31","-",{"$f":"G17488-SUMIF(ESCALA!$B$14:$B$15,DADOS!K17488,ESCALA!$I$14:$I$15)","v":0}]
["",null,null,null,null,null,null,"1900-12-30",{"$error":"#NUM!"},"1900-12-31","-",{"$f":"G17503-SUMIF(ESCALA!$B$14:$B$15,DADOS!K17503,ESCALA!$I$14:$I$15)","v":0}]
["",null,null,null,null,null,null,"1900-12-30",{"$error":"#NUM!"},"1900-12-31","-",{"$f":"G17516-SUMIF(ESCALA!$B$14:$B$15,DADOS!K17516,ESCALA!$I$14:$I$15)","v":0}]
["",null,null,null,null,null,null,"1900-12-30",{"$error":"#NUM!"},"1900-12-31","-",{"$f":"G17536-SUMIF(ESCALA!$B$14:$B$15,DADOS!K17536,ESCALA!$I$14:$I$15)","v":0}]
["",null,null,null,null,null,null,"1900-12-30",{"$error":"#NUM!"},"1900-12-31","-",{"$f":"G17551-SUMIF(ESCALA!$B$14:$B$15,DADOS!K17551,ESCALA!$I$14:$I$15)","v":0}]
["",null,null,null,null,null,null,"1900-12-30",{"$error":"#NUM!"},"1900-12-31","-",{"$f":"G17556-SUMIF(ESCALA!$B$14:$B$15,DADOS!K17556,ESCALA!$I$14:$I$15)","v":0}]
["",null,null,null,null,null,null,"1900-12-30",{"$error":"#NUM!"},"1900-12-31","-",{"$f":"G17578-SUMIF(ESCALA!$B$14:$B$15,DADOS!K17578,ESCALA!$I$14:$I$15)","v":0}]
["",null,null,null,null,null,null,"1900-12-30",{"$error":"#NUM!"},"1900-12-31","-",{"$f":"G17585-SUMIF(ESCALA!$B$14:$B$15,DADOS!K17585,ESCALA!$I$14:$I$15)","v":0}]
["",null,null,null,null,null,null,"1900-12-30",{"$f":"IF(E17604=\"ESTATUTARIO\",EOMONTH(F17604,0),EOMONTH(F17604,-1))","v":{"$error":"#NUM!"}},{"$f":"EOMONTH(F17604,11)","v":"1900-12-31"},"-",{"$f":"G17604-SUMIF(ESCALA!$B$14:$B$15,DADOS!K17604,ESCALA!$I$14:$I$15)","v":0}]
["",null,null,null,null,null,null,"1900-12-30",{"$error":"#NUM!"},"1900-12-31","-",{"$f":"G17619-SUMIF(ESCALA!$B$14:$B$15,DADOS!K17619,ESCALA!$I$14:$I$15)","v":0}]
["",null,null,null,null,null,null,"1900-12-30",{"$error":"#NUM!"},"1900-12-31","-",{"$f":"G17631-SUMIF(ESCALA!$B$14:$B$15,DADOS!K17631,ESCALA!$I$14:$I$15)","v":0}]
["",null,null,null,null,null,null,"1900-12-30",{"$error":"#NUM!"},"1900-12-31","-",{"$f":"G17638-SUMIF(ESCALA!$B$14:$B$15,DADOS!K17638,ESCALA!$I$14:$I$15)","v":0}]
["",null,null,null,null,null,null,"1900-12-30",{"$error":"#NUM!"},"1900-12-31","-",{"$f":"G17653-SUMIF(ESCALA!$B$14:$B$15,DADOS!K17653,ESCALA!$I$14:$I$15)","v":0}]
["",null,null,null,null,null,null,"1900-12-30",{"$error":"#NUM!"},"1900-12-31","-",{"$f":"G17672-SUMIF(ESCALA!$B$14:$B$15,DADOS!K17672,ESCALA!$I$14:$I$15)","v":0}]
["",null,null,null,null,null,null,"1900-12-30",{"$error":"#NUM!"},"1900-12-31","-",{"$f":"G17680-SUMIF(ESCALA!$B$14:$B$15,DADOS!K17680,ESCALA!$I$14:$I$15)","v":0}]
["",null,null,null,null,null,null,"1900-12-30",{"$error":"#NUM!"},"1900-12-31","-",{"$f":"G17701-SUMIF(ESCALA!$B$14:$B$15,DADOS!K17701,ESCALA!$I$14:$I$15)","v":0}]
["",null,null,null,null,null,null,"1900-12-30",{"$error":"#NUM!"},"1900-12-31","-",{"$f":"G17706-SUMIF(ESCALA!$B$14:$B$15,DADOS!K17706,ESCALA!$I$14:$I$15)","v":0}]
["",null,null,null,null,null,null,"1900-12-30",{"$error":"#NUM!"},"1900-12-31","-",{"$f":"G17721-SUMIF(ESCALA!$B$14:$B$15,DADOS!K17721,ESCALA!$I$14:$I$15)","v":0}]
["",null,null,null,null,null,null,"1900-12-30",{"$error":"#NUM!"},"1900-12-31","-",{"$f":"G17733-SUMIF(ESCALA!$B$14:$B$15,DADOS!K17733,ESCALA!$I$14:$I$15)","v":0}]
["",null,null,null,null,null,null,"1900-12-30",{"$error":"#NUM!"},"1900-12-31","-",{"$f":"G17754-SUMIF(ESCALA!$B$14:$B$15,DADOS!K17754,ESCALA!$I$14:$I$15)","v":0}]
["",null,null,null,null,null,null,"1900-12-30",{"$error":"#NUM!"},"1900-12-31","-",{"$f":"G17769-SUMIF(ESCALA!$B$14:$B$15,DADOS!K17769,ESCALA!$I$14:$I$15)","v":0}]
["",null,null,null,null,null,null,"1900-12-30",{"$error":"#NUM!"},"1900-12-31","-",{"$f":"G17774-SUMIF(ESCALA!$B$14:$B$15,DADOS!K17774,ESCALA!$I$14:$I$15)","v":0}]
[{"$f":"IF(L17795=0,\"\",B17795)","v":""},null,null,null,null,null,null,{"$f":"IF(F17795<=44985,F17795+365,F17795+366)","v":"1900-12-30"},{"$error":"#NUM!"},"1900-12-31",{"$f":"CONCATENATE(B17795,\"-\",F17795)","v":"-"},{"$f":"G17795-SUMIF(ESCALA!$B$14:$B$15,DADOS!K17795,ESCALA!$I$14:$I$15)","v":0}]
["",null,null,null,null,null,null,"1900-12-30",{"$error":"#NUM!"},"1900-12-31","-",{"$f":"G17803-SUMIF(ESCALA!$B$14:$B$15,DADOS!K17803,ESCALA!$I$14:$I$15)","v":0}]
["",null,null,null,null,null,null,"1900-12-30",{"$error":"#NUM!"},"1900-12-31","-",{"$f":"G17822-SUMIF(ESCALA!$B$14:$B$15,DADOS!K17822,ESCALA!$I$14:$I$15)","v":0}]
["",null,null,null,null,null,null,"1900-12-30",{"$error":"#NUM!"},"1900-12-31","-",{"$f":"G17837-SUMIF(ESCALA!$B$14:$B$15,DADOS!K17837,ESCALA!$I$14:$I$15)","v":0}]
["",null,null,null,null,null,null,"1900-12-30",{"$error":"#NUM!"},"1900-12-31","-",{"$f":"G17844-SUMIF(ESCALA!$B$14:$B$15,DADOS!K17844,ESCALA!$I$14:$I$15)","v":0}]
["",null,null,null,null,null,null,"1900-12-30",{"$error":"#NUM!"},"1900-12-31","-",{"$f":"G17856-SUMIF(ESCALA!$B$14:$B$15,DADOS!K17856,ESCALA!$I$14:$I$15)","v":0}]
["",null,null,null,null,null,null,"1900-12-30",{"$error":"#NUM!"},"1900-12-31","-",{"$f":"G17871-SUMIF(ESCALA!$B$14:$B$15,DADOS!K17871,ESCALA!$I$14:$I$15)","v":0}]
["",null,null,null,null,null,null,"1900-12-30",{"$error":"#NUM!"},"1900-12-31","-",{"$f":"G17890-SUMIF(ESCALA!$B$14:$B$15,DADOS!K17890,ESCALA!$I$14:$I$15)","v":0}]
["",null,null,null,null,null,null,"1900-12-30",{"$error":"#NUM!"},"1900-12-31","-",{"$f":"G17897-SUMIF(ESCALA!$B$14:$B$15,DADOS!K17897,ESCALA!$I$14:$I$15)","v":0}]
["",null,null,null,null,null,null,"1900-12-30",{"$error":"#NUM!"},"1900-12-31","-",{"$f":"G17919-SUMIF(ESCALA!$B$14:$B$15,DADOS!K17919,ESCALA!$I$14:$I$15)","v":0}]
["",null,null,null,null,null,null,"1900-12-30",{"$f":"IF(E17924=\"ESTATUTARIO\",EOMONTH(F17924,0),EOMONTH(F17924,-1))","v":{"$error":"#NUM!"}},{"$f":"EOMONTH(F17924,11)","v":"1900-12-31"},"-",{"$f":"G17924-SUMIF(ESCALA!$B$14:$B$15,DADOS!K17924,ESCALA!$I$14:$I$15)","v":0}]
["",null,null,null,null,null,null,"1900-12-30",{"$error":"#NUM!"},"1900-12-31","-",{"$f":"G17939-SUMIF(ESCALA!$B$14:$B$15,DADOS!K17939,ESCALA!$I$14:$I$15)","v":0}]
["",null,null,null,null,null,null,"1900-12-30",{"$error":"#NUM!"},"1900-12-31","-",{"$f":"G17959-SUMIF(ESCALA!$B$14:$B$15,DADOS!K17959,ESCALA!$I$14:$I$15)","v":0}]
["",null,null,null,null,null,null,"1900-12-30",{"$error":"#NUM!"},"1900-12-31","-",{"$f":"G17972-SUMIF(ESCALA!$B$14:$B$15,DADOS!K17972,ESCALA!$I$14:$I$15)","v":0}]
[{"$f":"IF(L17987=0,\"\",B17987)","v":""},null,null,null,null,null,null,{"$f":"IF(F17987<=44985,F17987+365,F17987+366)","v":"1900-12-30"},{"$error":"#NUM!"},"1900-12-31",{"$f":"CONCATENATE(B17987,\"-\",F17987)","v":"-"},{"$f":"G17987-SUMIF(ESCALA!$B$14:$B$15,DADOS!K17987,ESCALA!$I$14:$I$15)","v":0}]
["",null,null,null,null,null,null,"1900-12-30",{"$error":"#NUM!"},"1900-12-31","-",{"$f":"G17992-SUMIF(ESCALA!$B$14:$B$15,DADOS!K17992,ESCALA!$I$14:$I$15)","v":0}]
["",null,null,null,null,null,null,"1900-12-30",{"$error":"#NUM!"},"1900-12-31","-",{"$f":"G18012-SUMIF(ESCALA!$B$14:$B$15,DADOS!K18012,ESCALA!$I$14:$I$15)","v":0}]
["",null,null,null,null,null,null,"1900-12-30",{"$error":"#NUM!"},"1900-12-31","-",{"$f":"G18021-SUMIF(ESCALA!$B$14:$B$15,DADOS!K18021,ESCALA!$I$14:$I$15)","v":0}]
["",null,null,null,null,null,null,"1900-12-30",{"$error":"#NUM!"},"1900-12-31","-",{"$f":"G18040-SUMIF(ESCALA!$B$14:$B$15,DADOS!K18040,ESCALA!$I$14:$I$15)","v":0}]
["",null,null,null,null,null,null,"1900-12-30",{"$error":"#NUM!"},"1900-12-31","-",{"$f":"G18055-SUMIF(ESCALA!$B$14:$B$15,DADOS!K18055,ESCALA!$I$14:$I$15)","v":0}]
["",null,null,null,null,null,null,"1900-12-30",{"$error":"#NUM!"},"1900-12-31","-",{"$f":"G18061-SUMIF(ESCALA!$B$14:$B$15,DADOS!K18061,ESCALA!$I$14:$I$15)","v":0}]
["",null,null,null,null,null,null,"1900-12-30",{"$error":"#NUM!"},"1900-12-31","-",{"$f":"G18074-SUMIF(ESCALA!$B$14:$B$15,DADOS!K18074,ESCALA!$I$14:$I$15)","v":0}]
["",null,null,null,null,null,null,"1900-12-30",{"$error":"#NUM!"},"1900-12-31","-",{"$f":"G18089-SUMIF(ESCALA!$B$14:$B$15,DADOS!K18089,ESCALA!$I$14:$I$15)","v":0}]
["",null,null,null,null,null,null,"1900-12-30",{"$error":"#NUM!"},"1900-12-31","-",{"$f":"G18108-SUMIF(ESCALA!$B$14:$B$15,DADOS!K18108,ESCALA!$I$14:$I$15)","v":0}]
["",null,null,null,null,null,null,"1900-12-30",{"$error":"#NUM!"},"1900-12-31","-",{"$f":"G18127-SUMIF(ESCALA!$B$14:$B$15,DADOS!K18127,ESCALA!$I$14:$I$15)","v":0}]
["",null,null,null,null,null,null,"1900-12-30",{"$error":"#NUM!"},"1900-12-31","-",{"$f":"G18141-SUMIF(ESCALA!$B$14:$B$15,DADOS!K18141,ESCALA!$I$14:$I$15)","v":0}]
["",null,null,null,null,null,null,"1900-12-30",{"$error":"#NUM!"},"1900-12-31","-",{"$f":"G18156-SUMIF(ESCALA!$B$14:$B$15,DADOS!K18156,ESCALA!$I$14:$I$15)","v":0}]
["",null,null,null,null,null,null,"1900-12-30",{"$error":"#NUM!"},"1900-12-31","-",{"$f":"G18157-SUMIF(ESCALA!$B$14:$B$15,DADOS!K18157,ESCALA!$I$14:$I$15)","v":0}]
["",null,null,null,null,null,null,"1900-12-30",{"$error":"#NUM!"},"1900-12-31","-",{"$f":"G18176-SUMIF(ESCALA!$B$14:$B$15,DADOS!K18176,ESCALA!$I$14:$I$15)","v":0}]
["",null,null,null,null,null,null,"1900-12-30",{"$error":"#NUM!"},"1900-12-31","-",{"$f":"G18190-SUMIF(ESCALA!$B$14:$B$15,DADOS!K18190,ESCALA!$I$14:$I$15)","v":0}]
["",null,null,null,null,null,null,"1900-12-30",{"$error":"#NUM!"},"1900-12-31","-",{"$f":"G18205-SUMIF(ESCALA!$B$14:$B$15,DADOS!K18205,ESCALA!$I$14:$I$15)","v":0}]
["",null,null,null,null,null,null,"1900-12-30",{"$error":"#NUM!"},"1900-12-31","-",{"$f":"G18224-SUMIF(ESCALA!$B$14:$B$15,DADOS!K18224,ESCALA!$I$14:$I$15)","v":0}]
["",null,null,null,null,null,null,"1900-12-30",{"$error":"#NUM!"},"1900-12-31","-",{"$f":"G18229-SUMIF(ESCALA!$B$14:$B$15,DADOS!K18229,ESCALA!$I$14:$I$15)","v":0}]
[{"$f":"IF(L18243=0,\"\",B18243)","v":""},null,null,null,null,null,null,{"$f":"IF(F18243<=44985,F18243+365,F18243+366)","v":"1900-12-30"},{"$error":"#NUM!"},"1900-12-31",{"$f":"CONCATENATE(B18243,\"-\",F18243)","v":"-"},{"$f":"G18243-SUMIF(ESCALA!$B$14:$B$15,DADOS!K18243,ESCALA!$I$14:$I$15)","v":0}]
["",null,null,null,null,null,null,"1900-12-30",{"$error":"#NUM!"},"1900-12-31","-",{"$f":"G18258-SUMIF(ESCALA!$B$14:$B$15,DADOS!K18258,ESCALA!$I$14:$I$15)","v":0}]
["",null,null,null,null,null,null,"1900-12-30",{"$error":"#NUM!"},"1900-12-31","-",{"$f":"G18273-SUMIF(ESCALA!$B$14:$B$15,DADOS!K18273,ESCALA!$I$14:$I$15)","v":0}]
["",null,null,null,null,null,null,"1900-12-30",{"$error":"#NUM!"},"1900-12-31","-",{"$f":"G18291-SUMIF(ESCALA!$B$14:$B$15,DADOS!K18291,ESCALA!$I$14:$I$15)","v":0}]
["",null,null,null,null,null,null,"1900-12-30",{"$error":"#NUM!"},"1900-12-31","-",{"$f":"G18306-SUMIF(ESCALA!$B$14:$B$15,DADOS!K18306,ESCALA!$I$14:$I$15)","v":0}]
["",null,null,null,null,null,null,"1900-12-30",{"$error":"#NUM!"},"1900-12-31","-",{"$f":"G18311-SUMIF(ESCALA!$B$14:$B$15,DADOS!K18311,ESCALA!$I$14:$I$15)","v":0}]
["",null,null,null,null,null,null,"1900-12-30",{"$error":"#NUM!"},"1900-12-31","-",{"$f":"G18326-SUMIF(ESCALA!$B$14:$B$15,DADOS!K18326,ESCALA!$I$14:$I$15)","v":0}]
["",null,null,null,null,null,null,"1900-12-30",{"$error":"#NUM!"},"1900-12-31","-",{"$f":"G18344-SUMIF(ESCALA!$B$14:$B$15,DADOS!K18344,ESCALA!$I$14:$I$15)","v":0}]
["",null,null,null,null,null,null,"1900-12-30",{"$error":"#NUM!"},"1900-12-31","-",{"$f":"G18359-SUMIF(ESCALA!$B$14:$B$15,DADOS!K18359,ESCALA!$I$14:$I$15)","v":0}]
["",null,null,null,null,null,null,"1900-12-30",{"$error":"#NUM!"},"1900-12-31","-",{"$f":"G18374-SUMIF(ESCALA!$B$14:$B$15,DADOS!K18374,ESCALA!$I$14:$I$15)","v":0}]
["",null,null,null,null,null,null,"1900-12-30",{"$error":"#NUM!"},"1900-12-31","-",{"$f":"G18389-SUMIF(ESCALA!$B$14:$B$15,DADOS!K18389,ESCALA!$I$14:$I$15)","v":0}]
["",null,null,null,null,null,null,"1900-12-30",{"$error":"#NUM!"},"1900-12-31","-",{"$f":"G18393-SUMIF(ESCALA!$B$14:$B$15,DADOS!K18393,ESCALA!$I$14:$I$15)","v":0}]
["",null,null,null,null,null,null,"1900-12-30",{"$error":"#NUM!"},"1900-12-31","-",{"$f":"G18408-SUMIF(ESCALA!$B$14:$B$15,DADOS!K18408,ESCALA!$I$14:$I$15)","v":0}]
["",null,null,null,null,null,null,"1900-12-30",{"$error":"#NUM!"},"1900-12-31","-",{"$f":"G18427-SUMIF(ESCALA!$B$14:$B$15,DADOS!K18427,ESCALA!$I$14:$I$15)","v":0}]
["",null,null,null,null,null,null,"1900-12-30",{"$error":"#NUM!"},"1900-12-31","-",{"$f":"G18442-SUMIF(ESCALA!$B$14:$B$15,DADOS!K18442,ESCALA!$I$14:$I$15)","v":0}]
["",null,null,null,null,null,null,"1900-12-30",{"$error":"#NUM!"},"1900-12-31","-",{"$f":"G18446-SUMIF(ESCALA!$B$14:$B$15,DADOS!K18446,ESCALA!$I$14:$I$15)","v":0}]
["",null,null,null,null,null,null,"1900-12-30",{"$error":"#NUM!"},"1900-12-31","-",{"$f":"G18461-SUMIF(ESCALA!$B$14:$B$15,DADOS!K18461,ESCALA!$I$14:$I$15)","v":0}]
["",null,null,null,null,null,null,"1900-12-30",{"$error":"#NUM!"},"1900-12-31","-",{"$f":"G18476-SUMIF(ESCALA!$B$14:$B$15,DADOS!K18476,ESCALA!$I$14:$I$15)","v":0}]
["",null,null,null,null,null,null,"1900-12-30",{"$error":"#NUM!"},"1900-12-31","-",{"$f":"G18491-SUMIF(ESCALA!$B$14:$B$15,DADOS!K18491,ESCALA!$I$14:$I$15)","v":0}]
["",null,null,null,null,null,null,"1900-12-30",{"$error":"#NUM!"},"1900-12-31","-",{"$f":"G18508-SUMIF(ESCALA!$B$14:$B$15,DADOS!K18508,ESCALA!$I$14:$I$15)","v":0}]
["",null,null,null,null,null,null,"1900-12-30",{"$error":"#NUM!"},"1900-12-31","-",{"$f":"G18524-SUMIF(ESCALA!$B$14:$B$15,DADOS!K18524,ESCALA!$I$14:$I$15)","v":0}]
["",null,null,null,null,null,null,"1900-12-30",{"$error":"#NUM!"},"1900-12-31","-",{"$f":"G18529-SUMIF(ESCALA!$B$14:$B$15,DADOS!K18529,ESCALA!$I$14:$I$15)","v":0}]
["",null,null,null,null,null,null,"1900-12-30",{"$error":"#NUM!"},"1900-12-31","-",{"$f":"G18544-SUMIF(ESCALA!$B$14:$B$15,DADOS!K18544,ESCALA!$I$14:$I$15)","v":0}]
["",null,null,null,null,null,null,"1900-12-30",{"$error":"#NUM!"},"1900-12-31","-",{"$f":"G18561-SUMIF(ESCALA!$B$14:$B$15,DADOS!K18561,ESCALA!$I$14:$I$15)","v":0}]
["",null,null,null,null,null,null,"1900-12-30",{"$error":"#NUM!"},"1900-12-31","-",{"$f":"G18577-SUMIF(ESCALA!$B$14:$B$15,DADOS!K18577,ESCALA!$I$14:$I$15)","v":0}]
["",null,null,null,null,null,null,"1900-12-30",{"$error":"#NUM!"},"1900-12-31","-",{"$f":"G18592-SUMIF(ESCALA!$B$14:$B$15,DADOS!K18592,ESCALA!$I$14:$I$15)","v":0}]
["",null,null,null,null,null,null,"1900-12-30",{"$error":"#NUM!"},"1900-12-31","-",{"$f":"G18597-SUMIF(ESCALA!$B$14:$B$15,DADOS!K18597,ESCALA!$I$14:$I$15)","v":0}]
["",null,null,null,null,null,null,"1900-12-30",{"$error":"#NUM!"},"1900-12-31","-",{"$f":"G18623-SUMIF(ESCALA!$B$14:$B$15,DADOS!K18623,ESCALA!$I$14:$I$15)","v":0}]
["",null,null,null,null,null,null,"1900-12-30",{"$error":"#NUM!"},"1900-12-31","-",{"$f":"G18626-SUMIF(ESCALA!$B$14:$B$15,DADOS!K18626,ESCALA!$I$14:$I$15)","v":0}]
["",null,null,null,null,null,null,"1900-12-30",{"$error":"#NUM!"},"1900-12-31","-",{"$f":"G18645-SUMIF(ESCALA!$B$14:$B$15,DADOS!K18645,ESCALA!$I$14:$I$15)","v":0}]
["",null,null,null,null,null,null,"1900-12-30",{"$error":"#NUM!"},"1900-12-31","-",{"$f":"G18660-SUMIF(ESCALA!$B$14:$B$15,DADOS!K18660,ESCALA!$I$14:$I$15)","v":0}]
["",null,null,null,null,null,null,"1900-12-30",{"$error":"#NUM!"},"1900-12-31","-",{"$f":"G18676-SUMIF(ESCALA!$B$14:$B$15,DADOS!K18676,ESCALA!$I$14:$I$15)","v":0}]
["",null,null,null,null,null,null,"1900-12-30",{"$error":"#NUM!"},"1900-12-31","-",{"$f":"G18679-SUMIF(ESCALA!$B$14:$B$15,DADOS!K18679,ESCALA!$I$14:$I$15)","v":0}]
["",null,null,null,null,null,null,"1900-12-30",{"$error":"#NUM!"},"1900-12-31","-",{"$f":"G18694-SUMIF(ESCALA!$B$14:$B$15,DADOS!K18694,ESCALA!$I$14:$I$15)","v":0}]
["",null,null,null,null,null,null,"1900-12-30",{"$error":"#NUM!"},"1900-12-31","-",{"$f":"G18713-SUMIF(ESCALA!$B$14:$B$15,DADOS!K18713,ESCALA!$I$14:$I$15)","v":0}]
["",null,null,null,null,null,null,"1900-12-30",{"$error":"#NUM!"},"1900-12-31","-",{"$f":"G18725-SUMIF(ESCALA!$B$14:$B$15,DADOS!K18725,ESCALA!$I$14:$I$15)","v":0}]
["",null,null,null,null,null,null,"1900-12-30",{"$error":"#NUM!"},"1900-12-31","-",{"$f":"G18742-SUMIF(ESCALA!$B$14:$B$15,DADOS!K18742,ESCALA!$I$14:$I$15)","v":0}]
["",null,null,null,null,null,null,"1900-12-30",{"$error":"#NUM!"},"1900-12-31","-",{"$f":"G18761-SUMIF(ESCALA!$B$14:$B$15,DADOS!K18761,ESCALA!$I$14:$I$15)","v":0}]
["",null,null,null,null,null,null,"1900-12-30",{"$error":"#NUM!"},"1900-12-31","-",{"$f":"G18762-SUMIF(ESCALA!$B$14:$B$15,DADOS!K18762,ESCALA!$I$14:$I$15)","v":0}]
["",null,null,null,null,null,null,"1900-12-30",{"$error":"#NUM!"},"1900-12-31","-",{"$f":"G18778-SUMIF(ESCALA!$B$14:$B$15,DADOS!K18778,ESCALA!$I$14:$I$15)","v":0}]
["",null,null,null,null,null,null,"1900-12-30",{"$error":"#NUM!"},"1900-12-31","-",{"$f":"G18795-SUMIF(ESCALA!$B$14:$B$15,DADOS!K18795,ESCALA!$I$14:$I$15)","v":0}]
["",null,null,null,null,null,null,"1900-12-30",{"$error":"#NUM!"},"1900-12-31","-",{"$f":"G18810-SUMIF(ESCALA!$B$14:$B$15,DADOS!K18810,ESCALA!$I$14:$I$15)","v":0}]
["",null,null,null,null,null,null,"1900-12-30",{"$error":"#NUM!"},"1900-12-31","-",{"$f":"G18829-SUMIF(ESCALA!$B$14:$B$15,DADOS!K18829,ESCALA!$I$14:$I$15)","v":0}]
["",null,null,null,null,null,null,"1900-12-30",{"$error":"#NUM!"},"1900-12-31","-",{"$f":"G18840-SUMIF(ESCALA!$B$14:$B$15,DADOS!K18840,ESCALA!$I$14:$I$15)","v":0}]
["",null,null,null,null,null,null,"1900-12-30",{"$error":"#NUM!"},"1900-12-31","-",{"$f":"G18844-SUMIF(ESCALA!$B$14:$B$15,DADOS!K18844,ESCALA!$I$14:$I$15)","v":0}]
["",null,null,null,null,null,null,"1900-12-30",{"$error":"#NUM!"},"1900-12-31","-",{"$f":"G18863-SUMIF(ESCALA!$B$14:$B$15,DADOS!K18863,ESCALA!$I$14:$I$15)","v":0}]
["",null,null,null,null,null,null,"1900-12-30",{"$error":"#NUM!"},"1900-12-31","-",{"$f":"G18878-SUMIF(ESCALA!$B$14:$B$15,DADOS!K18878,ESCALA!$I$14:$I$15)","v":0}]
["",null,null,null,null,null,null,"1900-12-30",{"$error":"#NUM!"},"1900-12-31","-",{"$f":"G18889-SUMIF(ESCALA!$B$14:$B$15,DADOS!K18889,ESCALA!$I$14:$I$15)","v":0}]
["",null,null,null,null,null,null,"1900-12-30",{"$error":"#NUM!"},"1900-12-31","-",{"$f":"G18911-SUMIF(ESCALA!$B$14:$B$15,DADOS!K18911,ESCALA!$I$14:$I$15)","v":0}]
["",null,null,null,null,null,null,"1900-12-30",{"$error":"#NUM!"},"1900-12-31","-",{"$f":"G18926-SUMIF(ESCALA!$B$14:$B$15,DADOS!K18926,ESCALA!$I$14:$I$15)","v":0}]
["",null,null,null,null,null,null,"1900-12-30",{"$error":"#NUM!"},"1900-12-31","-",{"$f":"G18931-SUMIF(ESCALA!$B$14:$B$15,DADOS!K18931,ESCALA!$I$14:$I$15)","v":0}]
["",null,null,null,null,null,null,"1900-12-30",{"$error":"#NUM!"},"1900-12-31","-",{"$f":"G18942-SUMIF(ESCALA!$B$14:$B$15,DADOS!K18942,ESCALA!$I$14:$I$15)","v":0}]
["",null,null,null,null,null,null,"1900-12-30",{"$error":"#NUM!"},"1900-12-31","-",{"$f":"G18960-SUMIF(ESCALA!$B$14:$B$15,DADOS!K18960,ESCALA!$I$14:$I$15)","v":0}]
["",null,null,null,null,null,null,"1900-12-30",{"$error":"#NUM!"},"1900-12-31","-",{"$f":"G18979-SUMIF(ESCALA!$B$14:$B$15,DADOS!K18979,ESCALA!$I$14:$I$15)","v":0}]
["",null,null,null,null,null,null,"1900-12-30",{"$error":"#NUM!"},"1900-12-31","-",{"$f":"G18994-SUMIF(ESCALA!$B$14:$B$15,DADOS!K18994,ESCALA!$I$14:$I$15)","v":0}]
["",null,null,null,null,null,null,"1900-12-30",{"$error":"#NUM!"},"1900-12-31","-",{"$f":"G19004-SUMIF(ESCALA!$B$14:$B$15,DADOS!K19004,ESCALA!$I$14:$I$15)","v":0}]
["",null,null,null,null,null,null,"1900-12-30",{"$error":"#NUM!"},"1900-12-31","-",{"$f":"G19013-SUMIF(ESCALA!$B$14:$B$15,DADOS!K19013,ESCALA!$I$14:$I$15)","v":0}]
["",null,null,null,null,null,null,"1900-12-30",{"$error":"#NUM!"},"1900-12-31","-",{"$f":"G19028-SUMIF(ESCALA!$B$14:$B$15,DADOS!K19028,ESCALA!$I$14:$I$15)","v":0}]
["",null,null,null,null,null,null,"1900-12-30",{"$error":"#NUM!"},"1900-12-31","-",{"$f":"G19047-SUMIF(ESCALA!$B$14:$B$15,DADOS!K19047,ESCALA!$I$14:$I$15)","v":0}]
["",null,null,null,null,null,null,"1900-12-30",{"$error":"#NUM!"},"1900-12-31","-",{"$f":"G19057-SUMIF(ESCALA!$B$14:$B$15,DADOS!K19057,ESCALA!$I$14:$I$15)","v":0}]
["",null,null,null,null,null,null,"1900-12-30",{"$error":"#NUM!"},"1900-12-31","-",{"$f":"G19066-SUMIF(ESCALA!$B$14:$B$15,DADOS!K19066,ESCALA!$I$14:$I$15)","v":0}]
["",null,null,null,null,null,null,"1900-12-30",{"$error":"#NUM!"},"1900-12-31","-",{"$f":"G19081-SUMIF(ESCALA!$B$14:$B$15,DADOS!K19081,ESCALA!$I$14:$I$15)","v":0}]
["",null,null,null,null,null,null,"1900-12-30",{"$error":"#NUM!"},"1900-12-31","-",{"$f":"G19096-SUMIF(ESCALA!$B$14:$B$15,DADOS!K19096,ESCALA!$I$14:$I$15)","v":0}]
["",null,null,null,null,null,null,"1900-12-30",{"$error":"#NUM!"},"1900-12-31","-",{"$f":"G19106-SUMIF(ESCALA!$B$14:$B$15,DADOS!K19106,ESCALA!$I$14:$I$15)","v":0}]
["",null,null,null,null,null,null,"1900-12-30",{"$error":"#NUM!"},"1900-12-31","-",{"$f":"G19129-SUMIF(ESCALA!$B$14:$B$15,DADOS!K19129,ESCALA!$I$14:$I$15)","v":0}]
["",null,null,null,null,null,null,"1900-12-30",{"$error":"#NUM!"},"1900-12-31","-",{"$f":"G19144-SUMIF(ESCALA!$B$14:$B$15,DADOS!K19144,ESCALA!$I$14:$I$15)","v":0}]
["",null,null,null,null,null,null,"1900-12-30",{"$error":"#NUM!"},"1900-12-31","-",{"$f":"G19149-SUMIF(ESCALA!$B$14:$B$15,DADOS!K19149,ESCALA!$I$14:$I$15)","v":0}]
["",null,null,null,null,null,null,"1900-12-30",{"$error":"#NUM!"},"1900-12-31","-",{"$f":"G19172-SUMIF(ESCALA!$B$14:$B$15,DADOS!K19172,ESCALA!$I$14:$I$15)","v":0}]
["",null,null,null,null,null,null,"1900-12-30",{"$error":"#NUM!"},"1900-12-31","-",{"$f":"G19182-SUMIF(ESCALA!$B$14:$B$15,DADOS!K19182,ESCALA!$I$14:$I$15)","v":0}]
["",null,null,null,null,null,null,"1900-12-30",{"$error":"#NUM!"},"1900-12-31","-",{"$f":"G19197-SUMIF(ESCALA!$B$14:$B$15,DADOS!K19197,ESCALA!$I$14:$I$15)","v":0}]
["",null,null,null,null,null,null,"1900-12-30",{"$error":"#NUM!"},"1900-12-31","-",{"$f":"G19212-SUMIF(ESCALA!$B$14:$B$15,DADOS!K19212,ESCALA!$I$14:$I$15)","v":0}]
["",null,null,null,null,null,null,"1900-12-30",{"$error":"#NUM!"},"1900-12-31","-",{"$f":"G19221-SUMIF(ESCALA!$B$14:$B$15,DADOS!K19221,ESCALA!$I$14:$I$15)","v":0}]
["",null,null,null,null,null,null,"1900-12-30",{"$error":"#NUM!"},"1900-12-31","-",{"$f":"G19231-SUMIF(ESCALA!$B$14:$B$15,DADOS!K19231,ESCALA!$I$14:$I$15)","v":0}]
["",null,null,null,null,null,null,"1900-12-30",{"$error":"#NUM!"},"1900-12-31","-",{"$f":"G19246-SUMIF(ESCALA!$B$14:$B$15,DADOS!K19246,ESCALA!$I$14:$I$15)","v":0}]
["",null,null,null,null,null,null,"1900-12-30",{"$error":"#NUM!"},"1900-12-31","-",{"$f":"G19265-SUMIF(ESCALA!$B$14:$B$15,DADOS!K19265,ESCALA!$I$14:$I$15)","v":0}]
["",null,null,null,null,null,null,"1900-12-30",{"$error":"#NUM!"},"1900-12-31","-",{"$f":"G19274-SUMIF(ESCALA!$B$14:$B$15,DADOS!K19274,ESCALA!$I$14:$I$15)","v":0}]
["",null,null,null,null,null,null,"1900-12-30",{"$error":"#NUM!"},"1900-12-31","-",{"$f":"G19284-SUMIF(ESCALA!$B$14:$B$15,DADOS!K19284,ESCALA!$I$14:$I$15)","v":0}]
["",null,null,null,null,null,null,"1900-12-30",{"$error":"#NUM!"},"1900-12-31","-",{"$f":"G19299-SUMIF(ESCALA!$B$14:$B$15,DADOS!K19299,ESCALA!$I$14:$I$15)","v":0}]
["",null,null,null,null,null,null,"1900-12-30",{"$error":"#NUM!"},"1900-12-31","-",{"$f":"G19314-SUMIF(ESCALA!$B$14:$B$15,DADOS!K19314,ESCALA!$I$14:$I$15)","v":0}]
["",null,null,null,null,null,null,"1900-12-30",{"$error":"#NUM!"},"1900-12-31","-",{"$f":"G19336-SUMIF(ESCALA!$B$14:$B$15,DADOS!K19336,ESCALA!$I$14:$I$15)","v":0}]
["",null,null,null,null,null,null,"1900-12-30",{"$error":"#NUM!"},"1900-12-31","-",{"$f":"G19347-SUMIF(ESCALA!$B$14:$B$15,DADOS!K19347,ESCALA!$I$14:$I$15)","v":0}]
["",null,null,null,null,null,null,"1900-12-30",{"$error":"#NUM!"},"1900-12-31","-",{"$f":"G19366-SUMIF(ESCALA!$B$14:$B$15,DADOS!K19366,ESCALA!$I$14:$I$15)","v":0}]
["",null,null,null,null,null,null,"1900-12-30",{"$error":"#NUM!"},"1900-12-31","-",{"$f":"G19367-SUMIF(ESCALA!$B$14:$B$15,DADOS!K19367,ESCALA!$I$14:$I$15)","v":0}]
["",null,null,null,null,null,null,"1900-12-30",{"$error":"#NUM!"},"1900-12-31","-",{"$f":"G19389-SUMIF(ESCALA!$B$14:$B$15,DADOS!K19389,ESCALA!$I$14:$I$15)","v":0}]
["",null,null,null,null,null,null,"1900-12-30",{"$error":"#NUM!"},"1900-12-31","-",{"$f":"G19400-SUMIF(ESCALA!$B$14:$B$15,DADOS!K19400,ESCALA!$I$14:$I$15)","v":0}]
["",null,null,null,null,null,null,"1900-12-30",{"$error":"#NUM!"},"1900-12-31","-",{"$f":"G19415-SUMIF(ESCALA!$B$14:$B$15,DADOS!K19415,ESCALA!$I$14:$I$15)","v":0}]
["",null,null,null,null,null,null,"1900-12-30",{"$error":"#NUM!"},"1900-12-31","-",{"$f":"G19430-SUMIF(ESCALA!$B$14:$B$15,DADOS!K19430,ESCALA!$I$14:$I$15)","v":0}]
["",null,null,null,null,null,null,"1900-12-30",{"$error":"#NUM!"},"1900-12-31","-",{"$f":"G19438-SUMIF(ESCALA!$B$14:$B$15,DADOS!K19438,ESCALA!$I$14:$I$15)","v":0}]
["",null,null,null,null,null,null,"1900-12-30",{"$error":"#NUM!"},"1900-12-31","-",{"$f":"G19449-SUMIF(ESCALA!$B$14:$B$15,DADOS!K19449,ESCALA!$I$14:$I$15)","v":0}]
["",null,null,null,null,null,null,"1900-12-30",{"$error":"#NUM!"},"1900-12-31","-",{"$f":"G19468-SUMIF(ESCALA!$B$14:$B$15,DADOS!K19468,ESCALA!$I$14:$I$15)","v":0}]
["",null,null,null,null,null,null,"1900-12-30",{"$error":"#NUM!"},"1900-12-31","-",{"$f":"G19483-SUMIF(ESCALA!$B$14:$B$15,DADOS!K19483,ESCALA!$I$14:$I$15)","v":0}]
["",null,null,null,null,null,null,"1900-12-30",{"$error":"#NUM!"},"1900-12-31","-",{"$f":"G19491-SUMIF(ESCALA!$B$14:$B$15,DADOS!K19491,ESCALA!$I$14:$I$15)","v":0}]
["",null,null,null,null,null,null,"1900-12-30",{"$error":"#NUM!"},"1900-12-31","-",{"$f":"G19516-SUMIF(ESCALA!$B$14:$B$15,DADOS!K19516,ESCALA!$I$14:$I$15)","v":0}]
["",null,null,null,null,null,null,"1900-12-30",{"$error":"#NUM!"},"1900-12-31","-",{"$f":"G19531-SUMIF(ESCALA!$B$14:$B$15,DADOS!K19531,ESCALA!$I$14:$I$15)","v":0}]
["",null,null,null,null,null,null,"1900-12-30",{"$error":"#NUM!"},"1900-12-31","-",{"$f":"G19536-SUMIF(ESCALA!$B$14:$B$15,DADOS!K19536,ESCALA!$I$14:$I$15)","v":0}]
["",null,null,null,null,null,null,"1900-12-30",{"$error":"#NUM!"},"1900-12-31","-",{"$f":"G19553-SUMIF(ESCALA!$B$14:$B$15,DADOS!K19553,ESCALA!$I$14:$I$15)","v":0}]
["",null,null,null,null,null,null,"1900-12-30",{"$error":"#NUM!"},"1900-12-31","-",{"$f":"G19565-SUMIF(ESCALA!$B$14:$B$15,DADOS!K19565,ESCALA!$I$14:$I$15)","v":0}]
["",null,null,null,null,null,null,"1900-12-30",{"$error":"#NUM!"},"1900-12-31","-",{"$f":"G19584-SUMIF(ESCALA!$B$14:$B$15,DADOS!K19584,ESCALA!$I$14:$I$15)","v":0}]
["",null,null,null,null,null,null,"1900-12-30",{"$error":"#NUM!"},"1900-12-31","-",{"$f":"G19599-SUMIF(ESCALA!$B$14:$B$15,DADOS!K19599,ESCALA!$I$14:$I$15)","v":0}]
["",null,null,null,null,null,null,"1900-12-30",{"$error":"#NUM!"},"1900-12-31","-",{"$f":"G19606-SUMIF(ESCALA!$B$14:$B$15,DADOS!K19606,ESCALA!$I$14:$I$15)","v":0}]
["",null,null,null,null,null,null,"1900-12-30",{"$error":"#NUM!"},"1900-12-31","-",{"$f":"G19618-SUMIF(ESCALA!$B$14:$B$15,DADOS!K19618,ESCALA!$I$14:$I$15)","v":0}]
["",null,null,null,null,null,null,"1900-12-30",{"$error":"#NUM!"},"1900-12-31","-",{"$f":"G19633-SUMIF(ESCALA!$B$14:$B$15,DADOS!K19633,ESCALA!$I$14:$I$15)","v":0}]
["",null,null,null,null,null,null,"1900-12-30",{"$f":"IF(E19652=\"ESTATUTARIO\",EOMONTH(F19652,0),EOMONTH(F19652,-1))","v":{"$error":"#NUM!"}},{"$f":"EOMONTH(F19652,11)","v":"1900-12-31"},"-",{"$f":"G19652-SUMIF(ESCALA!$B$14:$B$15,DADOS!K19652,ESCALA!$I$14:$I$15)","v":0}]
["",null,null,null,null,null,null,"1900-12-30",{"$error":"#NUM!"},"1900-12-31","-",{"$f":"G19668-SUMIF(ESCALA!$B$14:$B$15,DADOS!K19668,ESCALA!$I$14:$I$15)","v":0}]
["",null,null,null,null,null,null,"1900-12-30",{"$error":"#NUM!"},"1900-12-31","-",{"$f":"G19681-SUMIF(ESCALA!$B$14:$B$15,DADOS!K19681,ESCALA!$I$14:$I$15)","v":0}]
["",null,null,null,null,null,null,"1900-12-30",{"$error":"#NUM!"},"1900-12-31","-",{"$f":"G19686-SUMIF(ESCALA!$B$14:$B$15,DADOS!K19686,ESCALA!$I$14:$I$15)","v":0}]
["",null,null,null,null,null,null,"1900-12-30",{"$error":"#NUM!"},"1900-12-31","-",{"$f":"G19701-SUMIF(ESCALA!$B$14:$B$15,DADOS!K19701,ESCALA!$I$14:$I$15)","v":0}]
["",null,null,null,null,null,null,"1900-12-30",{"$error":"#NUM!"},"1900-12-31","-",{"$f":"G19721-SUMIF(ESCALA!$B$14:$B$15,DADOS!K19721,ESCALA!$I$14:$I$15)","v":0}]
["",null,null,null,null,null,null,"1900-12-30",{"$error":"#NUM!"},"1900-12-31","-",{"$f":"G19734-SUMIF(ESCALA!$B$14:$B$15,DADOS!K19734,ESCALA!$I$14:$I$15)","v":0}]
["",null,null,null,null,null,null,"1900-12-30",{"$error":"#NUM!"},"1900-12-31","-",{"$f":"G19749-SUMIF(ESCALA!$B$14:$B$15,DADOS!K19749,ESCALA!$I$14:$I$15)","v":0}]
["",null,null,null,null,null,null,"1900-12-30",{"$error":"#NUM!"},"1900-12-31","-",{"$f":"G19754-SUMIF(ESCALA!$B$14:$B$15,DADOS!K19754,ESCALA!$I$14:$I$15)","v":0}]
["",null,null,null,null,null,null,"1900-12-30",{"$error":"#NUM!"},"1900-12-31","-",{"$f":"G19770-SUMIF(ESCALA!$B$14:$B$15,DADOS!K19770,ESCALA!$I$14:$I$15)","v":0}]
["",null,null,null,null,null,null,"1900-12-30",{"$error":"#NUM!"},"1900-12-31","-",{"$f":"G19783-SUMIF(ESCALA!$B$14:$B$15,DADOS!K19783,ESCALA!$I$14:$I$15)","v":0}]
["",null,null,null,null,null,null,"1900-12-30",{"$error":"#NUM!"},"1900-12-31","-",{"$f":"G19802-SUMIF(ESCALA!$B$14:$B$15,DADOS!K19802,ESCALA!$I$14:$I$15)","v":0}]
["",null,null,null,null,null,null,"1900-12-30",{"$error":"#NUM!"},"1900-12-31","-",{"$f":"G19817-SUMIF(ESCALA!$B$14:$B$15,DADOS!K19817,ESCALA!$I$14:$I$15)","v":0}]
["",null,null,null,null,null,null,"1900-12-30",{"$error":"#NUM!"},"1900-12-31","-",{"$f":"G19832-SUMIF(ESCALA!$B$14:$B$15,DADOS!K19832,ESCALA!$I$14:$I$15)","v":0}]
["",null,null,null,null,null,null,"1900-12-30",{"$error":"#NUM!"},"1900-12-31","-",{"$f":"G19836-SUMIF(ESCALA!$B$14:$B$15,DADOS!K19836,ESCALA!$I$14:$I$15)","v":0}]
["",null,null,null,null,null,null,"1900-12-30",{"$error":"#NUM!"},"1900-12-31","-",{"$f":"G19851-SUMIF(ESCALA!$B$14:$B$15,DADOS!K19851,ESCALA!$I$14:$I$15)","v":0}]
["",null,null,null,null,null,null,"1900-12-30",{"$error":"#NUM!"},"1900-12-31","-",{"$f":"G19870-SUMIF(ESCALA!$B$14:$B$15,DADOS!K19870,ESCALA!$I$14:$I$15)","v":0}]
["",null,null,null,null,null,null,"1900-12-30",{"$error":"#NUM!"},"1900-12-31","-",{"$f":"G19885-SUMIF(ESCALA!$B$14:$B$15,DADOS!K19885,ESCALA!$I$14:$I$15)","v":0}]
["",null,null,null,null,null,null,"1900-12-30",{"$error":"#NUM!"},"1900-12-31","-",{"$f":"G19899-SUMIF(ESCALA!$B$14:$B$15,DADOS!K19899,ESCALA!$I$14:$I$15)","v":0}]
["",null,null,null,null,null,null,"1900-12-30",{"$error":"#NUM!"},"1900-12-31","-",{"$f":"G19904-SUMIF(ESCALA!$B$14:$B$15,DADOS!K19904,ESCALA!$I$14:$I$15)","v":0}]
["",null,null,null,null,null,null,"1900-12-30",{"$error":"#NUM!"},"1900-12-31","-",{"$f":"G19919-SUMIF(ESCALA!$B$14:$B$15,DADOS!K19919,ESCALA!$I$14:$I$15)","v":0}]
["",null,null,null,null,null,null,"1900-12-30",{"$error":"#NUM!"},"1900-12-31","-",{"$f":"G19934-SUMIF(ESCALA!$B$14:$B$15,DADOS!K19934,ESCALA!$I$14:$I$15)","v":0}]
["",null,null,null,null,null,null,"1900-12-30",{"$error":"#NUM!"},"1900-12-31","-",{"$f":"G19952-SUMIF(ESCALA!$B$14:$B$15,DADOS!K19952,ESCALA!$I$14:$I$15)","v":0}]
["",null,null,null,null,null,null,"1900-12-30",{"$error":"#NUM!"},"1900-12-31","-",{"$f":"G19967-SUMIF(ESCALA!$B$14:$B$15,DADOS!K19967,ESCALA!$I$14:$I$15)","v":0}]
["",null,null,null,null,null,null,"1900-12-30",{"$f":"IF(E19972=\"ESTATUTARIO\",EOMONTH(F19972,0),EOMONTH(F19972,-1))","v":{"$error":"#NUM!"}},{"$f":"EOMONTH(F19972,11)","v":"1900-12-31"},"-",{"$f":"G19972-SUMIF(ESCALA!$B$14:$B$15,DADOS!K19972,ESCALA!$I$14:$I$15)","v":0}]
["",null,null,null,null,null,null,"1900-12-30",{"$error":"#NUM!"},"1900-12-31","-",{"$f":"G19987-SUMIF(ESCALA!$B$14:$B$15,DADOS!K19987,ESCALA!$I$14:$I$15)","v":0}]
["",null,null,null,null,null,null,"1900-12-30",{"$error":"#NUM!"},"1900-12-31","-",{"$f":"G20001-SUMIF(ESCALA!$B$14:$B$15,DADOS!K20001,ESCALA!$I$14:$I$15)","v":0}]
["",null,null,null,null,null,null,"1900-12-30",{"$error":"#NUM!"},"1900-12-31","-",{"$f":"G20020-SUMIF(ESCALA!$B$14:$B$15,DADOS!K20020,ESCALA!$I$14:$I$15)","v":0}]
[{"$f":"IF(L20035=0,\"\",B20035)","v":""},null,null,null,null,null,null,{"$f":"IF(F20035<=44985,F20035+365,F20035+366)","v":"1900-12-30"},{"$error":"#NUM!"},"1900-12-31",{"$f":"CONCATENATE(B20035,\"-\",F20035)","v":"-"},{"$f":"G20035-SUMIF(ESCALA!$B$14:$B$15,DADOS!K20035,ESCALA!$I$14:$I$15)","v":0}]
["",null,null,null,null,null,null,"1900-12-30",{"$error":"#NUM!"},"1900-12-31","-",{"$f":"G20049-SUMIF(ESCALA!$B$14:$B$15,DADOS!K20049,ESCALA!$I$14:$I$15)","v":0}]
["",null,null,null,null,null,null,"1900-12-30",{"$error":"#NUM!"},"1900-12-31","-",{"$f":"G20054-SUMIF(ESCALA!$B$14:$B$15,DADOS!K20054,ESCALA!$I$14:$I$15)","v":0}]
["",null,null,null,null,null,null,"1900-12-30",{"$error":"#NUM!"},"1900-12-31","-",{"$f":"G20069-SUMIF(ESCALA!$B$14:$B$15,DADOS!K20069,ESCALA!$I$14:$I$15)","v":0}]
["",null,null,null,null,null,null,"1900-12-30",{"$error":"#NUM!"},"1900-12-31","-",{"$f":"G20088-SUMIF(ESCALA!$B$14:$B$15,DADOS!K20088,ESCALA!$I$14:$I$15)","v":0}]
["",null,null,null,null,null,null,"1900-12-30",{"$error":"#NUM!"},"1900-12-31","-",{"$f":"G20102-SUMIF(ESCALA!$B$14:$B$15,DADOS!K20102,ESCALA!$I$14:$I$15)","v":0}]
["",null,null,null,null,null,null,"1900-12-30",{"$error":"#NUM!"},"1900-12-31","-",{"$f":"G20121-SUMIF(ESCALA!$B$14:$B$15,DADOS!K20121,ESCALA!$I$14:$I$15)","v":0}]
["",null,null,null,null,null,null,"1900-12-30",{"$error":"#NUM!"},"1900-12-31","-",{"$f":"G20136-SUMIF(ESCALA!$B$14:$B$15,DADOS!K20136,ESCALA!$I$14:$I$15)","v":0}]
["",null,null,null,null,null,null,"1900-12-30",{"$error":"#NUM!"},"1900-12-31","-",{"$f":"G20137-SUMIF(ESCALA!$B$14:$B$15,DADOS!K20137,ESCALA!$I$14:$I$15)","v":0}]
["",null,null,null,null,null,null,"1900-12-30",{"$error":"#NUM!"},"1900-12-31","-",{"$f":"G20151-SUMIF(ESCALA!$B$14:$B$15,DADOS!K20151,ESCALA!$I$14:$I$15)","v":0}]
["",null,null,null,null,null,null,"1900-12-30",{"$error":"#NUM!"},"1900-12-31","-",{"$f":"G20170-SUMIF(ESCALA!$B$14:$B$15,DADOS!K20170,ESCALA!$I$14:$I$15)","v":0}]
["",null,null,null,null,null,null,"1900-12-30",{"$error":"#NUM!"},"1900-12-31","-",{"$f":"G20185-SUMIF(ESCALA!$B$14:$B$15,DADOS!K20185,ESCALA!$I$14:$I$15)","v":0}]
["",null,null,null,null,null,null,"1900-12-30",{"$error":"#NUM!"},"1900-12-31","-",{"$f":"G20204-SUMIF(ESCALA!$B$14:$B$15,DADOS!K20204,ESCALA!$I$14:$I$15)","v":0}]
["",null,null,null,null,null,null,"1900-12-30",{"$error":"#NUM!"},"1900-12-31","-",{"$f":"G20217-SUMIF(ESCALA!$B$14:$B$15,DADOS!K20217,ESCALA!$I$14:$I$15)","v":0}]
["",null,null,null,null,null,null,"1900-12-30",{"$error":"#NUM!"},"1900-12-31","-",{"$f":"G20223-SUMIF(ESCALA!$B$14:$B$15,DADOS!K20223,ESCALA!$I$14:$I$15)","v":0}]
["",null,null,null,null,null,null,"1900-12-30",{"$error":"#NUM!"},"1900-12-31","-",{"$f":"G20238-SUMIF(ESCALA!$B$14:$B$15,DADOS!K20238,ESCALA!$I$14:$I$15)","v":0}]
["",null,null,null,null,null,null,"1900-12-30",{"$error":"#NUM!"},"1900-12-31","-",{"$f":"G20253-SUMIF(ESCALA!$B$14:$B$15,DADOS!K20253,ESCALA!$I$14:$I$15)","v":0}]
["",null,null,null,null,null,null,"1900-12-30",{"$error":"#NUM!"},"1900-12-31","-",{"$f":"G20266-SUMIF(ESCALA!$B$14:$B$15,DADOS!K20266,ESCALA!$I$14:$I$15)","v":0}]
["",null,null,null,null,null,null,"1900-12-30",{"$error":"#NUM!"},"1900-12-31","-",{"$f":"G20286-SUMIF(ESCALA!$B$14:$B$15,DADOS!K20286,ESCALA!$I$14:$I$15)","v":0}]
[{"$f":"IF(L20291=0,\"\",B20291)","v":""},null,null,null,null,null,null,{"$f":"IF(F20291<=44985,F20291+365,F20291+366)","v":"1900-12-30"},{"$error":"#NUM!"},"1900-12-31",{"$f":"CONCATENATE(B20291,\"-\",F20291)","v":"-"},{"$f":"G20291-SUMIF(ESCALA!$B$14:$B$15,DADOS!K20291,ESCALA!$I$14:$I$15)","v":0}]
["",null,null,null,null,null,null,"1900-12-30",{"$error":"#NUM!"},"1900-12-31","-",{"$f":"G20306-SUMIF(ESCALA!$B$14:$B$15,DADOS!K20306,ESCALA!$I$14:$I$15)","v":0}]
["",null,null,null,null,null,null,"1900-12-30",{"$error":"#NUM!"},"1900-12-31","-",{"$f":"G20319-SUMIF(ESCALA!$B$14:$B$15,DADOS!K20319,ESCALA!$I$14:$I$15)","v":0}]
["",null,null,null,null,null,null,"1900-12-30",{"$error":"#NUM!"},"1900-12-31","-",{"$f":"G20339-SUMIF(ESCALA!$B$14:$B$15,DADOS!K20339,ESCALA!$I$14:$I$15)","v":0}]
["",null,null,null,null,null,null,"1900-12-30",{"$error":"#NUM!"},"1900-12-31","-",{"$f":"G20354-SUMIF(ESCALA!$B$14:$B$15,DADOS!K20354,ESCALA!$I$14:$I$15)","v":0}]
["",null,null,null,null,null,null,"1900-12-30",{"$error":"#NUM!"},"1900-12-31","-",{"$f":"G20369-SUMIF(ESCALA!$B$14:$B$15,DADOS!K20369,ESCALA!$I$14:$I$15)","v":0}]
["",null,null,null,null,null,null,"1900-12-30",{"$error":"#NUM!"},"1900-12-31","-",{"$f":"G20381-SUMIF(ESCALA!$B$14:$B$15,DADOS!K20381,ESCALA!$I$14:$I$15)","v":0}]
["",null,null,null,null,null,null,"1900-12-30",{"$error":"#NUM!"},"1900-12-31","-",{"$f":"G20388-SUMIF(ESCALA!$B$14:$B$15,DADOS!K20388,ESCALA!$I$14:$I$15)","v":0}]
["",null,null,null,null,null,null,"1900-12-30",{"$error":"#NUM!"},"1900-12-31","-",{"$f":"G20407-SUMIF(ESCALA!$B$14:$B$15,DADOS!K20407,ESCALA!$I$14:$I$15)","v":0}]
["",null,null,null,null,null,null,"1900-12-30",{"$error":"#NUM!"},"1900-12-31","-",{"$f":"G20422-SUMIF(ESCALA!$B$14:$B$15,DADOS!K20422,ESCALA!$I$14:$I$15)","v":0}]
["",null,null,null,null,null,null,"1900-12-30",{"$error":"#NUM!"},"1900-12-31","-",{"$f":"G20434-SUMIF(ESCALA!$B$14:$B$15,DADOS!K20434,ESCALA!$I$14:$I$15)","v":0}]
["",null,null,null,null,null,null,"1900-12-30",{"$error":"#NUM!"},"1900-12-31","-",{"$f":"G20441-SUMIF(ESCALA!$B$14:$B$15,DADOS!K20441,ESCALA!$I$14:$I$15)","v":0}]
["",null,null,null,null,null,null,"1900-12-30",{"$error":"#NUM!"},"1900-12-31","-",{"$f":"G20456-SUMIF(ESCALA!$B$14:$B$15,DADOS!K20456,ESCALA!$I$14:$I$15)","v":0}]
["",null,null,null,null,null,null,"1900-12-30",{"$error":"#NUM!"},"1900-12-31","-",{"$f":"G20471-SUMIF(ESCALA!$B$14:$B$15,DADOS!K20471,ESCALA!$I$14:$I$15)","v":0}]
[{"$f":"IF(L20483=0,\"\",B20483)","v":""},null,null,null,null,null,null,{"$f":"IF(F20483<=44985,F20483+365,F20483+366)","v":"1900-12-30"},{"$error":"#NUM!"},"1900-12-31",{"$f":"CONCATENATE(B20483,\"-\",F20483)","v":"-"},{"$f":"G20483-SUMIF(ESCALA!$B$14:$B$15,DADOS!K20483,ESCALA!$I$14:$I$15)","v":0}]
["",null,null,null,null,null,null,"1900-12-30",{"$error":"#NUM!"},"1900-12-31","-",{"$f":"G20504-SUMIF(ESCALA!$B$14:$B$15,DADOS!K20504,ESCALA!$I$14:$I$15)","v":0}]
["",null,null,null,null,null,null,"1900-12-30",{"$error":"#NUM!"},"1900-12-31","-",{"$f":"G20509-SUMIF(ESCALA!$B$14:$B$15,DADOS!K20509,ESCALA!$I$14:$I$15)","v":0}]
["",null,null,null,null,null,null,"1900-12-30",{"$error":"#NUM!"},"1900-12-31","-",{"$f":"G20524-SUMIF(ESCALA!$B$14:$B$15,DADOS!K20524,ESCALA!$I$14:$I$15)","v":0}]
["",null,null,null,null,null,null,"1900-12-30",{"$error":"#NUM!"},"1900-12-31","-",{"$f":"G20536-SUMIF(ESCALA!$B$14:$B$15,DADOS!K20536,ESCALA!$I$14:$I$15)","v":0}]
["",null,null,null,null,null,null,"1900-12-30",{"$error":"#NUM!"},"1900-12-31","-",{"$f":"G20557-SUMIF(ESCALA!$B$14:$B$15,DADOS!K20557,ESCALA!$I$14:$I$15)","v":0}]
["",null,null,null,null,null,null,"1900-12-30",{"$error":"#NUM!"},"1900-12-31","-",{"$f":"G20572-SUMIF(ESCALA!$B$14:$B$15,DADOS!K20572,ESCALA!$I$14:$I$15)","v":0}]
["",null,null,null,null,null,null,"1900-12-30",{"$error":"#NUM!"},"1900-12-31","-",{"$f":"G20577-SUMIF(ESCALA!$B$14:$B$15,DADOS!K20577,ESCALA!$I$14:$I$15)","v":0}]
["",null,null,null,null,null,null,"1900-12-30",{"$error":"#NUM!"},"1900-12-31","-",{"$f":"G20598-SUMIF(ESCALA!$B$14:$B$15,DADOS!K20598,ESCALA!$I$14:$I$15)","v":0}]
["",null,null,null,null,null,null,"1900-12-30",{"$error":"#NUM!"},"1900-12-31","-",{"$f":"G20606-SUMIF(ESCALA!$B$14:$B$15,DADOS!K20606,ESCALA!$I$14:$I$15)","v":0}]
["",null,null,null,null,null,null,"1900-12-30",{"$error":"#NUM!"},"1900-12-31","-",{"$f":"G20625-SUMIF(ESCALA!$B$14:$B$15,DADOS!K20625,ESCALA!$I$14:$I$15)","v":0}]
["",null,null,null,null,null,null,"1900-12-30",{"$error":"#NUM!"},"1900-12-31","-",{"$f":"G20640-SUMIF(ESCALA!$B$14:$B$15,DADOS!K20640,ESCALA!$I$14:$I$15)","v":0}]
["",null,null,null,null,null,null,"1900-12-30",{"$error":"#NUM!"},"1900-12-31","-",{"$f":"G20651-SUMIF(ESCALA!$B$14:$B$15,DADOS!K20651,ESCALA!$I$14:$I$15)","v":0}]
["",null,null,null,null,null,null,"1900-12-30",{"$error":"#NUM!"},"1900-12-31","-",{"$f":"G20659-SUMIF(ESCALA!$B$14:$B$15,DADOS!K20659,ESCALA!$I$14:$I$15)","v":0}]
["",null,null,null,null,null,null,"1900-12-30",{"$error":"#NUM!"},"1900-12-31","-",{"$f":"G20674-SUMIF(ESCALA!$B$14:$B$15,DADOS!K20674,ESCALA!$I$14:$I$15)","v":0}]
["",null,null,null,null,null,null,"1900-12-30",{"$error":"#NUM!"},"1900-12-31","-",{"$f":"G20693-SUMIF(ESCALA!$B$14:$B$15,DADOS!K20693,ESCALA!$I$14:$I$15)","v":0}]
["",null,null,null,null,null,null,"1900-12-30",{"$error":"#NUM!"},"1900-12-31","-",{"$f":"G20713-SUMIF(ESCALA!$B$14:$B$15,DADOS!K20713,ESCALA!$I$14:$I$15)","v":0}]
["",null,null,null,null,null,null,"1900-12-30",{"$error":"#NUM!"},"1900-12-31","-",{"$f":"G20722-SUMIF(ESCALA!$B$14:$B$15,DADOS!K20722,ESCALA!$I$14:$I$15)","v":0}]
["",null,null,null,null,null,null,"1900-12-30",{"$error":"#NUM!"},"1900-12-31","-",{"$f":"G20741-SUMIF(ESCALA!$B$14:$B$15,DADOS!K20741,ESCALA!$I$14:$I$15)","v":0}]
["",null,null,null,null,null,null,"1900-12-30",{"$error":"#NUM!"},"1900-12-31","-",{"$f":"G20742-SUMIF(ESCALA!$B$14:$B$15,DADOS!K20742,ESCALA!$I$14:$I$15)","v":0}]
["",null,null,null,null,null,null,"1900-12-30",{"$error":"#NUM!"},"1900-12-31","-",{"$f":"G20762-SUMIF(ESCALA!$B$14:$B$15,DADOS!K20762,ESCALA!$I$14:$I$15)","v":0}]
["",null,null,null,null,null,null,"1900-12-30",{"$error":"#NUM!"},"1900-12-31","-",{"$f":"G20775-SUMIF(ESCALA!$B$14:$B$15,DADOS!K20775,ESCALA!$I$14:$I$15)","v":0}]
["",null,null,null,null,null,null,"1900-12-30",{"$error":"#NUM!"},"1900-12-31","-",{"$f":"G20790-SUMIF(ESCALA!$B$14:$B$15,DADOS!K20790,ESCALA!$I$14:$I$15)","v":0}]
["",null,null,null,null,null,null,"1900-12-30",{"$error":"#NUM!"},"1900-12-31","-",{"$f":"G20809-SUMIF(ESCALA!$B$14:$B$15,DADOS!K20809,ESCALA!$I$14:$I$15)","v":0}]
["",null,null,null,null,null,null,"1900-12-30",{"$error":"#NUM!"},"1900-12-31","-",{"$f":"G20815-SUMIF(ESCALA!$B$14:$B$15,DADOS!K20815,ESCALA!$I$14:$I$15)","v":0}]
["",null,null,null,null,null,null,"1900-12-30",{"$error":"#NUM!"},"1900-12-31","-",{"$f":"G20824-SUMIF(ESCALA!$B$14:$B$15,DADOS!K20824,ESCALA!$I$14:$I$15)","v":0}]
["",null,null,null,null,null,null,"1900-12-30",{"$error":"#NUM!"},"1900-12-31","-",{"$f":"G20843-SUMIF(ESCALA!$B$14:$B$15,DADOS!K20843,ESCALA!$I$14:$I$15)","v":0}]
["",null,null,null,null,null,null,"1900-12-30",{"$error":"#NUM!"},"1900-12-31","-",{"$f":"G20858-SUMIF(ESCALA!$B$14:$B$15,DADOS!K20858,ESCALA!$I$14:$I$15)","v":0}]
["",null,null,null,null,null,null,"1900-12-30",{"$error":"#NUM!"},"1900-12-31","-",{"$f":"G20877-SUMIF(ESCALA!$B$14:$B$15,DADOS!K20877,ESCALA!$I$14:$I$15)","v":0}]
["",null,null,null,null,null,null,"1900-12-30",{"$error":"#NUM!"},"1900-12-31","-",{"$f":"G20891-SUMIF(ESCALA!$B$14:$B$15,DADOS!K20891,ESCALA!$I$14:$I$15)","v":0}]
["",null,null,null,null,null,null,"1900-12-30",{"$error":"#NUM!"},"1900-12-31","-",{"$f":"G20906-SUMIF(ESCALA!$B$14:$B$15,DADOS!K20906,ESCALA!$I$14:$I$15)","v":0}]
["",null,null,null,null,null,null,"1900-12-30",{"$error":"#NUM!"},"1900-12-31","-",{"$f":"G20911-SUMIF(ESCALA!$B$14:$B$15,DADOS!K20911,ESCALA!$I$14:$I$15)","v":0}]
["",null,null,null,null,null,null,"1900-12-30",{"$error":"#NUM!"},"1900-12-31","-",{"$f":"G20930-SUMIF(ESCALA!$B$14:$B$15,DADOS!K20930,ESCALA!$I$14:$I$15)","v":0}]
["",null,null,null,null,null,null,"1900-12-30",{"$error":"#NUM!"},"1900-12-31","-",{"$f":"G20940-SUMIF(ESCALA!$B$14:$B$15,DADOS!K20940,ESCALA!$I$14:$I$15)","v":0}]
["",null,null,null,null,null,null,"1900-12-30",{"$error":"#NUM!"},"1900-12-31","-",{"$f":"G20959-SUMIF(ESCALA!$B$14:$B$15,DADOS!K20959,ESCALA!$I$14:$I$15)","v":0}]
["",null,null,null,null,null,null,"1900-12-30",{"$error":"#NUM!"},"1900-12-31","-",{"$f":"G20974-SUMIF(ESCALA!$B$14:$B$15,DADOS!K20974,ESCALA!$I$14:$I$15)","v":0}]
["",null,null,null,null,null,null,"1900-12-30",{"$error":"#NUM!"},"1900-12-31","-",{"$f":"G20979-SUMIF(ESCALA!$B$14:$B$15,DADOS!K20979,ESCALA!$I$14:$I$15)","v":0}]
["",null,null,null,null,null,null,"1900-12-30",{"$error":"#NUM!"},"1900-12-31","-",{"$f":"G20993-SUMIF(ESCALA!$B$14:$B$15,DADOS!K20993,ESCALA!$I$14:$I$15)","v":0}]
["",null,null,null,null,null,null,"1900-12-30",{"$error":"#NUM!"},"1900-12-31","-",{"$f":"G21008-SUMIF(ESCALA!$B$14:$B$15,DADOS!K21008,ESCALA!$I$14:$I$15)","v":0}]
["",null,null,null,null,null,null,"1900-12-30",{"$error":"#NUM!"},"1900-12-31","-",{"$f":"G21027-SUMIF(ESCALA!$B$14:$B$15,DADOS!K21027,ESCALA!$I$14:$I$15)","v":0}]
["",null,null,null,null,null,null,"1900-12-30",{"$error":"#NUM!"},"1900-12-31","-",{"$f":"G21032-SUMIF(ESCALA!$B$14:$B$15,DADOS!K21032,ESCALA!$I$14:$I$15)","v":0}]
["",null,null,null,null,null,null,"1900-12-30",{"$error":"#NUM!"},"1900-12-31","-",{"$f":"G21046-SUMIF(ESCALA!$B$14:$B$15,DADOS!K21046,ESCALA!$I$14:$I$15)","v":0}]
["",null,null,null,null,null,null,"1900-12-30",{"$error":"#NUM!"},"1900-12-31","-",{"$f":"G21061-SUMIF(ESCALA!$B$14:$B$15,DADOS!K21061,ESCALA!$I$14:$I$15)","v":0}]
["",null,null,null,null,null,null,"1900-12-30",{"$error":"#NUM!"},"1900-12-31","-",{"$f":"G21076-SUMIF(ESCALA!$B$14:$B$15,DADOS!K21076,ESCALA!$I$14:$I$15)","v":0}]
["",null,null,null,null,null,null,"1900-12-30",{"$error":"#NUM!"},"1900-12-31","-",{"$f":"G21094-SUMIF(ESCALA!$B$14:$B$15,DADOS!K21094,ESCALA!$I$14:$I$15)","v":0}]
["",null,null,null,null,null,null,"1900-12-30",{"$error":"#NUM!"},"1900-12-31","-",{"$f":"G21109-SUMIF(ESCALA!$B$14:$B$15,DADOS!K21109,ESCALA!$I$14:$I$15)","v":0}]
["",null,null,null,null,null,null,"1900-12-30",{"$f":"IF(E21124=\"ESTATUTARIO\",EOMONTH(F21124,0),EOMONTH(F21124,-1))","v":{"$error":"#NUM!"}},{"$f":"EOMONTH(F21124,11)","v":"1900-12-31"},"-",{"$f":"G21124-SUMIF(ESCALA!$B$14:$B$15,DADOS!K21124,ESCALA!$I$14:$I$15)","v":0}]
["",null,null,null,null,null,null,"1900-12-30",{"$error":"#NUM!"},"1900-12-31","-",{"$f":"G21129-SUMIF(ESCALA!$B$14:$B$15,DADOS!K21129,ESCALA!$I$14:$I$15)","v":0}]
["",null,null,null,null,null,null,"1900-12-30",{"$error":"#NUM!"},"1900-12-31","-",{"$f":"G21147-SUMIF(ESCALA!$B$14:$B$15,DADOS!K21147,ESCALA!$I$14:$I$15)","v":0}]
["",null,null,null,null,null,null,"1900-12-30",{"$error":"#NUM!"},"1900-12-31","-",{"$f":"G21162-SUMIF(ESCALA!$B$14:$B$15,DADOS!K21162,ESCALA!$I$14:$I$15)","v":0}]
["",null,null,null,null,null,null,"1900-12-30",{"$error":"#NUM!"},"1900-12-31","-",{"$f":"G21177-SUMIF(ESCALA!$B$14:$B$15,DADOS!K21177,ESCALA!$I$14:$I$15)","v":0}]
["",null,null,null,null,null,null,"1900-12-30",{"$error":"#NUM!"},"1900-12-31","-",{"$f":"G21192-SUMIF(ESCALA!$B$14:$B$15,DADOS!K21192,ESCALA!$I$14:$I$15)","v":0}]
["",null,null,null,null,null,null,"1900-12-30",{"$error":"#NUM!"},"1900-12-31","-",{"$f":"G21196-SUMIF(ESCALA!$B$14:$B$15,DADOS!K21196,ESCALA!$I$14:$I$15)","v":0}]
["",null,null,null,null,null,null,"1900-12-30",{"$error":"#NUM!"},"1900-12-31","-",{"$f":"G21211-SUMIF(ESCALA!$B$14:$B$15,DADOS!K21211,ESCALA!$I$14:$I$15)","v":0}]
["",null,null,null,null,null,null,"1900-12-30",{"$error":"#NUM!"},"1900-12-31","-",{"$f":"G21226-SUMIF(ESCALA!$B$14:$B$15,DADOS!K21226,ESCALA!$I$14:$I$15)","v":0}]
["",null,null,null,null,null,null,"1900-12-30",{"$error":"#NUM!"},"1900-12-31","-",{"$f":"G21245-SUMIF(ESCALA!$B$14:$B$15,DADOS!K21245,ESCALA!$I$14:$I$15)","v":0}]
["",null,null,null,null,null,null,"1900-12-30",{"$error":"#NUM!"},"1900-12-31","-",{"$f":"G21262-SUMIF(ESCALA!$B$14:$B$15,DADOS!K21262,ESCALA!$I$14:$I$15)","v":0}]
["",null,null,null,null,null,null,"1900-12-30",{"$error":"#NUM!"},"1900-12-31","-",{"$f":"G21264-SUMIF(ESCALA!$B$14:$B$15,DADOS!K21264,ESCALA!$I$14:$I$15)","v":0}]
["",null,null,null,null,null,null,"1900-12-30",{"$error":"#NUM!"},"1900-12-31","-",{"$f":"G21279-SUMIF(ESCALA!$B$14:$B$15,DADOS!K21279,ESCALA!$I$14:$I$15)","v":0}]
["",null,null,null,null,null,null,"1900-12-30",{"$error":"#NUM!"},"1900-12-31","-",{"$f":"G21294-SUMIF(ESCALA!$B$14:$B$15,DADOS!K21294,ESCALA!$I$14:$I$15)","v":0}]
["",null,null,null,null,null,null,"1900-12-30",{"$error":"#NUM!"},"1900-12-31","-",{"$f":"G21311-SUMIF(ESCALA!$B$14:$B$15,DADOS!K21311,ESCALA!$I$14:$I$15)","v":0}]
["",null,null,null,null,null,null,"1900-12-30",{"$error":"#NUM!"},"1900-12-31","-",{"$f":"G21327-SUMIF(ESCALA!$B$14:$B$15,DADOS!K21327,ESCALA!$I$14:$I$15)","v":0}]
["",null,null,null,null,null,null,"1900-12-30",{"$error":"#NUM!"},"1900-12-31","-",{"$f":"G21346-SUMIF(ESCALA!$B$14:$B$15,DADOS!K21346,ESCALA!$I$14:$I$15)","v":0}]
["",null,null,null,null,null,null,"1900-12-30",{"$error":"#NUM!"},"1900-12-31","-",{"$f":"G21347-SUMIF(ESCALA!$B$14:$B$15,DADOS!K21347,ESCALA!$I$14:$I$15)","v":0}]
["",null,null,null,null,null,null,"1900-12-30",{"$error":"#NUM!"},"1900-12-31","-",{"$f":"G21364-SUMIF(ESCALA!$B$14:$B$15,DADOS!K21364,ESCALA!$I$14:$I$15)","v":0}]
["",null,null,null,null,null,null,"1900-12-30",{"$f":"IF(E21380=\"ESTATUTARIO\",EOMONTH(F21380,0),EOMONTH(F21380,-1))","v":{"$error":"#NUM!"}},{"$f":"EOMONTH(F21380,11)","v":"1900-12-31"},"-",{"$f":"G21380-SUMIF(ESCALA!$B$14:$B$15,DADOS!K21380,ESCALA!$I$14:$I$15)","v":0}]
["",null,null,null,null,null,null,"1900-12-30",{"$error":"#NUM!"},"1900-12-31","-",{"$f":"G21395-SUMIF(ESCALA!$B$14:$B$15,DADOS!K21395,ESCALA!$I$14:$I$15)","v":0}]
["",null,null,null,null,null,null,"1900-12-30",{"$error":"#NUM!"},"1900-12-31","-",{"$f":"G21410-SUMIF(ESCALA!$B$14:$B$15,DADOS!K21410,ESCALA!$I$14:$I$15)","v":0}]
["",null,null,null,null,null,null,"1900-12-30",{"$error":"#NUM!"},"1900-12-31","-",{"$f":"G21426-SUMIF(ESCALA!$B$14:$B$15,DADOS!K21426,ESCALA!$I$14:$I$15)","v":0}]
["",null,null,null,null,null,null,"1900-12-30",{"$error":"#NUM!"},"1900-12-31","-",{"$f":"G21429-SUMIF(ESCALA!$B$14:$B$15,DADOS!K21429,ESCALA!$I$14:$I$15)","v":0}]
["",null,null,null,null,null,null,"1900-12-30",{"$error":"#NUM!"},"1900-12-31","-",{"$f":"G21448-SUMIF(ESCALA!$B$14:$B$15,DADOS!K21448,ESCALA!$I$14:$I$15)","v":0}]
["",null,null,null,null,null,null,"1900-12-30",{"$error":"#NUM!"},"1900-12-31","-",{"$f":"G21463-SUMIF(ESCALA!$B$14:$B$15,DADOS!K21463,ESCALA!$I$14:$I$15)","v":0}]
["",null,null,null,null,null,null,"1900-12-30",{"$error":"#NUM!"},"1900-12-31","-",{"$f":"G21479-SUMIF(ESCALA!$B$14:$B$15,DADOS!K21479,ESCALA!$I$14:$I$15)","v":0}]
["",null,null,null,null,null,null,"1900-12-30",{"$error":"#NUM!"},"1900-12-31","-",{"$f":"G21496-SUMIF(ESCALA!$B$14:$B$15,DADOS!K21496,ESCALA!$I$14:$I$15)","v":0}]
["",null,null,null,null,null,null,"1900-12-30",{"$error":"#NUM!"},"1900-12-31","-",{"$f":"G21511-SUMIF(ESCALA!$B$14:$B$15,DADOS!K21511,ESCALA!$I$14:$I$15)","v":0}]
["",null,null,null,null,null,null,"1900-12-30",{"$error":"#NUM!"},"1900-12-31","-",{"$f":"G21516-SUMIF(ESCALA!$B$14:$B$15,DADOS!K21516,ESCALA!$I$14:$I$15)","v":0}]
["",null,null,null,null,null,null,"1900-12-30",{"$error":"#NUM!"},"1900-12-31","-",{"$f":"G21528-SUMIF(ESCALA!$B$14:$B$15,DADOS!K21528,ESCALA!$I$14:$I$15)","v":0}]
["",null,null,null,null,null,null,"1900-12-30",{"$error":"#NUM!"},"1900-12-31","-",{"$f":"G21545-SUMIF(ESCALA!$B$14:$B$15,DADOS!K21545,ESCALA!$I$14:$I$15)","v":0}]
["",null,null,null,null,null,null,"1900-12-30",{"$error":"#NUM!"},"1900-12-31","-",{"$f":"G21564-SUMIF(ESCALA!$B$14:$B$15,DADOS!K21564,ESCALA!$I$14:$I$15)","v":0}]
["",null,null,null,null,null,null,"1900-12-30",{"$error":"#NUM!"},"1900-12-31","-",{"$f":"G21579-SUMIF(ESCALA!$B$14:$B$15,DADOS!K21579,ESCALA!$I$14:$I$15)","v":0}]
["",null,null,null,null,null,null,"1900-12-30",{"$error":"#NUM!"},"1900-12-31","-",{"$f":"G21581-SUMIF(ESCALA!$B$14:$B$15,DADOS!K21581,ESCALA!$I$14:$I$15)","v":0}]
["",null,null,null,null,null,null,"1900-12-30",{"$error":"#NUM!"},"1900-12-31","-",{"$f":"G21598-SUMIF(ESCALA!$B$14:$B$15,DADOS!K21598,ESCALA!$I$14:$I$15)","v":0}]
["",null,null,null,null,null,null,"1900-12-30",{"$error":"#NUM!"},"1900-12-31","-",{"$f":"G21613-SUMIF(ESCALA!$B$14:$B$15,DADOS!K21613,ESCALA!$I$14:$I$15)","v":0}]
["",null,null,null,null,null,null,"1900-12-30",{"$error":"#NUM!"},"1900-12-31","-",{"$f":"G21632-SUMIF(ESCALA!$B$14:$B$15,DADOS!K21632,ESCALA!$I$14:$I$15)","v":0}]
["",null,null,null,null,null,null,"1900-12-30",{"$error":"#NUM!"},"1900-12-31","-",{"$f":"G21643-SUMIF(ESCALA!$B$14:$B$15,DADOS!K21643,ESCALA!$I$14:$I$15)","v":0}]
["",null,null,null,null,null,null,"1900-12-30",{"$error":"#NUM!"},"1900-12-31","-",{"$f":"G21661-SUMIF(ESCALA!$B$14:$B$15,DADOS!K21661,ESCALA!$I$14:$I$15)","v":0}]
["",null,null,null,null,null,null,"1900-12-30",{"$error":"#NUM!"},"1900-12-31","-",{"$f":"G21666-SUMIF(ESCALA!$B$14:$B$15,DADOS!K21666,ESCALA!$I$14:$I$15)","v":0}]
["",null,null,null,null,null,null,"1900-12-30",{"$error":"#NUM!"},"1900-12-31","-",{"$f":"G21681-SUMIF(ESCALA!$B$14:$B$15,DADOS!K21681,ESCALA!$I$14:$I$15)","v":0}]
["",null,null,null,null,null,null,"1900-12-30",{"$error":"#NUM!"},"1900-12-31","-",{"$f":"G21696-SUMIF(ESCALA!$B$14:$B$15,DADOS!K21696,ESCALA!$I$14:$I$15)","v":0}]
["",null,null,null,null,null,null,"1900-12-30",{"$error":"#NUM!"},"1900-12-31","-",{"$f":"G21714-SUMIF(ESCALA!$B$14:$B$15,DADOS!K21714,ESCALA!$I$14:$I$15)","v":0}]
["",null,null,null,null,null,null,"1900-12-30",{"$error":"#NUM!"},"1900-12-31","-",{"$f":"G21729-SUMIF(ESCALA!$B$14:$B$15,DADOS!K21729,ESCALA!$I$14:$I$15)","v":0}]
["",null,null,null,null,null,null,"1900-12-30",{"$error":"#NUM!"},"1900-12-31","-",{"$f":"G21734-SUMIF(ESCALA!$B$14:$B$15,DADOS!K21734,ESCALA!$I$14:$I$15)","v":0}]
["",null,null,null,null,null,null,"1900-12-30",{"$error":"#NUM!"},"1900-12-31","-",{"$f":"G21758-SUMIF(ESCALA!$B$14:$B$15,DADOS!K21758,ESCALA!$I$14:$I$15)","v":0}]
[{"$f":"IF(L21763=0,\"\",B21763)","v":""},null,null,null,null,null,null,{"$f":"IF(F21763<=44985,F21763+365,F21763+366)","v":"1900-12-30"},{"$error":"#NUM!"},"1900-12-31",{"$f":"CONCATENATE(B21763,\"-\",F21763)","v":"-"},{"$f":"G21763-SUMIF(ESCALA!$B$14:$B$15,DADOS!K21763,ESCALA!$I$14:$I$15)","v":0}]
["",null,null,null,null,null,null,"1900-12-30",{"$error":"#NUM!"},"1900-12-31","-",{"$f":"G21782-SUMIF(ESCALA!$B$14:$B$15,DADOS!K21782,ESCALA!$I$14:$I$15)","v":0}]
["",null,null,null,null,null,null,"1900-12-30",{"$error":"#NUM!"},"1900-12-31","-",{"$f":"G21797-SUMIF(ESCALA!$B$14:$B$15,DADOS!K21797,ESCALA!$I$14:$I$15)","v":0}]
["",null,null,null,null,null,null,"1900-12-30",{"$error":"#NUM!"},"1900-12-31","-",{"$f":"G21807-SUMIF(ESCALA!$B$14:$B$15,DADOS!K21807,ESCALA!$I$14:$I$15)","v":0}]
["",null,null,null,null,null,null,"1900-12-30",{"$error":"#NUM!"},"1900-12-31","-",{"$f":"G21816-SUMIF(ESCALA!$B$14:$B$15,DADOS!K21816,ESCALA!$I$14:$I$15)","v":0}]
["",null,null,null,null,null,null,"1900-12-30",{"$error":"#NUM!"},"1900-12-31","-",{"$f":"G21831-SUMIF(ESCALA!$B$14:$B$15,DADOS!K21831,ESCALA!$I$14:$I$15)","v":0}]
["",null,null,null,null,null,null,"1900-12-30",{"$error":"#NUM!"},"1900-12-31","-",{"$f":"G21850-SUMIF(ESCALA!$B$14:$B$15,DADOS!K21850,ESCALA!$I$14:$I$15)","v":0}]
["",null,null,null,null,null,null,"1900-12-30",{"$error":"#NUM!"},"1900-12-31","-",{"$f":"G21860-SUMIF(ESCALA!$B$14:$B$15,DADOS!K21860,ESCALA!$I$14:$I$15)","v":0}]
["",null,null,null,null,null,null,"1900-12-30",{"$error":"#NUM!"},"1900-12-31","-",{"$f":"G21879-SUMIF(ESCALA!$B$14:$B$15,DADOS!K21879,ESCALA!$I$14:$I$15)","v":0}]
["",null,null,null,null,null,null,"1900-12-30",{"$error":"#NUM!"},"1900-12-31","-",{"$f":"G21884-SUMIF(ESCALA!$B$14:$B$15,DADOS!K21884,ESCALA!$I$14:$I$15)","v":0}]
["",null,null,null,null,null,null,"1900-12-30",{"$error":"#NUM!"},"1900-12-31","-",{"$f":"G21899-SUMIF(ESCALA!$B$14:$B$15,DADOS!K21899,ESCALA!$I$14:$I$15)","v":0}]
["",null,null,null,null,null,null,"1900-12-30",{"$error":"#NUM!"},"1900-12-31","-",{"$f":"G21922-SUMIF(ESCALA!$B$14:$B$15,DADOS!K21922,ESCALA!$I$14:$I$15)","v":0}]
["",null,null,null,null,null,null,"1900-12-30",{"$error":"#NUM!"},"1900-12-31","-",{"$f":"G21932-SUMIF(ESCALA!$B$14:$B$15,DADOS!K21932,ESCALA!$I$14:$I$15)","v":0}]
["",null,null,null,null,null,null,"1900-12-30",{"$error":"#NUM!"},"1900-12-31","-",{"$f":"G21947-SUMIF(ESCALA!$B$14:$B$15,DADOS!K21947,ESCALA!$I$14:$I$15)","v":0}]
["",null,null,null,null,null,null,"1900-12-30",{"$error":"#NUM!"},"1900-12-31","-",{"$f":"G21952-SUMIF(ESCALA!$B$14:$B$15,DADOS!K21952,ESCALA!$I$14:$I$15)","v":0}]
["",null,null,null,null,null,null,"1900-12-30",{"$error":"#NUM!"},"1900-12-31","-",{"$f":"G21975-SUMIF(ESCALA!$B$14:$B$15,DADOS!K21975,ESCALA!$I$14:$I$15)","v":0}]
["",null,null,null,null,null,null,"1900-12-30",{"$error":"#NUM!"},"1900-12-31","-",{"$f":"G21981-SUMIF(ESCALA!$B$14:$B$15,DADOS!K21981,ESCALA!$I$14:$I$15)","v":0}]
["",null,null,null,null,null,null,"1900-12-30",{"$error":"#NUM!"},"1900-12-31","-",{"$f":"G22000-SUMIF(ESCALA!$B$14:$B$15,DADOS!K22000,ESCALA!$I$14:$I$15)","v":0}]
["",null,null,null,null,null,null,"1900-12-30",{"$error":"#NUM!"},"1900-12-31","-",{"$f":"G22015-SUMIF(ESCALA!$B$14:$B$15,DADOS!K22015,ESCALA!$I$14:$I$15)","v":0}]
["",null,null,null,null,null,null,"1900-12-30",{"$error":"#NUM!"},"1900-12-31","-",{"$f":"G22024-SUMIF(ESCALA!$B$14:$B$15,DADOS!K22024,ESCALA!$I$14:$I$15)","v":0}]
["",null,null,null,null,null,null,"1900-12-30",{"$error":"#NUM!"},"1900-12-31","-",{"$f":"G22034-SUMIF(ESCALA!$B$14:$B$15,DADOS!K22034,ESCALA!$I$14:$I$15)","v":0}]
["",null,null,null,null,null,null,"1900-12-30",{"$error":"#NUM!"},"1900-12-31","-",{"$f":"G22049-SUMIF(ESCALA!$B$14:$B$15,DADOS!K22049,ESCALA!$I$14:$I$15)","v":0}]
["",null,null,null,null,null,null,"1900-12-30",{"$error":"#NUM!"},"1900-12-31","-",{"$f":"G22068-SUMIF(ESCALA!$B$14:$B$15,DADOS!K22068,ESCALA!$I$14:$I$15)","v":0}]
["",null,null,null,null,null,null,"1900-12-30",{"$error":"#NUM!"},"1900-12-31","-",{"$f":"G22077-SUMIF(ESCALA!$B$14:$B$15,DADOS!K22077,ESCALA!$I$14:$I$15)","v":0}]
["",null,null,null,null,null,null,"1900-12-30",{"$error":"#NUM!"},"1900-12-31","-",{"$f":"G22101-SUMIF(ESCALA!$B$14:$B$15,DADOS!K22101,ESCALA!$I$14:$I$15)","v":0}]
["",null,null,null,null,null,null,"1900-12-30",{"$error":"#NUM!"},"1900-12-31","-",{"$f":"G22116-SUMIF(ESCALA!$B$14:$B$15,DADOS!K22116,ESCALA!$I$14:$I$15)","v":0}]
["",null,null,null,null,null,null,"1900-12-30",{"$error":"#NUM!"},"1900-12-31","-",{"$f":"G22117-SUMIF(ESCALA!$B$14:$B$15,DADOS!K22117,ESCALA!$I$14:$I$15)","v":0}]
["",null,null,null,null,null,null,"1900-12-30",{"$error":"#NUM!"},"1900-12-31","-",{"$f":"G22139-SUMIF(ESCALA!$B$14:$B$15,DADOS!K22139,ESCALA!$I$14:$I$15)","v":0}]
["",null,null,null,null,null,null,"1900-12-30",{"$error":"#NUM!"},"1900-12-31","-",{"$f":"G22150-SUMIF(ESCALA!$B$14:$B$15,DADOS!K22150,ESCALA!$I$14:$I$15)","v":0}]
["",null,null,null,null,null,null,"1900-12-30",{"$error":"#NUM!"},"1900-12-31","-",{"$f":"G22165-SUMIF(ESCALA!$B$14:$B$15,DADOS!K22165,ESCALA!$I$14:$I$15)","v":0}]
["",null,null,null,null,null,null,"1900-12-30",{"$error":"#NUM!"},"1900-12-31","-",{"$f":"G22184-SUMIF(ESCALA!$B$14:$B$15,DADOS!K22184,ESCALA!$I$14:$I$15)","v":0}]
["",null,null,null,null,null,null,"1900-12-30",{"$error":"#NUM!"},"1900-12-31","-",{"$f":"G22192-SUMIF(ESCALA!$B$14:$B$15,DADOS!K22192,ESCALA!$I$14:$I$15)","v":0}]
["",null,null,null,null,null,null,"1900-12-30",{"$error":"#NUM!"},"1900-12-31","-",{"$f":"G22203-SUMIF(ESCALA!$B$14:$B$15,DADOS!K22203,ESCALA!$I$14:$I$15)","v":0}]
["",null,null,null,null,null,null,"1900-12-30",{"$error":"#NUM!"},"1900-12-31","-",{"$f":"G22218-SUMIF(ESCALA!$B$14:$B$15,DADOS!K22218,ESCALA!$I$14:$I$15)","v":0}]
["",null,null,null,null,null,null,"1900-12-30",{"$error":"#NUM!"},"1900-12-31","-",{"$f":"G22233-SUMIF(ESCALA!$B$14:$B$15,DADOS!K22233,ESCALA!$I$14:$I$15)","v":0}]
["",null,null,null,null,null,null,"1900-12-30",{"$error":"#NUM!"},"1900-12-31","-",{"$f":"G22241-SUMIF(ESCALA!$B$14:$B$15,DADOS!K22241,ESCALA!$I$14:$I$15)","v":0}]
["",null,null,null,null,null,null,"1900-12-30",{"$error":"#NUM!"},"1900-12-31","-",{"$f":"G22266-SUMIF(ESCALA!$B$14:$B$15,DADOS!K22266,ESCALA!$I$14:$I$15)","v":0}]
["",null,null,null,null,null,null,"1900-12-30",{"$error":"#NUM!"},"1900-12-31","-",{"$f":"G22271-SUMIF(ESCALA!$B$14:$B$15,DADOS!K22271,ESCALA!$I$14:$I$15)","v":0}]
["",null,null,null,null,null,null,"1900-12-30",{"$error":"#NUM!"},"1900-12-31","-",{"$f":"G22286-SUMIF(ESCALA!$B$14:$B$15,DADOS!K22286,ESCALA!$I$14:$I$15)","v":0}]
["",null,null,null,null,null,null,"1900-12-30",{"$error":"#NUM!"},"1900-12-31","-",{"$f":"G22307-SUMIF(ESCALA!$B$14:$B$15,DADOS!K22307,ESCALA!$I$14:$I$15)","v":0}]
["",null,null,null,null,null,null,"1900-12-30",{"$error":"#NUM!"},"1900-12-31","-",{"$f":"G22319-SUMIF(ESCALA!$B$14:$B$15,DADOS!K22319,ESCALA!$I$14:$I$15)","v":0}]
["",null,null,null,null,null,null,"1900-12-30",{"$error":"#NUM!"},"1900-12-31","-",{"$f":"G22334-SUMIF(ESCALA!$B$14:$B$15,DADOS!K22334,ESCALA!$I$14:$I$15)","v":0}]
["",null,null,null,null,null,null,"1900-12-30",{"$error":"#NUM!"},"1900-12-31","-",{"$f":"G22349-SUMIF(ESCALA!$B$14:$B$15,DADOS!K22349,ESCALA!$I$14:$I$15)","v":0}]
["",null,null,null,null,null,null,"1900-12-30",{"$error":"#NUM!"},"1900-12-31","-",{"$f":"G22356-SUMIF(ESCALA!$B$14:$B$15,DADOS!K22356,ESCALA!$I$14:$I$15)","v":0}]
["",null,null,null,null,null,null,"1900-12-30",{"$error":"#NUM!"},"1900-12-31","-",{"$f":"G22368-SUMIF(ESCALA!$B$14:$B$15,DADOS!K22368,ESCALA!$I$14:$I$15)","v":0}]
["",null,null,null,null,null,null,"1900-12-30",{"$error":"#NUM!"},"1900-12-31","-",{"$f":"G22387-SUMIF(ESCALA!$B$14:$B$15,DADOS!K22387,ESCALA!$I$14:$I$15)","v":0}]
["",null,null,null,null,null,null,"1900-12-30",{"$error":"#NUM!"},"1900-12-31","-",{"$f":"G22402-SUMIF(ESCALA!$B$14:$B$15,DADOS!K22402,ESCALA!$I$14:$I$15)","v":0}]
["",null,null,null,null,null,null,"1900-12-30",{"$error":"#NUM!"},"1900-12-31","-",{"$f":"G22409-SUMIF(ESCALA!$B$14:$B$15,DADOS!K22409,ESCALA!$I$14:$I$15)","v":0}]
["",null,null,null,null,null,null,"1900-12-30",{"$error":"#NUM!"},"1900-12-31","-",{"$f":"G22421-SUMIF(ESCALA!$B$14:$B$15,DADOS!K22421,ESCALA!$I$14:$I$15)","v":0}]
["",null,null,null,null,null,null,"1900-12-30",{"$error":"#NUM!"},"1900-12-31","-",{"$f":"G22436-SUMIF(ESCALA!$B$14:$B$15,DADOS!K22436,ESCALA!$I$14:$I$15)","v":0}]
["",null,null,null,null,null,null,"1900-12-30",{"$error":"#NUM!"},"1900-12-31","-",{"$f":"G22451-SUMIF(ESCALA!$B$14:$B$15,DADOS!K22451,ESCALA!$I$14:$I$15)","v":0}]
["",null,null,null,null,null,null,"1900-12-30",{"$error":"#NUM!"},"1900-12-31","-",{"$f":"G22471-SUMIF(ESCALA!$B$14:$B$15,DADOS!K22471,ESCALA!$I$14:$I$15)","v":0}]
["",null,null,null,null,null,null,"1900-12-30",{"$error":"#NUM!"},"1900-12-31","-",{"$f":"G22484-SUMIF(ESCALA!$B$14:$B$15,DADOS!K22484,ESCALA!$I$14:$I$15)","v":0}]
["",null,null,null,null,null,null,"1900-12-30",{"$error":"#NUM!"},"1900-12-31","-",{"$f":"G22489-SUMIF(ESCALA!$B$14:$B$15,DADOS!K22489,ESCALA!$I$14:$I$15)","v":0}]
["",null,null,null,null,null,null,"1900-12-30",{"$error":"#NUM!"},"1900-12-31","-",{"$f":"G22504-SUMIF(ESCALA!$B$14:$B$15,DADOS!K22504,ESCALA!$I$14:$I$15)","v":0}]
["",null,null,null,null,null,null,"1900-12-30",{"$error":"#NUM!"},"1900-12-31","-",{"$f":"G22524-SUMIF(ESCALA!$B$14:$B$15,DADOS!K22524,ESCALA!$I$14:$I$15)","v":0}]
["",null,null,null,null,null,null,"1900-12-30",{"$error":"#NUM!"},"1900-12-31","-",{"$f":"G22537-SUMIF(ESCALA!$B$14:$B$15,DADOS!K22537,ESCALA!$I$14:$I$15)","v":0}]
["",null,null,null,null,null,null,"1900-12-30",{"$error":"#NUM!"},"1900-12-31","-",{"$f":"G22552-SUMIF(ESCALA!$B$14:$B$15,DADOS!K22552,ESCALA!$I$14:$I$15)","v":0}]
["",null,null,null,null,null,null,"1900-12-30",{"$error":"#NUM!"},"1900-12-31","-",{"$f":"G22557-SUMIF(ESCALA!$B$14:$B$15,DADOS!K22557,ESCALA!$I$14:$I$15)","v":0}]
["",null,null,null,null,null,null,"1900-12-30",{"$error":"#NUM!"},"1900-12-31","-",{"$f":"G22573-SUMIF(ESCALA!$B$14:$B$15,DADOS!K22573,ESCALA!$I$14:$I$15)","v":0}]
["",null,null,null,null,null,null,"1900-12-30",{"$error":"#NUM!"},"1900-12-31","-",{"$f":"G22586-SUMIF(ESCALA!$B$14:$B$15,DADOS!K22586,ESCALA!$I$14:$I$15)","v":0}]
["",null,null,null,null,null,null,"1900-12-30",{"$error":"#NUM!"},"1900-12-31","-",{"$f":"G22605-SUMIF(ESCALA!$B$14:$B$15,DADOS!K22605,ESCALA!$I$14:$I$15)","v":0}]
["",null,null,null,null,null,null,"1900-12-30",{"$error":"#NUM!"},"1900-12-31","-",{"$f":"G22620-SUMIF(ESCALA!$B$14:$B$15,DADOS!K22620,ESCALA!$I$14:$I$15)","v":0}]
["",null,null,null,null,null,null,"1900-12-30",{"$error":"#NUM!"},"1900-12-31","-",{"$f":"G22626-SUMIF(ESCALA!$B$14:$B$15,DADOS!K22626,ESCALA!$I$14:$I$15)","v":0}]
["",null,null,null,null,null,null,"1900-12-30",{"$error":"#NUM!"},"1900-12-31","-",{"$f":"G22639-SUMIF(ESCALA!$B$14:$B$15,DADOS!K22639,ESCALA!$I$14:$I$15)","v":0}]
["",null,null,null,null,null,null,"1900-12-30",{"$error":"#NUM!"},"1900-12-31","-",{"$f":"G22654-SUMIF(ESCALA!$B$14:$B$15,DADOS!K22654,ESCALA!$I$14:$I$15)","v":0}]
["",null,null,null,null,null,null,"1900-12-30",{"$error":"#NUM!"},"1900-12-31","-",{"$f":"G22673-SUMIF(ESCALA!$B$14:$B$15,DADOS!K22673,ESCALA!$I$14:$I$15)","v":0}]
["",null,null,null,null,null,null,"1900-12-30",{"$error":"#NUM!"},"1900-12-31","-",{"$f":"G22688-SUMIF(ESCALA!$B$14:$B$15,DADOS!K22688,ESCALA!$I$14:$I$15)","v":0}]
["",null,null,null,null,null,null,"1900-12-30",{"$error":"#NUM!"},"1900-12-31","-",{"$f":"G22702-SUMIF(ESCALA!$B$14:$B$15,DADOS!K22702,ESCALA!$I$14:$I$15)","v":0}]
["",null,null,null,null,null,null,"1900-12-30",{"$error":"#NUM!"},"1900-12-31","-",{"$f":"G22721-SUMIF(ESCALA!$B$14:$B$15,DADOS!K22721,ESCALA!$I$14:$I$15)","v":0}]
["",null,null,null,null,null,null,"1900-12-30",{"$error":"#NUM!"},"1900-12-31","-",{"$f":"G22722-SUMIF(ESCALA!$B$14:$B$15,DADOS!K22722,ESCALA!$I$14:$I$15)","v":0}]
["",null,null,null,null,null,null,"1900-12-30",{"$error":"#NUM!"},"1900-12-31","-",{"$f":"G22737-SUMIF(ESCALA!$B$14:$B$15,DADOS!K22737,ESCALA!$I$14:$I$15)","v":0}]
["",null,null,null,null,null,null,"1900-12-30",{"$error":"#NUM!"},"1900-12-31","-",{"$f":"G22755-SUMIF(ESCALA!$B$14:$B$15,DADOS!K22755,ESCALA!$I$14:$I$15)","v":0}]
["",null,null,null,null,null,null,"1900-12-30",{"$error":"#NUM!"},"1900-12-31","-",{"$f":"G22770-SUMIF(ESCALA!$B$14:$B$15,DADOS!K22770,ESCALA!$I$14:$I$15)","v":0}]
["",null,null,null,null,null,null,"1900-12-30",{"$error":"#NUM!"},"1900-12-31","-",{"$f":"G22789-SUMIF(ESCALA!$B$14:$B$15,DADOS!K22789,ESCALA!$I$14:$I$15)","v":0}]
["",null,null,null,null,null,null,"1900-12-30",{"$error":"#NUM!"},"1900-12-31","-",{"$f":"G22803-SUMIF(ESCALA!$B$14:$B$15,DADOS!K22803,ESCALA!$I$14:$I$15)","v":0}]
["",null,null,null,null,null,null,"1900-12-30",{"$error":"#NUM!"},"1900-12-31","-",{"$f":"G22804-SUMIF(ESCALA!$B$14:$B$15,DADOS!K22804,ESCALA!$I$14:$I$15)","v":0}]
["",null,null,null,null,null,null,"1900-12-30",{"$error":"#NUM!"},"1900-12-31","-",{"$f":"G22823-SUMIF(ESCALA!$B$14:$B$15,DADOS!K22823,ESCALA!$I$14:$I$15)","v":0}]
["",null,null,null,null,null,null,"1900-12-30",{"$error":"#NUM!"},"1900-12-31","-",{"$f":"G22838-SUMIF(ESCALA!$B$14:$B$15,DADOS!K22838,ESCALA!$I$14:$I$15)","v":0}]
["",null,null,null,null,null,null,"1900-12-30",{"$f":"IF(E22852=\"ESTATUTARIO\",EOMONTH(F22852,0),EOMONTH(F22852,-1))","v":{"$error":"#NUM!"}},{"$f":"EOMONTH(F22852,11)","v":"1900-12-31"},"-",{"$f":"G22852-SUMIF(ESCALA!$B$14:$B$15,DADOS!K22852,ESCALA!$I$14:$I$15)","v":0}]
["",null,null,null,null,null,null,"1900-12-30",{"$error":"#NUM!"},"1900-12-31","-",{"$f":"G22871-SUMIF(ESCALA!$B$14:$B$15,DADOS!K22871,ESCALA!$I$14:$I$15)","v":0}]
["",null,null,null,null,null,null,"1900-12-30",{"$error":"#NUM!"},"1900-12-31","-",{"$f":"G22886-SUMIF(ESCALA!$B$14:$B$15,DADOS!K22886,ESCALA!$I$14:$I$15)","v":0}]
["",null,null,null,null,null,null,"1900-12-30",{"$error":"#NUM!"},"1900-12-31","-",{"$f":"G22891-SUMIF(ESCALA!$B$14:$B$15,DADOS!K22891,ESCALA!$I$14:$I$15)","v":0}]
["",null,null,null,null,null,null,"1900-12-30",{"$error":"#NUM!"},"1900-12-31","-",{"$f":"G22905-SUMIF(ESCALA!$B$14:$B$15,DADOS!K22905,ESCALA!$I$14:$I$15)","v":0}]
["",null,null,null,null,null,null,"1900-12-30",{"$error":"#NUM!"},"1900-12-31","-",{"$f":"G22920-SUMIF(ESCALA!$B$14:$B$15,DADOS!K22920,ESCALA!$I$14:$I$15)","v":0}]
["",null,null,null,null,null,null,"1900-12-30",{"$error":"#NUM!"},"1900-12-31","-",{"$f":"G22939-SUMIF(ESCALA!$B$14:$B$15,DADOS!K22939,ESCALA!$I$14:$I$15)","v":0}]
["",null,null,null,null,null,null,"1900-12-30",{"$error":"#NUM!"},"1900-12-31","-",{"$f":"G22954-SUMIF(ESCALA!$B$14:$B$15,DADOS!K22954,ESCALA!$I$14:$I$15)","v":0}]
["",null,null,null,null,null,null,"1900-12-30",{"$error":"#NUM!"},"1900-12-31","-",{"$f":"G22967-SUMIF(ESCALA!$B$14:$B$15,DADOS!K22967,ESCALA!$I$14:$I$15)","v":0}]
["",null,null,null,null,null,null,"1900-12-30",{"$error":"#NUM!"},"1900-12-31","-",{"$f":"G22973-SUMIF(ESCALA!$B$14:$B$15,DADOS!K22973,ESCALA!$I$14:$I$15)","v":0}]
["",null,null,null,null,null,null,"1900-12-30",{"$error":"#NUM!"},"1900-12-31","-",{"$f":"G22988-SUMIF(ESCALA!$B$14:$B$15,DADOS!K22988,ESCALA!$I$14:$I$15)","v":0}]
["",null,null,null,null,null,null,"1900-12-30",{"$error":"#NUM!"},"1900-12-31","-",{"$f":"G23007-SUMIF(ESCALA!$B$14:$B$15,DADOS!K23007,ESCALA!$I$14:$I$15)","v":0}]
["",null,null,null,null,null,null,"1900-12-30",{"$error":"#NUM!"},"1900-12-31","-",{"$f":"G23020-SUMIF(ESCALA!$B$14:$B$15,DADOS!K23020,ESCALA!$I$14:$I$15)","v":0}]
["",null,null,null,null,null,null,"1900-12-30",{"$error":"#NUM!"},"1900-12-31","-",{"$f":"G23026-SUMIF(ESCALA!$B$14:$B$15,DADOS!K23026,ESCALA!$I$14:$I$15)","v":0}]
["",null,null,null,null,null,null,"1900-12-30",{"$error":"#NUM!"},"1900-12-31","-",{"$f":"G23041-SUMIF(ESCALA!$B$14:$B$15,DADOS!K23041,ESCALA!$I$14:$I$15)","v":0}]
["",null,null,null,null,null,null,"1900-12-30",{"$error":"#NUM!"},"1900-12-31","-",{"$f":"G23056-SUMIF(ESCALA!$B$14:$B$15,DADOS!K23056,ESCALA!$I$14:$I$15)","v":0}]
["",null,null,null,null,null,null,"1900-12-30",{"$error":"#NUM!"},"1900-12-31","-",{"$f":"G23069-SUMIF(ESCALA!$B$14:$B$15,DADOS!K23069,ESCALA!$I$14:$I$15)","v":0}]
["",null,null,null,null,null,null,"1900-12-30",{"$error":"#NUM!"},"1900-12-31","-",{"$f":"G23089-SUMIF(ESCALA!$B$14:$B$15,DADOS!K23089,ESCALA!$I$14:$I$15)","v":0}]
["",null,null,null,null,null,null,"1900-12-30",{"$error":"#NUM!"},"1900-12-31","-",{"$f":"G23104-SUMIF(ESCALA!$B$14:$B$15,DADOS!K23104,ESCALA!$I$14:$I$15)","v":0}]
["",null,null,null,null,null,null,"1900-12-30",{"$error":"#NUM!"},"1900-12-31","-",{"$f":"G23109-SUMIF(ESCALA!$B$14:$B$15,DADOS!K23109,ESCALA!$I$14:$I$15)","v":0}]
["",null,null,null,null,null,null,"1900-12-30",{"$error":"#NUM!"},"1900-12-31","-",{"$f":"G23122-SUMIF(ESCALA!$B$14:$B$15,DADOS!K23122,ESCALA!$I$14:$I$15)","v":0}]
["",null,null,null,null,null,null,"1900-12-30",{"$error":"#NUM!"},"1900-12-31","-",{"$f":"G23142-SUMIF(ESCALA!$B$14:$B$15,DADOS!K23142,ESCALA!$I$14:$I$15)","v":0}]
["",null,null,null,null,null,null,"1900-12-30",{"$error":"#NUM!"},"1900-12-31","-",{"$f":"G23157-SUMIF(ESCALA!$B$14:$B$15,DADOS!K23157,ESCALA!$I$14:$I$15)","v":0}]
["",null,null,null,null,null,null,"1900-12-30",{"$f":"IF(E23172=\"ESTATUTARIO\",EOMONTH(F23172,0),EOMONTH(F23172,-1))","v":{"$error":"#NUM!"}},{"$f":"EOMONTH(F23172,11)","v":"1900-12-31"},"-",{"$f":"G23172-SUMIF(ESCALA!$B$14:$B$15,DADOS!K23172,ESCALA!$I$14:$I$15)","v":0}]
["",null,null,null,null,null,null,"1900-12-30",{"$error":"#NUM!"},"1900-12-31","-",{"$f":"G23184-SUMIF(ESCALA!$B$14:$B$15,DADOS!K23184,ESCALA!$I$14:$I$15)","v":0}]
["",null,null,null,null,null,null,"1900-12-30",{"$error":"#NUM!"},"1900-12-31","-",{"$f":"G23191-SUMIF(ESCALA!$B$14:$B$15,DADOS!K23191,ESCALA!$I$14:$I$15)","v":0}]
["",null,null,null,null,null,null,"1900-12-30",{"$error":"#NUM!"},"1900-12-31","-",{"$f":"G23206-SUMIF(ESCALA!$B$14:$B$15,DADOS!K23206,ESCALA!$I$14:$I$15)","v":0}]
["",null,null,null,null,null,null,"1900-12-30",{"$error":"#NUM!"},"1900-12-31","-",{"$f":"G23225-SUMIF(ESCALA!$B$14:$B$15,DADOS!K23225,ESCALA!$I$14:$I$15)","v":0}]
["",null,null,null,null,null,null,"1900-12-30",{"$error":"#NUM!"},"1900-12-31","-",{"$f":"G23237-SUMIF(ESCALA!$B$14:$B$15,DADOS!K23237,ESCALA!$I$14:$I$15)","v":0}]
["",null,null,null,null,null,null,"1900-12-30",{"$error":"#NUM!"},"1900-12-31","-",{"$f":"G23244-SUMIF(ESCALA!$B$14:$B$15,DADOS!K23244,ESCALA!$I$14:$I$15)","v":0}]
["",null,null,null,null,null,null,"1900-12-30",{"$error":"#NUM!"},"1900-12-31","-",{"$f":"G23259-SUMIF(ESCALA!$B$14:$B$15,DADOS!K23259,ESCALA!$I$14:$I$15)","v":0}]
["",null,null,null,null,null,null,"1900-12-30",{"$error":"#NUM!"},"1900-12-31","-",{"$f":"G23274-SUMIF(ESCALA!$B$14:$B$15,DADOS!K23274,ESCALA!$I$14:$I$15)","v":0}]
["",null,null,null,null,null,null,"1900-12-30",{"$error":"#NUM!"},"1900-12-31","-",{"$f":"G23286-SUMIF(ESCALA!$B$14:$B$15,DADOS!K23286,ESCALA!$I$14:$I$15)","v":0}]
["",null,null,null,null,null,null,"1900-12-30",{"$error":"#NUM!"},"1900-12-31","-",{"$f":"G23307-SUMIF(ESCALA!$B$14:$B$15,DADOS!K23307,ESCALA!$I$14:$I$15)","v":0}]
["",null,null,null,null,null,null,"1900-12-30",{"$error":"#NUM!"},"1900-12-31","-",{"$f":"G23326-SUMIF(ESCALA!$B$14:$B$15,DADOS!K23326,ESCALA!$I$14:$I$15)","v":0}]
["",null,null,null,null,null,null,"1900-12-30",{"$error":"#NUM!"},"1900-12-31","-",{"$f":"G23327-SUMIF(ESCALA!$B$14:$B$15,DADOS!K23327,ESCALA!$I$14:$I$15)","v":0}]
["",null,null,null,null,null,null,"1900-12-30",{"$error":"#NUM!"},"1900-12-31","-",{"$f":"G23352-SUMIF(ESCALA!$B$14:$B$15,DADOS!K23352,ESCALA!$I$14:$I$15)","v":0}]
["",null,null,null,null,null,null,"1900-12-30",{"$error":"#NUM!"},"1900-12-31","-",{"$f":"G23360-SUMIF(ESCALA!$B$14:$B$15,DADOS!K23360,ESCALA!$I$14:$I$15)","v":0}]
["",null,null,null,null,null,null,"1900-12-30",{"$error":"#NUM!"},"1900-12-31","-",{"$f":"G23375-SUMIF(ESCALA!$B$14:$B$15,DADOS!K23375,ESCALA!$I$14:$I$15)","v":0}]
["",null,null,null,null,null,null,"1900-12-30",{"$error":"#NUM!"},"1900-12-31","-",{"$f":"G23390-SUMIF(ESCALA!$B$14:$B$15,DADOS!K23390,ESCALA!$I$14:$I$15)","v":0}]
["",null,null,null,null,null,null,"1900-12-30",{"$error":"#NUM!"},"1900-12-31","-",{"$f":"G23401-SUMIF(ESCALA!$B$14:$B$15,DADOS!K23401,ESCALA!$I$14:$I$15)","v":0}]
["",null,null,null,null,null,null,"1900-12-30",{"$error":"#NUM!"},"1900-12-31","-",{"$f":"G23409-SUMIF(ESCALA!$B$14:$B$15,DADOS!K23409,ESCALA!$I$14:$I$15)","v":0}]
["",null,null,null,null,null,null,"1900-12-30",{"$f":"IF(E23428=\"ESTATUTARIO\",EOMONTH(F23428,0),EOMONTH(F23428,-1))","v":{"$error":"#NUM!"}},{"$f":"EOMONTH(F23428,11)","v":"1900-12-31"},"-",{"$f":"G23428-SUMIF(ESCALA!$B$14:$B$15,DADOS!K23428,ESCALA!$I$14:$I$15)","v":0}]
["",null,null,null,null,null,null,"1900-12-30",{"$error":"#NUM!"},"1900-12-31","-",{"$f":"G23443-SUMIF(ESCALA!$B$14:$B$15,DADOS!K23443,ESCALA!$I$14:$I$15)","v":0}]
["",null,null,null,null,null,null,"1900-12-30",{"$error":"#NUM!"},"1900-12-31","-",{"$f":"G23454-SUMIF(ESCALA!$B$14:$B$15,DADOS!K23454,ESCALA!$I$14:$I$15)","v":0}]
["",null,null,null,null,null,null,"1900-12-30",{"$error":"#NUM!"},"1900-12-31","-",{"$f":"G23476-SUMIF(ESCALA!$B$14:$B$15,DADOS!K23476,ESCALA!$I$14:$I$15)","v":0}]
[{"$f":"IF(L23491=0,\"\",B23491)","v":""},null,null,null,null,null,null,{"$f":"IF(F23491<=44985,F23491+365,F23491+366)","v":"1900-12-30"},{"$error":"#NUM!"},"1900-12-31",{"$f":"CONCATENATE(B23491,\"-\",F23491)","v":"-"},{"$f":"G23491-SUMIF(ESCALA!$B$14:$B$15,DADOS!K23491,ESCALA!$I$14:$I$15)","v":0}]
["",null,null,null,null,null,null,"1900-12-30",{"$error":"#NUM!"},"1900-12-31","-",{"$f":"G23496-SUMIF(ESCALA!$B$14:$B$15,DADOS!K23496,ESCALA!$I$14:$I$15)","v":0}]
["",null,null,null,null,null,null,"1900-12-30",{"$error":"#NUM!"},"1900-12-31","-",{"$f":"G23516-SUMIF(ESCALA!$B$14:$B$15,DADOS!K23516,ESCALA!$I$14:$I$15)","v":0}]
["",null,null,null,null,null,null,"1900-12-30",{"$error":"#NUM!"},"1900-12-31","-",{"$f":"G23525-SUMIF(ESCALA!$B$14:$B$15,DADOS!K23525,ESCALA!$I$14:$I$15)","v":0}]
["",null,null,null,null,null,null,"1900-12-30",{"$error":"#NUM!"},"1900-12-31","-",{"$f":"G23544-SUMIF(ESCALA!$B$14:$B$15,DADOS!K23544,ESCALA!$I$14:$I$15)","v":0}]
["",null,null,null,null,null,null,"1900-12-30",{"$error":"#NUM!"},"1900-12-31","-",{"$f":"G23559-SUMIF(ESCALA!$B$14:$B$15,DADOS!K23559,ESCALA!$I$14:$I$15)","v":0}]
["",null,null,null,null,null,null,"1900-12-30",{"$error":"#NUM!"},"1900-12-31","-",{"$f":"G23569-SUMIF(ESCALA!$B$14:$B$15,DADOS!K23569,ESCALA!$I$14:$I$15)","v":0}]
["",null,null,null,null,null,null,"1900-12-30",{"$error":"#NUM!"},"1900-12-31","-",{"$f":"G23578-SUMIF(ESCALA!$B$14:$B$15,DADOS!K23578,ESCALA!$I$14:$I$15)","v":0}]
["",null,null,null,null,null,null,"1900-12-30",{"$error":"#NUM!"},"1900-12-31","-",{"$f":"G23593-SUMIF(ESCALA!$B$14:$B$15,DADOS!K23593,ESCALA!$I$14:$I$15)","v":0}]
["",null,null,null,null,null,null,"1900-12-30",{"$error":"#NUM!"},"1900-12-31","-",{"$f":"G23612-SUMIF(ESCALA!$B$14:$B$15,DADOS!K23612,ESCALA!$I$14:$I$15)","v":0}]
["",null,null,null,null,null,null,"1900-12-30",{"$error":"#NUM!"},"1900-12-31","-",{"$f":"G23618-SUMIF(ESCALA!$B$14:$B$15,DADOS!K23618,ESCALA!$I$14:$I$15)","v":0}]
["",null,null,null,null,null,null,"1900-12-30",{"$error":"#NUM!"},"1900-12-31","-",{"$f":"G23641-SUMIF(ESCALA!$B$14:$B$15,DADOS!K23641,ESCALA!$I$14:$I$15)","v":0}]
["",null,null,null,null,null,null,"1900-12-30",{"$error":"#NUM!"},"1900-12-31","-",{"$f":"G23646-SUMIF(ESCALA!$B$14:$B$15,DADOS!K23646,ESCALA!$I$14:$I$15)","v":0}]
["",null,null,null,null,null,null,"1900-12-30",{"$error":"#NUM!"},"1900-12-31","-",{"$f":"G23661-SUMIF(ESCALA!$B$14:$B$15,DADOS!K23661,ESCALA!$I$14:$I$15)","v":0}]
["",null,null,null,null,null,null,"1900-12-30",{"$error":"#NUM!"},"1900-12-31","-",{"$f":"G23671-SUMIF(ESCALA!$B$14:$B$15,DADOS!K23671,ESCALA!$I$14:$I$15)","v":0}]
["",null,null,null,null,null,null,"1900-12-30",{"$error":"#NUM!"},"1900-12-31","-",{"$f":"G23694-SUMIF(ESCALA!$B$14:$B$15,DADOS!K23694,ESCALA!$I$14:$I$15)","v":0}]
["",null,null,null,null,null,null,"1900-12-30",{"$error":"#NUM!"},"1900-12-31","-",{"$f":"G23709-SUMIF(ESCALA!$B$14:$B$15,DADOS!K23709,ESCALA!$I$14:$I$15)","v":0}]
["",null,null,null,null,null,null,"1900-12-30",{"$error":"#NUM!"},"1900-12-31","-",{"$f":"G23714-SUMIF(ESCALA!$B$14:$B$15,DADOS!K23714,ESCALA!$I$14:$I$15)","v":0}]
["",null,null,null,null,null,null,"1900-12-30",{"$error":"#NUM!"},"1900-12-31","-",{"$f":"G23733-SUMIF(ESCALA!$B$14:$B$15,DADOS!K23733,ESCALA!$I$14:$I$15)","v":0}]
["",null,null,null,null,null,null,"1900-12-30",{"$error":"#NUM!"},"1900-12-31","-",{"$f":"G23743-SUMIF(ESCALA!$B$14:$B$15,DADOS!K23743,ESCALA!$I$14:$I$15)","v":0}]
["",null,null,null,null,null,null,"1900-12-30",{"$error":"#NUM!"},"1900-12-31","-",{"$f":"G23762-SUMIF(ESCALA!$B$14:$B$15,DADOS!K23762,ESCALA!$I$14:$I$15)","v":0}]
["",null,null,null,null,null,null,"1900-12-30",{"$error":"#NUM!"},"1900-12-31","-",{"$f":"G23777-SUMIF(ESCALA!$B$14:$B$15,DADOS!K23777,ESCALA!$I$14:$I$15)","v":0}]
["",null,null,null,null,null,null,"1900-12-30",{"$error":"#NUM!"},"1900-12-31","-",{"$f":"G23782-SUMIF(ESCALA!$B$14:$B$15,DADOS!K23782,ESCALA!$I$14:$I$15)","v":0}]
["",null,null,null,null,null,null,"1900-12-30",{"$error":"#NUM!"},"1900-12-31","-",{"$f":"G23796-SUMIF(ESCALA!$B$14:$B$15,DADOS!K23796,ESCALA!$I$14:$I$15)","v":0}]
[{"$f":"IF(L23811=0,\"\",B23811)","v":""},null,null,null,null,null,null,{"$f":"IF(F23811<=44985,F23811+365,F23811+366)","v":"1900-12-30"},{"$error":"#NUM!"},"1900-12-31",{"$f":"CONCATENATE(B23811,\"-\",F23811)","v":"-"},{"$f":"G23811-SUMIF(ESCALA!$B$14:$B$15,DADOS!K23811,ESCALA!$I$14:$I$15)","v":0}]
["",null,null,null,null,null,null,"1900-12-30",{"$error":"#NUM!"},"1900-12-31","-",{"$f":"G23830-SUMIF(ESCALA!$B$14:$B$15,DADOS!K23830,ESCALA!$I$14:$I$15)","v":0}]
["",null,null,null,null,null,null,"1900-12-30",{"$error":"#NUM!"},"1900-12-31","-",{"$f":"G23848-SUMIF(ESCALA!$B$14:$B$15,DADOS!K23848,ESCALA!$I$14:$I$15)","v":0}]
["",null,null,null,null,null,null,"1900-12-30",{"$error":"#NUM!"},"1900-12-31","-",{"$f":"G23859-SUMIF(ESCALA!$B$14:$B$15,DADOS!K23859,ESCALA!$I$14:$I$15)","v":0}]
["",null,null,null,null,null,null,"1900-12-30",{"$error":"#NUM!"},"1900-12-31","-",{"$f":"G23864-SUMIF(ESCALA!$B$14:$B$15,DADOS!K23864,ESCALA!$I$14:$I$15)","v":0}]
["",null,null,null,null,null,null,"1900-12-30",{"$error":"#NUM!"},"1900-12-31","-",{"$f":"G23879-SUMIF(ESCALA!$B$14:$B$15,DADOS!K23879,ESCALA!$I$14:$I$15)","v":0}]
["",null,null,null,null,null,null,"1900-12-30",{"$error":"#NUM!"},"1900-12-31","-",{"$f":"G23897-SUMIF(ESCALA!$B$14:$B$15,DADOS!K23897,ESCALA!$I$14:$I$15)","v":0}]
["",null,null,null,null,null,null,"1900-12-30",{"$error":"#NUM!"},"1900-12-31","-",{"$f":"G23912-SUMIF(ESCALA!$B$14:$B$15,DADOS!K23912,ESCALA!$I$14:$I$15)","v":0}]
["",null,null,null,null,null,null,"1900-12-30",{"$error":"#NUM!"},"1900-12-31","-",{"$f":"G23927-SUMIF(ESCALA!$B$14:$B$15,DADOS!K23927,ESCALA!$I$14:$I$15)","v":0}]
["",null,null,null,null,null,null,"1900-12-30",{"$error":"#NUM!"},"1900-12-31","-",{"$f":"G23932-SUMIF(ESCALA!$B$14:$B$15,DADOS!K23932,ESCALA!$I$14:$I$15)","v":0}]
["",null,null,null,null,null,null,"1900-12-30",{"$error":"#NUM!"},"1900-12-31","-",{"$f":"G23950-SUMIF(ESCALA!$B$14:$B$15,DADOS!K23950,ESCALA!$I$14:$I$15)","v":0}]
["",null,null,null,null,null,null,"1900-12-30",{"$error":"#NUM!"},"1900-12-31","-",{"$f":"G23961-SUMIF(ESCALA!$B$14:$B$15,DADOS!K23961,ESCALA!$I$14:$I$15)","v":0}]
["",null,null,null,null,null,null,"1900-12-30",{"$error":"#NUM!"},"1900-12-31","-",{"$f":"G23980-SUMIF(ESCALA!$B$14:$B$15,DADOS!K23980,ESCALA!$I$14:$I$15)","v":0}]
["",null,null,null,null,null,null,"1900-12-30",{"$error":"#NUM!"},"1900-12-31","-",{"$f":"G23995-SUMIF(ESCALA!$B$14:$B$15,DADOS!K23995,ESCALA!$I$14:$I$15)","v":0}]
["",null,null,null,null,null,null,"1900-12-30",{"$error":"#NUM!"},"1900-12-31","-",{"$f":"G24012-SUMIF(ESCALA!$B$14:$B$15,DADOS!K24012,ESCALA!$I$14:$I$15)","v":0}]
["",null,null,null,null,null,null,"1900-12-30",{"$error":"#NUM!"},"1900-12-31","-",{"$f":"G24014-SUMIF(ESCALA!$B$14:$B$15,DADOS!K24014,ESCALA!$I$14:$I$15)","v":0}]
["",null,null,null,null,null,null,"1900-12-30",{"$error":"#NUM!"},"1900-12-31","-",{"$f":"G24029-SUMIF(ESCALA!$B$14:$B$15,DADOS!K24029,ESCALA!$I$14:$I$15)","v":0}]
["",null,null,null,null,null,null,"1900-12-30",{"$error":"#NUM!"},"1900-12-31","-",{"$f":"G24048-SUMIF(ESCALA!$B$14:$B$15,DADOS!K24048,ESCALA!$I$14:$I$15)","v":0}]
["",null,null,null,null,null,null,"1900-12-30",{"$error":"#NUM!"},"1900-12-31","-",{"$f":"G24065-SUMIF(ESCALA!$B$14:$B$15,DADOS!K24065,ESCALA!$I$14:$I$15)","v":0}]
["",null,null,null,null,null,null,"1900-12-30",{"$error":"#NUM!"},"1900-12-31","-",{"$f":"G24081-SUMIF(ESCALA!$B$14:$B$15,DADOS!K24081,ESCALA!$I$14:$I$15)","v":0}]
["",null,null,null,null,null,null,"1900-12-30",{"$error":"#NUM!"},"1900-12-31","-",{"$f":"G24096-SUMIF(ESCALA!$B$14:$B$15,DADOS!K24096,ESCALA!$I$14:$I$15)","v":0}]
["",null,null,null,null,null,null,"1900-12-30",{"$error":"#NUM!"},"1900-12-31","-",{"$f":"G24097-SUMIF(ESCALA!$B$14:$B$15,DADOS!K24097,ESCALA!$I$14:$I$15)","v":0}]
["",null,null,null,null,null,null,"1900-12-30",{"$error":"#NUM!"},"1900-12-31","-",{"$f":"G24114-SUMIF(ESCALA!$B$14:$B$15,DADOS!K24114,ESCALA!$I$14:$I$15)","v":0}]
["",null,null,null,null,null,null,"1900-12-30",{"$error":"#NUM!"},"1900-12-31","-",{"$f":"G24130-SUMIF(ESCALA!$B$14:$B$15,DADOS!K24130,ESCALA!$I$14:$I$15)","v":0}]
["",null,null,null,null,null,null,"1900-12-30",{"$error":"#NUM!"},"1900-12-31","-",{"$f":"G24145-SUMIF(ESCALA!$B$14:$B$15,DADOS!K24145,ESCALA!$I$14:$I$15)","v":0}]
["",null,null,null,null,null,null,"1900-12-30",{"$error":"#NUM!"},"1900-12-31","-",{"$f":"G24164-SUMIF(ESCALA!$B$14:$B$15,DADOS!K24164,ESCALA!$I$14:$I$15)","v":0}]
["",null,null,null,null,null,null,"1900-12-30",{"$error":"#NUM!"},"1900-12-31","-",{"$f":"G24167-SUMIF(ESCALA!$B$14:$B$15,DADOS!K24167,ESCALA!$I$14:$I$15)","v":0}]
["",null,null,null,null,null,null,"1900-12-30",{"$error":"#NUM!"},"1900-12-31","-",{"$f":"G24183-SUMIF(ESCALA!$B$14:$B$15,DADOS!K24183,ESCALA!$I$14:$I$15)","v":0}]
["",null,null,null,null,null,null,"1900-12-30",{"$error":"#NUM!"},"1900-12-31","-",{"$f":"G24198-SUMIF(ESCALA!$B$14:$B$15,DADOS!K24198,ESCALA!$I$14:$I$15)","v":0}]
["",null,null,null,null,null,null,"1900-12-30",{"$error":"#NUM!"},"1900-12-31","-",{"$f":"G24213-SUMIF(ESCALA!$B$14:$B$15,DADOS!K24213,ESCALA!$I$14:$I$15)","v":0}]
["",null,null,null,null,null,null,"1900-12-30",{"$error":"#NUM!"},"1900-12-31","-",{"$f":"G24229-SUMIF(ESCALA!$B$14:$B$15,DADOS!K24229,ESCALA!$I$14:$I$15)","v":0}]
["",null,null,null,null,null,null,"1900-12-30",{"$error":"#NUM!"},"1900-12-31","-",{"$f":"G24246-SUMIF(ESCALA!$B$14:$B$15,DADOS!K24246,ESCALA!$I$14:$I$15)","v":0}]
["",null,null,null,null,null,null,"1900-12-30",{"$error":"#NUM!"},"1900-12-31","-",{"$f":"G24251-SUMIF(ESCALA!$B$14:$B$15,DADOS!K24251,ESCALA!$I$14:$I$15)","v":0}]
["",null,null,null,null,null,null,"1900-12-30",{"$error":"#NUM!"},"1900-12-31","-",{"$f":"G24266-SUMIF(ESCALA!$B$14:$B$15,DADOS!K24266,ESCALA!$I$14:$I$15)","v":0}]
["",null,null,null,null,null,null,"1900-12-30",{"$error":"#NUM!"},"1900-12-31","-",{"$f":"G24282-SUMIF(ESCALA!$B$14:$B$15,DADOS!K24282,ESCALA!$I$14:$I$15)","v":0}]
["",null,null,null,null,null,null,"1900-12-30",{"$error":"#NUM!"},"1900-12-31","-",{"$f":"G24299-SUMIF(ESCALA!$B$14:$B$15,DADOS!K24299,ESCALA!$I$14:$I$15)","v":0}]
["",null,null,null,null,null,null,"1900-12-30",{"$error":"#NUM!"},"1900-12-31","-",{"$f":"G24314-SUMIF(ESCALA!$B$14:$B$15,DADOS!K24314,ESCALA!$I$14:$I$15)","v":0}]
["",null,null,null,null,null,null,"1900-12-30",{"$error":"#NUM!"},"1900-12-31","-",{"$f":"G24329-SUMIF(ESCALA!$B$14:$B$15,DADOS!K24329,ESCALA!$I$14:$I$15)","v":0}]
["",null,null,null,null,null,null,"1900-12-30",{"$error":"#NUM!"},"1900-12-31","-",{"$f":"G24331-SUMIF(ESCALA!$B$14:$B$15,DADOS!K24331,ESCALA!$I$14:$I$15)","v":0}]
["",null,null,null,null,null,null,"1900-12-30",{"$error":"#NUM!"},"1900-12-31","-",{"$f":"G24348-SUMIF(ESCALA!$B$14:$B$15,DADOS!K24348,ESCALA!$I$14:$I$15)","v":0}]
["",null,null,null,null,null,null,"1900-12-30",{"$error":"#NUM!"},"1900-12-31","-",{"$f":"G24367-SUMIF(ESCALA!$B$14:$B$15,DADOS!K24367,ESCALA!$I$14:$I$15)","v":0}]
["",null,null,null,null,null,null,"1900-12-30",{"$error":"#NUM!"},"1900-12-31","-",{"$f":"G24382-SUMIF(ESCALA!$B$14:$B$15,DADOS!K24382,ESCALA!$I$14:$I$15)","v":0}]
["",null,null,null,null,null,null,"1900-12-30",{"$error":"#NUM!"},"1900-12-31","-",{"$f":"G24397-SUMIF(ESCALA!$B$14:$B$15,DADOS!K24397,ESCALA!$I$14:$I$15)","v":0}]
["",null,null,null,null,null,null,"1900-12-30",{"$error":"#NUM!"},"1900-12-31","-",{"$f":"G24401-SUMIF(ESCALA!$B$14:$B$15,DADOS!K24401,ESCALA!$I$14:$I$15)","v":0}]
["",null,null,null,null,null,null,"1900-12-30",{"$error":"#NUM!"},"1900-12-31","-",{"$f":"G24416-SUMIF(ESCALA!$B$14:$B$15,DADOS!K24416,ESCALA!$I$14:$I$15)","v":0}]
["",null,null,null,null,null,null,"1900-12-30",{"$error":"#NUM!"},"1900-12-31","-",{"$f":"G24431-SUMIF(ESCALA!$B$14:$B$15,DADOS!K24431,ESCALA!$I$14:$I$15)","v":0}]
["",null,null,null,null,null,null,"1900-12-30",{"$error":"#NUM!"},"1900-12-31","-",{"$f":"G24446-SUMIF(ESCALA!$B$14:$B$15,DADOS!K24446,ESCALA!$I$14:$I$15)","v":0}]
["",null,null,null,null,null,null,"1900-12-30",{"$error":"#NUM!"},"1900-12-31","-",{"$f":"G24464-SUMIF(ESCALA!$B$14:$B$15,DADOS!K24464,ESCALA!$I$14:$I$15)","v":0}]
["",null,null,null,null,null,null,"1900-12-30",{"$error":"#NUM!"},"1900-12-31","-",{"$f":"G24469-SUMIF(ESCALA!$B$14:$B$15,DADOS!K24469,ESCALA!$I$14:$I$15)","v":0}]
["",null,null,null,null,null,null,"1900-12-30",{"$error":"#NUM!"},"1900-12-31","-",{"$f":"G24484-SUMIF(ESCALA!$B$14:$B$15,DADOS!K24484,ESCALA!$I$14:$I$15)","v":0}]
["",null,null,null,null,null,null,"1900-12-30",{"$error":"#NUM!"},"1900-12-31","-",{"$f":"G24499-SUMIF(ESCALA!$B$14:$B$15,DADOS!K24499,ESCALA!$I$14:$I$15)","v":0}]
["",null,null,null,null,null,null,"1900-12-30",{"$error":"#NUM!"},"1900-12-31","-",{"$f":"G24517-SUMIF(ESCALA!$B$14:$B$15,DADOS!K24517,ESCALA!$I$14:$I$15)","v":0}]
["",null,null,null,null,null,null,"1900-12-30",{"$error":"#NUM!"},"1900-12-31","-",{"$f":"G24532-SUMIF(ESCALA!$B$14:$B$15,DADOS!K24532,ESCALA!$I$14:$I$15)","v":0}]
["",null,null,null,null,null,null,"1900-12-30",{"$error":"#NUM!"},"1900-12-31","-",{"$f":"G24537-SUMIF(ESCALA!$B$14:$B$15,DADOS!K24537,ESCALA!$I$14:$I$15)","v":0}]
["",null,null,null,null,null,null,"1900-12-30",{"$error":"#NUM!"},"1900-12-31","-",{"$f":"G24561-SUMIF(ESCALA!$B$14:$B$15,DADOS!K24561,ESCALA!$I$14:$I$15)","v":0}]
["",null,null,null,null,null,null,"1900-12-30",{"$error":"#NUM!"},"1900-12-31","-",{"$f":"G24566-SUMIF(ESCALA!$B$14:$B$15,DADOS!K24566,ESCALA!$I$14:$I$15)","v":0}]
["",null,null,null,null,null,null,"1900-12-30",{"$error":"#NUM!"},"1900-12-31","-",{"$f":"G24585-SUMIF(ESCALA!$B$14:$B$15,DADOS!K24585,ESCALA!$I$14:$I$15)","v":0}]
["",null,null,null,null,null,null,"1900-12-30",{"$error":"#NUM!"},"1900-12-31","-",{"$f":"G24600-SUMIF(ESCALA!$B$14:$B$15,DADOS!K24600,ESCALA!$I$14:$I$15)","v":0}]
["",null,null,null,null,null,null,"1900-12-30",{"$error":"#NUM!"},"1900-12-31","-",{"$f":"G24614-SUMIF(ESCALA!$B$14:$B$15,DADOS!K24614,ESCALA!$I$14:$I$15)","v":0}]
["",null,null,null,null,null,null,"1900-12-30",{"$error":"#NUM!"},"1900-12-31","-",{"$f":"G24619-SUMIF(ESCALA!$B$14:$B$15,DADOS!K24619,ESCALA!$I$14:$I$15)","v":0}]
["",null,null,null,null,null,null,"1900-12-30",{"$error":"#NUM!"},"1900-12-31","-",{"$f":"G24634-SUMIF(ESCALA!$B$14:$B$15,DADOS!K24634,ESCALA!$I$14:$I$15)","v":0}]
["",null,null,null,null,null,null,"1900-12-30",{"$error":"#NUM!"},"1900-12-31","-",{"$f":"G24653-SUMIF(ESCALA!$B$14:$B$15,DADOS!K24653,ESCALA!$I$14:$I$15)","v":0}]
["",null,null,null,null,null,null,"1900-12-30",{"$error":"#NUM!"},"1900-12-31","-",{"$f":"G24663-SUMIF(ESCALA!$B$14:$B$15,DADOS!K24663,ESCALA!$I$14:$I$15)","v":0}]
["",null,null,null,null,null,null,"1900-12-30",{"$error":"#NUM!"},"1900-12-31","-",{"$f":"G24682-SUMIF(ESCALA!$B$14:$B$15,DADOS!K24682,ESCALA!$I$14:$I$15)","v":0}]
["",null,null,null,null,null,null,"1900-12-30",{"$error":"#NUM!"},"1900-12-31","-",{"$f":"G24701-SUMIF(ESCALA!$B$14:$B$15,DADOS!K24701,ESCALA!$I$14:$I$15)","v":0}]
["",null,null,null,null,null,null,"1900-12-30",{"$error":"#NUM!"},"1900-12-31","-",{"$f":"G24702-SUMIF(ESCALA!$B$14:$B$15,DADOS!K24702,ESCALA!$I$14:$I$15)","v":0}]
["",null,null,null,null,null,null,"1900-12-30",{"$error":"#NUM!"},"1900-12-31","-",{"$f":"G24725-SUMIF(ESCALA!$B$14:$B$15,DADOS!K24725,ESCALA!$I$14:$I$15)","v":0}]
["",null,null,null,null,null,null,"1900-12-30",{"$error":"#NUM!"},"1900-12-31","-",{"$f":"G24735-SUMIF(ESCALA!$B$14:$B$15,DADOS!K24735,ESCALA!$I$14:$I$15)","v":0}]
["",null,null,null,null,null,null,"1900-12-30",{"$error":"#NUM!"},"1900-12-31","-",{"$f":"G24750-SUMIF(ESCALA!$B$14:$B$15,DADOS!K24750,ESCALA!$I$14:$I$15)","v":0}]
["",null,null,null,null,null,null,"1900-12-30",{"$error":"#NUM!"},"1900-12-31","-",{"$f":"G24769-SUMIF(ESCALA!$B$14:$B$15,DADOS!K24769,ESCALA!$I$14:$I$15)","v":0}]
["",null,null,null,null,null,null,"1900-12-30",{"$error":"#NUM!"},"1900-12-31","-",{"$f":"G24778-SUMIF(ESCALA!$B$14:$B$15,DADOS!K24778,ESCALA!$I$14:$I$15)","v":0}]
["",null,null,null,null,null,null,"1900-12-30",{"$error":"#NUM!"},"1900-12-31","-",{"$f":"G24784-SUMIF(ESCALA!$B$14:$B$15,DADOS!K24784,ESCALA!$I$14:$I$15)","v":0}]
["",null,null,null,null,null,null,"1900-12-30",{"$error":"#NUM!"},"1900-12-31","-",{"$f":"G24803-SUMIF(ESCALA!$B$14:$B$15,DADOS!K24803,ESCALA!$I$14:$I$15)","v":0}]
["",null,null,null,null,null,null,"1900-12-30",{"$error":"#NUM!"},"1900-12-31","-",{"$f":"G24818-SUMIF(ESCALA!$B$14:$B$15,DADOS!K24818,ESCALA!$I$14:$I$15)","v":0}]
["",null,null,null,null,null,null,"1900-12-30",{"$error":"#NUM!"},"1900-12-31","-",{"$f":"G24827-SUMIF(ESCALA!$B$14:$B$15,DADOS!K24827,ESCALA!$I$14:$I$15)","v":0}]
["",null,null,null,null,null,null,"1900-12-30",{"$error":"#NUM!"},"1900-12-31","-",{"$f":"G24851-SUMIF(ESCALA!$B$14:$B$15,DADOS!K24851,ESCALA!$I$14:$I$15)","v":0}]
["",null,null,null,null,null,null,"1900-12-30",{"$error":"#NUM!"},"1900-12-31","-",{"$f":"G24866-SUMIF(ESCALA!$B$14:$B$15,DADOS!K24866,ESCALA!$I$14:$I$15)","v":0}]
["",null,null,null,null,null,null,"1900-12-30",{"$error":"#NUM!"},"1900-12-31","-",{"$f":"G24871-SUMIF(ESCALA!$B$14:$B$15,DADOS!K24871,ESCALA!$I$14:$I$15)","v":0}]
["",null,null,null,null,null,null,"1900-12-30",{"$error":"#NUM!"},"1900-12-31","-",{"$f":"G24893-SUMIF(ESCALA!$B$14:$B$15,DADOS!K24893,ESCALA!$I$14:$I$15)","v":0}]
["",null,null,null,null,null,null,"1900-12-30",{"$f":"IF(E24900=\"ESTATUTARIO\",EOMONTH(F24900,0),EOMONTH(F24900,-1))","v":{"$error":"#NUM!"}},{"$f":"EOMONTH(F24900,11)","v":"1900-12-31"},"-",{"$f":"G24900-SUMIF(ESCALA!$B$14:$B$15,DADOS!K24900,ESCALA!$I$14:$I$15)","v":0}]
["",null,null,null,null,null,null,"1900-12-30",{"$error":"#NUM!"},"1900-12-31","-",{"$f":"G24919-SUMIF(ESCALA!$B$14:$B$15,DADOS!K24919,ESCALA!$I$14:$I$15)","v":0}]
["",null,null,null,null,null,null,"1900-12-30",{"$error":"#NUM!"},"1900-12-31","-",{"$f":"G24934-SUMIF(ESCALA!$B$14:$B$15,DADOS!K24934,ESCALA!$I$14:$I$15)","v":0}]
["",null,null,null,null,null,null,"1900-12-30",{"$error":"#NUM!"},"1900-12-31","-",{"$f":"G24942-SUMIF(ESCALA!$B$14:$B$15,DADOS!K24942,ESCALA!$I$14:$I$15)","v":0}]
["",null,null,null,null,null,null,"1900-12-30",{"$error":"#NUM!"},"1900-12-31","-",{"$f":"G24953-SUMIF(ESCALA!$B$14:$B$15,DADOS!K24953,ESCALA!$I$14:$I$15)","v":0}]
["",null,null,null,null,null,null,"1900-12-30",{"$error":"#NUM!"},"1900-12-31","-",{"$f":"G24968-SUMIF(ESCALA!$B$14:$B$15,DADOS!K24968,ESCALA!$I$14:$I$15)","v":0}]
["",null,null,null,null,null,null,"1900-12-30",{"$error":"#NUM!"},"1900-12-31","-",{"$f":"G24987-SUMIF(ESCALA!$B$14:$B$15,DADOS!K24987,ESCALA!$I$14:$I$15)","v":0}]
["",null,null,null,null,null,null,"1900-12-30",{"$error":"#NUM!"},"1900-12-31","-",{"$f":"G24995-SUMIF(ESCALA!$B$14:$B$15,DADOS!K24995,ESCALA!$I$14:$I$15)","v":0}]
["",null,null,null,null,null,null,"1900-12-30",{"$error":"#NUM!"},"1900-12-31","-",{"$f":"G25006-SUMIF(ESCALA!$B$14:$B$15,DADOS!K25006,ESCALA!$I$14:$I$15)","v":0}]
["",null,null,null,null,null,null,"1900-12-30",{"$error":"#NUM!"},"1900-12-31","-",{"$f":"G25021-SUMIF(ESCALA!$B$14:$B$15,DADOS!K25021,ESCALA!$I$14:$I$15)","v":0}]
["",null,null,null,null,null,null,"1900-12-30",{"$error":"#NUM!"},"1900-12-31","-",{"$f":"G25036-SUMIF(ESCALA!$B$14:$B$15,DADOS!K25036,ESCALA!$I$14:$I$15)","v":0}]
["",null,null,null,null,null,null,"1900-12-30",{"$error":"#NUM!"},"1900-12-31","-",{"$f":"G25057-SUMIF(ESCALA!$B$14:$B$15,DADOS!K25057,ESCALA!$I$14:$I$15)","v":0}]
["",null,null,null,null,null,null,"1900-12-30",{"$error":"#NUM!"},"1900-12-31","-",{"$f":"G25069-SUMIF(ESCALA!$B$14:$B$15,DADOS!K25069,ESCALA!$I$14:$I$15)","v":0}]
["",null,null,null,null,null,null,"1900-12-30",{"$error":"#NUM!"},"1900-12-31","-",{"$f":"G25084-SUMIF(ESCALA!$B$14:$B$15,DADOS!K25084,ESCALA!$I$14:$I$15)","v":0}]
["",null,null,null,null,null,null,"1900-12-30",{"$error":"#NUM!"},"1900-12-31","-",{"$f":"G25089-SUMIF(ESCALA!$B$14:$B$15,DADOS!K25089,ESCALA!$I$14:$I$15)","v":0}]
["",null,null,null,null,null,null,"1900-12-30",{"$error":"#NUM!"},"1900-12-31","-",{"$f":"G25110-SUMIF(ESCALA!$B$14:$B$15,DADOS!K25110,ESCALA!$I$14:$I$15)","v":0}]
["",null,null,null,null,null,null,"1900-12-30",{"$error":"#NUM!"},"1900-12-31","-",{"$f":"G25122-SUMIF(ESCALA!$B$14:$B$15,DADOS!K25122,ESCALA!$I$14:$I$15)","v":0}]
["",null,null,null,null,null,null,"1900-12-30",{"$error":"#NUM!"},"1900-12-31","-",{"$f":"G25137-SUMIF(ESCALA!$B$14:$B$15,DADOS!K25137,ESCALA!$I$14:$I$15)","v":0}]
["",null,null,null,null,null,null,"1900-12-30",{"$error":"#NUM!"},"1900-12-31","-",{"$f":"G25152-SUMIF(ESCALA!$B$14:$B$15,DADOS!K25152,ESCALA!$I$14:$I$15)","v":0}]
["",null,null,null,null,null,null,"1900-12-30",{"$error":"#NUM!"},"1900-12-31","-",{"$f":"G25159-SUMIF(ESCALA!$B$14:$B$15,DADOS!K25159,ESCALA!$I$14:$I$15)","v":0}]
["",null,null,null,null,null,null,"1900-12-30",{"$error":"#NUM!"},"1900-12-31","-",{"$f":"G25171-SUMIF(ESCALA!$B$14:$B$15,DADOS!K25171,ESCALA!$I$14:$I$15)","v":0}]
["",null,null,null,null,null,null,"1900-12-30",{"$error":"#NUM!"},"1900-12-31","-",{"$f":"G25186-SUMIF(ESCALA!$B$14:$B$15,DADOS!K25186,ESCALA!$I$14:$I$15)","v":0}]
["",null,null,null,null,null,null,"1900-12-30",{"$error":"#NUM!"},"1900-12-31","-",{"$f":"G25205-SUMIF(ESCALA!$B$14:$B$15,DADOS!K25205,ESCALA!$I$14:$I$15)","v":0}]
["",null,null,null,null,null,null,"1900-12-30",{"$error":"#NUM!"},"1900-12-31","-",{"$f":"G25212-SUMIF(ESCALA!$B$14:$B$15,DADOS!K25212,ESCALA!$I$14:$I$15)","v":0}]
["",null,null,null,null,null,null,"1900-12-30",{"$error":"#NUM!"},"1900-12-31","-",{"$f":"G25224-SUMIF(ESCALA!$B$14:$B$15,DADOS!K25224,ESCALA!$I$14:$I$15)","v":0}]
["",null,null,null,null,null,null,"1900-12-30",{"$error":"#NUM!"},"1900-12-31","-",{"$f":"G25239-SUMIF(ESCALA!$B$14:$B$15,DADOS!K25239,ESCALA!$I$14:$I$15)","v":0}]
["",null,null,null,null,null,null,"1900-12-30",{"$error":"#NUM!"},"1900-12-31","-",{"$f":"G25254-SUMIF(ESCALA!$B$14:$B$15,DADOS!K25254,ESCALA!$I$14:$I$15)","v":0}]
["",null,null,null,null,null,null,"1900-12-30",{"$error":"#NUM!"},"1900-12-31","-",{"$f":"G25274-SUMIF(ESCALA!$B$14:$B$15,DADOS!K25274,ESCALA!$I$14:$I$15)","v":0}]
["",null,null,null,null,null,null,"1900-12-30",{"$error":"#NUM!"},"1900-12-31","-",{"$f":"G25287-SUMIF(ESCALA!$B$14:$B$15,DADOS!K25287,ESCALA!$I$14:$I$15)","v":0}]
["",null,null,null,null,null,null,"1900-12-30",{"$error":"#NUM!"},"1900-12-31","-",{"$f":"G25306-SUMIF(ESCALA!$B$14:$B$15,DADOS!K25306,ESCALA!$I$14:$I$15)","v":0}]
["",null,null,null,null,null,null,"1900-12-30",{"$error":"#NUM!"},"1900-12-31","-",{"$f":"G25307-SUMIF(ESCALA!$B$14:$B$15,DADOS!K25307,ESCALA!$I$14:$I$15)","v":0}]
["",null,null,null,null,null,null,"1900-12-30",{"$error":"#NUM!"},"1900-12-31","-",{"$f":"G25327-SUMIF(ESCALA!$B$14:$B$15,DADOS!K25327,ESCALA!$I$14:$I$15)","v":0}]
["",null,null,null,null,null,null,"1900-12-30",{"$error":"#NUM!"},"1900-12-31","-",{"$f":"G25340-SUMIF(ESCALA!$B$14:$B$15,DADOS!K25340,ESCALA!$I$14:$I$15)","v":0}]
["",null,null,null,null,null,null,"1900-12-30",{"$error":"#NUM!"},"1900-12-31","-",{"$f":"G25355-SUMIF(ESCALA!$B$14:$B$15,DADOS!K25355,ESCALA!$I$14:$I$15)","v":0}]
["",null,null,null,null,null,null,"1900-12-30",{"$error":"#NUM!"},"1900-12-31","-",{"$f":"G25370-SUMIF(ESCALA!$B$14:$B$15,DADOS!K25370,ESCALA!$I$14:$I$15)","v":0}]
["",null,null,null,null,null,null,"1900-12-30",{"$error":"#NUM!"},"1900-12-31","-",{"$f":"G25376-SUMIF(ESCALA!$B$14:$B$15,DADOS!K25376,ESCALA!$I$14:$I$15)","v":0}]
["",null,null,null,null,null,null,"1900-12-30",{"$error":"#NUM!"},"1900-12-31","-",{"$f":"G25389-SUMIF(ESCALA!$B$14:$B$15,DADOS!K25389,ESCALA!$I$14:$I$15)","v":0}]
["",null,null,null,null,null,null,"1900-12-30",{"$error":"#NUM!"},"1900-12-31","-",{"$f":"G25408-SUMIF(ESCALA!$B$14:$B$15,DADOS!K25408,ESCALA!$I$14:$I$15)","v":0}]
["",null,null,null,null,null,null,"1900-12-30",{"$error":"#NUM!"},"1900-12-31","-",{"$f":"G25423-SUMIF(ESCALA!$B$14:$B$15,DADOS!K25423,ESCALA!$I$14:$I$15)","v":0}]
["",null,null,null,null,null,null,"1900-12-30",{"$error":"#NUM!"},"1900-12-31","-",{"$f":"G25442-SUMIF(ESCALA!$B$14:$B$15,DADOS!K25442,ESCALA!$I$14:$I$15)","v":0}]
["",null,null,null,null,null,null,"1900-12-30",{"$error":"#NUM!"},"1900-12-31","-",{"$f":"G25456-SUMIF(ESCALA!$B$14:$B$15,DADOS!K25456,ESCALA!$I$14:$I$15)","v":0}]
["",null,null,null,null,null,null,"1900-12-30",{"$error":"#NUM!"},"1900-12-31","-",{"$f":"G25471-SUMIF(ESCALA!$B$14:$B$15,DADOS!K25471,ESCALA!$I$14:$I$15)","v":0}]
["",null,null,null,null,null,null,"1900-12-30",{"$f":"IF(E25476=\"ESTATUTARIO\",EOMONTH(F25476,0),EOMONTH(F25476,-1))","v":{"$error":"#NUM!"}},{"$f":"EOMONTH(F25476,11)","v":"1900-12-31"},"-",{"$f":"G25476-SUMIF(ESCALA!$B$14:$B$15,DADOS!K25476,ESCALA!$I$14:$I$15)","v":0}]
["",null,null,null,null,null,null,"1900-12-30",{"$error":"#NUM!"},"1900-12-31","-",{"$f":"G25491-SUMIF(ESCALA!$B$14:$B$15,DADOS!K25491,ESCALA!$I$14:$I$15)","v":0}]
["",null,null,null,null,null,null,"1900-12-30",{"$error":"#NUM!"},"1900-12-31","-",{"$f":"G25505-SUMIF(ESCALA!$B$14:$B$15,DADOS!K25505,ESCALA!$I$14:$I$15)","v":0}]
["",null,null,null,null,null,null,"1900-12-30",{"$error":"#NUM!"},"1900-12-31","-",{"$f":"G25524-SUMIF(ESCALA!$B$14:$B$15,DADOS!K25524,ESCALA!$I$14:$I$15)","v":0}]
[{"$f":"IF(L25539=0,\"\",B25539)","v":""},null,null,null,null,null,null,{"$f":"IF(F25539<=44985,F25539+365,F25539+366)","v":"1900-12-30"},{"$error":"#NUM!"},"1900-12-31",{"$f":"CONCATENATE(B25539,\"-\",F25539)","v":"-"},{"$f":"G25539-SUMIF(ESCALA!$B$14:$B$15,DADOS!K25539,ESCALA!$I$14:$I$15)","v":0}]
["",null,null,null,null,null,null,"1900-12-30",{"$error":"#NUM!"},"1900-12-31","-",{"$f":"G25544-SUMIF(ESCALA!$B$14:$B$15,DADOS!K25544,ESCALA!$I$14:$I$15)","v":0}]
["",null,null,null,null,null,null,"1900-12-30",{"$error":"#NUM!"},"1900-12-31","-",{"$f":"G25558-SUMIF(ESCALA!$B$14:$B$15,DADOS!K25558,ESCALA!$I$14:$I$15)","v":0}]
["",null,null,null,null,null,null,"1900-12-30",{"$error":"#NUM!"},"1900-12-31","-",{"$f":"G25573-SUMIF(ESCALA!$B$14:$B$15,DADOS!K25573,ESCALA!$I$14:$I$15)","v":0}]
["",null,null,null,null,null,null,"1900-12-30",{"$error":"#NUM!"},"1900-12-31","-",{"$f":"G25592-SUMIF(ESCALA!$B$14:$B$15,DADOS!K25592,ESCALA!$I$14:$I$15)","v":0}]
["",null,null,null,null,null,null,"1900-12-30",{"$error":"#NUM!"},"1900-12-31","-",{"$f":"G25606-SUMIF(ESCALA!$B$14:$B$15,DADOS!K25606,ESCALA!$I$14:$I$15)","v":0}]
["",null,null,null,null,null,null,"1900-12-30",{"$error":"#NUM!"},"1900-12-31","-",{"$f":"G25621-SUMIF(ESCALA!$B$14:$B$15,DADOS!K25621,ESCALA!$I$14:$I$15)","v":0}]
["",null,null,null,null,null,null,"1900-12-30",{"$error":"#NUM!"},"1900-12-31","-",{"$f":"G25626-SUMIF(ESCALA!$B$14:$B$15,DADOS!K25626,ESCALA!$I$14:$I$15)","v":0}]
["",null,null,null,null,null,null,"1900-12-30",{"$error":"#NUM!"},"1900-12-31","-",{"$f":"G25641-SUMIF(ESCALA!$B$14:$B$15,DADOS!K25641,ESCALA!$I$14:$I$15)","v":0}]
["",null,null,null,null,null,null,"1900-12-30",{"$error":"#NUM!"},"1900-12-31","-",{"$f":"G25659-SUMIF(ESCALA!$B$14:$B$15,DADOS!K25659,ESCALA!$I$14:$I$15)","v":0}]
["",null,null,null,null,null,null,"1900-12-30",{"$error":"#NUM!"},"1900-12-31","-",{"$f":"G25674-SUMIF(ESCALA!$B$14:$B$15,DADOS!K25674,ESCALA!$I$14:$I$15)","v":0}]
["",null,null,null,null,null,null,"1900-12-30",{"$error":"#NUM!"},"1900-12-31","-",{"$f":"G25689-SUMIF(ESCALA!$B$14:$B$15,DADOS!K25689,ESCALA!$I$14:$I$15)","v":0}]
["",null,null,null,null,null,null,"1900-12-30",{"$error":"#NUM!"},"1900-12-31","-",{"$f":"G25694-SUMIF(ESCALA!$B$14:$B$15,DADOS!K25694,ESCALA!$I$14:$I$15)","v":0}]
["",null,null,null,null,null,null,"1900-12-30",{"$error":"#NUM!"},"1900-12-31","-",{"$f":"G25708-SUMIF(ESCALA!$B$14:$B$15,DADOS!K25708,ESCALA!$I$14:$I$15)","v":0}]
["",null,null,null,null,null,null,"1900-12-30",{"$error":"#NUM!"},"1900-12-31","-",{"$f":"G25723-SUMIF(ESCALA!$B$14:$B$15,DADOS!K25723,ESCALA!$I$14:$I$15)","v":0}]
["",null,null,null,null,null,null,"1900-12-30",{"$error":"#NUM!"},"1900-12-31","-",{"$f":"G25742-SUMIF(ESCALA!$B$14:$B$15,DADOS!K25742,ESCALA!$I$14:$I$15)","v":0}]
["",null,null,null,null,null,null,"1900-12-30",{"$error":"#NUM!"},"1900-12-31","-",{"$f":"G25757-SUMIF(ESCALA!$B$14:$B$15,DADOS!K25757,ESCALA!$I$14:$I$15)","v":0}]
["",null,null,null,null,null,null,"1900-12-30",{"$error":"#NUM!"},"1900-12-31","-",{"$f":"G25770-SUMIF(ESCALA!$B$14:$B$15,DADOS!K25770,ESCALA!$I$14:$I$15)","v":0}]
["",null,null,null,null,null,null,"1900-12-30",{"$error":"#NUM!"},"1900-12-31","-",{"$f":"G25776-SUMIF(ESCALA!$B$14:$B$15,DADOS!K25776,ESCALA!$I$14:$I$15)","v":0}]
["",null,null,null,null,null,null,"1900-12-30",{"$error":"#NUM!"},"1900-12-31","-",{"$f":"G25791-SUMIF(ESCALA!$B$14:$B$15,DADOS!K25791,ESCALA!$I$14:$I$15)","v":0}]
["",null,null,null,null,null,null,"1900-12-30",{"$error":"#NUM!"},"1900-12-31","-",{"$f":"G25810-SUMIF(ESCALA!$B$14:$B$15,DADOS!K25810,ESCALA!$I$14:$I$15)","v":0}]
["",null,null,null,null,null,null,"1900-12-30",{"$error":"#NUM!"},"1900-12-31","-",{"$f":"G25823-SUMIF(ESCALA!$B$14:$B$15,DADOS!K25823,ESCALA!$I$14:$I$15)","v":0}]
["",null,null,null,null,null,null,"1900-12-30",{"$error":"#NUM!"},"1900-12-31","-",{"$f":"G25839-SUMIF(ESCALA!$B$14:$B$15,DADOS!K25839,ESCALA!$I$14:$I$15)","v":0}]
["",null,null,null,null,null,null,"1900-12-30",{"$error":"#NUM!"},"1900-12-31","-",{"$f":"G25844-SUMIF(ESCALA!$B$14:$B$15,DADOS!K25844,ESCALA!$I$14:$I$15)","v":0}]
[{"$f":"IF(L25859=0,\"\",B25859)","v":""},null,null,null,null,null,null,{"$f":"IF(F25859<=44985,F25859+365,F25859+366)","v":"1900-12-30"},{"$error":"#NUM!"},"1900-12-31",{"$f":"CONCATENATE(B25859,\"-\",F25859)","v":"-"},{"$f":"G25859-SUMIF(ESCALA!$B$14:$B$15,DADOS!K25859,ESCALA!$I$14:$I$15)","v":0}]
["",null,null,null,null,null,null,"1900-12-30",{"$error":"#NUM!"},"1900-12-31","-",{"$f":"G25872-SUMIF(ESCALA!$B$14:$B$15,DADOS!K25872,ESCALA!$I$14:$I$15)","v":0}]
["",null,null,null,null,null,null,"1900-12-30",{"$error":"#NUM!"},"1900-12-31","-",{"$f":"G25892-SUMIF(ESCALA!$B$14:$B$15,DADOS!K25892,ESCALA!$I$14:$I$15)","v":0}]
["",null,null,null,null,null,null,"1900-12-30",{"$error":"#NUM!"},"1900-12-31","-",{"$f":"G25907-SUMIF(ESCALA!$B$14:$B$15,DADOS!K25907,ESCALA!$I$14:$I$15)","v":0}]
["",null,null,null,null,null,null,"1900-12-30",{"$error":"#NUM!"},"1900-12-31","-",{"$f":"G25912-SUMIF(ESCALA!$B$14:$B$15,DADOS!K25912,ESCALA!$I$14:$I$15)","v":0}]
["",null,null,null,null,null,null,"1900-12-30",{"$error":"#NUM!"},"1900-12-31","-",{"$f":"G25938-SUMIF(ESCALA!$B$14:$B$15,DADOS!K25938,ESCALA!$I$14:$I$15)","v":0}]
["",null,null,null,null,null,null,"1900-12-30",{"$error":"#NUM!"},"1900-12-31","-",{"$f":"G25945-SUMIF(ESCALA!$B$14:$B$15,DADOS!K25945,ESCALA!$I$14:$I$15)","v":0}]
["",null,null,null,null,null,null,"1900-12-30",{"$error":"#NUM!"},"1900-12-31","-",{"$f":"G25960-SUMIF(ESCALA!$B$14:$B$15,DADOS!K25960,ESCALA!$I$14:$I$15)","v":0}]
["",null,null,null,null,null,null,"1900-12-30",{"$error":"#NUM!"},"1900-12-31","-",{"$f":"G25975-SUMIF(ESCALA!$B$14:$B$15,DADOS!K25975,ESCALA!$I$14:$I$15)","v":0}]
[{"$f":"IF(L25987=0,\"\",B25987)","v":""},null,null,null,null,null,null,{"$f":"IF(F25987<=44985,F25987+365,F25987+366)","v":"1900-12-30"},{"$error":"#NUM!"},"1900-12-31",{"$f":"CONCATENATE(B25987,\"-\",F25987)","v":"-"},{"$f":"G25987-SUMIF(ESCALA!$B$14:$B$15,DADOS!K25987,ESCALA!$I$14:$I$15)","v":0}]
["",null,null,null,null,null,null,"1900-12-30",{"$error":"#NUM!"},"1900-12-31","-",{"$f":"G25994-SUMIF(ESCALA!$B$14:$B$15,DADOS!K25994,ESCALA!$I$14:$I$15)","v":0}]
["",null,null,null,null,null,null,"1900-12-30",{"$error":"#NUM!"},"1900-12-31","-",{"$f":"G26009-SUMIF(ESCALA!$B$14:$B$15,DADOS!K26009,ESCALA!$I$14:$I$15)","v":0}]
["",null,null,null,null,null,null,"1900-12-30",{"$error":"#NUM!"},"1900-12-31","-",{"$f":"G26028-SUMIF(ESCALA!$B$14:$B$15,DADOS!K26028,ESCALA!$I$14:$I$15)","v":0}]
["",null,null,null,null,null,null,"1900-12-30",{"$error":"#NUM!"},"1900-12-31","-",{"$f":"G26040-SUMIF(ESCALA!$B$14:$B$15,DADOS!K26040,ESCALA!$I$14:$I$15)","v":0}]
["",null,null,null,null,null,null,"1900-12-30",{"$error":"#NUM!"},"1900-12-31","-",{"$f":"G26061-SUMIF(ESCALA!$B$14:$B$15,DADOS!K26061,ESCALA!$I$14:$I$15)","v":0}]
["",null,null,null,null,null,null,"1900-12-30",{"$error":"#NUM!"},"1900-12-31","-",{"$f":"G26076-SUMIF(ESCALA!$B$14:$B$15,DADOS!K26076,ESCALA!$I$14:$I$15)","v":0}]
["",null,null,null,null,null,null,"1900-12-30",{"$error":"#NUM!"},"1900-12-31","-",{"$f":"G26077-SUMIF(ESCALA!$B$14:$B$15,DADOS!K26077,ESCALA!$I$14:$I$15)","v":0}]
["",null,null,null,null,null,null,"1900-12-30",{"$error":"#NUM!"},"1900-12-31","-",{"$f":"G26102-SUMIF(ESCALA!$B$14:$B$15,DADOS!K26102,ESCALA!$I$14:$I$15)","v":0}]
["",null,null,null,null,null,null,"1900-12-30",{"$error":"#NUM!"},"1900-12-31","-",{"$f":"G26110-SUMIF(ESCALA!$B$14:$B$15,DADOS!K26110,ESCALA!$I$14:$I$15)","v":0}]
["",null,null,null,null,null,null,"1900-12-30",{"$error":"#NUM!"},"1900-12-31","-",{"$f":"G26125-SUMIF(ESCALA!$B$14:$B$15,DADOS!K26125,ESCALA!$I$14:$I$15)","v":0}]
["",null,null,null,null,null,null,"1900-12-30",{"$error":"#NUM!"},"1900-12-31","-",{"$f":"G26144-SUMIF(ESCALA!$B$14:$B$15,DADOS!K26144,ESCALA!$I$14:$I$15)","v":0}]
["",null,null,null,null,null,null,"1900-12-30",{"$error":"#NUM!"},"1900-12-31","-",{"$f":"G26155-SUMIF(ESCALA!$B$14:$B$15,DADOS!K26155,ESCALA!$I$14:$I$15)","v":0}]
["",null,null,null,null,null,null,"1900-12-30",{"$error":"#NUM!"},"1900-12-31","-",{"$f":"G26163-SUMIF(ESCALA!$B$14:$B$15,DADOS!K26163,ESCALA!$I$14:$I$15)","v":0}]
["",null,null,null,null,null,null,"1900-12-30",{"$error":"#NUM!"},"1900-12-31","-",{"$f":"G26178-SUMIF(ESCALA!$B$14:$B$15,DADOS!K26178,ESCALA!$I$14:$I$15)","v":0}]
["",null,null,null,null,null,null,"1900-12-30",{"$error":"#NUM!"},"1900-12-31","-",{"$f":"G26193-SUMIF(ESCALA!$B$14:$B$15,DADOS!K26193,ESCALA!$I$14:$I$15)","v":0}]
["",null,null,null,null,null,null,"1900-12-30",{"$error":"#NUM!"},"1900-12-31","-",{"$f":"G26204-SUMIF(ESCALA!$B$14:$B$15,DADOS!K26204,ESCALA!$I$14:$I$15)","v":0}]
["",null,null,null,null,null,null,"1900-12-30",{"$error":"#NUM!"},"1900-12-31","-",{"$f":"G26226-SUMIF(ESCALA!$B$14:$B$15,DADOS!K26226,ESCALA!$I$14:$I$15)","v":0}]
["",null,null,null,null,null,null,"1900-12-30",{"$error":"#NUM!"},"1900-12-31","-",{"$f":"G26231-SUMIF(ESCALA!$B$14:$B$15,DADOS!K26231,ESCALA!$I$14:$I$15)","v":0}]
["",null,null,null,null,null,null,"1900-12-30",{"$error":"#NUM!"},"1900-12-31","-",{"$f":"G26246-SUMIF(ESCALA!$B$14:$B$15,DADOS!K26246,ESCALA!$I$14:$I$15)","v":0}]
["",null,null,null,null,null,null,"1900-12-30",{"$error":"#NUM!"},"1900-12-31","-",{"$f":"G26257-SUMIF(ESCALA!$B$14:$B$15,DADOS!K26257,ESCALA!$I$14:$I$15)","v":0}]
["",null,null,null,null,null,null,"1900-12-30",{"$error":"#NUM!"},"1900-12-31","-",{"$f":"G26279-SUMIF(ESCALA!$B$14:$B$15,DADOS!K26279,ESCALA!$I$14:$I$15)","v":0}]
["",null,null,null,null,null,null,"1900-12-30",{"$error":"#NUM!"},"1900-12-31","-",{"$f":"G26294-SUMIF(ESCALA!$B$14:$B$15,DADOS!K26294,ESCALA!$I$14:$I$15)","v":0}]
["",null,null,null,null,null,null,"1900-12-30",{"$error":"#NUM!"},"1900-12-31","-",{"$f":"G26309-SUMIF(ESCALA!$B$14:$B$15,DADOS!K26309,ESCALA!$I$14:$I$15)","v":0}]
["",null,null,null,null,null,null,"1900-12-30",{"$error":"#NUM!"},"1900-12-31","-",{"$f":"G26319-SUMIF(ESCALA!$B$14:$B$15,DADOS!K26319,ESCALA!$I$14:$I$15)","v":0}]
["",null,null,null,null,null,null,"1900-12-30",{"$error":"#NUM!"},"1900-12-31","-",{"$f":"G26328-SUMIF(ESCALA!$B$14:$B$15,DADOS!K26328,ESCALA!$I$14:$I$15)","v":0}]
["",null,null,null,null,null,null,"1900-12-30",{"$error":"#NUM!"},"1900-12-31","-",{"$f":"G26347-SUMIF(ESCALA!$B$14:$B$15,DADOS!K26347,ESCALA!$I$14:$I$15)","v":0}]
["",null,null,null,null,null,null,"1900-12-30",{"$error":"#NUM!"},"1900-12-31","-",{"$f":"G26362-SUMIF(ESCALA!$B$14:$B$15,DADOS!K26362,ESCALA!$I$14:$I$15)","v":0}]
["",null,null,null,null,null,null,"1900-12-30",{"$f":"IF(E26372=\"ESTATUTARIO\",EOMONTH(F26372,0),EOMONTH(F26372,-1))","v":{"$error":"#NUM!"}},{"$f":"EOMONTH(F26372,11)","v":"1900-12-31"},"-",{"$f":"G26372-SUMIF(ESCALA!$B$14:$B$15,DADOS!K26372,ESCALA!$I$14:$I$15)","v":0}]
["",null,null,null,null,null,null,"1900-12-30",{"$error":"#NUM!"},"1900-12-31","-",{"$f":"G26381-SUMIF(ESCALA!$B$14:$B$15,DADOS!K26381,ESCALA!$I$14:$I$15)","v":0}]
["",null,null,null,null,null,null,"1900-12-30",{"$error":"#NUM!"},"1900-12-31","-",{"$f":"G26396-SUMIF(ESCALA!$B$14:$B$15,DADOS!K26396,ESCALA!$I$14:$I$15)","v":0}]
["",null,null,null,null,null,null,"1900-12-30",{"$error":"#NUM!"},"1900-12-31","-",{"$f":"G26411-SUMIF(ESCALA!$B$14:$B$15,DADOS!K26411,ESCALA!$I$14:$I$15)","v":0}]
["",null,null,null,null,null,null,"1900-12-30",{"$error":"#NUM!"},"1900-12-31","-",{"$f":"G26421-SUMIF(ESCALA!$B$14:$B$15,DADOS!K26421,ESCALA!$I$14:$I$15)","v":0}]
["",null,null,null,null,null,null,"1900-12-30",{"$error":"#NUM!"},"1900-12-31","-",{"$f":"G26444-SUMIF(ESCALA!$B$14:$B$15,DADOS!K26444,ESCALA!$I$14:$I$15)","v":0}]
["",null,null,null,null,null,null,"1900-12-30",{"$error":"#NUM!"},"1900-12-31","-",{"$f":"G26449-SUMIF(ESCALA!$B$14:$B$15,DADOS!K26449,ESCALA!$I$14:$I$15)","v":0}]
["",null,null,null,null,null,null,"1900-12-30",{"$error":"#NUM!"},"1900-12-31","-",{"$f":"G26464-SUMIF(ESCALA!$B$14:$B$15,DADOS!K26464,ESCALA!$I$14:$I$15)","v":0}]
["",null,null,null,null,null,null,"1900-12-30",{"$error":"#NUM!"},"1900-12-31","-",{"$f":"G26487-SUMIF(ESCALA!$B$14:$B$15,DADOS!K26487,ESCALA!$I$14:$I$15)","v":0}]
["",null,null,null,null,null,null,"1900-12-30",{"$error":"#NUM!"},"1900-12-31","-",{"$f":"G26497-SUMIF(ESCALA!$B$14:$B$15,DADOS!K26497,ESCALA!$I$14:$I$15)","v":0}]
["",null,null,null,null,null,null,"1900-12-30",{"$error":"#NUM!"},"1900-12-31","-",{"$f":"G26512-SUMIF(ESCALA!$B$14:$B$15,DADOS!K26512,ESCALA!$I$14:$I$15)","v":0}]
["",null,null,null,null,null,null,"1900-12-30",{"$error":"#NUM!"},"1900-12-31","-",{"$f":"G26517-SUMIF(ESCALA!$B$14:$B$15,DADOS!K26517,ESCALA!$I$14:$I$15)","v":0}]
["",null,null,null,null,null,null,"1900-12-30",{"$error":"#NUM!"},"1900-12-31","-",{"$f":"G26536-SUMIF(ESCALA!$B$14:$B$15,DADOS!K26536,ESCALA!$I$14:$I$15)","v":0}]
["",null,null,null,null,null,null,"1900-12-30",{"$error":"#NUM!"},"1900-12-31","-",{"$f":"G26546-SUMIF(ESCALA!$B$14:$B$15,DADOS!K26546,ESCALA!$I$14:$I$15)","v":0}]
["",null,null,null,null,null,null,"1900-12-30",{"$error":"#NUM!"},"1900-12-31","-",{"$f":"G26565-SUMIF(ESCALA!$B$14:$B$15,DADOS!K26565,ESCALA!$I$14:$I$15)","v":0}]
["",null,null,null,null,null,null,"1900-12-30",{"$error":"#NUM!"},"1900-12-31","-",{"$f":"G26580-SUMIF(ESCALA!$B$14:$B$15,DADOS!K26580,ESCALA!$I$14:$I$15)","v":0}]
["",null,null,null,null,null,null,"1900-12-30",{"$error":"#NUM!"},"1900-12-31","-",{"$f":"G26589-SUMIF(ESCALA!$B$14:$B$15,DADOS!K26589,ESCALA!$I$14:$I$15)","v":0}]
["",null,null,null,null,null,null,"1900-12-30",{"$error":"#NUM!"},"1900-12-31","-",{"$f":"G26599-SUMIF(ESCALA!$B$14:$B$15,DADOS!K26599,ESCALA!$I$14:$I$15)","v":0}]
["",null,null,null,null,null,null,"1900-12-30",{"$error":"#NUM!"},"1900-12-31","-",{"$f":"G26614-SUMIF(ESCALA!$B$14:$B$15,DADOS!K26614,ESCALA!$I$14:$I$15)","v":0}]
["",null,null,null,null,null,null,"1900-12-30",{"$error":"#NUM!"},"1900-12-31","-",{"$f":"G26633-SUMIF(ESCALA!$B$14:$B$15,DADOS!K26633,ESCALA!$I$14:$I$15)","v":0}]
["",null,null,null,null,null,null,"1900-12-30",{"$error":"#NUM!"},"1900-12-31","-",{"$f":"G26651-SUMIF(ESCALA!$B$14:$B$15,DADOS!K26651,ESCALA!$I$14:$I$15)","v":0}]
["",null,null,null,null,null,null,"1900-12-30",{"$error":"#NUM!"},"1900-12-31","-",{"$f":"G26662-SUMIF(ESCALA!$B$14:$B$15,DADOS!K26662,ESCALA!$I$14:$I$15)","v":0}]
["",null,null,null,null,null,null,"1900-12-30",{"$error":"#NUM!"},"1900-12-31","-",{"$f":"G26681-SUMIF(ESCALA!$B$14:$B$15,DADOS!K26681,ESCALA!$I$14:$I$15)","v":0}]
["",null,null,null,null,null,null,"1900-12-30",{"$error":"#NUM!"},"1900-12-31","-",{"$f":"G26682-SUMIF(ESCALA!$B$14:$B$15,DADOS!K26682,ESCALA!$I$14:$I$15)","v":0}]
["",null,null,null,null,null,null,"1900-12-30",{"$error":"#NUM!"},"1900-12-31","-",{"$f":"G26700-SUMIF(ESCALA!$B$14:$B$15,DADOS!K26700,ESCALA!$I$14:$I$15)","v":0}]
["",null,null,null,null,null,null,"1900-12-30",{"$error":"#NUM!"},"1900-12-31","-",{"$f":"G26715-SUMIF(ESCALA!$B$14:$B$15,DADOS!K26715,ESCALA!$I$14:$I$15)","v":0}]
["",null,null,null,null,null,null,"1900-12-30",{"$error":"#NUM!"},"1900-12-31","-",{"$f":"G26730-SUMIF(ESCALA!$B$14:$B$15,DADOS!K26730,ESCALA!$I$14:$I$15)","v":0}]
["",null,null,null,null,null,null,"1900-12-30",{"$error":"#NUM!"},"1900-12-31","-",{"$f":"G26749-SUMIF(ESCALA!$B$14:$B$15,DADOS!K26749,ESCALA!$I$14:$I$15)","v":0}]
["",null,null,null,null,null,null,"1900-12-30",{"$error":"#NUM!"},"1900-12-31","-",{"$f":"G26753-SUMIF(ESCALA!$B$14:$B$15,DADOS!K26753,ESCALA!$I$14:$I$15)","v":0}]
["",null,null,null,null,null,null,"1900-12-30",{"$error":"#NUM!"},"1900-12-31","-",{"$f":"G26764-SUMIF(ESCALA!$B$14:$B$15,DADOS!K26764,ESCALA!$I$14:$I$15)","v":0}]
["",null,null,null,null,null,null,"1900-12-30",{"$error":"#NUM!"},"1900-12-31","-",{"$f":"G26783-SUMIF(ESCALA!$B$14:$B$15,DADOS!K26783,ESCALA!$I$14:$I$15)","v":0}]
["",null,null,null,null,null,null,"1900-12-30",{"$error":"#NUM!"},"1900-12-31","-",{"$f":"G26798-SUMIF(ESCALA!$B$14:$B$15,DADOS!K26798,ESCALA!$I$14:$I$15)","v":0}]
["",null,null,null,null,null,null,"1900-12-30",{"$error":"#NUM!"},"1900-12-31","-",{"$f":"G26815-SUMIF(ESCALA!$B$14:$B$15,DADOS!K26815,ESCALA!$I$14:$I$15)","v":0}]
["",null,null,null,null,null,null,"1900-12-30",{"$error":"#NUM!"},"1900-12-31","-",{"$f":"G26831-SUMIF(ESCALA!$B$14:$B$15,DADOS!K26831,ESCALA!$I$14:$I$15)","v":0}]
["",null,null,null,null,null,null,"1900-12-30",{"$error":"#NUM!"},"1900-12-31","-",{"$f":"G26846-SUMIF(ESCALA!$B$14:$B$15,DADOS!K26846,ESCALA!$I$14:$I$15)","v":0}]
["",null,null,null,null,null,null,"1900-12-30",{"$error":"#NUM!"},"1900-12-31","-",{"$f":"G26851-SUMIF(ESCALA!$B$14:$B$15,DADOS!K26851,ESCALA!$I$14:$I$15)","v":0}]
["",null,null,null,null,null,null,"1900-12-30",{"$error":"#NUM!"},"1900-12-31","-",{"$f":"G26868-SUMIF(ESCALA!$B$14:$B$15,DADOS!K26868,ESCALA!$I$14:$I$15)","v":0}]
["",null,null,null,null,null,null,"1900-12-30",{"$error":"#NUM!"},"1900-12-31","-",{"$f":"G26880-SUMIF(ESCALA!$B$14:$B$15,DADOS!K26880,ESCALA!$I$14:$I$15)","v":0}]
["",null,null,null,null,null,null,"1900-12-30",{"$error":"#NUM!"},"1900-12-31","-",{"$f":"G26899-SUMIF(ESCALA!$B$14:$B$15,DADOS!K26899,ESCALA!$I$14:$I$15)","v":0}]
["",null,null,null,null,null,null,"1900-12-30",{"$error":"#NUM!"},"1900-12-31","-",{"$f":"G26914-SUMIF(ESCALA!$B$14:$B$15,DADOS!K26914,ESCALA!$I$14:$I$15)","v":0}]
["",null,null,null,null,null,null,"1900-12-30",{"$error":"#NUM!"},"1900-12-31","-",{"$f":"G26917-SUMIF(ESCALA!$B$14:$B$15,DADOS!K26917,ESCALA!$I$14:$I$15)","v":0}]
["",null,null,null,null,null,null,"1900-12-30",{"$error":"#NUM!"},"1900-12-31","-",{"$f":"G26933-SUMIF(ESCALA!$B$14:$B$15,DADOS!K26933,ESCALA!$I$14:$I$15)","v":0}]
["",null,null,null,null,null,null,"1900-12-30",{"$f":"IF(E26948=\"ESTATUTARIO\",EOMONTH(F26948,0),EOMONTH(F26948,-1))","v":{"$error":"#NUM!"}},{"$f":"EOMONTH(F26948,11)","v":"1900-12-31"},"-",{"$f":"G26948-SUMIF(ESCALA!$B$14:$B$15,DADOS!K26948,ESCALA!$I$14:$I$15)","v":0}]
["",null,null,null,null,null,null,"1900-12-30",{"$error":"#NUM!"},"1900-12-31","-",{"$f":"G26967-SUMIF(ESCALA!$B$14:$B$15,DADOS!K26967,ESCALA!$I$14:$I$15)","v":0}]
["",null,null,null,null,null,null,"1900-12-30",{"$error":"#NUM!"},"1900-12-31","-",{"$f":"G26983-SUMIF(ESCALA!$B$14:$B$15,DADOS!K26983,ESCALA!$I$14:$I$15)","v":0}]
["",null,null,null,null,null,null,"1900-12-30",{"$error":"#NUM!"},"1900-12-31","-",{"$f":"G26986-SUMIF(ESCALA!$B$14:$B$15,DADOS!K26986,ESCALA!$I$14:$I$15)","v":0}]
["",null,null,null,null,null,null,"1900-12-30",{"$error":"#NUM!"},"1900-12-31","-",{"$f":"G27001-SUMIF(ESCALA!$B$14:$B$15,DADOS!K27001,ESCALA!$I$14:$I$15)","v":0}]
["",null,null,null,null,null,null,"1900-12-30",{"$error":"#NUM!"},"1900-12-31","-",{"$f":"G27016-SUMIF(ESCALA!$B$14:$B$15,DADOS!K27016,ESCALA!$I$14:$I$15)","v":0}]
["",null,null,null,null,null,null,"1900-12-30",{"$error":"#NUM!"},"1900-12-31","-",{"$f":"G27032-SUMIF(ESCALA!$B$14:$B$15,DADOS!K27032,ESCALA!$I$14:$I$15)","v":0}]
["",null,null,null,null,null,null,"1900-12-30",{"$error":"#NUM!"},"1900-12-31","-",{"$f":"G27049-SUMIF(ESCALA!$B$14:$B$15,DADOS!K27049,ESCALA!$I$14:$I$15)","v":0}]
["",null,null,null,null,null,null,"1900-12-30",{"$error":"#NUM!"},"1900-12-31","-",{"$f":"G27064-SUMIF(ESCALA!$B$14:$B$15,DADOS!K27064,ESCALA!$I$14:$I$15)","v":0}]
["",null,null,null,null,null,null,"1900-12-30",{"$error":"#NUM!"},"1900-12-31","-",{"$f":"G27069-SUMIF(ESCALA!$B$14:$B$15,DADOS!K27069,ESCALA!$I$14:$I$15)","v":0}]
["",null,null,null,null,null,null,"1900-12-30",{"$error":"#NUM!"},"1900-12-31","-",{"$f":"G27085-SUMIF(ESCALA!$B$14:$B$15,DADOS!K27085,ESCALA!$I$14:$I$15)","v":0}]
["",null,null,null,null,null,null,"1900-12-30",{"$error":"#NUM!"},"1900-12-31","-",{"$f":"G27102-SUMIF(ESCALA!$B$14:$B$15,DADOS!K27102,ESCALA!$I$14:$I$15)","v":0}]
["",null,null,null,null,null,null,"1900-12-30",{"$error":"#NUM!"},"1900-12-31","-",{"$f":"G27117-SUMIF(ESCALA!$B$14:$B$15,DADOS!K27117,ESCALA!$I$14:$I$15)","v":0}]
["",null,null,null,null,null,null,"1900-12-30",{"$error":"#NUM!"},"1900-12-31","-",{"$f":"G27132-SUMIF(ESCALA!$B$14:$B$15,DADOS!K27132,ESCALA!$I$14:$I$15)","v":0}]
["",null,null,null,null,null,null,"1900-12-30",{"$error":"#NUM!"},"1900-12-31","-",{"$f":"G27147-SUMIF(ESCALA!$B$14:$B$15,DADOS!K27147,ESCALA!$I$14:$I$15)","v":0}]
["",null,null,null,null,null,null,"1900-12-30",{"$error":"#NUM!"},"1900-12-31","-",{"$f":"G27151-SUMIF(ESCALA!$B$14:$B$15,DADOS!K27151,ESCALA!$I$14:$I$15)","v":0}]
["",null,null,null,null,null,null,"1900-12-30",{"$error":"#NUM!"},"1900-12-31","-",{"$f":"G27166-SUMIF(ESCALA!$B$14:$B$15,DADOS!K27166,ESCALA!$I$14:$I$15)","v":0}]
["",null,null,null,null,null,null,"1900-12-30",{"$error":"#NUM!"},"1900-12-31","-",{"$f":"G27185-SUMIF(ESCALA!$B$14:$B$15,DADOS!K27185,ESCALA!$I$14:$I$15)","v":0}]
["",null,null,null,null,null,null,"1900-12-30",{"$error":"#NUM!"},"1900-12-31","-",{"$f":"G27200-SUMIF(ESCALA!$B$14:$B$15,DADOS!K27200,ESCALA!$I$14:$I$15)","v":0}]
["",null,null,null,null,null,null,"1900-12-30",{"$f":"IF(E27204=\"ESTATUTARIO\",EOMONTH(F27204,0),EOMONTH(F27204,-1))","v":{"$error":"#NUM!"}},{"$f":"EOMONTH(F27204,11)","v":"1900-12-31"},"-",{"$f":"G27204-SUMIF(ESCALA!$B$14:$B$15,DADOS!K27204,ESCALA!$I$14:$I$15)","v":0}]
["",null,null,null,null,null,null,"1900-12-30",{"$error":"#NUM!"},"1900-12-31","-",{"$f":"G27219-SUMIF(ESCALA!$B$14:$B$15,DADOS!K27219,ESCALA!$I$14:$I$15)","v":0}]
["",null,null,null,null,null,null,"1900-12-30",{"$error":"#NUM!"},"1900-12-31","-",{"$f":"G27234-SUMIF(ESCALA!$B$14:$B$15,DADOS!K27234,ESCALA!$I$14:$I$15)","v":0}]
["",null,null,null,null,null,null,"1900-12-30",{"$error":"#NUM!"},"1900-12-31","-",{"$f":"G27249-SUMIF(ESCALA!$B$14:$B$15,DADOS!K27249,ESCALA!$I$14:$I$15)","v":0}]
[{"$f":"IF(L27267=0,\"\",B27267)","v":""},null,null,null,null,null,null,{"$f":"IF(F27267<=44985,F27267+365,F27267+366)","v":"1900-12-30"},{"$error":"#NUM!"},"1900-12-31",{"$f":"CONCATENATE(B27267,\"-\",F27267)","v":"-"},{"$f":"G27267-SUMIF(ESCALA!$B$14:$B$15,DADOS!K27267,ESCALA!$I$14:$I$15)","v":0}]
["",null,null,null,null,null,null,"1900-12-30",{"$error":"#NUM!"},"1900-12-31","-",{"$f":"G27286-SUMIF(ESCALA!$B$14:$B$15,DADOS!K27286,ESCALA!$I$14:$I$15)","v":0}]
["",null,null,null,null,null,null,"1900-12-30",{"$error":"#NUM!"},"1900-12-31","-",{"$f":"G27287-SUMIF(ESCALA!$B$14:$B$15,DADOS!K27287,ESCALA!$I$14:$I$15)","v":0}]
["",null,null,null,null,null,null,"1900-12-30",{"$error":"#NUM!"},"1900-12-31","-",{"$f":"G27302-SUMIF(ESCALA!$B$14:$B$15,DADOS!K27302,ESCALA!$I$14:$I$15)","v":0}]
["",null,null,null,null,null,null,"1900-12-30",{"$error":"#NUM!"},"1900-12-31","-",{"$f":"G27320-SUMIF(ESCALA!$B$14:$B$15,DADOS!K27320,ESCALA!$I$14:$I$15)","v":0}]
["",null,null,null,null,null,null,"1900-12-30",{"$error":"#NUM!"},"1900-12-31","-",{"$f":"G27335-SUMIF(ESCALA!$B$14:$B$15,DADOS!K27335,ESCALA!$I$14:$I$15)","v":0}]
["",null,null,null,null,null,null,"1900-12-30",{"$error":"#NUM!"},"1900-12-31","-",{"$f":"G27350-SUMIF(ESCALA!$B$14:$B$15,DADOS!K27350,ESCALA!$I$14:$I$15)","v":0}]
["",null,null,null,null,null,null,"1900-12-30",{"$error":"#NUM!"},"1900-12-31","-",{"$f":"G27364-SUMIF(ESCALA!$B$14:$B$15,DADOS!K27364,ESCALA!$I$14:$I$15)","v":0}]
["",null,null,null,null,null,null,"1900-12-30",{"$error":"#NUM!"},"1900-12-31","-",{"$f":"G27369-SUMIF(ESCALA!$B$14:$B$15,DADOS!K27369,ESCALA!$I$14:$I$15)","v":0}]
["",null,null,null,null,null,null,"1900-12-30",{"$error":"#NUM!"},"1900-12-31","-",{"$f":"G27388-SUMIF(ESCALA!$B$14:$B$15,DADOS!K27388,ESCALA!$I$14:$I$15)","v":0}]
["",null,null,null,null,null,null,"1900-12-30",{"$error":"#NUM!"},"1900-12-31","-",{"$f":"G27403-SUMIF(ESCALA!$B$14:$B$15,DADOS!K27403,ESCALA!$I$14:$I$15)","v":0}]
["",null,null,null,null,null,null,"1900-12-30",{"$error":"#NUM!"},"1900-12-31","-",{"$f":"G27417-SUMIF(ESCALA!$B$14:$B$15,DADOS!K27417,ESCALA!$I$14:$I$15)","v":0}]
["",null,null,null,null,null,null,"1900-12-30",{"$error":"#NUM!"},"1900-12-31","-",{"$f":"G27436-SUMIF(ESCALA!$B$14:$B$15,DADOS!K27436,ESCALA!$I$14:$I$15)","v":0}]
["",null,null,null,null,null,null,"1900-12-30",{"$error":"#NUM!"},"1900-12-31","-",{"$f":"G27451-SUMIF(ESCALA!$B$14:$B$15,DADOS!K27451,ESCALA!$I$14:$I$15)","v":0}]
["",null,null,null,null,null,null,"1900-12-30",{"$error":"#NUM!"},"1900-12-31","-",{"$f":"G27456-SUMIF(ESCALA!$B$14:$B$15,DADOS!K27456,ESCALA!$I$14:$I$15)","v":0}]
["",null,null,null,null,null,null,"1900-12-30",{"$error":"#NUM!"},"1900-12-31","-",{"$f":"G27466-SUMIF(ESCALA!$B$14:$B$15,DADOS!K27466,ESCALA!$I$14:$I$15)","v":0}]
["",null,null,null,null,null,null,"1900-12-30",{"$error":"#NUM!"},"1900-12-31","-",{"$f":"G27485-SUMIF(ESCALA!$B$14:$B$15,DADOS!K27485,ESCALA!$I$14:$I$15)","v":0}]
["",null,null,null,null,null,null,"1900-12-30",{"$error":"#NUM!"},"1900-12-31","-",{"$f":"G27504-SUMIF(ESCALA!$B$14:$B$15,DADOS!K27504,ESCALA!$I$14:$I$15)","v":0}]
["",null,null,null,null,null,null,"1900-12-30",{"$error":"#NUM!"},"1900-12-31","-",{"$f":"G27519-SUMIF(ESCALA!$B$14:$B$15,DADOS!K27519,ESCALA!$I$14:$I$15)","v":0}]
["",null,null,null,null,null,null,"1900-12-30",{"$error":"#NUM!"},"1900-12-31","-",{"$f":"G27532-SUMIF(ESCALA!$B$14:$B$15,DADOS!K27532,ESCALA!$I$14:$I$15)","v":0}]
["",null,null,null,null,null,null,"1900-12-30",{"$error":"#NUM!"},"1900-12-31","-",{"$f":"G27538-SUMIF(ESCALA!$B$14:$B$15,DADOS!K27538,ESCALA!$I$14:$I$15)","v":0}]
["",null,null,null,null,null,null,"1900-12-30",{"$error":"#NUM!"},"1900-12-31","-",{"$f":"G27553-SUMIF(ESCALA!$B$14:$B$15,DADOS!K27553,ESCALA!$I$14:$I$15)","v":0}]
["",null,null,null,null,null,null,"1900-12-30",{"$error":"#NUM!"},"1900-12-31","-",{"$f":"G27572-SUMIF(ESCALA!$B$14:$B$15,DADOS!K27572,ESCALA!$I$14:$I$15)","v":0}]
["",null,null,null,null,null,null,"1900-12-30",{"$error":"#NUM!"},"1900-12-31","-",{"$f":"G27581-SUMIF(ESCALA!$B$14:$B$15,DADOS!K27581,ESCALA!$I$14:$I$15)","v":0}]
["",null,null,null,null,null,null,"1900-12-30",{"$error":"#NUM!"},"1900-12-31","-",{"$f":"G27601-SUMIF(ESCALA!$B$14:$B$15,DADOS!K27601,ESCALA!$I$14:$I$15)","v":0}]
["",null,null,null,null,null,null,"1900-12-30",{"$error":"#NUM!"},"1900-12-31","-",{"$f":"G27606-SUMIF(ESCALA!$B$14:$B$15,DADOS!K27606,ESCALA!$I$14:$I$15)","v":0}]
["",null,null,null,null,null,null,"1900-12-30",{"$error":"#NUM!"},"1900-12-31","-",{"$f":"G27621-SUMIF(ESCALA!$B$14:$B$15,DADOS!K27621,ESCALA!$I$14:$I$15)","v":0}]
["",null,null,null,null,null,null,"1900-12-30",{"$error":"#NUM!"},"1900-12-31","-",{"$f":"G27634-SUMIF(ESCALA!$B$14:$B$15,DADOS!K27634,ESCALA!$I$14:$I$15)","v":0}]
["",null,null,null,null,null,null,"1900-12-30",{"$error":"#NUM!"},"1900-12-31","-",{"$f":"G27654-SUMIF(ESCALA!$B$14:$B$15,DADOS!K27654,ESCALA!$I$14:$I$15)","v":0}]
["",null,null,null,null,null,null,"1900-12-30",{"$error":"#NUM!"},"1900-12-31","-",{"$f":"G27669-SUMIF(ESCALA!$B$14:$B$15,DADOS!K27669,ESCALA!$I$14:$I$15)","v":0}]
["",null,null,null,null,null,null,"1900-12-30",{"$error":"#NUM!"},"1900-12-31","-",{"$f":"G27674-SUMIF(ESCALA!$B$14:$B$15,DADOS!K27674,ESCALA!$I$14:$I$15)","v":0}]
["",null,null,null,null,null,null,"1900-12-30",{"$error":"#NUM!"},"1900-12-31","-",{"$f":"G27696-SUMIF(ESCALA!$B$14:$B$15,DADOS!K27696,ESCALA!$I$14:$I$15)","v":0}]
["",null,null,null,null,null,null,"1900-12-30",{"$error":"#NUM!"},"1900-12-31","-",{"$f":"G27703-SUMIF(ESCALA!$B$14:$B$15,DADOS!K27703,ESCALA!$I$14:$I$15)","v":0}]
["",null,null,null,null,null,null,"1900-12-30",{"$error":"#NUM!"},"1900-12-31","-",{"$f":"G27722-SUMIF(ESCALA!$B$14:$B$15,DADOS!K27722,ESCALA!$I$14:$I$15)","v":0}]
["",null,null,null,null,null,null,"1900-12-30",{"$error":"#NUM!"},"1900-12-31","-",{"$f":"G27737-SUMIF(ESCALA!$B$14:$B$15,DADOS!K27737,ESCALA!$I$14:$I$15)","v":0}]
["",null,null,null,null,null,null,"1900-12-30",{"$error":"#NUM!"},"1900-12-31","-",{"$f":"G27745-SUMIF(ESCALA!$B$14:$B$15,DADOS!K27745,ESCALA!$I$14:$I$15)","v":0}]
["",null,null,null,null,null,null,"1900-12-30",{"$error":"#NUM!"},"1900-12-31","-",{"$f":"G27756-SUMIF(ESCALA!$B$14:$B$15,DADOS!K27756,ESCALA!$I$14:$I$15)","v":0}]
["",null,null,null,null,null,null,"1900-12-30",{"$error":"#NUM!"},"1900-12-31","-",{"$f":"G27771-SUMIF(ESCALA!$B$14:$B$15,DADOS!K27771,ESCALA!$I$14:$I$15)","v":0}]
["",null,null,null,null,null,null,"1900-12-30",{"$error":"#NUM!"},"1900-12-31","-",{"$f":"G27790-SUMIF(ESCALA!$B$14:$B$15,DADOS!K27790,ESCALA!$I$14:$I$15)","v":0}]
["",null,null,null,null,null,null,"1900-12-30",{"$error":"#NUM!"},"1900-12-31","-",{"$f":"G27798-SUMIF(ESCALA!$B$14:$B$15,DADOS!K27798,ESCALA!$I$14:$I$15)","v":0}]
["",null,null,null,null,null,null,"1900-12-30",{"$error":"#NUM!"},"1900-12-31","-",{"$f":"G27819-SUMIF(ESCALA!$B$14:$B$15,DADOS!K27819,ESCALA!$I$14:$I$15)","v":0}]
["",null,null,null,null,null,null,"1900-12-30",{"$error":"#NUM!"},"1900-12-31","-",{"$f":"G27824-SUMIF(ESCALA!$B$14:$B$15,DADOS!K27824,ESCALA!$I$14:$I$15)","v":0}]
["",null,null,null,null,null,null,"1900-12-30",{"$error":"#NUM!"},"1900-12-31","-",{"$f":"G27839-SUMIF(ESCALA!$B$14:$B$15,DADOS!K27839,ESCALA!$I$14:$I$15)","v":0}]
["",null,null,null,null,null,null,"1900-12-30",{"$error":"#NUM!"},"1900-12-31","-",{"$f":"G27860-SUMIF(ESCALA!$B$14:$B$15,DADOS!K27860,ESCALA!$I$14:$I$15)","v":0}]
["",null,null,null,null,null,null,"1900-12-30",{"$error":"#NUM!"},"1900-12-31","-",{"$f":"G27872-SUMIF(ESCALA!$B$14:$B$15,DADOS!K27872,ESCALA!$I$14:$I$15)","v":0}]
["",null,null,null,null,null,null,"1900-12-30",{"$error":"#NUM!"},"1900-12-31","-",{"$f":"G27887-SUMIF(ESCALA!$B$14:$B$15,DADOS!K27887,ESCALA!$I$14:$I$15)","v":0}]
["",null,null,null,null,null,null,"1900-12-30",{"$error":"#NUM!"},"1900-12-31","-",{"$f":"G27892-SUMIF(ESCALA!$B$14:$B$15,DADOS!K27892,ESCALA!$I$14:$I$15)","v":0}]
["",null,null,null,null,null,null,"1900-12-30",{"$error":"#NUM!"},"1900-12-31","-",{"$f":"G27913-SUMIF(ESCALA!$B$14:$B$15,DADOS!K27913,ESCALA!$I$14:$I$15)","v":0}]
["",null,null,null,null,null,null,"1900-12-30",{"$error":"#NUM!"},"1900-12-31","-",{"$f":"G27925-SUMIF(ESCALA!$B$14:$B$15,DADOS!K27925,ESCALA!$I$14:$I$15)","v":0}]
["",null,null,null,null,null,null,"1900-12-30",{"$error":"#NUM!"},"1900-12-31","-",{"$f":"G27940-SUMIF(ESCALA!$B$14:$B$15,DADOS!K27940,ESCALA!$I$14:$I$15)","v":0}]
["",null,null,null,null,null,null,"1900-12-30",{"$error":"#NUM!"},"1900-12-31","-",{"$f":"G27955-SUMIF(ESCALA!$B$14:$B$15,DADOS!K27955,ESCALA!$I$14:$I$15)","v":0}]
["",null,null,null,null,null,null,"1900-12-30",{"$error":"#NUM!"},"1900-12-31","-",{"$f":"G27962-SUMIF(ESCALA!$B$14:$B$15,DADOS!K27962,ESCALA!$I$14:$I$15)","v":0}]
["",null,null,null,null,null,null,"1900-12-30",{"$error":"#NUM!"},"1900-12-31","-",{"$f":"G27974-SUMIF(ESCALA!$B$14:$B$15,DADOS!K27974,ESCALA!$I$14:$I$15)","v":0}]
["",null,null,null,null,null,null,"1900-12-30",{"$error":"#NUM!"},"1900-12-31","-",{"$f":"G27989-SUMIF(ESCALA!$B$14:$B$15,DADOS!K27989,ESCALA!$I$14:$I$15)","v":0}]
["",null,null,null,null,null,null,"1900-12-30",{"$error":"#NUM!"},"1900-12-31","-",{"$f":"G28008-SUMIF(ESCALA!$B$14:$B$15,DADOS!K28008,ESCALA!$I$14:$I$15)","v":0}]
["",null,null,null,null,null,null,"1900-12-30",{"$error":"#NUM!"},"1900-12-31","-",{"$f":"G28028-SUMIF(ESCALA!$B$14:$B$15,DADOS!K28028,ESCALA!$I$14:$I$15)","v":0}]
["",null,null,null,null,null,null,"1900-12-30",{"$error":"#NUM!"},"1900-12-31","-",{"$f":"G28041-SUMIF(ESCALA!$B$14:$B$15,DADOS!K28041,ESCALA!$I$14:$I$15)","v":0}]
["",null,null,null,null,null,null,"1900-12-30",{"$error":"#NUM!"},"1900-12-31","-",{"$f":"G28056-SUMIF(ESCALA!$B$14:$B$15,DADOS!K28056,ESCALA!$I$14:$I$15)","v":0}]
["",null,null,null,null,null,null,"1900-12-30",{"$error":"#NUM!"},"1900-12-31","-",{"$f":"G28057-SUMIF(ESCALA!$B$14:$B$15,DADOS!K28057,ESCALA!$I$14:$I$15)","v":0}]
["",null,null,null,null,null,null,"1900-12-30",{"$error":"#NUM!"},"1900-12-31","-",{"$f":"G28077-SUMIF(ESCALA!$B$14:$B$15,DADOS!K28077,ESCALA!$I$14:$I$15)","v":0}]
["",null,null,null,null,null,null,"1900-12-30",{"$error":"#NUM!"},"1900-12-31","-",{"$f":"G28090-SUMIF(ESCALA!$B$14:$B$15,DADOS!K28090,ESCALA!$I$14:$I$15)","v":0}]
["",null,null,null,null,null,null,"1900-12-30",{"$error":"#NUM!"},"1900-12-31","-",{"$f":"G28105-SUMIF(ESCALA!$B$14:$B$15,DADOS!K28105,ESCALA!$I$14:$I$15)","v":0}]
["",null,null,null,null,null,null,"1900-12-30",{"$error":"#NUM!"},"1900-12-31","-",{"$f":"G28124-SUMIF(ESCALA!$B$14:$B$15,DADOS!K28124,ESCALA!$I$14:$I$15)","v":0}]
["",null,null,null,null,null,null,"1900-12-30",{"$error":"#NUM!"},"1900-12-31","-",{"$f":"G28130-SUMIF(ESCALA!$B$14:$B$15,DADOS!K28130,ESCALA!$I$14:$I$15)","v":0}]
["",null,null,null,null,null,null,"1900-12-30",{"$error":"#NUM!"},"1900-12-31","-",{"$f":"G28143-SUMIF(ESCALA!$B$14:$B$15,DADOS!K28143,ESCALA!$I$14:$I$15)","v":0}]
["",null,null,null,null,null,null,"1900-12-30",{"$error":"#NUM!"},"1900-12-31","-",{"$f":"G28158-SUMIF(ESCALA!$B$14:$B$15,DADOS!K28158,ESCALA!$I$14:$I$15)","v":0}]
["",null,null,null,null,null,null,"1900-12-30",{"$error":"#NUM!"},"1900-12-31","-",{"$f":"G28173-SUMIF(ESCALA!$B$14:$B$15,DADOS!K28173,ESCALA!$I$14:$I$15)","v":0}]
["",null,null,null,null,null,null,"1900-12-30",{"$error":"#NUM!"},"1900-12-31","-",{"$f":"G28192-SUMIF(ESCALA!$B$14:$B$15,DADOS!K28192,ESCALA!$I$14:$I$15)","v":0}]
["",null,null,null,null,null,null,"1900-12-30",{"$error":"#NUM!"},"1900-12-31","-",{"$f":"G28206-SUMIF(ESCALA!$B$14:$B$15,DADOS!K28206,ESCALA!$I$14:$I$15)","v":0}]
["",null,null,null,null,null,null,"1900-12-30",{"$error":"#NUM!"},"1900-12-31","-",{"$f":"G28211-SUMIF(ESCALA!$B$14:$B$15,DADOS!K28211,ESCALA!$I$14:$I$15)","v":0}]
["",null,null,null,null,null,null,"1900-12-30",{"$error":"#NUM!"},"1900-12-31","-",{"$f":"G28226-SUMIF(ESCALA!$B$14:$B$15,DADOS!K28226,ESCALA!$I$14:$I$15)","v":0}]
["",null,null,null,null,null,null,"1900-12-30",{"$error":"#NUM!"},"1900-12-31","-",{"$f":"G28245-SUMIF(ESCALA!$B$14:$B$15,DADOS!K28245,ESCALA!$I$14:$I$15)","v":0}]
["",null,null,null,null,null,null,"1900-12-30",{"$error":"#NUM!"},"1900-12-31","-",{"$f":"G28259-SUMIF(ESCALA!$B$14:$B$15,DADOS!K28259,ESCALA!$I$14:$I$15)","v":0}]
["",null,null,null,null,null,null,"1900-12-30",{"$error":"#NUM!"},"1900-12-31","-",{"$f":"G28274-SUMIF(ESCALA!$B$14:$B$15,DADOS!K28274,ESCALA!$I$14:$I$15)","v":0}]
["",null,null,null,null,null,null,"1900-12-30",{"$error":"#NUM!"},"1900-12-31","-",{"$f":"G28289-SUMIF(ESCALA!$B$14:$B$15,DADOS!K28289,ESCALA!$I$14:$I$15)","v":0}]
["",null,null,null,null,null,null,"1900-12-30",{"$error":"#NUM!"},"1900-12-31","-",{"$f":"G28294-SUMIF(ESCALA!$B$14:$B$15,DADOS!K28294,ESCALA!$I$14:$I$15)","v":0}]
["",null,null,null,null,null,null,"1900-12-30",{"$error":"#NUM!"},"1900-12-31","-",{"$f":"G28308-SUMIF(ESCALA!$B$14:$B$15,DADOS!K28308,ESCALA!$I$14:$I$15)","v":0}]
["",null,null,null,null,null,null,"1900-12-30",{"$error":"#NUM!"},"1900-12-31","-",{"$f":"G28327-SUMIF(ESCALA!$B$14:$B$15,DADOS!K28327,ESCALA!$I$14:$I$15)","v":0}]
["",null,null,null,null,null,null,"1900-12-30",{"$error":"#NUM!"},"1900-12-31","-",{"$f":"G28342-SUMIF(ESCALA!$B$14:$B$15,DADOS!K28342,ESCALA!$I$14:$I$15)","v":0}]
["",null,null,null,null,null,null,"1900-12-30",{"$error":"#NUM!"},"1900-12-31","-",{"$f":"G28347-SUMIF(ESCALA!$B$14:$B$15,DADOS!K28347,ESCALA!$I$14:$I$15)","v":0}]
["",null,null,null,null,null,null,"1900-12-30",{"$error":"#NUM!"},"1900-12-31","-",{"$f":"G28361-SUMIF(ESCALA!$B$14:$B$15,DADOS!K28361,ESCALA!$I$14:$I$15)","v":0}]
["",null,null,null,null,null,null,"1900-12-30",{"$error":"#NUM!"},"1900-12-31","-",{"$f":"G28376-SUMIF(ESCALA!$B$14:$B$15,DADOS!K28376,ESCALA!$I$14:$I$15)","v":0}]
["",null,null,null,null,null,null,"1900-12-30",{"$error":"#NUM!"},"1900-12-31","-",{"$f":"G28391-SUMIF(ESCALA!$B$14:$B$15,DADOS!K28391,ESCALA!$I$14:$I$15)","v":0}]
["",null,null,null,null,null,null,"1900-12-30",{"$error":"#NUM!"},"1900-12-31","-",{"$f":"G28409-SUMIF(ESCALA!$B$14:$B$15,DADOS!K28409,ESCALA!$I$14:$I$15)","v":0}]
["",null,null,null,null,null,null,"1900-12-30",{"$error":"#NUM!"},"1900-12-31","-",{"$f":"G28424-SUMIF(ESCALA!$B$14:$B$15,DADOS!K28424,ESCALA!$I$14:$I$15)","v":0}]
["",null,null,null,null,null,null,"1900-12-30",{"$error":"#NUM!"},"1900-12-31","-",{"$f":"G28429-SUMIF(ESCALA!$B$14:$B$15,DADOS!K28429,ESCALA!$I$14:$I$15)","v":0}]
["",null,null,null,null,null,null,"1900-12-30",{"$error":"#NUM!"},"1900-12-31","-",{"$f":"G28444-SUMIF(ESCALA!$B$14:$B$15,DADOS!K28444,ESCALA!$I$14:$I$15)","v":0}]
["",null,null,null,null,null,null,"1900-12-30",{"$error":"#NUM!"},"1900-12-31","-",{"$f":"G28462-SUMIF(ESCALA!$B$14:$B$15,DADOS!K28462,ESCALA!$I$14:$I$15)","v":0}]
["",null,null,null,null,null,null,"1900-12-30",{"$error":"#NUM!"},"1900-12-31","-",{"$f":"G28477-SUMIF(ESCALA!$B$14:$B$15,DADOS!K28477,ESCALA!$I$14:$I$15)","v":0}]
["",null,null,null,null,null,null,"1900-12-30",{"$error":"#NUM!"},"1900-12-31","-",{"$f":"G28492-SUMIF(ESCALA!$B$14:$B$15,DADOS!K28492,ESCALA!$I$14:$I$15)","v":0}]
["",null,null,null,null,null,null,"1900-12-30",{"$error":"#NUM!"},"1900-12-31","-",{"$f":"G28497-SUMIF(ESCALA!$B$14:$B$15,DADOS!K28497,ESCALA!$I$14:$I$15)","v":0}]
["",null,null,null,null,null,null,"1900-12-30",{"$error":"#NUM!"},"1900-12-31","-",{"$f":"G28511-SUMIF(ESCALA!$B$14:$B$15,DADOS!K28511,ESCALA!$I$14:$I$15)","v":0}]
["",null,null,null,null,null,null,"1900-12-30",{"$error":"#NUM!"},"1900-12-31","-",{"$f":"G28526-SUMIF(ESCALA!$B$14:$B$15,DADOS!K28526,ESCALA!$I$14:$I$15)","v":0}]
["",null,null,null,null,null,null,"1900-12-30",{"$error":"#NUM!"},"1900-12-31","-",{"$f":"G28545-SUMIF(ESCALA!$B$14:$B$15,DADOS!K28545,ESCALA!$I$14:$I$15)","v":0}]
["",null,null,null,null,null,null,"1900-12-30",{"$error":"#NUM!"},"1900-12-31","-",{"$f":"G28560-SUMIF(ESCALA!$B$14:$B$15,DADOS!K28560,ESCALA!$I$14:$I$15)","v":0}]
["",null,null,null,null,null,null,"1900-12-30",{"$error":"#NUM!"},"1900-12-31","-",{"$f":"G28577-SUMIF(ESCALA!$B$14:$B$15,DADOS!K28577,ESCALA!$I$14:$I$15)","v":0}]
["",null,null,null,null,null,null,"1900-12-30",{"$error":"#NUM!"},"1900-12-31","-",{"$f":"G28579-SUMIF(ESCALA!$B$14:$B$15,DADOS!K28579,ESCALA!$I$14:$I$15)","v":0}]
["",null,null,null,null,null,null,"1900-12-30",{"$error":"#NUM!"},"1900-12-31","-",{"$f":"G28594-SUMIF(ESCALA!$B$14:$B$15,DADOS!K28594,ESCALA!$I$14:$I$15)","v":0}]
["",null,null,null,null,null,null,"1900-12-30",{"$error":"#NUM!"},"1900-12-31","-",{"$f":"G28613-SUMIF(ESCALA!$B$14:$B$15,DADOS!K28613,ESCALA!$I$14:$I$15)","v":0}]
["",null,null,null,null,null,null,"1900-12-30",{"$error":"#NUM!"},"1900-12-31","-",{"$f":"G28626-SUMIF(ESCALA!$B$14:$B$15,DADOS!K28626,ESCALA!$I$14:$I$15)","v":0}]
["",null,null,null,null,null,null,"1900-12-30",{"$error":"#NUM!"},"1900-12-31","-",{"$f":"G28642-SUMIF(ESCALA!$B$14:$B$15,DADOS!K28642,ESCALA!$I$14:$I$15)","v":0}]
["",null,null,null,null,null,null,"1900-12-30",{"$error":"#NUM!"},"1900-12-31","-",{"$f":"G28661-SUMIF(ESCALA!$B$14:$B$15,DADOS!K28661,ESCALA!$I$14:$I$15)","v":0}]
["",null,null,null,null,null,null,"1900-12-30",{"$error":"#NUM!"},"1900-12-31","-",{"$f":"G28662-SUMIF(ESCALA!$B$14:$B$15,DADOS!K28662,ESCALA!$I$14:$I$15)","v":0}]
["",null,null,null,null,null,null,"1900-12-30",{"$error":"#NUM!"},"1900-12-31","-",{"$f":"G28688-SUMIF(ESCALA!$B$14:$B$15,DADOS!K28688,ESCALA!$I$14:$I$15)","v":0}]
["",null,null,null,null,null,null,"1900-12-30",{"$error":"#NUM!"},"1900-12-31","-",{"$f":"G28695-SUMIF(ESCALA!$B$14:$B$15,DADOS!K28695,ESCALA!$I$14:$I$15)","v":0}]
["",null,null,null,null,null,null,"1900-12-30",{"$error":"#NUM!"},"1900-12-31","-",{"$f":"G28710-SUMIF(ESCALA!$B$14:$B$15,DADOS!K28710,ESCALA!$I$14:$I$15)","v":0}]
["",null,null,null,null,null,null,"1900-12-30",{"$error":"#NUM!"},"1900-12-31","-",{"$f":"G28729-SUMIF(ESCALA!$B$14:$B$15,DADOS!K28729,ESCALA!$I$14:$I$15)","v":0}]
["",null,null,null,null,null,null,"1900-12-30",{"$error":"#NUM!"},"1900-12-31","-",{"$f":"G28741-SUMIF(ESCALA!$B$14:$B$15,DADOS!K28741,ESCALA!$I$14:$I$15)","v":0}]
["",null,null,null,null,null,null,"1900-12-30",{"$error":"#NUM!"},"1900-12-31","-",{"$f":"G28744-SUMIF(ESCALA!$B$14:$B$15,DADOS!K28744,ESCALA!$I$14:$I$15)","v":0}]
["",null,null,null,null,null,null,"1900-12-30",{"$error":"#NUM!"},"1900-12-31","-",{"$f":"G28763-SUMIF(ESCALA!$B$14:$B$15,DADOS!K28763,ESCALA!$I$14:$I$15)","v":0}]
["",null,null,null,null,null,null,"1900-12-30",{"$error":"#NUM!"},"1900-12-31","-",{"$f":"G28778-SUMIF(ESCALA!$B$14:$B$15,DADOS!K28778,ESCALA!$I$14:$I$15)","v":0}]
["",null,null,null,null,null,null,"1900-12-30",{"$error":"#NUM!"},"1900-12-31","-",{"$f":"G28790-SUMIF(ESCALA!$B$14:$B$15,DADOS!K28790,ESCALA!$I$14:$I$15)","v":0}]
["",null,null,null,null,null,null,"1900-12-30",{"$error":"#NUM!"},"1900-12-31","-",{"$f":"G28811-SUMIF(ESCALA!$B$14:$B$15,DADOS!K28811,ESCALA!$I$14:$I$15)","v":0}]
["",null,null,null,null,null,null,"1900-12-30",{"$error":"#NUM!"},"1900-12-31","-",{"$f":"G28826-SUMIF(ESCALA!$B$14:$B$15,DADOS!K28826,ESCALA!$I$14:$I$15)","v":0}]
["",null,null,null,null,null,null,"1900-12-30",{"$error":"#NUM!"},"1900-12-31","-",{"$f":"G28831-SUMIF(ESCALA!$B$14:$B$15,DADOS!K28831,ESCALA!$I$14:$I$15)","v":0}]
["",null,null,null,null,null,null,"1900-12-30",{"$error":"#NUM!"},"1900-12-31","-",{"$f":"G28843-SUMIF(ESCALA!$B$14:$B$15,DADOS!K28843,ESCALA!$I$14:$I$15)","v":0}]
["",null,null,null,null,null,null,"1900-12-30",{"$error":"#NUM!"},"1900-12-31","-",{"$f":"G28860-SUMIF(ESCALA!$B$14:$B$15,DADOS!K28860,ESCALA!$I$14:$I$15)","v":0}]
["",null,null,null,null,null,null,"1900-12-30",{"$error":"#NUM!"},"1900-12-31","-",{"$f":"G28879-SUMIF(ESCALA!$B$14:$B$15,DADOS!K28879,ESCALA!$I$14:$I$15)","v":0}]
["",null,null,null,null,null,null,"1900-12-30",{"$error":"#NUM!"},"1900-12-31","-",{"$f":"G28894-SUMIF(ESCALA!$B$14:$B$15,DADOS!K28894,ESCALA!$I$14:$I$15)","v":0}]
["",null,null,null,null,null,null,"1900-12-30",{"$error":"#NUM!"},"1900-12-31","-",{"$f":"G28905-SUMIF(ESCALA!$B$14:$B$15,DADOS!K28905,ESCALA!$I$14:$I$15)","v":0}]
["",null,null,null,null,null,null,"1900-12-30",{"$error":"#NUM!"},"1900-12-31","-",{"$f":"G28913-SUMIF(ESCALA!$B$14:$B$15,DADOS!K28913,ESCALA!$I$14:$I$15)","v":0}]
["",null,null,null,null,null,null,"1900-12-30",{"$error":"#NUM!"},"1900-12-31","-",{"$f":"G28928-SUMIF(ESCALA!$B$14:$B$15,DADOS!K28928,ESCALA!$I$14:$I$15)","v":0}]
["",null,null,null,null,null,null,"1900-12-30",{"$error":"#NUM!"},"1900-12-31","-",{"$f":"G28947-SUMIF(ESCALA!$B$14:$B$15,DADOS!K28947,ESCALA!$I$14:$I$15)","v":0}]
["",null,null,null,null,null,null,"1900-12-30",{"$error":"#NUM!"},"1900-12-31","-",{"$f":"G28958-SUMIF(ESCALA!$B$14:$B$15,DADOS!K28958,ESCALA!$I$14:$I$15)","v":0}]
["",null,null,null,null,null,null,"1900-12-30",{"$error":"#NUM!"},"1900-12-31","-",{"$f":"G28966-SUMIF(ESCALA!$B$14:$B$15,DADOS!K28966,ESCALA!$I$14:$I$15)","v":0}]
["",null,null,null,null,null,null,"1900-12-30",{"$error":"#NUM!"},"1900-12-31","-",{"$f":"G28981-SUMIF(ESCALA!$B$14:$B$15,DADOS!K28981,ESCALA!$I$14:$I$15)","v":0}]
["",null,null,null,null,null,null,"1900-12-30",{"$f":"IF(E28996=\"ESTATUTARIO\",EOMONTH(F28996,0),EOMONTH(F28996,-1))","v":{"$error":"#NUM!"}},{"$f":"EOMONTH(F28996,11)","v":"1900-12-31"},"-",{"$f":"G28996-SUMIF(ESCALA!$B$14:$B$15,DADOS!K28996,ESCALA!$I$14:$I$15)","v":0}]
["",null,null,null,null,null,null,"1900-12-30",{"$error":"#NUM!"},"1900-12-31","-",{"$f":"G29007-SUMIF(ESCALA!$B$14:$B$15,DADOS!K29007,ESCALA!$I$14:$I$15)","v":0}]
["",null,null,null,null,null,null,"1900-12-30",{"$error":"#NUM!"},"1900-12-31","-",{"$f":"G29029-SUMIF(ESCALA!$B$14:$B$15,DADOS!K29029,ESCALA!$I$14:$I$15)","v":0}]
["",null,null,null,null,null,null,"1900-12-30",{"$error":"#NUM!"},"1900-12-31","-",{"$f":"G29044-SUMIF(ESCALA!$B$14:$B$15,DADOS!K29044,ESCALA!$I$14:$I$15)","v":0}]
["",null,null,null,null,null,null,"1900-12-30",{"$error":"#NUM!"},"1900-12-31","-",{"$f":"G29049-SUMIF(ESCALA!$B$14:$B$15,DADOS!K29049,ESCALA!$I$14:$I$15)","v":0}]
["",null,null,null,null,null,null,"1900-12-30",{"$error":"#NUM!"},"1900-12-31","-",{"$f":"G29073-SUMIF(ESCALA!$B$14:$B$15,DADOS!K29073,ESCALA!$I$14:$I$15)","v":0}]
["",null,null,null,null,null,null,"1900-12-30",{"$error":"#NUM!"},"1900-12-31","-",{"$f":"G29082-SUMIF(ESCALA!$B$14:$B$15,DADOS!K29082,ESCALA!$I$14:$I$15)","v":0}]
["",null,null,null,null,null,null,"1900-12-30",{"$error":"#NUM!"},"1900-12-31","-",{"$f":"G29097-SUMIF(ESCALA!$B$14:$B$15,DADOS!K29097,ESCALA!$I$14:$I$15)","v":0}]
["",null,null,null,null,null,null,"1900-12-30",{"$error":"#NUM!"},"1900-12-31","-",{"$f":"G29112-SUMIF(ESCALA!$B$14:$B$15,DADOS!K29112,ESCALA!$I$14:$I$15)","v":0}]
["",null,null,null,null,null,null,"1900-12-30",{"$error":"#NUM!"},"1900-12-31","-",{"$f":"G29122-SUMIF(ESCALA!$B$14:$B$15,DADOS!K29122,ESCALA!$I$14:$I$15)","v":0}]
["",null,null,null,null,null,null,"1900-12-30",{"$error":"#NUM!"},"1900-12-31","-",{"$f":"G29131-SUMIF(ESCALA!$B$14:$B$15,DADOS!K29131,ESCALA!$I$14:$I$15)","v":0}]
["",null,null,null,null,null,null,"1900-12-30",{"$error":"#NUM!"},"1900-12-31","-",{"$f":"G29150-SUMIF(ESCALA!$B$14:$B$15,DADOS!K29150,ESCALA!$I$14:$I$15)","v":0}]
["",null,null,null,null,null,null,"1900-12-30",{"$error":"#NUM!"},"1900-12-31","-",{"$f":"G29165-SUMIF(ESCALA!$B$14:$B$15,DADOS!K29165,ESCALA!$I$14:$I$15)","v":0}]
["",null,null,null,null,null,null,"1900-12-30",{"$error":"#NUM!"},"1900-12-31","-",{"$f":"G29175-SUMIF(ESCALA!$B$14:$B$15,DADOS!K29175,ESCALA!$I$14:$I$15)","v":0}]
["",null,null,null,null,null,null,"1900-12-30",{"$error":"#NUM!"},"1900-12-31","-",{"$f":"G29184-SUMIF(ESCALA!$B$14:$B$15,DADOS!K29184,ESCALA!$I$14:$I$15)","v":0}]
["",null,null,null,null,null,null,"1900-12-30",{"$error":"#NUM!"},"1900-12-31","-",{"$f":"G29199-SUMIF(ESCALA!$B$14:$B$15,DADOS!K29199,ESCALA!$I$14:$I$15)","v":0}]
["",null,null,null,null,null,null,"1900-12-30",{"$error":"#NUM!"},"1900-12-31","-",{"$f":"G29214-SUMIF(ESCALA!$B$14:$B$15,DADOS!K29214,ESCALA!$I$14:$I$15)","v":0}]
["",null,null,null,null,null,null,"1900-12-30",{"$error":"#NUM!"},"1900-12-31","-",{"$f":"G29237-SUMIF(ESCALA!$B$14:$B$15,DADOS!K29237,ESCALA!$I$14:$I$15)","v":0}]
["",null,null,null,null,null,null,"1900-12-30",{"$error":"#NUM!"},"1900-12-31","-",{"$f":"G29247-SUMIF(ESCALA!$B$14:$B$15,DADOS!K29247,ESCALA!$I$14:$I$15)","v":0}]
["",null,null,null,null,null,null,"1900-12-30",{"$error":"#NUM!"},"1900-12-31","-",{"$f":"G29266-SUMIF(ESCALA!$B$14:$B$15,DADOS!K29266,ESCALA!$I$14:$I$15)","v":0}]
["",null,null,null,null,null,null,"1900-12-30",{"$error":"#NUM!"},"1900-12-31","-",{"$f":"G29267-SUMIF(ESCALA!$B$14:$B$15,DADOS!K29267,ESCALA!$I$14:$I$15)","v":0}]
["",null,null,null,null,null,null,"1900-12-30",{"$error":"#NUM!"},"1900-12-31","-",{"$f":"G29290-SUMIF(ESCALA!$B$14:$B$15,DADOS!K29290,ESCALA!$I$14:$I$15)","v":0}]
["",null,null,null,null,null,null,"1900-12-30",{"$error":"#NUM!"},"1900-12-31","-",{"$f":"G29300-SUMIF(ESCALA!$B$14:$B$15,DADOS!K29300,ESCALA!$I$14:$I$15)","v":0}]
[{"$f":"IF(L29315=0,\"\",B29315)","v":""},null,null,null,null,null,null,{"$f":"IF(F29315<=44985,F29315+365,F29315+366)","v":"1900-12-30"},{"$error":"#NUM!"},"1900-12-31",{"$f":"CONCATENATE(B29315,\"-\",F29315)","v":"-"},{"$f":"G29315-SUMIF(ESCALA!$B$14:$B$15,DADOS!K29315,ESCALA!$I$14:$I$15)","v":0}]
["",null,null,null,null,null,null,"1900-12-30",{"$error":"#NUM!"},"1900-12-31","-",{"$f":"G29330-SUMIF(ESCALA!$B$14:$B$15,DADOS!K29330,ESCALA!$I$14:$I$15)","v":0}]
["",null,null,null,null,null,null,"1900-12-30",{"$error":"#NUM!"},"1900-12-31","-",{"$f":"G29339-SUMIF(ESCALA!$B$14:$B$15,DADOS!K29339,ESCALA!$I$14:$I$15)","v":0}]
["",null,null,null,null,null,null,"1900-12-30",{"$error":"#NUM!"},"1900-12-31","-",{"$f":"G29349-SUMIF(ESCALA!$B$14:$B$15,DADOS!K29349,ESCALA!$I$14:$I$15)","v":0}]
["",null,null,null,null,null,null,"1900-12-30",{"$error":"#NUM!"},"1900-12-31","-",{"$f":"G29368-SUMIF(ESCALA!$B$14:$B$15,DADOS!K29368,ESCALA!$I$14:$I$15)","v":0}]
["",null,null,null,null,null,null,"1900-12-30",{"$error":"#NUM!"},"1900-12-31","-",{"$f":"G29383-SUMIF(ESCALA!$B$14:$B$15,DADOS!K29383,ESCALA!$I$14:$I$15)","v":0}]
["",null,null,null,null,null,null,"1900-12-30",{"$error":"#NUM!"},"1900-12-31","-",{"$f":"G29392-SUMIF(ESCALA!$B$14:$B$15,DADOS!K29392,ESCALA!$I$14:$I$15)","v":0}]
["",null,null,null,null,null,null,"1900-12-30",{"$error":"#NUM!"},"1900-12-31","-",{"$f":"G29416-SUMIF(ESCALA!$B$14:$B$15,DADOS!K29416,ESCALA!$I$14:$I$15)","v":0}]
["",null,null,null,null,null,null,"1900-12-30",{"$error":"#NUM!"},"1900-12-31","-",{"$f":"G29431-SUMIF(ESCALA!$B$14:$B$15,DADOS!K29431,ESCALA!$I$14:$I$15)","v":0}]
["",null,null,null,null,null,null,"1900-12-30",{"$error":"#NUM!"},"1900-12-31","-",{"$f":"G29436-SUMIF(ESCALA!$B$14:$B$15,DADOS!K29436,ESCALA!$I$14:$I$15)","v":0}]
["",null,null,null,null,null,null,"1900-12-30",{"$error":"#NUM!"},"1900-12-31","-",{"$f":"G29454-SUMIF(ESCALA!$B$14:$B$15,DADOS!K29454,ESCALA!$I$14:$I$15)","v":0}]
["",null,null,null,null,null,null,"1900-12-30",{"$error":"#NUM!"},"1900-12-31","-",{"$f":"G29465-SUMIF(ESCALA!$B$14:$B$15,DADOS!K29465,ESCALA!$I$14:$I$15)","v":0}]
["",null,null,null,null,null,null,"1900-12-30",{"$error":"#NUM!"},"1900-12-31","-",{"$f":"G29484-SUMIF(ESCALA!$B$14:$B$15,DADOS!K29484,ESCALA!$I$14:$I$15)","v":0}]
["",null,null,null,null,null,null,"1900-12-30",{"$error":"#NUM!"},"1900-12-31","-",{"$f":"G29499-SUMIF(ESCALA!$B$14:$B$15,DADOS!K29499,ESCALA!$I$14:$I$15)","v":0}]
["",null,null,null,null,null,null,"1900-12-30",{"$error":"#NUM!"},"1900-12-31","-",{"$f":"G29501-SUMIF(ESCALA!$B$14:$B$15,DADOS!K29501,ESCALA!$I$14:$I$15)","v":0}]
["",null,null,null,null,null,null,"1900-12-30",{"$error":"#NUM!"},"1900-12-31","-",{"$f":"G29502-SUMIF(ESCALA!$B$14:$B$15,DADOS!K29502,ESCALA!$I$14:$I$15)","v":0}]
["",null,null,null,null,null,null,"1900-12-30",{"$error":"#NUM!"},"1900-12-31","-",{"$f":"G29503-SUMIF(ESCALA!$B$14:$B$15,DADOS!K29503,ESCALA!$I$14:$I$15)","v":0}]
["",null,null,null,null,null,null,"1900-12-30",{"$error":"#NUM!"},"1900-12-31","-",{"$f":"G29504-SUMIF(ESCALA!$B$14:$B$15,DADOS!K29504,ESCALA!$I$14:$I$15)","v":0}]
["",null,null,null,null,null,null,"1900-12-30",{"$error":"#NUM!"},"1900-12-31","-",{"$f":"G29505-SUMIF(ESCALA!$B$14:$B$15,DADOS!K29505,ESCALA!$I$14:$I$15)","v":0}]
["",null,null,null,null,null,null,"1900-12-30",{"$error":"#NUM!"},"1900-12-31","-",{"$f":"G29506-SUMIF(ESCALA!$B$14:$B$15,DADOS!K29506,ESCALA!$I$14:$I$15)","v":0}]
[{"$f":"IF(L29507=0,\"\",B29507)","v":""},null,null,null,null,null,null,{"$f":"IF(F29507<=44985,F29507+365,F29507+366)","v":"1900-12-30"},{"$error":"#NUM!"},"1900-12-31",{"$f":"CONCATENATE(B29507,\"-\",F29507)","v":"-"},{"$f":"G29507-SUMIF(ESCALA!$B$14:$B$15,DADOS!K29507,ESCALA!$I$14:$I$15)","v":0}]
["",null,null,null,null,null,null,"1900-12-30",{"$f":"IF(E29508=\"ESTATUTARIO\",EOMONTH(F29508,0),EOMONTH(F29508,-1))","v":{"$error":"#NUM!"}},{"$f":"EOMONTH(F29508,11)","v":"1900-12-31"},"-",{"$f":"G29508-SUMIF(ESCALA!$B$14:$B$15,DADOS!K29508,ESCALA!$I$14:$I$15)","v":0}]
["",null,null,null,null,null,null,"1900-12-30",{"$error":"#NUM!"},"1900-12-31","-",{"$f":"G29509-SUMIF(ESCALA!$B$14:$B$15,DADOS!K29509,ESCALA!$I$14:$I$15)","v":0}]
["",null,null,null,null,null,null,"1900-12-30",{"$error":"#NUM!"},"1900-12-31","-",{"$f":"G29510-SUMIF(ESCALA!$B$14:$B$15,DADOS!K29510,ESCALA!$I$14:$I$15)","v":0}]
["",null,null,null,null,null,null,"1900-12-30",{"$error":"#NUM!"},"1900-12-31","-",{"$f":"G29511-SUMIF(ESCALA!$B$14:$B$15,DADOS!K29511,ESCALA!$I$14:$I$15)","v":0}]
["",null,null,null,null,null,null,"1900-12-30",{"$error":"#NUM!"},"1900-12-31","-",{"$f":"G29512-SUMIF(ESCALA!$B$14:$B$15,DADOS!K29512,ESCALA!$I$14:$I$15)","v":0}]
["",null,null,null,null,null,null,"1900-12-30",{"$error":"#NUM!"},"1900-12-31","-",{"$f":"G29513-SUMIF(ESCALA!$B$14:$B$15,DADOS!K29513,ESCALA!$I$14:$I$15)","v":0}]
["",null,null,null,null,null,null,"1900-12-30",{"$error":"#NUM!"},"1900-12-31","-",{"$f":"G29514-SUMIF(ESCALA!$B$14:$B$15,DADOS!K29514,ESCALA!$I$14:$I$15)","v":0}]
["",null,null,null,null,null,null,"1900-12-30",{"$error":"#NUM!"},"1900-12-31","-",{"$f":"G29515-SUMIF(ESCALA!$B$14:$B$15,DADOS!K29515,ESCALA!$I$14:$I$15)","v":0}]
["",null,null,null,null,null,null,"1900-12-30",{"$error":"#NUM!"},"1900-12-31","-",{"$f":"G29516-SUMIF(ESCALA!$B$14:$B$15,DADOS!K29516,ESCALA!$I$14:$I$15)","v":0}]
["",null,null,null,null,null,null,"1900-12-30",{"$error":"#NUM!"},"1900-12-31","-",{"$f":"G29517-SUMIF(ESCALA!$B$14:$B$15,DADOS!K29517,ESCALA!$I$14:$I$15)","v":0}]
["",null,null,null,null,null,null,"1900-12-30",{"$error":"#NUM!"},"1900-12-31","-",{"$f":"G29518-SUMIF(ESCALA!$B$14:$B$15,DADOS!K29518,ESCALA!$I$14:$I$15)","v":0}]
["",null,null,null,null,null,null,"1900-12-30",{"$error":"#NUM!"},"1900-12-31","-",{"$f":"G29519-SUMIF(ESCALA!$B$14:$B$15,DADOS!K29519,ESCALA!$I$14:$I$15)","v":0}]
["",null,null,null,null,null,null,"1900-12-30",{"$error":"#NUM!"},"1900-12-31","-",{"$f":"G29520-SUMIF(ESCALA!$B$14:$B$15,DADOS!K29520,ESCALA!$I$14:$I$15)","v":0}]
["",null,null,null,null,null,null,"1900-12-30",{"$error":"#NUM!"},"1900-12-31","-",{"$f":"G29521-SUMIF(ESCALA!$B$14:$B$15,DADOS!K29521,ESCALA!$I$14:$I$15)","v":0}]
["",null,null,null,null,null,null,"1900-12-30",{"$error":"#NUM!"},"1900-12-31","-",{"$f":"G29522-SUMIF(ESCALA!$B$14:$B$15,DADOS!K29522,ESCALA!$I$14:$I$15)","v":0}]
["",null,null,null,null,null,null,"1900-12-30",{"$error":"#NUM!"},"1900-12-31","-",{"$f":"G29523-SUMIF(ESCALA!$B$14:$B$15,DADOS!K29523,ESCALA!$I$14:$I$15)","v":0}]
["",null,null,null,null,null,null,"1900-12-30",{"$error":"#NUM!"},"1900-12-31","-",{"$f":"G29524-SUMIF(ESCALA!$B$14:$B$15,DADOS!K29524,ESCALA!$I$14:$I$15)","v":0}]
["",null,null,null,null,null,null,"1900-12-30",{"$error":"#NUM!"},"1900-12-31","-",{"$f":"G29525-SUMIF(ESCALA!$B$14:$B$15,DADOS!K29525,ESCALA!$I$14:$I$15)","v":0}]
["",null,null,null,null,null,null,"1900-12-30",{"$error":"#NUM!"},"1900-12-31","-",{"$f":"G29526-SUMIF(ESCALA!$B$14:$B$15,DADOS!K29526,ESCALA!$I$14:$I$15)","v":0}]
["",null,null,null,null,null,null,"1900-12-30",{"$error":"#NUM!"},"1900-12-31","-",{"$f":"G29527-SUMIF(ESCALA!$B$14:$B$15,DADOS!K29527,ESCALA!$I$14:$I$15)","v":0}]
["",null,null,null,null,null,null,"1900-12-30",{"$error":"#NUM!"},"1900-12-31","-",{"$f":"G29528-SUMIF(ESCALA!$B$14:$B$15,DADOS!K29528,ESCALA!$I$14:$I$15)","v":0}]
["",null,null,null,null,null,null,"1900-12-30",{"$error":"#NUM!"},"1900-12-31","-",{"$f":"G29529-SUMIF(ESCALA!$B$14:$B$15,DADOS!K29529,ESCALA!$I$14:$I$15)","v":0}]
["",null,null,null,null,null,null,"1900-12-30",{"$error":"#NUM!"},"1900-12-31","-",{"$f":"G29530-SUMIF(ESCALA!$B$14:$B$15,DADOS!K29530,ESCALA!$I$14:$I$15)","v":0}]
["",null,null,null,null,null,null,"1900-12-30",{"$error":"#NUM!"},"1900-12-31","-",{"$f":"G29531-SUMIF(ESCALA!$B$14:$B$15,DADOS!K29531,ESCALA!$I$14:$I$15)","v":0}]
["",null,null,null,null,null,null,"1900-12-30",{"$error":"#NUM!"},"1900-12-31","-",{"$f":"G29532-SUMIF(ESCALA!$B$14:$B$15,DADOS!K29532,ESCALA!$I$14:$I$15)","v":0}]
["",null,null,null,null,null,null,"1900-12-30",{"$error":"#NUM!"},"1900-12-31","-",{"$f":"G29533-SUMIF(ESCALA!$B$14:$B$15,DADOS!K29533,ESCALA!$I$14:$I$15)","v":0}]
["",null,null,null,null,null,null,"1900-12-30",{"$error":"#NUM!"},"1900-12-31","-",{"$f":"G29534-SUMIF(ESCALA!$B$14:$B$15,DADOS!K29534,ESCALA!$I$14:$I$15)","v":0}]
["",null,null,null,null,null,null,"1900-12-30",{"$error":"#NUM!"},"1900-12-31","-",{"$f":"G29535-SUMIF(ESCALA!$B$14:$B$15,DADOS!K29535,ESCALA!$I$14:$I$15)","v":0}]
["",null,null,null,null,null,null,"1900-12-30",{"$error":"#NUM!"},"1900-12-31","-",{"$f":"G29536-SUMIF(ESCALA!$B$14:$B$15,DADOS!K29536,ESCALA!$I$14:$I$15)","v":0}]
["",null,null,null,null,null,null,"1900-12-30",{"$error":"#NUM!"},"1900-12-31","-",{"$f":"G29537-SUMIF(ESCALA!$B$14:$B$15,DADOS!K29537,ESCALA!$I$14:$I$15)","v":0}]
["",null,null,null,null,null,null,"1900-12-30",{"$error":"#NUM!"},"1900-12-31","-",{"$f":"G29538-SUMIF(ESCALA!$B$14:$B$15,DADOS!K29538,ESCALA!$I$14:$I$15)","v":0}]
["",null,null,null,null,null,null,"1900-12-30",{"$error":"#NUM!"},"1900-12-31","-",{"$f":"G29539-SUMIF(ESCALA!$B$14:$B$15,DADOS!K29539,ESCALA!$I$14:$I$15)","v":0}]
["",null,null,null,null,null,null,"1900-12-30",{"$error":"#NUM!"},"1900-12-31","-",{"$f":"G29540-SUMIF(ESCALA!$B$14:$B$15,DADOS!K29540,ESCALA!$I$14:$I$15)","v":0}]
["",null,null,null,null,null,null,"1900-12-30",{"$error":"#NUM!"},"1900-12-31","-",{"$f":"G29541-SUMIF(ESCALA!$B$14:$B$15,DADOS!K29541,ESCALA!$I$14:$I$15)","v":0}]
["",null,null,null,null,null,null,"1900-12-30",{"$error":"#NUM!"},"1900-12-31","-",{"$f":"G29542-SUMIF(ESCALA!$B$14:$B$15,DADOS!K29542,ESCALA!$I$14:$I$15)","v":0}]
["",null,null,null,null,null,null,"1900-12-30",{"$error":"#NUM!"},"1900-12-31","-",{"$f":"G29543-SUMIF(ESCALA!$B$14:$B$15,DADOS!K29543,ESCALA!$I$14:$I$15)","v":0}]
["",null,null,null,null,null,null,"1900-12-30",{"$error":"#NUM!"},"1900-12-31","-",{"$f":"G29544-SUMIF(ESCALA!$B$14:$B$15,DADOS!K29544,ESCALA!$I$14:$I$15)","v":0}]
["",null,null,null,null,null,null,"1900-12-30",{"$error":"#NUM!"},"1900-12-31","-",{"$f":"G29545-SUMIF(ESCALA!$B$14:$B$15,DADOS!K29545,ESCALA!$I$14:$I$15)","v":0}]
["",null,null,null,null,null,null,"1900-12-30",{"$error":"#NUM!"},"1900-12-31","-",{"$f":"G29546-SUMIF(ESCALA!$B$14:$B$15,DADOS!K29546,ESCALA!$I$14:$I$15)","v":0}]
["",null,null,null,null,null,null,"1900-12-30",{"$error":"#NUM!"},"1900-12-31","-",{"$f":"G29547-SUMIF(ESCALA!$B$14:$B$15,DADOS!K29547,ESCALA!$I$14:$I$15)","v":0}]
["",null,null,null,null,null,null,"1900-12-30",{"$error":"#NUM!"},"1900-12-31","-",{"$f":"G29548-SUMIF(ESCALA!$B$14:$B$15,DADOS!K29548,ESCALA!$I$14:$I$15)","v":0}]
["",null,null,null,null,null,null,"1900-12-30",{"$error":"#NUM!"},"1900-12-31","-",{"$f":"G29549-SUMIF(ESCALA!$B$14:$B$15,DADOS!K29549,ESCALA!$I$14:$I$15)","v":0}]
["",null,null,null,null,null,null,"1900-12-30",{"$error":"#NUM!"},"1900-12-31","-",{"$f":"G29550-SUMIF(ESCALA!$B$14:$B$15,DADOS!K29550,ESCALA!$I$14:$I$15)","v":0}]
["",null,null,null,null,null,null,"1900-12-30",{"$error":"#NUM!"},"1900-12-31","-",{"$f":"G29551-SUMIF(ESCALA!$B$14:$B$15,DADOS!K29551,ESCALA!$I$14:$I$15)","v":0}]
["",null,null,null,null,null,null,"1900-12-30",{"$error":"#NUM!"},"1900-12-31","-",{"$f":"G29552-SUMIF(ESCALA!$B$14:$B$15,DADOS!K29552,ESCALA!$I$14:$I$15)","v":0}]
["",null,null,null,null,null,null,"1900-12-30",{"$error":"#NUM!"},"1900-12-31","-",{"$f":"G29553-SUMIF(ESCALA!$B$14:$B$15,DADOS!K29553,ESCALA!$I$14:$I$15)","v":0}]
["",null,null,null,null,null,null,"1900-12-30",{"$error":"#NUM!"},"1900-12-31","-",{"$f":"G29554-SUMIF(ESCALA!$B$14:$B$15,DADOS!K29554,ESCALA!$I$14:$I$15)","v":0}]
["",null,null,null,null,null,null,"1900-12-30",{"$error":"#NUM!"},"1900-12-31","-",{"$f":"G29555-SUMIF(ESCALA!$B$14:$B$15,DADOS!K29555,ESCALA!$I$14:$I$15)","v":0}]
["",null,null,null,null,null,null,"1900-12-30",{"$error":"#NUM!"},"1900-12-31","-",{"$f":"G29556-SUMIF(ESCALA!$B$14:$B$15,DADOS!K29556,ESCALA!$I$14:$I$15)","v":0}]
["",null,null,null,null,null,null,"1900-12-30",{"$error":"#NUM!"},"1900-12-31","-",{"$f":"G29557-SUMIF(ESCALA!$B$14:$B$15,DADOS!K29557,ESCALA!$I$14:$I$15)","v":0}]
["",null,null,null,null,null,null,"1900-12-30",{"$error":"#NUM!"},"1900-12-31","-",{"$f":"G29558-SUMIF(ESCALA!$B$14:$B$15,DADOS!K29558,ESCALA!$I$14:$I$15)","v":0}]
["",null,null,null,null,null,null,"1900-12-30",{"$error":"#NUM!"},"1900-12-31","-",{"$f":"G29559-SUMIF(ESCALA!$B$14:$B$15,DADOS!K29559,ESCALA!$I$14:$I$15)","v":0}]
["",null,null,null,null,null,null,"1900-12-30",{"$error":"#NUM!"},"1900-12-31","-",{"$f":"G29560-SUMIF(ESCALA!$B$14:$B$15,DADOS!K29560,ESCALA!$I$14:$I$15)","v":0}]
["",null,null,null,null,null,null,"1900-12-30",{"$error":"#NUM!"},"1900-12-31","-",{"$f":"G29561-SUMIF(ESCALA!$B$14:$B$15,DADOS!K29561,ESCALA!$I$14:$I$15)","v":0}]
["",null,null,null,null,null,null,"1900-12-30",{"$error":"#NUM!"},"1900-12-31","-",{"$f":"G29562-SUMIF(ESCALA!$B$14:$B$15,DADOS!K29562,ESCALA!$I$14:$I$15)","v":0}]
["",null,null,null,null,null,null,"1900-12-30",{"$error":"#NUM!"},"1900-12-31","-",{"$f":"G29563-SUMIF(ESCALA!$B$14:$B$15,DADOS!K29563,ESCALA!$I$14:$I$15)","v":0}]
["",null,null,null,null,null,null,"1900-12-30",{"$error":"#NUM!"},"1900-12-31","-",{"$f":"G29564-SUMIF(ESCALA!$B$14:$B$15,DADOS!K29564,ESCALA!$I$14:$I$15)","v":0}]
["",null,null,null,null,null,null,"1900-12-30",{"$error":"#NUM!"},"1900-12-31","-",{"$f":"G29565-SUMIF(ESCALA!$B$14:$B$15,DADOS!K29565,ESCALA!$I$14:$I$15)","v":0}]
["",null,null,null,null,null,null,"1900-12-30",{"$error":"#NUM!"},"1900-12-31","-",{"$f":"G29566-SUMIF(ESCALA!$B$14:$B$15,DADOS!K29566,ESCALA!$I$14:$I$15)","v":0}]
["",null,null,null,null,null,null,"1900-12-30",{"$error":"#NUM!"},"1900-12-31","-",{"$f":"G29567-SUMIF(ESCALA!$B$14:$B$15,DADOS!K29567,ESCALA!$I$14:$I$15)","v":0}]
["",null,null,null,null,null,null,"1900-12-30",{"$error":"#NUM!"},"1900-12-31","-",{"$f":"G29568-SUMIF(ESCALA!$B$14:$B$15,DADOS!K29568,ESCALA!$I$14:$I$15)","v":0}]
["",null,null,null,null,null,null,"1900-12-30",{"$error":"#NUM!"},"1900-12-31","-",{"$f":"G29569-SUMIF(ESCALA!$B$14:$B$15,DADOS!K29569,ESCALA!$I$14:$I$15)","v":0}]
["",null,null,null,null,null,null,"1900-12-30",{"$error":"#NUM!"},"1900-12-31","-",{"$f":"G29570-SUMIF(ESCALA!$B$14:$B$15,DADOS!K29570,ESCALA!$I$14:$I$15)","v":0}]
[{"$f":"IF(L29571=0,\"\",B29571)","v":""},null,null,null,null,null,null,{"$f":"IF(F29571<=44985,F29571+365,F29571+366)","v":"1900-12-30"},{"$error":"#NUM!"},"1900-12-31",{"$f":"CONCATENATE(B29571,\"-\",F29571)","v":"-"},{"$f":"G29571-SUMIF(ESCALA!$B$14:$B$15,DADOS!K29571,ESCALA!$I$14:$I$15)","v":0}]
["",null,null,null,null,null,null,"1900-12-30",{"$f":"IF(E29572=\"ESTATUTARIO\",EOMONTH(F29572,0),EOMONTH(F29572,-1))","v":{"$error":"#NUM!"}},{"$f":"EOMONTH(F29572,11)","v":"1900-12-31"},"-",{"$f":"G29572-SUMIF(ESCALA!$B$14:$B$15,DADOS!K29572,ESCALA!$I$14:$I$15)","v":0}]
["",null,null,null,null,null,null,"1900-12-30",{"$error":"#NUM!"},"1900-12-31","-",{"$f":"G29573-SUMIF(ESCALA!$B$14:$B$15,DADOS!K29573,ESCALA!$I$14:$I$15)","v":0}]
["",null,null,null,null,null,null,"1900-12-30",{"$error":"#NUM!"},"1900-12-31","-",{"$f":"G29574-SUMIF(ESCALA!$B$14:$B$15,DADOS!K29574,ESCALA!$I$14:$I$15)","v":0}]
["",null,null,null,null,null,null,"1900-12-30",{"$error":"#NUM!"},"1900-12-31","-",{"$f":"G29575-SUMIF(ESCALA!$B$14:$B$15,DADOS!K29575,ESCALA!$I$14:$I$15)","v":0}]
["",null,null,null,null,null,null,"1900-12-30",{"$error":"#NUM!"},"1900-12-31","-",{"$f":"G29576-SUMIF(ESCALA!$B$14:$B$15,DADOS!K29576,ESCALA!$I$14:$I$15)","v":0}]
["",null,null,null,null,null,null,"1900-12-30",{"$error":"#NUM!"},"1900-12-31","-",{"$f":"G29577-SUMIF(ESCALA!$B$14:$B$15,DADOS!K29577,ESCALA!$I$14:$I$15)","v":0}]
["",null,null,null,null,null,null,"1900-12-30",{"$error":"#NUM!"},"1900-12-31","-",{"$f":"G29578-SUMIF(ESCALA!$B$14:$B$15,DADOS!K29578,ESCALA!$I$14:$I$15)","v":0}]
["",null,null,null,null,null,null,"1900-12-30",{"$error":"#NUM!"},"1900-12-31","-",{"$f":"G29579-SUMIF(ESCALA!$B$14:$B$15,DADOS!K29579,ESCALA!$I$14:$I$15)","v":0}]
["",null,null,null,null,null,null,"1900-12-30",{"$error":"#NUM!"},"1900-12-31","-",{"$f":"G29580-SUMIF(ESCALA!$B$14:$B$15,DADOS!K29580,ESCALA!$I$14:$I$15)","v":0}]
["",null,null,null,null,null,null,"1900-12-30",{"$error":"#NUM!"},"1900-12-31","-",{"$f":"G29581-SUMIF(ESCALA!$B$14:$B$15,DADOS!K29581,ESCALA!$I$14:$I$15)","v":0}]
["",null,null,null,null,null,null,"1900-12-30",{"$error":"#NUM!"},"1900-12-31","-",{"$f":"G29582-SUMIF(ESCALA!$B$14:$B$15,DADOS!K29582,ESCALA!$I$14:$I$15)","v":0}]
["",null,null,null,null,null,null,"1900-12-30",{"$error":"#NUM!"},"1900-12-31","-",{"$f":"G29583-SUMIF(ESCALA!$B$14:$B$15,DADOS!K29583,ESCALA!$I$14:$I$15)","v":0}]
["",null,null,null,null,null,null,"1900-12-30",{"$error":"#NUM!"},"1900-12-31","-",{"$f":"G29584-SUMIF(ESCALA!$B$14:$B$15,DADOS!K29584,ESCALA!$I$14:$I$15)","v":0}]
["",null,null,null,null,null,null,"1900-12-30",{"$error":"#NUM!"},"1900-12-31","-",{"$f":"G29585-SUMIF(ESCALA!$B$14:$B$15,DADOS!K29585,ESCALA!$I$14:$I$15)","v":0}]
["",null,null,null,null,null,null,"1900-12-30",{"$error":"#NUM!"},"1900-12-31","-",{"$f":"G29586-SUMIF(ESCALA!$B$14:$B$15,DADOS!K29586,ESCALA!$I$14:$I$15)","v":0}]
["",null,null,null,null,null,null,"1900-12-30",{"$error":"#NUM!"},"1900-12-31","-",{"$f":"G29587-SUMIF(ESCALA!$B$14:$B$15,DADOS!K29587,ESCALA!$I$14:$I$15)","v":0}]
["",null,null,null,null,null,null,"1900-12-30",{"$error":"#NUM!"},"1900-12-31","-",{"$f":"G29588-SUMIF(ESCALA!$B$14:$B$15,DADOS!K29588,ESCALA!$I$14:$I$15)","v":0}]
["",null,null,null,null,null,null,"1900-12-30",{"$error":"#NUM!"},"1900-12-31","-",{"$f":"G29589-SUMIF(ESCALA!$B$14:$B$15,DADOS!K29589,ESCALA!$I$14:$I$15)","v":0}]
["",null,null,null,null,null,null,"1900-12-30",{"$error":"#NUM!"},"1900-12-31","-",{"$f":"G29590-SUMIF(ESCALA!$B$14:$B$15,DADOS!K29590,ESCALA!$I$14:$I$15)","v":0}]
["",null,null,null,null,null,null,"1900-12-30",{"$error":"#NUM!"},"1900-12-31","-",{"$f":"G29591-SUMIF(ESCALA!$B$14:$B$15,DADOS!K29591,ESCALA!$I$14:$I$15)","v":0}]
["",null,null,null,null,null,null,"1900-12-30",{"$error":"#NUM!"},"1900-12-31","-",{"$f":"G29592-SUMIF(ESCALA!$B$14:$B$15,DADOS!K29592,ESCALA!$I$14:$I$15)","v":0}]
["",null,null,null,null,null,null,"1900-12-30",{"$error":"#NUM!"},"1900-12-31","-",{"$f":"G29593-SUMIF(ESCALA!$B$14:$B$15,DADOS!K29593,ESCALA!$I$14:$I$15)","v":0}]
["",null,null,null,null,null,null,"1900-12-30",{"$error":"#NUM!"},"1900-12-31","-",{"$f":"G29594-SUMIF(ESCALA!$B$14:$B$15,DADOS!K29594,ESCALA!$I$14:$I$15)","v":0}]
["",null,null,null,null,null,null,"1900-12-30",{"$error":"#NUM!"},"1900-12-31","-",{"$f":"G29595-SUMIF(ESCALA!$B$14:$B$15,DADOS!K29595,ESCALA!$I$14:$I$15)","v":0}]
["",null,null,null,null,null,null,"1900-12-30",{"$error":"#NUM!"},"1900-12-31","-",{"$f":"G29596-SUMIF(ESCALA!$B$14:$B$15,DADOS!K29596,ESCALA!$I$14:$I$15)","v":0}]
["",null,null,null,null,null,null,"1900-12-30",{"$error":"#NUM!"},"1900-12-31","-",{"$f":"G29597-SUMIF(ESCALA!$B$14:$B$15,DADOS!K29597,ESCALA!$I$14:$I$15)","v":0}]
["",null,null,null,null,null,null,"1900-12-30",{"$error":"#NUM!"},"1900-12-31","-",{"$f":"G29598-SUMIF(ESCALA!$B$14:$B$15,DADOS!K29598,ESCALA!$I$14:$I$15)","v":0}]
["",null,null,null,null,null,null,"1900-12-30",{"$error":"#NUM!"},"1900-12-31","-",{"$f":"G29599-SUMIF(ESCALA!$B$14:$B$15,DADOS!K29599,ESCALA!$I$14:$I$15)","v":0}]
["",null,null,null,null,null,null,"1900-12-30",{"$error":"#NUM!"},"1900-12-31","-",{"$f":"G29600-SUMIF(ESCALA!$B$14:$B$15,DADOS!K29600,ESCALA!$I$14:$I$15)","v":0}]
["",null,null,null,null,null,null,"1900-12-30",{"$error":"#NUM!"},"1900-12-31","-",{"$f":"G29601-SUMIF(ESCALA!$B$14:$B$15,DADOS!K29601,ESCALA!$I$14:$I$15)","v":0}]
["",null,null,null,null,null,null,"1900-12-30",{"$error":"#NUM!"},"1900-12-31","-",{"$f":"G29602-SUMIF(ESCALA!$B$14:$B$15,DADOS!K29602,ESCALA!$I$14:$I$15)","v":0}]
["",null,null,null,null,null,null,"1900-12-30",{"$error":"#NUM!"},"1900-12-31","-",{"$f":"G29603-SUMIF(ESCALA!$B$14:$B$15,DADOS!K29603,ESCALA!$I$14:$I$15)","v":0}]
["",null,null,null,null,null,null,"1900-12-30",{"$error":"#NUM!"},"1900-12-31","-",{"$f":"G29604-SUMIF(ESCALA!$B$14:$B$15,DADOS!K29604,ESCALA!$I$14:$I$15)","v":0}]
["",null,null,null,null,null,null,"1900-12-30",{"$error":"#NUM!"},"1900-12-31","-",{"$f":"G29605-SUMIF(ESCALA!$B$14:$B$15,DADOS!K29605,ESCALA!$I$14:$I$15)","v":0}]
["",null,null,null,null,null,null,"1900-12-30",{"$error":"#NUM!"},"1900-12-31","-",{"$f":"G29606-SUMIF(ESCALA!$B$14:$B$15,DADOS!K29606,ESCALA!$I$14:$I$15)","v":0}]
["",null,null,null,null,null,null,"1900-12-30",{"$error":"#NUM!"},"1900-12-31","-",{"$f":"G29607-SUMIF(ESCALA!$B$14:$B$15,DADOS!K29607,ESCALA!$I$14:$I$15)","v":0}]
["",null,null,null,null,null,null,"1900-12-30",{"$error":"#NUM!"},"1900-12-31","-",{"$f":"G29608-SUMIF(ESCALA!$B$14:$B$15,DADOS!K29608,ESCALA!$I$14:$I$15)","v":0}]
["",null,null,null,null,null,null,"1900-12-30",{"$error":"#NUM!"},"1900-12-31","-",{"$f":"G29609-SUMIF(ESCALA!$B$14:$B$15,DADOS!K29609,ESCALA!$I$14:$I$15)","v":0}]
["",null,null,null,null,null,null,"1900-12-30",{"$error":"#NUM!"},"1900-12-31","-",{"$f":"G29610-SUMIF(ESCALA!$B$14:$B$15,DADOS!K29610,ESCALA!$I$14:$I$15)","v":0}]
["",null,null,null,null,null,null,"1900-12-30",{"$error":"#NUM!"},"1900-12-31","-",{"$f":"G29611-SUMIF(ESCALA!$B$14:$B$15,DADOS!K29611,ESCALA!$I$14:$I$15)","v":0}]
["",null,null,null,null,null,null,"1900-12-30",{"$error":"#NUM!"},"1900-12-31","-",{"$f":"G29612-SUMIF(ESCALA!$B$14:$B$15,DADOS!K29612,ESCALA!$I$14:$I$15)","v":0}]
["",null,null,null,null,null,null,"1900-12-30",{"$error":"#NUM!"},"1900-12-31","-",{"$f":"G29613-SUMIF(ESCALA!$B$14:$B$15,DADOS!K29613,ESCALA!$I$14:$I$15)","v":0}]
["",null,null,null,null,null,null,"1900-12-30",{"$error":"#NUM!"},"1900-12-31","-",{"$f":"G29614-SUMIF(ESCALA!$B$14:$B$15,DADOS!K29614,ESCALA!$I$14:$I$15)","v":0}]
["",null,null,null,null,null,null,"1900-12-30",{"$error":"#NUM!"},"1900-12-31","-",{"$f":"G29615-SUMIF(ESCALA!$B$14:$B$15,DADOS!K29615,ESCALA!$I$14:$I$15)","v":0}]
["",null,null,null,null,null,null,"1900-12-30",{"$error":"#NUM!"},"1900-12-31","-",{"$f":"G29616-SUMIF(ESCALA!$B$14:$B$15,DADOS!K29616,ESCALA!$I$14:$I$15)","v":0}]
["",null,null,null,null,null,null,"1900-12-30",{"$error":"#NUM!"},"1900-12-31","-",{"$f":"G29617-SUMIF(ESCALA!$B$14:$B$15,DADOS!K29617,ESCALA!$I$14:$I$15)","v":0}]
["",null,null,null,null,null,null,"1900-12-30",{"$error":"#NUM!"},"1900-12-31","-",{"$f":"G29618-SUMIF(ESCALA!$B$14:$B$15,DADOS!K29618,ESCALA!$I$14:$I$15)","v":0}]
["",null,null,null,null,null,null,"1900-12-30",{"$error":"#NUM!"},"1900-12-31","-",{"$f":"G29619-SUMIF(ESCALA!$B$14:$B$15,DADOS!K29619,ESCALA!$I$14:$I$15)","v":0}]
["",null,null,null,null,null,null,"1900-12-30",{"$error":"#NUM!"},"1900-12-31","-",{"$f":"G29620-SUMIF(ESCALA!$B$14:$B$15,DADOS!K29620,ESCALA!$I$14:$I$15)","v":0}]
["",null,null,null,null,null,null,"1900-12-30",{"$error":"#NUM!"},"1900-12-31","-",{"$f":"G29621-SUMIF(ESCALA!$B$14:$B$15,DADOS!K29621,ESCALA!$I$14:$I$15)","v":0}]
["",null,null,null,null,null,null,"1900-12-30",{"$error":"#NUM!"},"1900-12-31","-",{"$f":"G29622-SUMIF(ESCALA!$B$14:$B$15,DADOS!K29622,ESCALA!$I$14:$I$15)","v":0}]
["",null,null,null,null,null,null,"1900-12-30",{"$error":"#NUM!"},"1900-12-31","-",{"$f":"G29623-SUMIF(ESCALA!$B$14:$B$15,DADOS!K29623,ESCALA!$I$14:$I$15)","v":0}]
["",null,null,null,null,null,null,"1900-12-30",{"$error":"#NUM!"},"1900-12-31","-",{"$f":"G29624-SUMIF(ESCALA!$B$14:$B$15,DADOS!K29624,ESCALA!$I$14:$I$15)","v":0}]
["",null,null,null,null,null,null,"1900-12-30",{"$error":"#NUM!"},"1900-12-31","-",{"$f":"G29625-SUMIF(ESCALA!$B$14:$B$15,DADOS!K29625,ESCALA!$I$14:$I$15)","v":0}]
["",null,null,null,null,null,null,"1900-12-30",{"$error":"#NUM!"},"1900-12-31","-",{"$f":"G29626-SUMIF(ESCALA!$B$14:$B$15,DADOS!K29626,ESCALA!$I$14:$I$15)","v":0}]
["",null,null,null,null,null,null,"1900-12-30",{"$error":"#NUM!"},"1900-12-31","-",{"$f":"G29627-SUMIF(ESCALA!$B$14:$B$15,DADOS!K29627,ESCALA!$I$14:$I$15)","v":0}]
["",null,null,null,null,null,null,"1900-12-30",{"$error":"#NUM!"},"1900-12-31","-",{"$f":"G29628-SUMIF(ESCALA!$B$14:$B$15,DADOS!K29628,ESCALA!$I$14:$I$15)","v":0}]
["",null,null,null,null,null,null,"1900-12-30",{"$error":"#NUM!"},"1900-12-31","-",{"$f":"G29629-SUMIF(ESCALA!$B$14:$B$15,DADOS!K29629,ESCALA!$I$14:$I$15)","v":0}]
["",null,null,null,null,null,null,"1900-12-30",{"$error":"#NUM!"},"1900-12-31","-",{"$f":"G29630-SUMIF(ESCALA!$B$14:$B$15,DADOS!K29630,ESCALA!$I$14:$I$15)","v":0}]
["",null,null,null,null,null,null,"1900-12-30",{"$error":"#NUM!"},"1900-12-31","-",{"$f":"G29631-SUMIF(ESCALA!$B$14:$B$15,DADOS!K29631,ESCALA!$I$14:$I$15)","v":0}]
["",null,null,null,null,null,null,"1900-12-30",{"$error":"#NUM!"},"1900-12-31","-",{"$f":"G29632-SUMIF(ESCALA!$B$14:$B$15,DADOS!K29632,ESCALA!$I$14:$I$15)","v":0}]
["",null,null,null,null,null,null,"1900-12-30",{"$error":"#NUM!"},"1900-12-31","-",{"$f":"G29633-SUMIF(ESCALA!$B$14:$B$15,DADOS!K29633,ESCALA!$I$14:$I$15)","v":0}]
["",null,null,null,null,null,null,"1900-12-30",{"$error":"#NUM!"},"1900-12-31","-",{"$f":"G29634-SUMIF(ESCALA!$B$14:$B$15,DADOS!K29634,ESCALA!$I$14:$I$15)","v":0}]
[{"$f":"IF(L29635=0,\"\",B29635)","v":""},null,null,null,null,null,null,{"$f":"IF(F29635<=44985,F29635+365,F29635+366)","v":"1900-12-30"},{"$error":"#NUM!"},"1900-12-31",{"$f":"CONCATENATE(B29635,\"-\",F29635)","v":"-"},{"$f":"G29635-SUMIF(ESCALA!$B$14:$B$15,DADOS!K29635,ESCALA!$I$14:$I$15)","v":0}]
["",null,null,null,null,null,null,"1900-12-30",{"$f":"IF(E29636=\"ESTATUTARIO\",EOMONTH(F29636,0),EOMONTH(F29636,-1))","v":{"$error":"#NUM!"}},{"$f":"EOMONTH(F29636,11)","v":"1900-12-31"},"-",{"$f":"G29636-SUMIF(ESCALA!$B$14:$B$15,DADOS!K29636,ESCALA!$I$14:$I$15)","v":0}]
["",null,null,null,null,null,null,"1900-12-30",{"$error":"#NUM!"},"1900-12-31","-",{"$f":"G29637-SUMIF(ESCALA!$B$14:$B$15,DADOS!K29637,ESCALA!$I$14:$I$15)","v":0}]
["",null,null,null,null,null,null,"1900-12-30",{"$error":"#NUM!"},"1900-12-31","-",{"$f":"G29638-SUMIF(ESCALA!$B$14:$B$15,DADOS!K29638,ESCALA!$I$14:$I$15)","v":0}]
["",null,null,null,null,null,null,"1900-12-30",{"$error":"#NUM!"},"1900-12-31","-",{"$f":"G29639-SUMIF(ESCALA!$B$14:$B$15,DADOS!K29639,ESCALA!$I$14:$I$15)","v":0}]
["",null,null,null,null,null,null,"1900-12-30",{"$error":"#NUM!"},"1900-12-31","-",{"$f":"G29640-SUMIF(ESCALA!$B$14:$B$15,DADOS!K29640,ESCALA!$I$14:$I$15)","v":0}]
["",null,null,null,null,null,null,"1900-12-30",{"$error":"#NUM!"},"1900-12-31","-",{"$f":"G29641-SUMIF(ESCALA!$B$14:$B$15,DADOS!K29641,ESCALA!$I$14:$I$15)","v":0}]
["",null,null,null,null,null,null,"1900-12-30",{"$error":"#NUM!"},"1900-12-31","-",{"$f":"G29642-SUMIF(ESCALA!$B$14:$B$15,DADOS!K29642,ESCALA!$I$14:$I$15)","v":0}]
["",null,null,null,null,null,null,"1900-12-30",{"$error":"#NUM!"},"1900-12-31","-",{"$f":"G29643-SUMIF(ESCALA!$B$14:$B$15,DADOS!K29643,ESCALA!$I$14:$I$15)","v":0}]
["",null,null,null,null,null,null,"1900-12-30",{"$error":"#NUM!"},"1900-12-31","-",{"$f":"G29644-SUMIF(ESCALA!$B$14:$B$15,DADOS!K29644,ESCALA!$I$14:$I$15)","v":0}]
["",null,null,null,null,null,null,"1900-12-30",{"$error":"#NUM!"},"1900-12-31","-",{"$f":"G29645-SUMIF(ESCALA!$B$14:$B$15,DADOS!K29645,ESCALA!$I$14:$I$15)","v":0}]
["",null,null,null,null,null,null,"1900-12-30",{"$error":"#NUM!"},"1900-12-31","-",{"$f":"G29646-SUMIF(ESCALA!$B$14:$B$15,DADOS!K29646,ESCALA!$I$14:$I$15)","v":0}]
["",null,null,null,null,null,null,"1900-12-30",{"$error":"#NUM!"},"1900-12-31","-",{"$f":"G29647-SUMIF(ESCALA!$B$14:$B$15,DADOS!K29647,ESCALA!$I$14:$I$15)","v":0}]
["",null,null,null,null,null,null,"1900-12-30",{"$error":"#NUM!"},"1900-12-31","-",{"$f":"G29648-SUMIF(ESCALA!$B$14:$B$15,DADOS!K29648,ESCALA!$I$14:$I$15)","v":0}]
["",null,null,null,null,null,null,"1900-12-30",{"$error":"#NUM!"},"1900-12-31","-",{"$f":"G29649-SUMIF(ESCALA!$B$14:$B$15,DADOS!K29649,ESCALA!$I$14:$I$15)","v":0}]
["",null,null,null,null,null,null,"1900-12-30",{"$error":"#NUM!"},"1900-12-31","-",{"$f":"G29650-SUMIF(ESCALA!$B$14:$B$15,DADOS!K29650,ESCALA!$I$14:$I$15)","v":0}]
["",null,null,null,null,null,null,"1900-12-30",{"$error":"#NUM!"},"1900-12-31","-",{"$f":"G29651-SUMIF(ESCALA!$B$14:$B$15,DADOS!K29651,ESCALA!$I$14:$I$15)","v":0}]
["",null,null,null,null,null,null,"1900-12-30",{"$error":"#NUM!"},"1900-12-31","-",{"$f":"G29652-SUMIF(ESCALA!$B$14:$B$15,DADOS!K29652,ESCALA!$I$14:$I$15)","v":0}]
["",null,null,null,null,null,null,"1900-12-30",{"$error":"#NUM!"},"1900-12-31","-",{"$f":"G29653-SUMIF(ESCALA!$B$14:$B$15,DADOS!K29653,ESCALA!$I$14:$I$15)","v":0}]
["",null,null,null,null,null,null,"1900-12-30",{"$error":"#NUM!"},"1900-12-31","-",{"$f":"G29654-SUMIF(ESCALA!$B$14:$B$15,DADOS!K29654,ESCALA!$I$14:$I$15)","v":0}]
["",null,null,null,null,null,null,"1900-12-30",{"$error":"#NUM!"},"1900-12-31","-",{"$f":"G29655-SUMIF(ESCALA!$B$14:$B$15,DADOS!K29655,ESCALA!$I$14:$I$15)","v":0}]
["",null,null,null,null,null,null,"1900-12-30",{"$error":"#NUM!"},"1900-12-31","-",{"$f":"G29656-SUMIF(ESCALA!$B$14:$B$15,DADOS!K29656,ESCALA!$I$14:$I$15)","v":0}]
["",null,null,null,null,null,null,"1900-12-30",{"$error":"#NUM!"},"1900-12-31","-",{"$f":"G29657-SUMIF(ESCALA!$B$14:$B$15,DADOS!K29657,ESCALA!$I$14:$I$15)","v":0}]
["",null,null,null,null,null,null,"1900-12-30",{"$error":"#NUM!"},"1900-12-31","-",{"$f":"G29658-SUMIF(ESCALA!$B$14:$B$15,DADOS!K29658,ESCALA!$I$14:$I$15)","v":0}]
["",null,null,null,null,null,null,"1900-12-30",{"$error":"#NUM!"},"1900-12-31","-",{"$f":"G29659-SUMIF(ESCALA!$B$14:$B$15,DADOS!K29659,ESCALA!$I$14:$I$15)","v":0}]
["",null,null,null,null,null,null,"1900-12-30",{"$error":"#NUM!"},"1900-12-31","-",{"$f":"G29660-SUMIF(ESCALA!$B$14:$B$15,DADOS!K29660,ESCALA!$I$14:$I$15)","v":0}]
["",null,null,null,null,null,null,"1900-12-30",{"$error":"#NUM!"},"1900-12-31","-",{"$f":"G29661-SUMIF(ESCALA!$B$14:$B$15,DADOS!K29661,ESCALA!$I$14:$I$15)","v":0}]
["",null,null,null,null,null,null,"1900-12-30",{"$error":"#NUM!"},"1900-12-31","-",{"$f":"G29662-SUMIF(ESCALA!$B$14:$B$15,DADOS!K29662,ESCALA!$I$14:$I$15)","v":0}]
["",null,null,null,null,null,null,"1900-12-30",{"$error":"#NUM!"},"1900-12-31","-",{"$f":"G29663-SUMIF(ESCALA!$B$14:$B$15,DADOS!K29663,ESCALA!$I$14:$I$15)","v":0}]
["",null,null,null,null,null,null,"1900-12-30",{"$error":"#NUM!"},"1900-12-31","-",{"$f":"G29664-SUMIF(ESCALA!$B$14:$B$15,DADOS!K29664,ESCALA!$I$14:$I$15)","v":0}]
["",null,null,null,null,null,null,"1900-12-30",{"$error":"#NUM!"},"1900-12-31","-",{"$f":"G29665-SUMIF(ESCALA!$B$14:$B$15,DADOS!K29665,ESCALA!$I$14:$I$15)","v":0}]
["",null,null,null,null,null,null,"1900-12-30",{"$error":"#NUM!"},"1900-12-31","-",{"$f":"G29666-SUMIF(ESCALA!$B$14:$B$15,DADOS!K29666,ESCALA!$I$14:$I$15)","v":0}]
["",null,null,null,null,null,null,"1900-12-30",{"$error":"#NUM!"},"1900-12-31","-",{"$f":"G29667-SUMIF(ESCALA!$B$14:$B$15,DADOS!K29667,ESCALA!$I$14:$I$15)","v":0}]
["",null,null,null,null,null,null,"1900-12-30",{"$error":"#NUM!"},"1900-12-31","-",{"$f":"G29668-SUMIF(ESCALA!$B$14:$B$15,DADOS!K29668,ESCALA!$I$14:$I$15)","v":0}]
["",null,null,null,null,null,null,"1900-12-30",{"$error":"#NUM!"},"1900-12-31","-",{"$f":"G29669-SUMIF(ESCALA!$B$14:$B$15,DADOS!K29669,ESCALA!$I$14:$I$15)","v":0}]
["",null,null,null,null,null,null,"1900-12-30",{"$error":"#NUM!"},"1900-12-31","-",{"$f":"G29670-SUMIF(ESCALA!$B$14:$B$15,DADOS!K29670,ESCALA!$I$14:$I$15)","v":0}]
["",null,null,null,null,null,null,"1900-12-30",{"$error":"#NUM!"},"1900-12-31","-",{"$f":"G29671-SUMIF(ESCALA!$B$14:$B$15,DADOS!K29671,ESCALA!$I$14:$I$15)","v":0}]
["",null,null,null,null,null,null,"1900-12-30",{"$error":"#NUM!"},"1900-12-31","-",{"$f":"G29672-SUMIF(ESCALA!$B$14:$B$15,DADOS!K29672,ESCALA!$I$14:$I$15)","v":0}]
["",null,null,null,null,null,null,"1900-12-30",{"$error":"#NUM!"},"1900-12-31","-",{"$f":"G29673-SUMIF(ESCALA!$B$14:$B$15,DADOS!K29673,ESCALA!$I$14:$I$15)","v":0}]
["",null,null,null,null,null,null,"1900-12-30",{"$error":"#NUM!"},"1900-12-31","-",{"$f":"G29674-SUMIF(ESCALA!$B$14:$B$15,DADOS!K29674,ESCALA!$I$14:$I$15)","v":0}]
["",null,null,null,null,null,null,"1900-12-30",{"$error":"#NUM!"},"1900-12-31","-",{"$f":"G29675-SUMIF(ESCALA!$B$14:$B$15,DADOS!K29675,ESCALA!$I$14:$I$15)","v":0}]
["",null,null,null,null,null,null,"1900-12-30",{"$error":"#NUM!"},"1900-12-31","-",{"$f":"G29676-SUMIF(ESCALA!$B$14:$B$15,DADOS!K29676,ESCALA!$I$14:$I$15)","v":0}]
["",null,null,null,null,null,null,"1900-12-30",{"$error":"#NUM!"},"1900-12-31","-",{"$f":"G29677-SUMIF(ESCALA!$B$14:$B$15,DADOS!K29677,ESCALA!$I$14:$I$15)","v":0}]
["",null,null,null,null,null,null,"1900-12-30",{"$error":"#NUM!"},"1900-12-31","-",{"$f":"G29678-SUMIF(ESCALA!$B$14:$B$15,DADOS!K29678,ESCALA!$I$14:$I$15)","v":0}]
["",null,null,null,null,null,null,"1900-12-30",{"$error":"#NUM!"},"1900-12-31","-",{"$f":"G29679-SUMIF(ESCALA!$B$14:$B$15,DADOS!K29679,ESCALA!$I$14:$I$15)","v":0}]
["",null,null,null,null,null,null,"1900-12-30",{"$error":"#NUM!"},"1900-12-31","-",{"$f":"G29680-SUMIF(ESCALA!$B$14:$B$15,DADOS!K29680,ESCALA!$I$14:$I$15)","v":0}]
["",null,null,null,null,null,null,"1900-12-30",{"$error":"#NUM!"},"1900-12-31","-",{"$f":"G29681-SUMIF(ESCALA!$B$14:$B$15,DADOS!K29681,ESCALA!$I$14:$I$15)","v":0}]
["",null,null,null,null,null,null,"1900-12-30",{"$error":"#NUM!"},"1900-12-31","-",{"$f":"G29682-SUMIF(ESCALA!$B$14:$B$15,DADOS!K29682,ESCALA!$I$14:$I$15)","v":0}]
["",null,null,null,null,null,null,"1900-12-30",{"$error":"#NUM!"},"1900-12-31","-",{"$f":"G29683-SUMIF(ESCALA!$B$14:$B$15,DADOS!K29683,ESCALA!$I$14:$I$15)","v":0}]
["",null,null,null,null,null,null,"1900-12-30",{"$error":"#NUM!"},"1900-12-31","-",{"$f":"G29684-SUMIF(ESCALA!$B$14:$B$15,DADOS!K29684,ESCALA!$I$14:$I$15)","v":0}]
["",null,null,null,null,null,null,"1900-12-30",{"$error":"#NUM!"},"1900-12-31","-",{"$f":"G29685-SUMIF(ESCALA!$B$14:$B$15,DADOS!K29685,ESCALA!$I$14:$I$15)","v":0}]
["",null,null,null,null,null,null,"1900-12-30",{"$error":"#NUM!"},"1900-12-31","-",{"$f":"G29686-SUMIF(ESCALA!$B$14:$B$15,DADOS!K29686,ESCALA!$I$14:$I$15)","v":0}]
["",null,null,null,null,null,null,"1900-12-30",{"$error":"#NUM!"},"1900-12-31","-",{"$f":"G29687-SUMIF(ESCALA!$B$14:$B$15,DADOS!K29687,ESCALA!$I$14:$I$15)","v":0}]
["",null,null,null,null,null,null,"1900-12-30",{"$error":"#NUM!"},"1900-12-31","-",{"$f":"G29688-SUMIF(ESCALA!$B$14:$B$15,DADOS!K29688,ESCALA!$I$14:$I$15)","v":0}]
["",null,null,null,null,null,null,"1900-12-30",{"$error":"#NUM!"},"1900-12-31","-",{"$f":"G29689-SUMIF(ESCALA!$B$14:$B$15,DADOS!K29689,ESCALA!$I$14:$I$15)","v":0}]
["",null,null,null,null,null,null,"1900-12-30",{"$error":"#NUM!"},"1900-12-31","-",{"$f":"G29690-SUMIF(ESCALA!$B$14:$B$15,DADOS!K29690,ESCALA!$I$14:$I$15)","v":0}]
["",null,null,null,null,null,null,"1900-12-30",{"$error":"#NUM!"},"1900-12-31","-",{"$f":"G29691-SUMIF(ESCALA!$B$14:$B$15,DADOS!K29691,ESCALA!$I$14:$I$15)","v":0}]
["",null,null,null,null,null,null,"1900-12-30",{"$error":"#NUM!"},"1900-12-31","-",{"$f":"G29692-SUMIF(ESCALA!$B$14:$B$15,DADOS!K29692,ESCALA!$I$14:$I$15)","v":0}]
["",null,null,null,null,null,null,"1900-12-30",{"$error":"#NUM!"},"1900-12-31","-",{"$f":"G29693-SUMIF(ESCALA!$B$14:$B$15,DADOS!K29693,ESCALA!$I$14:$I$15)","v":0}]
["",null,null,null,null,null,null,"1900-12-30",{"$error":"#NUM!"},"1900-12-31","-",{"$f":"G29694-SUMIF(ESCALA!$B$14:$B$15,DADOS!K29694,ESCALA!$I$14:$I$15)","v":0}]
["",null,null,null,null,null,null,"1900-12-30",{"$error":"#NUM!"},"1900-12-31","-",{"$f":"G29695-SUMIF(ESCALA!$B$14:$B$15,DADOS!K29695,ESCALA!$I$14:$I$15)","v":0}]
["",null,null,null,null,null,null,"1900-12-30",{"$error":"#NUM!"},"1900-12-31","-",{"$f":"G29696-SUMIF(ESCALA!$B$14:$B$15,DADOS!K29696,ESCALA!$I$14:$I$15)","v":0}]
["",null,null,null,null,null,null,"1900-12-30",{"$error":"#NUM!"},"1900-12-31","-",{"$f":"G29697-SUMIF(ESCALA!$B$14:$B$15,DADOS!K29697,ESCALA!$I$14:$I$15)","v":0}]
["",null,null,null,null,null,null,"1900-12-30",{"$error":"#NUM!"},"1900-12-31","-",{"$f":"G29698-SUMIF(ESCALA!$B$14:$B$15,DADOS!K29698,ESCALA!$I$14:$I$15)","v":0}]
[{"$f":"IF(L29699=0,\"\",B29699)","v":""},null,null,null,null,null,null,{"$f":"IF(F29699<=44985,F29699+365,F29699+366)","v":"1900-12-30"},{"$error":"#NUM!"},"1900-12-31",{"$f":"CONCATENATE(B29699,\"-\",F29699)","v":"-"},{"$f":"G29699-SUMIF(ESCALA!$B$14:$B$15,DADOS!K29699,ESCALA!$I$14:$I$15)","v":0}]
["",null,null,null,null,null,null,"1900-12-30",{"$f":"IF(E29700=\"ESTATUTARIO\",EOMONTH(F29700,0),EOMONTH(F29700,-1))","v":{"$error":"#NUM!"}},{"$f":"EOMONTH(F29700,11)","v":"1900-12-31"},"-",{"$f":"G29700-SUMIF(ESCALA!$B$14:$B$15,DADOS!K29700,ESCALA!$I$14:$I$15)","v":0}]
["",null,null,null,null,null,null,"1900-12-30",{"$error":"#NUM!"},"1900-12-31","-",{"$f":"G29701-SUMIF(ESCALA!$B$14:$B$15,DADOS!K29701,ESCALA!$I$14:$I$15)","v":0}]
["",null,null,null,null,null,null,"1900-12-30",{"$error":"#NUM!"},"1900-12-31","-",{"$f":"G29702-SUMIF(ESCALA!$B$14:$B$15,DADOS!K29702,ESCALA!$I$14:$I$15)","v":0}]
["",null,null,null,null,null,null,"1900-12-30",{"$error":"#NUM!"},"1900-12-31","-",{"$f":"G29703-SUMIF(ESCALA!$B$14:$B$15,DADOS!K29703,ESCALA!$I$14:$I$15)","v":0}]
["",null,null,null,null,null,null,"1900-12-30",{"$error":"#NUM!"},"1900-12-31","-",{"$f":"G29704-SUMIF(ESCALA!$B$14:$B$15,DADOS!K29704,ESCALA!$I$14:$I$15)","v":0}]
["",null,null,null,null,null,null,"1900-12-30",{"$error":"#NUM!"},"1900-12-31","-",{"$f":"G29705-SUMIF(ESCALA!$B$14:$B$15,DADOS!K29705,ESCALA!$I$14:$I$15)","v":0}]
["",null,null,null,null,null,null,"1900-12-30",{"$error":"#NUM!"},"1900-12-31","-",{"$f":"G29706-SUMIF(ESCALA!$B$14:$B$15,DADOS!K29706,ESCALA!$I$14:$I$15)","v":0}]
["",null,null,null,null,null,null,"1900-12-30",{"$error":"#NUM!"},"1900-12-31","-",{"$f":"G29707-SUMIF(ESCALA!$B$14:$B$15,DADOS!K29707,ESCALA!$I$14:$I$15)","v":0}]
["",null,null,null,null,null,null,"1900-12-30",{"$error":"#NUM!"},"1900-12-31","-",{"$f":"G29708-SUMIF(ESCALA!$B$14:$B$15,DADOS!K29708,ESCALA!$I$14:$I$15)","v":0}]
["",null,null,null,null,null,null,"1900-12-30",{"$error":"#NUM!"},"1900-12-31","-",{"$f":"G29709-SUMIF(ESCALA!$B$14:$B$15,DADOS!K29709,ESCALA!$I$14:$I$15)","v":0}]
["",null,null,null,null,null,null,"1900-12-30",{"$error":"#NUM!"},"1900-12-31","-",{"$f":"G29710-SUMIF(ESCALA!$B$14:$B$15,DADOS!K29710,ESCALA!$I$14:$I$15)","v":0}]
["",null,null,null,null,null,null,"1900-12-30",{"$error":"#NUM!"},"1900-12-31","-",{"$f":"G29711-SUMIF(ESCALA!$B$14:$B$15,DADOS!K29711,ESCALA!$I$14:$I$15)","v":0}]
["",null,null,null,null,null,null,"1900-12-30",{"$error":"#NUM!"},"1900-12-31","-",{"$f":"G29712-SUMIF(ESCALA!$B$14:$B$15,DADOS!K29712,ESCALA!$I$14:$I$15)","v":0}]
["",null,null,null,null,null,null,"1900-12-30",{"$error":"#NUM!"},"1900-12-31","-",{"$f":"G29713-SUMIF(ESCALA!$B$14:$B$15,DADOS!K29713,ESCALA!$I$14:$I$15)","v":0}]
["",null,null,null,null,null,null,"1900-12-30",{"$error":"#NUM!"},"1900-12-31","-",{"$f":"G29714-SUMIF(ESCALA!$B$14:$B$15,DADOS!K29714,ESCALA!$I$14:$I$15)","v":0}]
["",null,null,null,null,null,null,"1900-12-30",{"$error":"#NUM!"},"1900-12-31","-",{"$f":"G29715-SUMIF(ESCALA!$B$14:$B$15,DADOS!K29715,ESCALA!$I$14:$I$15)","v":0}]
["",null,null,null,null,null,null,"1900-12-30",{"$error":"#NUM!"},"1900-12-31","-",{"$f":"G29716-SUMIF(ESCALA!$B$14:$B$15,DADOS!K29716,ESCALA!$I$14:$I$15)","v":0}]
["",null,null,null,null,null,null,"1900-12-30",{"$error":"#NUM!"},"1900-12-31","-",{"$f":"G29717-SUMIF(ESCALA!$B$14:$B$15,DADOS!K29717,ESCALA!$I$14:$I$15)","v":0}]
["",null,null,null,null,null,null,"1900-12-30",{"$error":"#NUM!"},"1900-12-31","-",{"$f":"G29718-SUMIF(ESCALA!$B$14:$B$15,DADOS!K29718,ESCALA!$I$14:$I$15)","v":0}]
["",null,null,null,null,null,null,"1900-12-30",{"$error":"#NUM!"},"1900-12-31","-",{"$f":"G29719-SUMIF(ESCALA!$B$14:$B$15,DADOS!K29719,ESCALA!$I$14:$I$15)","v":0}]
["",null,null,null,null,null,null,"1900-12-30",{"$error":"#NUM!"},"1900-12-31","-",{"$f":"G29720-SUMIF(ESCALA!$B$14:$B$15,DADOS!K29720,ESCALA!$I$14:$I$15)","v":0}]
["",null,null,null,null,null,null,"1900-12-30",{"$error":"#NUM!"},"1900-12-31","-",{"$f":"G29721-SUMIF(ESCALA!$B$14:$B$15,DADOS!K29721,ESCALA!$I$14:$I$15)","v":0}]
["",null,null,null,null,null,null,"1900-12-30",{"$error":"#NUM!"},"1900-12-31","-",{"$f":"G29722-SUMIF(ESCALA!$B$14:$B$15,DADOS!K29722,ESCALA!$I$14:$I$15)","v":0}]
["",null,null,null,null,null,null,"1900-12-30",{"$error":"#NUM!"},"1900-12-31","-",{"$f":"G29723-SUMIF(ESCALA!$B$14:$B$15,DADOS!K29723,ESCALA!$I$14:$I$15)","v":0}]
["",null,null,null,null,null,null,"1900-12-30",{"$error":"#NUM!"},"1900-12-31","-",{"$f":"G29724-SUMIF(ESCALA!$B$14:$B$15,DADOS!K29724,ESCALA!$I$14:$I$15)","v":0}]
["",null,null,null,null,null,null,"1900-12-30",{"$error":"#NUM!"},"1900-12-31","-",{"$f":"G29725-SUMIF(ESCALA!$B$14:$B$15,DADOS!K29725,ESCALA!$I$14:$I$15)","v":0}]
["",null,null,null,null,null,null,"1900-12-30",{"$error":"#NUM!"},"1900-12-31","-",{"$f":"G29726-SUMIF(ESCALA!$B$14:$B$15,DADOS!K29726,ESCALA!$I$14:$I$15)","v":0}]
["",null,null,null,null,null,null,"1900-12-30",{"$error":"#NUM!"},"1900-12-31","-",{"$f":"G29727-SUMIF(ESCALA!$B$14:$B$15,DADOS!K29727,ESCALA!$I$14:$I$15)","v":0}]
["",null,null,null,null,null,null,"1900-12-30",{"$error":"#NUM!"},"1900-12-31","-",{"$f":"G29728-SUMIF(ESCALA!$B$14:$B$15,DADOS!K29728,ESCALA!$I$14:$I$15)","v":0}]
["",null,null,null,null,null,null,"1900-12-30",{"$error":"#NUM!"},"1900-12-31","-",{"$f":"G29729-SUMIF(ESCALA!$B$14:$B$15,DADOS!K29729,ESCALA!$I$14:$I$15)","v":0}]
["",null,null,null,null,null,null,"1900-12-30",{"$error":"#NUM!"},"1900-12-31","-",{"$f":"G29730-SUMIF(ESCALA!$B$14:$B$15,DADOS!K29730,ESCALA!$I$14:$I$15)","v":0}]
["",null,null,null,null,null,null,"1900-12-30",{"$error":"#NUM!"},"1900-12-31","-",{"$f":"G29731-SUMIF(ESCALA!$B$14:$B$15,DADOS!K29731,ESCALA!$I$14:$I$15)","v":0}]
["",null,null,null,null,null,null,"1900-12-30",{"$error":"#NUM!"},"1900-12-31","-",{"$f":"G29732-SUMIF(ESCALA!$B$14:$B$15,DADOS!K29732,ESCALA!$I$14:$I$15)","v":0}]
["",null,null,null,null,null,null,"1900-12-30",{"$error":"#NUM!"},"1900-12-31","-",{"$f":"G29733-SUMIF(ESCALA!$B$14:$B$15,DADOS!K29733,ESCALA!$I$14:$I$15)","v":0}]
["",null,null,null,null,null,null,"1900-12-30",{"$error":"#NUM!"},"1900-12-31","-",{"$f":"G29734-SUMIF(ESCALA!$B$14:$B$15,DADOS!K29734,ESCALA!$I$14:$I$15)","v":0}]
["",null,null,null,null,null,null,"1900-12-30",{"$error":"#NUM!"},"1900-12-31","-",{"$f":"G29735-SUMIF(ESCALA!$B$14:$B$15,DADOS!K29735,ESCALA!$I$14:$I$15)","v":0}]
["",null,null,null,null,null,null,"1900-12-30",{"$error":"#NUM!"},"1900-12-31","-",{"$f":"G29736-SUMIF(ESCALA!$B$14:$B$15,DADOS!K29736,ESCALA!$I$14:$I$15)","v":0}]
["",null,null,null,null,null,null,"1900-12-30",{"$error":"#NUM!"},"1900-12-31","-",{"$f":"G29737-SUMIF(ESCALA!$B$14:$B$15,DADOS!K29737,ESCALA!$I$14:$I$15)","v":0}]
["",null,null,null,null,null,null,"1900-12-30",{"$error":"#NUM!"},"1900-12-31","-",{"$f":"G29738-SUMIF(ESCALA!$B$14:$B$15,DADOS!K29738,ESCALA!$I$14:$I$15)","v":0}]
["",null,null,null,null,null,null,"1900-12-30",{"$error":"#NUM!"},"1900-12-31","-",{"$f":"G29739-SUMIF(ESCALA!$B$14:$B$15,DADOS!K29739,ESCALA!$I$14:$I$15)","v":0}]
["",null,null,null,null,null,null,"1900-12-30",{"$error":"#NUM!"},"1900-12-31","-",{"$f":"G29740-SUMIF(ESCALA!$B$14:$B$15,DADOS!K29740,ESCALA!$I$14:$I$15)","v":0}]
["",null,null,null,null,null,null,"1900-12-30",{"$error":"#NUM!"},"1900-12-31","-",{"$f":"G29741-SUMIF(ESCALA!$B$14:$B$15,DADOS!K29741,ESCALA!$I$14:$I$15)","v":0}]
["",null,null,null,null,null,null,"1900-12-30",{"$error":"#NUM!"},"1900-12-31","-",{"$f":"G29742-SUMIF(ESCALA!$B$14:$B$15,DADOS!K29742,ESCALA!$I$14:$I$15)","v":0}]
["",null,null,null,null,null,null,"1900-12-30",{"$error":"#NUM!"},"1900-12-31","-",{"$f":"G29743-SUMIF(ESCALA!$B$14:$B$15,DADOS!K29743,ESCALA!$I$14:$I$15)","v":0}]
["",null,null,null,null,null,null,"1900-12-30",{"$error":"#NUM!"},"1900-12-31","-",{"$f":"G29744-SUMIF(ESCALA!$B$14:$B$15,DADOS!K29744,ESCALA!$I$14:$I$15)","v":0}]
["",null,null,null,null,null,null,"1900-12-30",{"$error":"#NUM!"},"1900-12-31","-",{"$f":"G29745-SUMIF(ESCALA!$B$14:$B$15,DADOS!K29745,ESCALA!$I$14:$I$15)","v":0}]
["",null,null,null,null,null,null,"1900-12-30",{"$error":"#NUM!"},"1900-12-31","-",{"$f":"G29746-SUMIF(ESCALA!$B$14:$B$15,DADOS!K29746,ESCALA!$I$14:$I$15)","v":0}]
["",null,null,null,null,null,null,"1900-12-30",{"$error":"#NUM!"},"1900-12-31","-",{"$f":"G29747-SUMIF(ESCALA!$B$14:$B$15,DADOS!K29747,ESCALA!$I$14:$I$15)","v":0}]
["",null,null,null,null,null,null,"1900-12-30",{"$error":"#NUM!"},"1900-12-31","-",{"$f":"G29748-SUMIF(ESCALA!$B$14:$B$15,DADOS!K29748,ESCALA!$I$14:$I$15)","v":0}]
["",null,null,null,null,null,null,"1900-12-30",{"$error":"#NUM!"},"1900-12-31","-",{"$f":"G29749-SUMIF(ESCALA!$B$14:$B$15,DADOS!K29749,ESCALA!$I$14:$I$15)","v":0}]
["",null,null,null,null,null,null,"1900-12-30",{"$error":"#NUM!"},"1900-12-31","-",{"$f":"G29750-SUMIF(ESCALA!$B$14:$B$15,DADOS!K29750,ESCALA!$I$14:$I$15)","v":0}]
["",null,null,null,null,null,null,"1900-12-30",{"$error":"#NUM!"},"1900-12-31","-",{"$f":"G29751-SUMIF(ESCALA!$B$14:$B$15,DADOS!K29751,ESCALA!$I$14:$I$15)","v":0}]
["",null,null,null,null,null,null,"1900-12-30",{"$error":"#NUM!"},"1900-12-31","-",{"$f":"G29752-SUMIF(ESCALA!$B$14:$B$15,DADOS!K29752,ESCALA!$I$14:$I$15)","v":0}]
["",null,null,null,null,null,null,"1900-12-30",{"$error":"#NUM!"},"1900-12-31","-",{"$f":"G29753-SUMIF(ESCALA!$B$14:$B$15,DADOS!K29753,ESCALA!$I$14:$I$15)","v":0}]
["",null,null,null,null,null,null,"1900-12-30",{"$error":"#NUM!"},"1900-12-31","-",{"$f":"G29754-SUMIF(ESCALA!$B$14:$B$15,DADOS!K29754,ESCALA!$I$14:$I$15)","v":0}]
["",null,null,null,null,null,null,"1900-12-30",{"$error":"#NUM!"},"1900-12-31","-",{"$f":"G29755-SUMIF(ESCALA!$B$14:$B$15,DADOS!K29755,ESCALA!$I$14:$I$15)","v":0}]
["",null,null,null,null,null,null,"1900-12-30",{"$error":"#NUM!"},"1900-12-31","-",{"$f":"G29756-SUMIF(ESCALA!$B$14:$B$15,DADOS!K29756,ESCALA!$I$14:$I$15)","v":0}]
["",null,null,null,null,null,null,"1900-12-30",{"$error":"#NUM!"},"1900-12-31","-",{"$f":"G29757-SUMIF(ESCALA!$B$14:$B$15,DADOS!K29757,ESCALA!$I$14:$I$15)","v":0}]
["",null,null,null,null,null,null,"1900-12-30",{"$error":"#NUM!"},"1900-12-31","-",{"$f":"G29758-SUMIF(ESCALA!$B$14:$B$15,DADOS!K29758,ESCALA!$I$14:$I$15)","v":0}]
["",null,null,null,null,null,null,"1900-12-30",{"$error":"#NUM!"},"1900-12-31","-",{"$f":"G29759-SUMIF(ESCALA!$B$14:$B$15,DADOS!K29759,ESCALA!$I$14:$I$15)","v":0}]
["",null,null,null,null,null,null,"1900-12-30",{"$error":"#NUM!"},"1900-12-31","-",{"$f":"G29760-SUMIF(ESCALA!$B$14:$B$15,DADOS!K29760,ESCALA!$I$14:$I$15)","v":0}]
["",null,null,null,null,null,null,"1900-12-30",{"$error":"#NUM!"},"1900-12-31","-",{"$f":"G29761-SUMIF(ESCALA!$B$14:$B$15,DADOS!K29761,ESCALA!$I$14:$I$15)","v":0}]
["",null,null,null,null,null,null,"1900-12-30",{"$error":"#NUM!"},"1900-12-31","-",{"$f":"G29762-SUMIF(ESCALA!$B$14:$B$15,DADOS!K29762,ESCALA!$I$14:$I$15)","v":0}]
[{"$f":"IF(L29763=0,\"\",B29763)","v":""},null,null,null,null,null,null,{"$f":"IF(F29763<=44985,F29763+365,F29763+366)","v":"1900-12-30"},{"$error":"#NUM!"},"1900-12-31",{"$f":"CONCATENATE(B29763,\"-\",F29763)","v":"-"},{"$f":"G29763-SUMIF(ESCALA!$B$14:$B$15,DADOS!K29763,ESCALA!$I$14:$I$15)","v":0}]
["",null,null,null,null,null,null,"1900-12-30",{"$f":"IF(E29764=\"ESTATUTARIO\",EOMONTH(F29764,0),EOMONTH(F29764,-1))","v":{"$error":"#NUM!"}},{"$f":"EOMONTH(F29764,11)","v":"1900-12-31"},"-",{"$f":"G29764-SUMIF(ESCALA!$B$14:$B$15,DADOS!K29764,ESCALA!$I$14:$I$15)","v":0}]
["",null,null,null,null,null,null,"1900-12-30",{"$error":"#NUM!"},"1900-12-31","-",{"$f":"G29765-SUMIF(ESCALA!$B$14:$B$15,DADOS!K29765,ESCALA!$I$14:$I$15)","v":0}]
["",null,null,null,null,null,null,"1900-12-30",{"$error":"#NUM!"},"1900-12-31","-",{"$f":"G29766-SUMIF(ESCALA!$B$14:$B$15,DADOS!K29766,ESCALA!$I$14:$I$15)","v":0}]
["",null,null,null,null,null,null,"1900-12-30",{"$error":"#NUM!"},"1900-12-31","-",{"$f":"G29767-SUMIF(ESCALA!$B$14:$B$15,DADOS!K29767,ESCALA!$I$14:$I$15)","v":0}]
["",null,null,null,null,null,null,"1900-12-30",{"$error":"#NUM!"},"1900-12-31","-",{"$f":"G29768-SUMIF(ESCALA!$B$14:$B$15,DADOS!K29768,ESCALA!$I$14:$I$15)","v":0}]
["",null,null,null,null,null,null,"1900-12-30",{"$error":"#NUM!"},"1900-12-31","-",{"$f":"G29769-SUMIF(ESCALA!$B$14:$B$15,DADOS!K29769,ESCALA!$I$14:$I$15)","v":0}]
["",null,null,null,null,null,null,"1900-12-30",{"$error":"#NUM!"},"1900-12-31","-",{"$f":"G29770-SUMIF(ESCALA!$B$14:$B$15,DADOS!K29770,ESCALA!$I$14:$I$15)","v":0}]
["",null,null,null,null,null,null,"1900-12-30",{"$error":"#NUM!"},"1900-12-31","-",{"$f":"G29771-SUMIF(ESCALA!$B$14:$B$15,DADOS!K29771,ESCALA!$I$14:$I$15)","v":0}]
["",null,null,null,null,null,null,"1900-12-30",{"$error":"#NUM!"},"1900-12-31","-",{"$f":"G29772-SUMIF(ESCALA!$B$14:$B$15,DADOS!K29772,ESCALA!$I$14:$I$15)","v":0}]
["",null,null,null,null,null,null,"1900-12-30",{"$error":"#NUM!"},"1900-12-31","-",{"$f":"G29773-SUMIF(ESCALA!$B$14:$B$15,DADOS!K29773,ESCALA!$I$14:$I$15)","v":0}]
["",null,null,null,null,null,null,"1900-12-30",{"$error":"#NUM!"},"1900-12-31","-",{"$f":"G29774-SUMIF(ESCALA!$B$14:$B$15,DADOS!K29774,ESCALA!$I$14:$I$15)","v":0}]
["",null,null,null,null,null,null,"1900-12-30",{"$error":"#NUM!"},"1900-12-31","-",{"$f":"G29775-SUMIF(ESCALA!$B$14:$B$15,DADOS!K29775,ESCALA!$I$14:$I$15)","v":0}]
["",null,null,null,null,null,null,"1900-12-30",{"$error":"#NUM!"},"1900-12-31","-",{"$f":"G29776-SUMIF(ESCALA!$B$14:$B$15,DADOS!K29776,ESCALA!$I$14:$I$15)","v":0}]
["",null,null,null,null,null,null,"1900-12-30",{"$error":"#NUM!"},"1900-12-31","-",{"$f":"G29777-SUMIF(ESCALA!$B$14:$B$15,DADOS!K29777,ESCALA!$I$14:$I$15)","v":0}]
["",null,null,null,null,null,null,"1900-12-30",{"$error":"#NUM!"},"1900-12-31","-",{"$f":"G29778-SUMIF(ESCALA!$B$14:$B$15,DADOS!K29778,ESCALA!$I$14:$I$15)","v":0}]
["",null,null,null,null,null,null,"1900-12-30",{"$error":"#NUM!"},"1900-12-31","-",{"$f":"G29779-SUMIF(ESCALA!$B$14:$B$15,DADOS!K29779,ESCALA!$I$14:$I$15)","v":0}]
["",null,null,null,null,null,null,"1900-12-30",{"$error":"#NUM!"},"1900-12-31","-",{"$f":"G29780-SUMIF(ESCALA!$B$14:$B$15,DADOS!K29780,ESCALA!$I$14:$I$15)","v":0}]
["",null,null,null,null,null,null,"1900-12-30",{"$error":"#NUM!"},"1900-12-31","-",{"$f":"G29781-SUMIF(ESCALA!$B$14:$B$15,DADOS!K29781,ESCALA!$I$14:$I$15)","v":0}]
["",null,null,null,null,null,null,"1900-12-30",{"$error":"#NUM!"},"1900-12-31","-",{"$f":"G29782-SUMIF(ESCALA!$B$14:$B$15,DADOS!K29782,ESCALA!$I$14:$I$15)","v":0}]
["",null,null,null,null,null,null,"1900-12-30",{"$error":"#NUM!"},"1900-12-31","-",{"$f":"G29783-SUMIF(ESCALA!$B$14:$B$15,DADOS!K29783,ESCALA!$I$14:$I$15)","v":0}]
["",null,null,null,null,null,null,"1900-12-30",{"$error":"#NUM!"},"1900-12-31","-",{"$f":"G29784-SUMIF(ESCALA!$B$14:$B$15,DADOS!K29784,ESCALA!$I$14:$I$15)","v":0}]
["",null,null,null,null,null,null,"1900-12-30",{"$error":"#NUM!"},"1900-12-31","-",{"$f":"G29785-SUMIF(ESCALA!$B$14:$B$15,DADOS!K29785,ESCALA!$I$14:$I$15)","v":0}]
["",null,null,null,null,null,null,"1900-12-30",{"$error":"#NUM!"},"1900-12-31","-",{"$f":"G29786-SUMIF(ESCALA!$B$14:$B$15,DADOS!K29786,ESCALA!$I$14:$I$15)","v":0}]
["",null,null,null,null,null,null,"1900-12-30",{"$error":"#NUM!"},"1900-12-31","-",{"$f":"G29787-SUMIF(ESCALA!$B$14:$B$15,DADOS!K29787,ESCALA!$I$14:$I$15)","v":0}]
["",null,null,null,null,null,null,"1900-12-30",{"$error":"#NUM!"},"1900-12-31","-",{"$f":"G29788-SUMIF(ESCALA!$B$14:$B$15,DADOS!K29788,ESCALA!$I$14:$I$15)","v":0}]
["",null,null,null,null,null,null,"1900-12-30",{"$error":"#NUM!"},"1900-12-31","-",{"$f":"G29789-SUMIF(ESCALA!$B$14:$B$15,DADOS!K29789,ESCALA!$I$14:$I$15)","v":0}]
["",null,null,null,null,null,null,"1900-12-30",{"$error":"#NUM!"},"1900-12-31","-",{"$f":"G29790-SUMIF(ESCALA!$B$14:$B$15,DADOS!K29790,ESCALA!$I$14:$I$15)","v":0}]
["",null,null,null,null,null,null,"1900-12-30",{"$error":"#NUM!"},"1900-12-31","-",{"$f":"G29791-SUMIF(ESCALA!$B$14:$B$15,DADOS!K29791,ESCALA!$I$14:$I$15)","v":0}]
["",null,null,null,null,null,null,"1900-12-30",{"$error":"#NUM!"},"1900-12-31","-",{"$f":"G29792-SUMIF(ESCALA!$B$14:$B$15,DADOS!K29792,ESCALA!$I$14:$I$15)","v":0}]
["",null,null,null,null,null,null,"1900-12-30",{"$error":"#NUM!"},"1900-12-31","-",{"$f":"G29793-SUMIF(ESCALA!$B$14:$B$15,DADOS!K29793,ESCALA!$I$14:$I$15)","v":0}]
["",null,null,null,null,null,null,"1900-12-30",{"$error":"#NUM!"},"1900-12-31","-",{"$f":"G29794-SUMIF(ESCALA!$B$14:$B$15,DADOS!K29794,ESCALA!$I$14:$I$15)","v":0}]
["",null,null,null,null,null,null,"1900-12-30",{"$error":"#NUM!"},"1900-12-31","-",{"$f":"G29795-SUMIF(ESCALA!$B$14:$B$15,DADOS!K29795,ESCALA!$I$14:$I$15)","v":0}]
["",null,null,null,null,null,null,"1900-12-30",{"$error":"#NUM!"},"1900-12-31","-",{"$f":"G29796-SUMIF(ESCALA!$B$14:$B$15,DADOS!K29796,ESCALA!$I$14:$I$15)","v":0}]
["",null,null,null,null,null,null,"1900-12-30",{"$error":"#NUM!"},"1900-12-31","-",{"$f":"G29797-SUMIF(ESCALA!$B$14:$B$15,DADOS!K29797,ESCALA!$I$14:$I$15)","v":0}]
["",null,null,null,null,null,null,"1900-12-30",{"$error":"#NUM!"},"1900-12-31","-",{"$f":"G29798-SUMIF(ESCALA!$B$14:$B$15,DADOS!K29798,ESCALA!$I$14:$I$15)","v":0}]
["",null,null,null,null,null,null,"1900-12-30",{"$error":"#NUM!"},"1900-12-31","-",{"$f":"G29799-SUMIF(ESCALA!$B$14:$B$15,DADOS!K29799,ESCALA!$I$14:$I$15)","v":0}]
["",null,null,null,null,null,null,"1900-12-30",{"$error":"#NUM!"},"1900-12-31","-",{"$f":"G29800-SUMIF(ESCALA!$B$14:$B$15,DADOS!K29800,ESCALA!$I$14:$I$15)","v":0}]
["",null,null,null,null,null,null,"1900-12-30",{"$error":"#NUM!"},"1900-12-31","-",{"$f":"G29801-SUMIF(ESCALA!$B$14:$B$15,DADOS!K29801,ESCALA!$I$14:$I$15)","v":0}]
["",null,null,null,null,null,null,"1900-12-30",{"$error":"#NUM!"},"1900-12-31","-",{"$f":"G29802-SUMIF(ESCALA!$B$14:$B$15,DADOS!K29802,ESCALA!$I$14:$I$15)","v":0}]
["",null,null,null,null,null,null,"1900-12-30",{"$error":"#NUM!"},"1900-12-31","-",{"$f":"G29803-SUMIF(ESCALA!$B$14:$B$15,DADOS!K29803,ESCALA!$I$14:$I$15)","v":0}]
["",null,null,null,null,null,null,"1900-12-30",{"$error":"#NUM!"},"1900-12-31","-",{"$f":"G29804-SUMIF(ESCALA!$B$14:$B$15,DADOS!K29804,ESCALA!$I$14:$I$15)","v":0}]
["",null,null,null,null,null,null,"1900-12-30",{"$error":"#NUM!"},"1900-12-31","-",{"$f":"G29805-SUMIF(ESCALA!$B$14:$B$15,DADOS!K29805,ESCALA!$I$14:$I$15)","v":0}]
["",null,null,null,null,null,null,"1900-12-30",{"$error":"#NUM!"},"1900-12-31","-",{"$f":"G29806-SUMIF(ESCALA!$B$14:$B$15,DADOS!K29806,ESCALA!$I$14:$I$15)","v":0}]
["",null,null,null,null,null,null,"1900-12-30",{"$error":"#NUM!"},"1900-12-31","-",{"$f":"G29807-SUMIF(ESCALA!$B$14:$B$15,DADOS!K29807,ESCALA!$I$14:$I$15)","v":0}]
["",null,null,null,null,null,null,"1900-12-30",{"$error":"#NUM!"},"1900-12-31","-",{"$f":"G29808-SUMIF(ESCALA!$B$14:$B$15,DADOS!K29808,ESCALA!$I$14:$I$15)","v":0}]
["",null,null,null,null,null,null,"1900-12-30",{"$error":"#NUM!"},"1900-12-31","-",{"$f":"G29809-SUMIF(ESCALA!$B$14:$B$15,DADOS!K29809,ESCALA!$I$14:$I$15)","v":0}]
["",null,null,null,null,null,null,"1900-12-30",{"$error":"#NUM!"},"1900-12-31","-",{"$f":"G29810-SUMIF(ESCALA!$B$14:$B$15,DADOS!K29810,ESCALA!$I$14:$I$15)","v":0}]
["",null,null,null,null,null,null,"1900-12-30",{"$error":"#NUM!"},"1900-12-31","-",{"$f":"G29811-SUMIF(ESCALA!$B$14:$B$15,DADOS!K29811,ESCALA!$I$14:$I$15)","v":0}]
["",null,null,null,null,null,null,"1900-12-30",{"$error":"#NUM!"},"1900-12-31","-",{"$f":"G29812-SUMIF(ESCALA!$B$14:$B$15,DADOS!K29812,ESCALA!$I$14:$I$15)","v":0}]
["",null,null,null,null,null,null,"1900-12-30",{"$error":"#NUM!"},"1900-12-31","-",{"$f":"G29813-SUMIF(ESCALA!$B$14:$B$15,DADOS!K29813,ESCALA!$I$14:$I$15)","v":0}]
["",null,null,null,null,null,null,"1900-12-30",{"$error":"#NUM!"},"1900-12-31","-",{"$f":"G29814-SUMIF(ESCALA!$B$14:$B$15,DADOS!K29814,ESCALA!$I$14:$I$15)","v":0}]
["",null,null,null,null,null,null,"1900-12-30",{"$error":"#NUM!"},"1900-12-31","-",{"$f":"G29815-SUMIF(ESCALA!$B$14:$B$15,DADOS!K29815,ESCALA!$I$14:$I$15)","v":0}]
["",null,null,null,null,null,null,"1900-12-30",{"$error":"#NUM!"},"1900-12-31","-",{"$f":"G29816-SUMIF(ESCALA!$B$14:$B$15,DADOS!K29816,ESCALA!$I$14:$I$15)","v":0}]
["",null,null,null,null,null,null,"1900-12-30",{"$error":"#NUM!"},"1900-12-31","-",{"$f":"G29817-SUMIF(ESCALA!$B$14:$B$15,DADOS!K29817,ESCALA!$I$14:$I$15)","v":0}]
["",null,null,null,null,null,null,"1900-12-30",{"$error":"#NUM!"},"1900-12-31","-",{"$f":"G29818-SUMIF(ESCALA!$B$14:$B$15,DADOS!K29818,ESCALA!$I$14:$I$15)","v":0}]
["",null,null,null,null,null,null,"1900-12-30",{"$error":"#NUM!"},"1900-12-31","-",{"$f":"G29819-SUMIF(ESCALA!$B$14:$B$15,DADOS!K29819,ESCALA!$I$14:$I$15)","v":0}]
["",null,null,null,null,null,null,"1900-12-30",{"$error":"#NUM!"},"1900-12-31","-",{"$f":"G29820-SUMIF(ESCALA!$B$14:$B$15,DADOS!K29820,ESCALA!$I$14:$I$15)","v":0}]
["",null,null,null,null,null,null,"1900-12-30",{"$error":"#NUM!"},"1900-12-31","-",{"$f":"G29821-SUMIF(ESCALA!$B$14:$B$15,DADOS!K29821,ESCALA!$I$14:$I$15)","v":0}]
["",null,null,null,null,null,null,"1900-12-30",{"$error":"#NUM!"},"1900-12-31","-",{"$f":"G29822-SUMIF(ESCALA!$B$14:$B$15,DADOS!K29822,ESCALA!$I$14:$I$15)","v":0}]
["",null,null,null,null,null,null,"1900-12-30",{"$error":"#NUM!"},"1900-12-31","-",{"$f":"G29823-SUMIF(ESCALA!$B$14:$B$15,DADOS!K29823,ESCALA!$I$14:$I$15)","v":0}]
["",null,null,null,null,null,null,"1900-12-30",{"$error":"#NUM!"},"1900-12-31","-",{"$f":"G29824-SUMIF(ESCALA!$B$14:$B$15,DADOS!K29824,ESCALA!$I$14:$I$15)","v":0}]
["",null,null,null,null,null,null,"1900-12-30",{"$error":"#NUM!"},"1900-12-31","-",{"$f":"G29825-SUMIF(ESCALA!$B$14:$B$15,DADOS!K29825,ESCALA!$I$14:$I$15)","v":0}]
["",null,null,null,null,null,null,"1900-12-30",{"$error":"#NUM!"},"1900-12-31","-",{"$f":"G29826-SUMIF(ESCALA!$B$14:$B$15,DADOS!K29826,ESCALA!$I$14:$I$15)","v":0}]
[{"$f":"IF(L29827=0,\"\",B29827)","v":""},null,null,null,null,null,null,{"$f":"IF(F29827<=44985,F29827+365,F29827+366)","v":"1900-12-30"},{"$error":"#NUM!"},"1900-12-31",{"$f":"CONCATENATE(B29827,\"-\",F29827)","v":"-"},{"$f":"G29827-SUMIF(ESCALA!$B$14:$B$15,DADOS!K29827,ESCALA!$I$14:$I$15)","v":0}]
["",null,null,null,null,null,null,"1900-12-30",{"$f":"IF(E29828=\"ESTATUTARIO\",EOMONTH(F29828,0),EOMONTH(F29828,-1))","v":{"$error":"#NUM!"}},{"$f":"EOMONTH(F29828,11)","v":"1900-12-31"},"-",{"$f":"G29828-SUMIF(ESCALA!$B$14:$B$15,DADOS!K29828,ESCALA!$I$14:$I$15)","v":0}]
["",null,null,null,null,null,null,"1900-12-30",{"$error":"#NUM!"},"1900-12-31","-",{"$f":"G29829-SUMIF(ESCALA!$B$14:$B$15,DADOS!K29829,ESCALA!$I$14:$I$15)","v":0}]
["",null,null,null,null,null,null,"1900-12-30",{"$error":"#NUM!"},"1900-12-31","-",{"$f":"G29830-SUMIF(ESCALA!$B$14:$B$15,DADOS!K29830,ESCALA!$I$14:$I$15)","v":0}]
["",null,null,null,null,null,null,"1900-12-30",{"$error":"#NUM!"},"1900-12-31","-",{"$f":"G29831-SUMIF(ESCALA!$B$14:$B$15,DADOS!K29831,ESCALA!$I$14:$I$15)","v":0}]
["",null,null,null,null,null,null,"1900-12-30",{"$error":"#NUM!"},"1900-12-31","-",{"$f":"G29832-SUMIF(ESCALA!$B$14:$B$15,DADOS!K29832,ESCALA!$I$14:$I$15)","v":0}]
["",null,null,null,null,null,null,"1900-12-30",{"$error":"#NUM!"},"1900-12-31","-",{"$f":"G29833-SUMIF(ESCALA!$B$14:$B$15,DADOS!K29833,ESCALA!$I$14:$I$15)","v":0}]
["",null,null,null,null,null,null,"1900-12-30",{"$error":"#NUM!"},"1900-12-31","-",{"$f":"G29834-SUMIF(ESCALA!$B$14:$B$15,DADOS!K29834,ESCALA!$I$14:$I$15)","v":0}]
["",null,null,null,null,null,null,"1900-12-30",{"$error":"#NUM!"},"1900-12-31","-",{"$f":"G29835-SUMIF(ESCALA!$B$14:$B$15,DADOS!K29835,ESCALA!$I$14:$I$15)","v":0}]
["",null,null,null,null,null,null,"1900-12-30",{"$error":"#NUM!"},"1900-12-31","-",{"$f":"G29836-SUMIF(ESCALA!$B$14:$B$15,DADOS!K29836,ESCALA!$I$14:$I$15)","v":0}]
["",null,null,null,null,null,null,"1900-12-30",{"$error":"#NUM!"},"1900-12-31","-",{"$f":"G29837-SUMIF(ESCALA!$B$14:$B$15,DADOS!K29837,ESCALA!$I$14:$I$15)","v":0}]
["",null,null,null,null,null,null,"1900-12-30",{"$error":"#NUM!"},"1900-12-31","-",{"$f":"G29838-SUMIF(ESCALA!$B$14:$B$15,DADOS!K29838,ESCALA!$I$14:$I$15)","v":0}]
["",null,null,null,null,null,null,"1900-12-30",{"$error":"#NUM!"},"1900-12-31","-",{"$f":"G29839-SUMIF(ESCALA!$B$14:$B$15,DADOS!K29839,ESCALA!$I$14:$I$15)","v":0}]
["",null,null,null,null,null,null,"1900-12-30",{"$error":"#NUM!"},"1900-12-31","-",{"$f":"G29840-SUMIF(ESCALA!$B$14:$B$15,DADOS!K29840,ESCALA!$I$14:$I$15)","v":0}]
["",null,null,null,null,null,null,"1900-12-30",{"$error":"#NUM!"},"1900-12-31","-",{"$f":"G29841-SUMIF(ESCALA!$B$14:$B$15,DADOS!K29841,ESCALA!$I$14:$I$15)","v":0}]
["",null,null,null,null,null,null,"1900-12-30",{"$error":"#NUM!"},"1900-12-31","-",{"$f":"G29842-SUMIF(ESCALA!$B$14:$B$15,DADOS!K29842,ESCALA!$I$14:$I$15)","v":0}]
["",null,null,null,null,null,null,"1900-12-30",{"$error":"#NUM!"},"1900-12-31","-",{"$f":"G29843-SUMIF(ESCALA!$B$14:$B$15,DADOS!K29843,ESCALA!$I$14:$I$15)","v":0}]
["",null,null,null,null,null,null,"1900-12-30",{"$error":"#NUM!"},"1900-12-31","-",{"$f":"G29844-SUMIF(ESCALA!$B$14:$B$15,DADOS!K29844,ESCALA!$I$14:$I$15)","v":0}]
["",null,null,null,null,null,null,"1900-12-30",{"$error":"#NUM!"},"1900-12-31","-",{"$f":"G29845-SUMIF(ESCALA!$B$14:$B$15,DADOS!K29845,ESCALA!$I$14:$I$15)","v":0}]
["",null,null,null,null,null,null,"1900-12-30",{"$error":"#NUM!"},"1900-12-31","-",{"$f":"G29846-SUMIF(ESCALA!$B$14:$B$15,DADOS!K29846,ESCALA!$I$14:$I$15)","v":0}]
["",null,null,null,null,null,null,"1900-12-30",{"$error":"#NUM!"},"1900-12-31","-",{"$f":"G29847-SUMIF(ESCALA!$B$14:$B$15,DADOS!K29847,ESCALA!$I$14:$I$15)","v":0}]
["",null,null,null,null,null,null,"1900-12-30",{"$error":"#NUM!"},"1900-12-31","-",{"$f":"G29848-SUMIF(ESCALA!$B$14:$B$15,DADOS!K29848,ESCALA!$I$14:$I$15)","v":0}]
["",null,null,null,null,null,null,"1900-12-30",{"$error":"#NUM!"},"1900-12-31","-",{"$f":"G29849-SUMIF(ESCALA!$B$14:$B$15,DADOS!K29849,ESCALA!$I$14:$I$15)","v":0}]
["",null,null,null,null,null,null,"1900-12-30",{"$error":"#NUM!"},"1900-12-31","-",{"$f":"G29850-SUMIF(ESCALA!$B$14:$B$15,DADOS!K29850,ESCALA!$I$14:$I$15)","v":0}]
["",null,null,null,null,null,null,"1900-12-30",{"$error":"#NUM!"},"1900-12-31","-",{"$f":"G29851-SUMIF(ESCALA!$B$14:$B$15,DADOS!K29851,ESCALA!$I$14:$I$15)","v":0}]
["",null,null,null,null,null,null,"1900-12-30",{"$error":"#NUM!"},"1900-12-31","-",{"$f":"G29852-SUMIF(ESCALA!$B$14:$B$15,DADOS!K29852,ESCALA!$I$14:$I$15)","v":0}]
["",null,null,null,null,null,null,"1900-12-30",{"$error":"#NUM!"},"1900-12-31","-",{"$f":"G29853-SUMIF(ESCALA!$B$14:$B$15,DADOS!K29853,ESCALA!$I$14:$I$15)","v":0}]
["",null,null,null,null,null,null,"1900-12-30",{"$error":"#NUM!"},"1900-12-31","-",{"$f":"G29854-SUMIF(ESCALA!$B$14:$B$15,DADOS!K29854,ESCALA!$I$14:$I$15)","v":0}]
["",null,null,null,null,null,null,"1900-12-30",{"$error":"#NUM!"},"1900-12-31","-",{"$f":"G29855-SUMIF(ESCALA!$B$14:$B$15,DADOS!K29855,ESCALA!$I$14:$I$15)","v":0}]
["",null,null,null,null,null,null,"1900-12-30",{"$error":"#NUM!"},"1900-12-31","-",{"$f":"G29856-SUMIF(ESCALA!$B$14:$B$15,DADOS!K29856,ESCALA!$I$14:$I$15)","v":0}]
["",null,null,null,null,null,null,"1900-12-30",{"$error":"#NUM!"},"1900-12-31","-",{"$f":"G29857-SUMIF(ESCALA!$B$14:$B$15,DADOS!K29857,ESCALA!$I$14:$I$15)","v":0}]
["",null,null,null,null,null,null,"1900-12-30",{"$error":"#NUM!"},"1900-12-31","-",{"$f":"G29858-SUMIF(ESCALA!$B$14:$B$15,DADOS!K29858,ESCALA!$I$14:$I$15)","v":0}]
["",null,null,null,null,null,null,"1900-12-30",{"$error":"#NUM!"},"1900-12-31","-",{"$f":"G29859-SUMIF(ESCALA!$B$14:$B$15,DADOS!K29859,ESCALA!$I$14:$I$15)","v":0}]
["",null,null,null,null,null,null,"1900-12-30",{"$error":"#NUM!"},"1900-12-31","-",{"$f":"G29860-SUMIF(ESCALA!$B$14:$B$15,DADOS!K29860,ESCALA!$I$14:$I$15)","v":0}]
["",null,null,null,null,null,null,"1900-12-30",{"$error":"#NUM!"},"1900-12-31","-",{"$f":"G29861-SUMIF(ESCALA!$B$14:$B$15,DADOS!K29861,ESCALA!$I$14:$I$15)","v":0}]
["",null,null,null,null,null,null,"1900-12-30",{"$error":"#NUM!"},"1900-12-31","-",{"$f":"G29862-SUMIF(ESCALA!$B$14:$B$15,DADOS!K29862,ESCALA!$I$14:$I$15)","v":0}]
["",null,null,null,null,null,null,"1900-12-30",{"$error":"#NUM!"},"1900-12-31","-",{"$f":"G29863-SUMIF(ESCALA!$B$14:$B$15,DADOS!K29863,ESCALA!$I$14:$I$15)","v":0}]
["",null,null,null,null,null,null,"1900-12-30",{"$error":"#NUM!"},"1900-12-31","-",{"$f":"G29864-SUMIF(ESCALA!$B$14:$B$15,DADOS!K29864,ESCALA!$I$14:$I$15)","v":0}]
["",null,null,null,null,null,null,"1900-12-30",{"$error":"#NUM!"},"1900-12-31","-",{"$f":"G29865-SUMIF(ESCALA!$B$14:$B$15,DADOS!K29865,ESCALA!$I$14:$I$15)","v":0}]
["",null,null,null,null,null,null,"1900-12-30",{"$error":"#NUM!"},"1900-12-31","-",{"$f":"G29866-SUMIF(ESCALA!$B$14:$B$15,DADOS!K29866,ESCALA!$I$14:$I$15)","v":0}]
["",null,null,null,null,null,null,"1900-12-30",{"$error":"#NUM!"},"1900-12-31","-",{"$f":"G29867-SUMIF(ESCALA!$B$14:$B$15,DADOS!K29867,ESCALA!$I$14:$I$15)","v":0}]
["",null,null,null,null,null,null,"1900-12-30",{"$error":"#NUM!"},"1900-12-31","-",{"$f":"G29868-SUMIF(ESCALA!$B$14:$B$15,DADOS!K29868,ESCALA!$I$14:$I$15)","v":0}]
["",null,null,null,null,null,null,"1900-12-30",{"$error":"#NUM!"},"1900-12-31","-",{"$f":"G29869-SUMIF(ESCALA!$B$14:$B$15,DADOS!K29869,ESCALA!$I$14:$I$15)","v":0}]
["",null,null,null,null,null,null,"1900-12-30",{"$error":"#NUM!"},"1900-12-31","-",{"$f":"G29870-SUMIF(ESCALA!$B$14:$B$15,DADOS!K29870,ESCALA!$I$14:$I$15)","v":0}]
["",null,null,null,null,null,null,"1900-12-30",{"$error":"#NUM!"},"1900-12-31","-",{"$f":"G29871-SUMIF(ESCALA!$B$14:$B$15,DADOS!K29871,ESCALA!$I$14:$I$15)","v":0}]
["",null,null,null,null,null,null,"1900-12-30",{"$error":"#NUM!"},"1900-12-31","-",{"$f":"G29872-SUMIF(ESCALA!$B$14:$B$15,DADOS!K29872,ESCALA!$I$14:$I$15)","v":0}]
["",null,null,null,null,null,null,"1900-12-30",{"$error":"#NUM!"},"1900-12-31","-",{"$f":"G29873-SUMIF(ESCALA!$B$14:$B$15,DADOS!K29873,ESCALA!$I$14:$I$15)","v":0}]
["",null,null,null,null,null,null,"1900-12-30",{"$error":"#NUM!"},"1900-12-31","-",{"$f":"G29874-SUMIF(ESCALA!$B$14:$B$15,DADOS!K29874,ESCALA!$I$14:$I$15)","v":0}]
["",null,null,null,null,null,null,"1900-12-30",{"$error":"#NUM!"},"1900-12-31","-",{"$f":"G29875-SUMIF(ESCALA!$B$14:$B$15,DADOS!K29875,ESCALA!$I$14:$I$15)","v":0}]
["",null,null,null,null,null,null,"1900-12-30",{"$error":"#NUM!"},"1900-12-31","-",{"$f":"G29876-SUMIF(ESCALA!$B$14:$B$15,DADOS!K29876,ESCALA!$I$14:$I$15)","v":0}]
["",null,null,null,null,null,null,"1900-12-30",{"$error":"#NUM!"},"1900-12-31","-",{"$f":"G29877-SUMIF(ESCALA!$B$14:$B$15,DADOS!K29877,ESCALA!$I$14:$I$15)","v":0}]
["",null,null,null,null,null,null,"1900-12-30",{"$error":"#NUM!"},"1900-12-31","-",{"$f":"G29878-SUMIF(ESCALA!$B$14:$B$15,DADOS!K29878,ESCALA!$I$14:$I$15)","v":0}]
["",null,null,null,null,null,null,"1900-12-30",{"$error":"#NUM!"},"1900-12-31","-",{"$f":"G29879-SUMIF(ESCALA!$B$14:$B$15,DADOS!K29879,ESCALA!$I$14:$I$15)","v":0}]
["",null,null,null,null,null,null,"1900-12-30",{"$error":"#NUM!"},"1900-12-31","-",{"$f":"G29880-SUMIF(ESCALA!$B$14:$B$15,DADOS!K29880,ESCALA!$I$14:$I$15)","v":0}]
["",null,null,null,null,null,null,"1900-12-30",{"$error":"#NUM!"},"1900-12-31","-",{"$f":"G29881-SUMIF(ESCALA!$B$14:$B$15,DADOS!K29881,ESCALA!$I$14:$I$15)","v":0}]
["",null,null,null,null,null,null,"1900-12-30",{"$error":"#NUM!"},"1900-12-31","-",{"$f":"G29882-SUMIF(ESCALA!$B$14:$B$15,DADOS!K29882,ESCALA!$I$14:$I$15)","v":0}]
["",null,null,null,null,null,null,"1900-12-30",{"$error":"#NUM!"},"1900-12-31","-",{"$f":"G29883-SUMIF(ESCALA!$B$14:$B$15,DADOS!K29883,ESCALA!$I$14:$I$15)","v":0}]
["",null,null,null,null,null,null,"1900-12-30",{"$error":"#NUM!"},"1900-12-31","-",{"$f":"G29884-SUMIF(ESCALA!$B$14:$B$15,DADOS!K29884,ESCALA!$I$14:$I$15)","v":0}]
["",null,null,null,null,null,null,"1900-12-30",{"$error":"#NUM!"},"1900-12-31","-",{"$f":"G29885-SUMIF(ESCALA!$B$14:$B$15,DADOS!K29885,ESCALA!$I$14:$I$15)","v":0}]
["",null,null,null,null,null,null,"1900-12-30",{"$error":"#NUM!"},"1900-12-31","-",{"$f":"G29886-SUMIF(ESCALA!$B$14:$B$15,DADOS!K29886,ESCALA!$I$14:$I$15)","v":0}]
["",null,null,null,null,null,null,"1900-12-30",{"$error":"#NUM!"},"1900-12-31","-",{"$f":"G29887-SUMIF(ESCALA!$B$14:$B$15,DADOS!K29887,ESCALA!$I$14:$I$15)","v":0}]
["",null,null,null,null,null,null,"1900-12-30",{"$error":"#NUM!"},"1900-12-31","-",{"$f":"G29888-SUMIF(ESCALA!$B$14:$B$15,DADOS!K29888,ESCALA!$I$14:$I$15)","v":0}]
["",null,null,null,null,null,null,"1900-12-30",{"$error":"#NUM!"},"1900-12-31","-",{"$f":"G29889-SUMIF(ESCALA!$B$14:$B$15,DADOS!K29889,ESCALA!$I$14:$I$15)","v":0}]
["",null,null,null,null,null,null,"1900-12-30",{"$error":"#NUM!"},"1900-12-31","-",{"$f":"G29890-SUMIF(ESCALA!$B$14:$B$15,DADOS!K29890,ESCALA!$I$14:$I$15)","v":0}]
[{"$f":"IF(L29891=0,\"\",B29891)","v":""},null,null,null,null,null,null,{"$f":"IF(F29891<=44985,F29891+365,F29891+366)","v":"1900-12-30"},{"$error":"#NUM!"},"1900-12-31",{"$f":"CONCATENATE(B29891,\"-\",F29891)","v":"-"},{"$f":"G29891-SUMIF(ESCALA!$B$14:$B$15,DADOS!K29891,ESCALA!$I$14:$I$15)","v":0}]
["",null,null,null,null,null,null,"1900-12-30",{"$f":"IF(E29892=\"ESTATUTARIO\",EOMONTH(F29892,0),EOMONTH(F29892,-1))","v":{"$error":"#NUM!"}},{"$f":"EOMONTH(F29892,11)","v":"1900-12-31"},"-",{"$f":"G29892-SUMIF(ESCALA!$B$14:$B$15,DADOS!K29892,ESCALA!$I$14:$I$15)","v":0}]
["",null,null,null,null,null,null,"1900-12-30",{"$error":"#NUM!"},"1900-12-31","-",{"$f":"G29893-SUMIF(ESCALA!$B$14:$B$15,DADOS!K29893,ESCALA!$I$14:$I$15)","v":0}]
["",null,null,null,null,null,null,"1900-12-30",{"$error":"#NUM!"},"1900-12-31","-",{"$f":"G29894-SUMIF(ESCALA!$B$14:$B$15,DADOS!K29894,ESCALA!$I$14:$I$15)","v":0}]
["",null,null,null,null,null,null,"1900-12-30",{"$error":"#NUM!"},"1900-12-31","-",{"$f":"G29895-SUMIF(ESCALA!$B$14:$B$15,DADOS!K29895,ESCALA!$I$14:$I$15)","v":0}]
["",null,null,null,null,null,null,"1900-12-30",{"$error":"#NUM!"},"1900-12-31","-",{"$f":"G29896-SUMIF(ESCALA!$B$14:$B$15,DADOS!K29896,ESCALA!$I$14:$I$15)","v":0}]
["",null,null,null,null,null,null,"1900-12-30",{"$error":"#NUM!"},"1900-12-31","-",{"$f":"G29897-SUMIF(ESCALA!$B$14:$B$15,DADOS!K29897,ESCALA!$I$14:$I$15)","v":0}]
["",null,null,null,null,null,null,"1900-12-30",{"$error":"#NUM!"},"1900-12-31","-",{"$f":"G29898-SUMIF(ESCALA!$B$14:$B$15,DADOS!K29898,ESCALA!$I$14:$I$15)","v":0}]
["",null,null,null,null,null,null,"1900-12-30",{"$error":"#NUM!"},"1900-12-31","-",{"$f":"G29899-SUMIF(ESCALA!$B$14:$B$15,DADOS!K29899,ESCALA!$I$14:$I$15)","v":0}]
["",null,null,null,null,null,null,"1900-12-30",{"$error":"#NUM!"},"1900-12-31","-",{"$f":"G29900-SUMIF(ESCALA!$B$14:$B$15,DADOS!K29900,ESCALA!$I$14:$I$15)","v":0}]
["",null,null,null,null,null,null,"1900-12-30",{"$error":"#NUM!"},"1900-12-31","-",{"$f":"G29901-SUMIF(ESCALA!$B$14:$B$15,DADOS!K29901,ESCALA!$I$14:$I$15)","v":0}]
["",null,null,null,null,null,null,"1900-12-30",{"$error":"#NUM!"},"1900-12-31","-",{"$f":"G29902-SUMIF(ESCALA!$B$14:$B$15,DADOS!K29902,ESCALA!$I$14:$I$15)","v":0}]
["",null,null,null,null,null,null,"1900-12-30",{"$error":"#NUM!"},"1900-12-31","-",{"$f":"G29903-SUMIF(ESCALA!$B$14:$B$15,DADOS!K29903,ESCALA!$I$14:$I$15)","v":0}]
["",null,null,null,null,null,null,"1900-12-30",{"$error":"#NUM!"},"1900-12-31","-",{"$f":"G29904-SUMIF(ESCALA!$B$14:$B$15,DADOS!K29904,ESCALA!$I$14:$I$15)","v":0}]
["",null,null,null,null,null,null,"1900-12-30",{"$error":"#NUM!"},"1900-12-31","-",{"$f":"G29905-SUMIF(ESCALA!$B$14:$B$15,DADOS!K29905,ESCALA!$I$14:$I$15)","v":0}]
["",null,null,null,null,null,null,"1900-12-30",{"$error":"#NUM!"},"1900-12-31","-",{"$f":"G29906-SUMIF(ESCALA!$B$14:$B$15,DADOS!K29906,ESCALA!$I$14:$I$15)","v":0}]
["",null,null,null,null,null,null,"1900-12-30",{"$error":"#NUM!"},"1900-12-31","-",{"$f":"G29907-SUMIF(ESCALA!$B$14:$B$15,DADOS!K29907,ESCALA!$I$14:$I$15)","v":0}]
["",null,null,null,null,null,null,"1900-12-30",{"$error":"#NUM!"},"1900-12-31","-",{"$f":"G29908-SUMIF(ESCALA!$B$14:$B$15,DADOS!K29908,ESCALA!$I$14:$I$15)","v":0}]
["",null,null,null,null,null,null,"1900-12-30",{"$error":"#NUM!"},"1900-12-31","-",{"$f":"G29909-SUMIF(ESCALA!$B$14:$B$15,DADOS!K29909,ESCALA!$I$14:$I$15)","v":0}]
["",null,null,null,null,null,null,"1900-12-30",{"$error":"#NUM!"},"1900-12-31","-",{"$f":"G29910-SUMIF(ESCALA!$B$14:$B$15,DADOS!K29910,ESCALA!$I$14:$I$15)","v":0}]
["",null,null,null,null,null,null,"1900-12-30",{"$error":"#NUM!"},"1900-12-31","-",{"$f":"G29911-SUMIF(ESCALA!$B$14:$B$15,DADOS!K29911,ESCALA!$I$14:$I$15)","v":0}]
["",null,null,null,null,null,null,"1900-12-30",{"$error":"#NUM!"},"1900-12-31","-",{"$f":"G29912-SUMIF(ESCALA!$B$14:$B$15,DADOS!K29912,ESCALA!$I$14:$I$15)","v":0}]
["",null,null,null,null,null,null,"1900-12-30",{"$error":"#NUM!"},"1900-12-31","-",{"$f":"G29913-SUMIF(ESCALA!$B$14:$B$15,DADOS!K29913,ESCALA!$I$14:$I$15)","v":0}]
["",null,null,null,null,null,null,"1900-12-30",{"$error":"#NUM!"},"1900-12-31","-",{"$f":"G29914-SUMIF(ESCALA!$B$14:$B$15,DADOS!K29914,ESCALA!$I$14:$I$15)","v":0}]
["",null,null,null,null,null,null,"1900-12-30",{"$error":"#NUM!"},"1900-12-31","-",{"$f":"G29915-SUMIF(ESCALA!$B$14:$B$15,DADOS!K29915,ESCALA!$I$14:$I$15)","v":0}]
["",null,null,null,null,null,null,"1900-12-30",{"$error":"#NUM!"},"1900-12-31","-",{"$f":"G29916-SUMIF(ESCALA!$B$14:$B$15,DADOS!K29916,ESCALA!$I$14:$I$15)","v":0}]
["",null,null,null,null,null,null,"1900-12-30",{"$error":"#NUM!"},"1900-12-31","-",{"$f":"G29917-SUMIF(ESCALA!$B$14:$B$15,DADOS!K29917,ESCALA!$I$14:$I$15)","v":0}]
["",null,null,null,null,null,null,"1900-12-30",{"$error":"#NUM!"},"1900-12-31","-",{"$f":"G29918-SUMIF(ESCALA!$B$14:$B$15,DADOS!K29918,ESCALA!$I$14:$I$15)","v":0}]
["",null,null,null,null,null,null,"1900-12-30",{"$error":"#NUM!"},"1900-12-31","-",{"$f":"G29919-SUMIF(ESCALA!$B$14:$B$15,DADOS!K29919,ESCALA!$I$14:$I$15)","v":0}]
["",null,null,null,null,null,null,"1900-12-30",{"$error":"#NUM!"},"1900-12-31","-",{"$f":"G29920-SUMIF(ESCALA!$B$14:$B$15,DADOS!K29920,ESCALA!$I$14:$I$15)","v":0}]
["",null,null,null,null,null,null,"1900-12-30",{"$error":"#NUM!"},"1900-12-31","-",{"$f":"G29921-SUMIF(ESCALA!$B$14:$B$15,DADOS!K29921,ESCALA!$I$14:$I$15)","v":0}]
["",null,null,null,null,null,null,"1900-12-30",{"$error":"#NUM!"},"1900-12-31","-",{"$f":"G29922-SUMIF(ESCALA!$B$14:$B$15,DADOS!K29922,ESCALA!$I$14:$I$15)","v":0}]
["",null,null,null,null,null,null,"1900-12-30",{"$error":"#NUM!"},"1900-12-31","-",{"$f":"G29923-SUMIF(ESCALA!$B$14:$B$15,DADOS!K29923,ESCALA!$I$14:$I$15)","v":0}]
["",null,null,null,null,null,null,"1900-12-30",{"$error":"#NUM!"},"1900-12-31","-",{"$f":"G29924-SUMIF(ESCALA!$B$14:$B$15,DADOS!K29924,ESCALA!$I$14:$I$15)","v":0}]
["",null,null,null,null,null,null,"1900-12-30",{"$error":"#NUM!"},"1900-12-31","-",{"$f":"G29925-SUMIF(ESCALA!$B$14:$B$15,DADOS!K29925,ESCALA!$I$14:$I$15)","v":0}]
["",null,null,null,null,null,null,"1900-12-30",{"$error":"#NUM!"},"1900-12-31","-",{"$f":"G29926-SUMIF(ESCALA!$B$14:$B$15,DADOS!K29926,ESCALA!$I$14:$I$15)","v":0}]
["",null,null,null,null,null,null,"1900-12-30",{"$error":"#NUM!"},"1900-12-31","-",{"$f":"G29927-SUMIF(ESCALA!$B$14:$B$15,DADOS!K29927,ESCALA!$I$14:$I$15)","v":0}]
["",null,null,null,null,null,null,"1900-12-30",{"$error":"#NUM!"},"1900-12-31","-",{"$f":"G29928-SUMIF(ESCALA!$B$14:$B$15,DADOS!K29928,ESCALA!$I$14:$I$15)","v":0}]
["",null,null,null,null,null,null,"1900-12-30",{"$error":"#NUM!"},"1900-12-31","-",{"$f":"G29929-SUMIF(ESCALA!$B$14:$B$15,DADOS!K29929,ESCALA!$I$14:$I$15)","v":0}]
["",null,null,null,null,null,null,"1900-12-30",{"$error":"#NUM!"},"1900-12-31","-",{"$f":"G29930-SUMIF(ESCALA!$B$14:$B$15,DADOS!K29930,ESCALA!$I$14:$I$15)","v":0}]
["",null,null,null,null,null,null,"1900-12-30",{"$error":"#NUM!"},"1900-12-31","-",{"$f":"G29931-SUMIF(ESCALA!$B$14:$B$15,DADOS!K29931,ESCALA!$I$14:$I$15)","v":0}]
["",null,null,null,null,null,null,"1900-12-30",{"$error":"#NUM!"},"1900-12-31","-",{"$f":"G29932-SUMIF(ESCALA!$B$14:$B$15,DADOS!K29932,ESCALA!$I$14:$I$15)","v":0}]
["",null,null,null,null,null,null,"1900-12-30",{"$error":"#NUM!"},"1900-12-31","-",{"$f":"G29933-SUMIF(ESCALA!$B$14:$B$15,DADOS!K29933,ESCALA!$I$14:$I$15)","v":0}]
["",null,null,null,null,null,null,"1900-12-30",{"$error":"#NUM!"},"1900-12-31","-",{"$f":"G29934-SUMIF(ESCALA!$B$14:$B$15,DADOS!K29934,ESCALA!$I$14:$I$15)","v":0}]
["",null,null,null,null,null,null,"1900-12-30",{"$error":"#NUM!"},"1900-12-31","-",{"$f":"G29935-SUMIF(ESCALA!$B$14:$B$15,DADOS!K29935,ESCALA!$I$14:$I$15)","v":0}]
["",null,null,null,null,null,null,"1900-12-30",{"$error":"#NUM!"},"1900-12-31","-",{"$f":"G29936-SUMIF(ESCALA!$B$14:$B$15,DADOS!K29936,ESCALA!$I$14:$I$15)","v":0}]
["",null,null,null,null,null,null,"1900-12-30",{"$error":"#NUM!"},"1900-12-31","-",{"$f":"G29937-SUMIF(ESCALA!$B$14:$B$15,DADOS!K29937,ESCALA!$I$14:$I$15)","v":0}]
["",null,null,null,null,null,null,"1900-12-30",{"$error":"#NUM!"},"1900-12-31","-",{"$f":"G29938-SUMIF(ESCALA!$B$14:$B$15,DADOS!K29938,ESCALA!$I$14:$I$15)","v":0}]
["",null,null,null,null,null,null,"1900-12-30",{"$error":"#NUM!"},"1900-12-31","-",{"$f":"G29939-SUMIF(ESCALA!$B$14:$B$15,DADOS!K29939,ESCALA!$I$14:$I$15)","v":0}]
["",null,null,null,null,null,null,"1900-12-30",{"$error":"#NUM!"},"1900-12-31","-",{"$f":"G29940-SUMIF(ESCALA!$B$14:$B$15,DADOS!K29940,ESCALA!$I$14:$I$15)","v":0}]
["",null,null,null,null,null,null,"1900-12-30",{"$error":"#NUM!"},"1900-12-31","-",{"$f":"G29941-SUMIF(ESCALA!$B$14:$B$15,DADOS!K29941,ESCALA!$I$14:$I$15)","v":0}]
["",null,null,null,null,null,null,"1900-12-30",{"$error":"#NUM!"},"1900-12-31","-",{"$f":"G29942-SUMIF(ESCALA!$B$14:$B$15,DADOS!K29942,ESCALA!$I$14:$I$15)","v":0}]
["",null,null,null,null,null,null,"1900-12-30",{"$error":"#NUM!"},"1900-12-31","-",{"$f":"G29943-SUMIF(ESCALA!$B$14:$B$15,DADOS!K29943,ESCALA!$I$14:$I$15)","v":0}]
["",null,null,null,null,null,null,"1900-12-30",{"$error":"#NUM!"},"1900-12-31","-",{"$f":"G29944-SUMIF(ESCALA!$B$14:$B$15,DADOS!K29944,ESCALA!$I$14:$I$15)","v":0}]
["",null,null,null,null,null,null,"1900-12-30",{"$error":"#NUM!"},"1900-12-31","-",{"$f":"G29945-SUMIF(ESCALA!$B$14:$B$15,DADOS!K29945,ESCALA!$I$14:$I$15)","v":0}]
["",null,null,null,null,null,null,"1900-12-30",{"$error":"#NUM!"},"1900-12-31","-",{"$f":"G29946-SUMIF(ESCALA!$B$14:$B$15,DADOS!K29946,ESCALA!$I$14:$I$15)","v":0}]
["",null,null,null,null,null,null,"1900-12-30",{"$error":"#NUM!"},"1900-12-31","-",{"$f":"G29947-SUMIF(ESCALA!$B$14:$B$15,DADOS!K29947,ESCALA!$I$14:$I$15)","v":0}]
["",null,null,null,null,null,null,"1900-12-30",{"$error":"#NUM!"},"1900-12-31","-",{"$f":"G29948-SUMIF(ESCALA!$B$14:$B$15,DADOS!K29948,ESCALA!$I$14:$I$15)","v":0}]
["",null,null,null,null,null,null,"1900-12-30",{"$error":"#NUM!"},"1900-12-31","-",{"$f":"G29949-SUMIF(ESCALA!$B$14:$B$15,DADOS!K29949,ESCALA!$I$14:$I$15)","v":0}]
["",null,null,null,null,null,null,"1900-12-30",{"$error":"#NUM!"},"1900-12-31","-",{"$f":"G29950-SUMIF(ESCALA!$B$14:$B$15,DADOS!K29950,ESCALA!$I$14:$I$15)","v":0}]
["",null,null,null,null,null,null,"1900-12-30",{"$error":"#NUM!"},"1900-12-31","-",{"$f":"G29951-SUMIF(ESCALA!$B$14:$B$15,DADOS!K29951,ESCALA!$I$14:$I$15)","v":0}]
["",null,null,null,null,null,null,"1900-12-30",{"$error":"#NUM!"},"1900-12-31","-",{"$f":"G29952-SUMIF(ESCALA!$B$14:$B$15,DADOS!K29952,ESCALA!$I$14:$I$15)","v":0}]
["",null,null,null,null,null,null,"1900-12-30",{"$error":"#NUM!"},"1900-12-31","-",{"$f":"G29953-SUMIF(ESCALA!$B$14:$B$15,DADOS!K29953,ESCALA!$I$14:$I$15)","v":0}]
["",null,null,null,null,null,null,"1900-12-30",{"$error":"#NUM!"},"1900-12-31","-",{"$f":"G29954-SUMIF(ESCALA!$B$14:$B$15,DADOS!K29954,ESCALA!$I$14:$I$15)","v":0}]
[{"$f":"IF(L29955=0,\"\",B29955)","v":""},null,null,null,null,null,null,{"$f":"IF(F29955<=44985,F29955+365,F29955+366)","v":"1900-12-30"},{"$error":"#NUM!"},"1900-12-31",{"$f":"CONCATENATE(B29955,\"-\",F29955)","v":"-"},{"$f":"G29955-SUMIF(ESCALA!$B$14:$B$15,DADOS!K29955,ESCALA!$I$14:$I$15)","v":0}]
["",null,null,null,null,null,null,"1900-12-30",{"$f":"IF(E29956=\"ESTATUTARIO\",EOMONTH(F29956,0),EOMONTH(F29956,-1))","v":{"$error":"#NUM!"}},{"$f":"EOMONTH(F29956,11)","v":"1900-12-31"},"-",{"$f":"G29956-SUMIF(ESCALA!$B$14:$B$15,DADOS!K29956,ESCALA!$I$14:$I$15)","v":0}]
["",null,null,null,null,null,null,"1900-12-30",{"$error":"#NUM!"},"1900-12-31","-",{"$f":"G29957-SUMIF(ESCALA!$B$14:$B$15,DADOS!K29957,ESCALA!$I$14:$I$15)","v":0}]
["",null,null,null,null,null,null,"1900-12-30",{"$error":"#NUM!"},"1900-12-31","-",{"$f":"G29958-SUMIF(ESCALA!$B$14:$B$15,DADOS!K29958,ESCALA!$I$14:$I$15)","v":0}]
["",null,null,null,null,null,null,"1900-12-30",{"$error":"#NUM!"},"1900-12-31","-",{"$f":"G29959-SUMIF(ESCALA!$B$14:$B$15,DADOS!K29959,ESCALA!$I$14:$I$15)","v":0}]
["",null,null,null,null,null,null,"1900-12-30",{"$error":"#NUM!"},"1900-12-31","-",{"$f":"G29960-SUMIF(ESCALA!$B$14:$B$15,DADOS!K29960,ESCALA!$I$14:$I$15)","v":0}]
["",null,null,null,null,null,null,"1900-12-30",{"$error":"#NUM!"},"1900-12-31","-",{"$f":"G29961-SUMIF(ESCALA!$B$14:$B$15,DADOS!K29961,ESCALA!$I$14:$I$15)","v":0}]
["",null,null,null,null,null,null,"1900-12-30",{"$error":"#NUM!"},"1900-12-31","-",{"$f":"G29962-SUMIF(ESCALA!$B$14:$B$15,DADOS!K29962,ESCALA!$I$14:$I$15)","v":0}]
["",null,null,null,null,null,null,"1900-12-30",{"$error":"#NUM!"},"1900-12-31","-",{"$f":"G29963-SUMIF(ESCALA!$B$14:$B$15,DADOS!K29963,ESCALA!$I$14:$I$15)","v":0}]
["",null,null,null,null,null,null,"1900-12-30",{"$error":"#NUM!"},"1900-12-31","-",{"$f":"G29964-SUMIF(ESCALA!$B$14:$B$15,DADOS!K29964,ESCALA!$I$14:$I$15)","v":0}]
["",null,null,null,null,null,null,"1900-12-30",{"$error":"#NUM!"},"1900-12-31","-",{"$f":"G29965-SUMIF(ESCALA!$B$14:$B$15,DADOS!K29965,ESCALA!$I$14:$I$15)","v":0}]
["",null,null,null,null,null,null,"1900-12-30",{"$error":"#NUM!"},"1900-12-31","-",{"$f":"G29966-SUMIF(ESCALA!$B$14:$B$15,DADOS!K29966,ESCALA!$I$14:$I$15)","v":0}]
["",null,null,null,null,null,null,"1900-12-30",{"$error":"#NUM!"},"1900-12-31","-",{"$f":"G29967-SUMIF(ESCALA!$B$14:$B$15,DADOS!K29967,ESCALA!$I$14:$I$15)","v":0}]
["",null,null,null,null,null,null,"1900-12-30",{"$error":"#NUM!"},"1900-12-31","-",{"$f":"G29968-SUMIF(ESCALA!$B$14:$B$15,DADOS!K29968,ESCALA!$I$14:$I$15)","v":0}]
["",null,null,null,null,null,null,"1900-12-30",{"$error":"#NUM!"},"1900-12-31","-",{"$f":"G29969-SUMIF(ESCALA!$B$14:$B$15,DADOS!K29969,ESCALA!$I$14:$I$15)","v":0}]
["",null,null,null,null,null,null,"1900-12-30",{"$error":"#NUM!"},"1900-12-31","-",{"$f":"G29970-SUMIF(ESCALA!$B$14:$B$15,DADOS!K29970,ESCALA!$I$14:$I$15)","v":0}]
["",null,null,null,null,null,null,"1900-12-30",{"$error":"#NUM!"},"1900-12-31","-",{"$f":"G29971-SUMIF(ESCALA!$B$14:$B$15,DADOS!K29971,ESCALA!$I$14:$I$15)","v":0}]
["",null,null,null,null,null,null,"1900-12-30",{"$error":"#NUM!"},"1900-12-31","-",{"$f":"G29972-SUMIF(ESCALA!$B$14:$B$15,DADOS!K29972,ESCALA!$I$14:$I$15)","v":0}]
["",null,null,null,null,null,null,"1900-12-30",{"$error":"#NUM!"},"1900-12-31","-",{"$f":"G29973-SUMIF(ESCALA!$B$14:$B$15,DADOS!K29973,ESCALA!$I$14:$I$15)","v":0}]
["",null,null,null,null,null,null,"1900-12-30",{"$error":"#NUM!"},"1900-12-31","-",{"$f":"G29974-SUMIF(ESCALA!$B$14:$B$15,DADOS!K29974,ESCALA!$I$14:$I$15)","v":0}]
["",null,null,null,null,null,null,"1900-12-30",{"$error":"#NUM!"},"1900-12-31","-",{"$f":"G29975-SUMIF(ESCALA!$B$14:$B$15,DADOS!K29975,ESCALA!$I$14:$I$15)","v":0}]
["",null,null,null,null,null,null,"1900-12-30",{"$error":"#NUM!"},"1900-12-31","-",{"$f":"G29976-SUMIF(ESCALA!$B$14:$B$15,DADOS!K29976,ESCALA!$I$14:$I$15)","v":0}]
["",null,null,null,null,null,null,"1900-12-30",{"$error":"#NUM!"},"1900-12-31","-",{"$f":"G29977-SUMIF(ESCALA!$B$14:$B$15,DADOS!K29977,ESCALA!$I$14:$I$15)","v":0}]
["",null,null,null,null,null,null,"1900-12-30",{"$error":"#NUM!"},"1900-12-31","-",{"$f":"G29978-SUMIF(ESCALA!$B$14:$B$15,DADOS!K29978,ESCALA!$I$14:$I$15)","v":0}]
["",null,null,null,null,null,null,"1900-12-30",{"$error":"#NUM!"},"1900-12-31","-",{"$f":"G29979-SUMIF(ESCALA!$B$14:$B$15,DADOS!K29979,ESCALA!$I$14:$I$15)","v":0}]
["",null,null,null,null,null,null,"1900-12-30",{"$error":"#NUM!"},"1900-12-31","-",{"$f":"G29980-SUMIF(ESCALA!$B$14:$B$15,DADOS!K29980,ESCALA!$I$14:$I$15)","v":0}]
["",null,null,null,null,null,null,"1900-12-30",{"$error":"#NUM!"},"1900-12-31","-",{"$f":"G29981-SUMIF(ESCALA!$B$14:$B$15,DADOS!K29981,ESCALA!$I$14:$I$15)","v":0}]
["",null,null,null,null,null,null,"1900-12-30",{"$error":"#NUM!"},"1900-12-31","-",{"$f":"G29982-SUMIF(ESCALA!$B$14:$B$15,DADOS!K29982,ESCALA!$I$14:$I$15)","v":0}]
["",null,null,null,null,null,null,"1900-12-30",{"$error":"#NUM!"},"1900-12-31","-",{"$f":"G29983-SUMIF(ESCALA!$B$14:$B$15,DADOS!K29983,ESCALA!$I$14:$I$15)","v":0}]
["",null,null,null,null,null,null,"1900-12-30",{"$error":"#NUM!"},"1900-12-31","-",{"$f":"G29984-SUMIF(ESCALA!$B$14:$B$15,DADOS!K29984,ESCALA!$I$14:$I$15)","v":0}]
["",null,null,null,null,null,null,"1900-12-30",{"$error":"#NUM!"},"1900-12-31","-",{"$f":"G29985-SUMIF(ESCALA!$B$14:$B$15,DADOS!K29985,ESCALA!$I$14:$I$15)","v":0}]
["",null,null,null,null,null,null,"1900-12-30",{"$error":"#NUM!"},"1900-12-31","-",{"$f":"G29986-SUMIF(ESCALA!$B$14:$B$15,DADOS!K29986,ESCALA!$I$14:$I$15)","v":0}]
["",null,null,null,null,null,null,"1900-12-30",{"$error":"#NUM!"},"1900-12-31","-",{"$f":"G29987-SUMIF(ESCALA!$B$14:$B$15,DADOS!K29987,ESCALA!$I$14:$I$15)","v":0}]
["",null,null,null,null,null,null,"1900-12-30",{"$error":"#NUM!"},"1900-12-31","-",{"$f":"G29988-SUMIF(ESCALA!$B$14:$B$15,DADOS!K29988,ESCALA!$I$14:$I$15)","v":0}]
["",null,null,null,null,null,null,"1900-12-30",{"$error":"#NUM!"},"1900-12-31","-",{"$f":"G29989-SUMIF(ESCALA!$B$14:$B$15,DADOS!K29989,ESCALA!$I$14:$I$15)","v":0}]
["",null,null,null,null,null,null,"1900-12-30",{"$error":"#NUM!"},"1900-12-31","-",{"$f":"G29990-SUMIF(ESCALA!$B$14:$B$15,DADOS!K29990,ESCALA!$I$14:$I$15)","v":0}]
["",null,null,null,null,null,null,"1900-12-30",{"$error":"#NUM!"},"1900-12-31","-",{"$f":"G29991-SUMIF(ESCALA!$B$14:$B$15,DADOS!K29991,ESCALA!$I$14:$I$15)","v":0}]
["",null,null,null,null,null,null,"1900-12-30",{"$error":"#NUM!"},"1900-12-31","-",{"$f":"G29992-SUMIF(ESCALA!$B$14:$B$15,DADOS!K29992,ESCALA!$I$14:$I$15)","v":0}]
["",null,null,null,null,null,null,"1900-12-30",{"$error":"#NUM!"},"1900-12-31","-",{"$f":"G29993-SUMIF(ESCALA!$B$14:$B$15,DADOS!K29993,ESCALA!$I$14:$I$15)","v":0}]
["",null,null,null,null,null,null,"1900-12-30",{"$error":"#NUM!"},"1900-12-31","-",{"$f":"G29994-SUMIF(ESCALA!$B$14:$B$15,DADOS!K29994,ESCALA!$I$14:$I$15)","v":0}]
["",null,null,null,null,null,null,"1900-12-30",{"$error":"#NUM!"},"1900-12-31","-",{"$f":"G29995-SUMIF(ESCALA!$B$14:$B$15,DADOS!K29995,ESCALA!$I$14:$I$15)","v":0}]
["",null,null,null,null,null,null,"1900-12-30",{"$error":"#NUM!"},"1900-12-31","-",{"$f":"G29996-SUMIF(ESCALA!$B$14:$B$15,DADOS!K29996,ESCALA!$I$14:$I$15)","v":0}]
["",null,null,null,null,null,null,"1900-12-30",{"$error":"#NUM!"},"1900-12-31","-",{"$f":"G29997-SUMIF(ESCALA!$B$14:$B$15,DADOS!K29997,ESCALA!$I$14:$I$15)","v":0}]
["",null,null,null,null,null,null,"1900-12-30",{"$error":"#NUM!"},"1900-12-31","-",{"$f":"G29998-SUMIF(ESCALA!$B$14:$B$15,DADOS!K29998,ESCALA!$I$14:$I$15)","v":0}]
["",null,null,null,null,null,null,"1900-12-30",{"$error":"#NUM!"},"1900-12-31","-",{"$f":"G29999-SUMIF(ESCALA!$B$14:$B$15,DADOS!K29999,ESCALA!$I$14:$I$15)","v":0}]
[{"$f":"IF(L30000=0,\"\",B30000)","v":""},null,null,null,null,null,null,1,1,1,null,{"$f":"G30000-SUMIF(ESCALA!$B$14:$B$15,DADOS!K30000,ESCALA!$I$14:$I$15)","v":0}]